{"text_format":"1","workbook":"xlsx","n_sheets":14,"sheets":["Rate Card ","BOARD & Global Figures","Master","PV","Lookups","Evaluation","Carbon Cap","PM Capture","Site Inspection","Application Form","Project Summary","Beneficiary","NFP Domestic Measures & costs","FP Domestic Measures & costs"],"not_rendered":{"charts":0,"images":0,"macros":1,"external_links":5,"defined_names":39,"comments":2,"pivot_tables":0},"unopened":[],"bounds":{"document_bytes":16777216,"sheet_cells":100000,"rows_first":2000,"rows_last":500,"rows_between":2000,"halvings":0,"cell_chars":16384,"cell_head_chars":4096},"cells_cut":0,"cells_raw":0,"read":"whole","date_system":"1900"}

{"sheet":"Rate Card ","index":0,"n_rows":30,"n_cols":24,"rows_kept":30,"cut":false,"hidden":true,"merged":[]}
[]
[null,"Roof - Ceiling Level ","Roof - Rafter Level ","Cavity ","Internal Wall ","External Wall","Windows","Doors* (for 2 Doors per property Select Door Measure Twice)","Floor Insulation","Air Tightness","DCV","MVHR","Heat Pump - Air/Water","Heat Pump - Air/Air","HP w/ CH System","Solar PV 1 kWp","Solar PV 2 kWp","Solar PV 3 kWp","Solar PV 4 kWp","Solar HW","Home Energy Assessment (HEA)","Project Management ","Heating Controls","Bonus"]
["Apartment Local Authority -NFP",800,1500,700,1500,3500,1500,800,3500,1000,1500,1500,4500,3500,1000,800,1600,1850,2100,1200,0,800,700,2000]
["Apartment Housing Association -NFP",800,2000,700,2000,3500,1900,1000,4500,1000,2000,2000,5500,4000,1000,800,1600,1850,2100,1200,350,800,700,2000]
["Apartment Private - NFP",800,1500,700,1500,3000,1500,800,3500,1000,1500,1500,4500,3500,1000,800,1600,1850,2100,1200,350,800,700,2000]
["House - Detached  Local Authority -NFP",1500,3000,1700,4500,8000,4000,800,3500,1000,1500,1500,6500,3500,2000,800,1600,1850,2100,1200,0,2000,700,2000]
["House - Detached  Housing Association -NFP",1500,3500,1700,5500,10000,5000,1000,4500,1000,2000,2000,6500,4000,2000,800,1600,1850,2100,1200,350,2000,700,2000]
["House - Detached  Private - NFP",1500,3000,1700,4500,8000,4000,800,3500,1000,1500,1500,6500,3500,2000,800,1600,1850,2100,1200,350,2000,700,2000]
["House - Semi-Detached/ End - Terrace Local Authority -NFP",1300,3000,1200,3500,6000,3000,800,3500,1000,1500,1500,6500,3500,2000,800,1600,1850,2100,1200,0,1600,700,2000]
["House - Semi-Detached/ End - Terrace Housing Association -NFP",1300,3500,1200,4250,8000,3700,1000,4500,1000,2000,2000,6500,4000,2000,800,1600,1850,2100,1200,350,1600,700,2000]
["House - Semi-Detached/ End - Terrace Private - NFP",1300,3000,1200,3500,6000,3000,800,3500,1000,1500,1500,6500,3500,2000,800,1600,1850,2100,1200,350,1600,700,2000]
["House - Mid  - Terrace Local Authority -NFP",1200,2000,800,2000,3500,1800,800,3500,1000,1500,1500,6500,3500,2000,800,1600,1850,2100,1200,0,1200,700,2000]
["House - Mid  - Terrace Housing Association -NFP",1200,3000,800,2500,4500,2200,1000,4500,1000,2000,2000,6500,4000,2000,800,1600,1850,2100,1200,350,1200,700,2000]
["House - Mid  - Terrace Private - NFP",1200,2000,800,2000,3500,1800,800,3500,1000,1500,1500,6500,3500,2000,800,1600,1850,2100,1200,350,1200,700,2000]
[]
[]
[]
[]
[]
[]
[]
[null,"Roof - Ceiling Level ","Roof - Rafter Level ","Cavity ","Internal Wall ","External Wall","Windows","Doors* (for 2 Doors per property Select Door Measure Twice)","Floor Insulation","Air Tightness","DCV","MVHR","Heat Pump - Air/Water","Heat Pump - Air/Air","HP w/ CH System","Solar PV 1 kWp","Solar PV 2 kWp","Solar PV 3 kWp","Solar PV 4 kWp","Solar HW","Home Energy Assessment (HEA)","Project Management ","Heating Controls","Bonus"]
["Apartment Housing Association -FP",800,2000,700,2000,3500,1900,1000,4500,1000,2000,2000,5500,4000,1000,800,1600,1850,2100,1200,350,800,700,2000]
["Apartment Private - FP",800,2000,700,3000,4500,1900,1000,4500,1000,2000,2000,5500,4000,1000,800,1600,1850,2100,1200,350,800,700,2000]
["House - Detached  Housing Association -FP",1500,3500,1700,5500,10000,5000,1000,4500,1000,2000,2000,6500,4000,2000,800,1600,1850,2100,1200,350,2000,700,2000]
["House - Detached  Private - FP",1500,3500,1700,9500,14000,5000,1000,4500,1000,2000,2000,6500,4000,2000,800,1600,1850,2100,1200,350,2000,700,2000]
["House - Semi-Detached/ End - Terrace Housing Association -FP",1300,3500,1200,4250,8000,3700,1000,4500,1000,2000,2000,6500,4000,2000,800,1600,1850,2100,1200,350,1600,700,2000]
["House - Semi-Detached/ End - Terrace Private - FP",1300,3500,1200,7000,11000,3700,1000,4500,1000,2000,2000,6500,4000,2000,800,1600,1850,2100,1200,350,1600,700,2000]
["House - Mid  - Terrace Housing Association -FP",1200,3000,800,2500,4500,2200,1000,4500,1000,2000,2000,6500,4000,2000,800,1600,1850,2100,1200,350,1200,700,2000]
["House - Mid  - Terrace Private - FP",1200,3000,800,4500,6500,2200,1000,4500,1000,2000,2000,6500,4000,2000,800,1600,1850,2100,1200,350,1200,700,2000]

{"sheet":"BOARD & Global Figures","index":1,"n_rows":80,"n_cols":7,"rows_kept":80,"cut":false,"hidden":true,"merged":[]}
[]
[]
["Domestic projects ","Application ","Copied Data at application Stage ","Approved","Amendment 1","Amendment 2 \t","Amendment 3"]
["No. of homes ",{"$f":"'Project Summary'!G171","v":0},null,{"$f":"'Project Summary'!G171","v":0}]
["Domestic grant request ",{"$f":"'Application Form'!B14","v":0},null,{"$f":"'Application Form'!B14","v":0}]
["Domestic savings estimated (kWh) ",{"$f":"'Application Form'!B16","v":0},null,{"$f":"'Application Form'!B16","v":0}]
["  "]
["Non-Domestic projects "]
["No. of projects ",{"$f":"COUNTIF('Project Summary'!U99:U148,\">0\")","v":0},null,{"$f":"COUNTIF('Project Summary'!U99:U148,\">0\")","v":0}]
["Non-domestic savings (kWh) ",{"$f":"'Application Form'!B9","v":0},null,{"$f":"'Application Form'!B9","v":0}]
["Non-domestic project cost ",{"$f":"'Application Form'!B6","v":0},null,{"$f":"'Application Form'!B6","v":0}]
["Non-domestic grant request ",{"$f":"'Application Form'!B7","v":0},null,{"$f":"'Application Form'!B7","v":0}]
["Grant % ",{"$f":"'Application Form'!B8","v":0},null,{"$f":"'Application Form'!B8","v":0}]
["  "]
["Overall  "]
["Total energy credits (kWh) ",{"$f":"'Application Form'!B24","v":0},null,{"$f":"'Application Form'!B24","v":0}]
["Cent per kWh ",{"$f":"'Application Form'!C21","v":0},null,{"$f":"'Application Form'!C21","v":0}]
["Abatement cost Kg CO2 (over 1 year) ",{"$f":"'Application Form'!F23","v":0},null,{"$f":"'Application Form'!F23","v":0}]
["Overall Grant Request ",{"$f":"'Application Form'!B22","v":{"$error":"#DIV/0!"}},null,{"$f":"'Application Form'!B22","v":{"$error":"#DIV/0!"}}]
["  "]
["Evaluation Score "]
[]
[]
[]
["Global Figures "]
["Electrical Savings",0.224]
["HEA_Additonal",350]
[]
[]
[null,"Project Name ","Description","Project Cost ","Eligible VAT ","Grant "]
[{"$f":"'Project Summary'!A99","v":1},{"$f":"'Project Summary'!B99","v":0},null,{"$f":"'Project Summary'!S99","v":0},{"$f":"'Project Summary'!T99","v":0},{"$f":"'Project Summary'!#REF!","v":{"$error":"#REF!"}}]
[{"$f":"'Project Summary'!A100","v":2},{"$f":"'Project Summary'!B100","v":0},null,{"$f":"'Project Summary'!S100","v":0},{"$f":"'Project Summary'!T100","v":0},{"$f":"'Project Summary'!U99","v":0}]
[{"$f":"'Project Summary'!A101","v":3},{"$f":"'Project Summary'!B101","v":0},null,{"$f":"'Project Summary'!S101","v":0},{"$f":"'Project Summary'!T101","v":0},{"$f":"'Project Summary'!#REF!","v":{"$error":"#REF!"}}]
[{"$f":"'Project Summary'!A102","v":4},{"$f":"'Project Summary'!B102","v":0},null,{"$f":"'Project Summary'!S102","v":0},{"$f":"'Project Summary'!T102","v":0},{"$f":"'Project Summary'!U102","v":0}]
[{"$f":"'Project Summary'!A103","v":5},{"$f":"'Project Summary'!B103","v":0},null,{"$f":"'Project Summary'!S103","v":0},{"$f":"'Project Summary'!T103","v":0},{"$f":"'Project Summary'!U103","v":0}]
[{"$f":"'Project Summary'!A104","v":6},{"$f":"'Project Summary'!B104","v":0},null,{"$f":"'Project Summary'!S104","v":0},{"$f":"'Project Summary'!T104","v":0},{"$f":"'Project Summary'!U104","v":0}]
[{"$f":"'Project Summary'!A105","v":7},{"$f":"'Project Summary'!B105","v":0},null,{"$f":"'Project Summary'!S105","v":0},{"$f":"'Project Summary'!T105","v":0},{"$f":"'Project Summary'!U105","v":0}]
[{"$f":"'Project Summary'!A106","v":8},{"$f":"'Project Summary'!B106","v":0},null,{"$f":"'Project Summary'!S106","v":0},{"$f":"'Project Summary'!T106","v":0},{"$f":"'Project Summary'!U106","v":0}]
[{"$f":"'Project Summary'!A107","v":9},{"$f":"'Project Summary'!B107","v":0},null,{"$f":"'Project Summary'!S107","v":0},{"$f":"'Project Summary'!T107","v":0},{"$f":"'Project Summary'!U107","v":0}]
[{"$f":"'Project Summary'!A108","v":10},{"$f":"'Project Summary'!B108","v":0},null,{"$f":"'Project Summary'!S108","v":0},{"$f":"'Project Summary'!T108","v":0},{"$f":"'Project Summary'!U108","v":0}]
[{"$f":"'Project Summary'!A109","v":11},{"$f":"'Project Summary'!B109","v":0},null,{"$f":"'Project Summary'!S109","v":0},{"$f":"'Project Summary'!T109","v":0},{"$f":"'Project Summary'!U109","v":0}]
[{"$f":"'Project Summary'!A110","v":12},{"$f":"'Project Summary'!B110","v":0},null,{"$f":"'Project Summary'!S110","v":0},{"$f":"'Project Summary'!T110","v":0},{"$f":"'Project Summary'!U110","v":0}]
[{"$f":"'Project Summary'!A111","v":13},{"$f":"'Project Summary'!B111","v":0},null,{"$f":"'Project Summary'!S111","v":0},{"$f":"'Project Summary'!T111","v":0},{"$f":"'Project Summary'!U111","v":0}]
[{"$f":"'Project Summary'!A112","v":14},{"$f":"'Project Summary'!B112","v":0},null,{"$f":"'Project Summary'!S112","v":0},{"$f":"'Project Summary'!T112","v":0},{"$f":"'Project Summary'!U112","v":0}]
[{"$f":"'Project Summary'!A113","v":15},{"$f":"'Project Summary'!B113","v":0},null,{"$f":"'Project Summary'!S113","v":0},{"$f":"'Project Summary'!T113","v":0},{"$f":"'Project Summary'!U113","v":0}]
[{"$f":"'Project Summary'!A114","v":16},{"$f":"'Project Summary'!B114","v":0},null,{"$f":"'Project Summary'!S114","v":0},{"$f":"'Project Summary'!T114","v":0},{"$f":"'Project Summary'!U114","v":0}]
[{"$f":"'Project Summary'!A115","v":17},{"$f":"'Project Summary'!B115","v":0},null,{"$f":"'Project Summary'!S115","v":0},{"$f":"'Project Summary'!T115","v":0},{"$f":"'Project Summary'!U115","v":0}]
[{"$f":"'Project Summary'!A116","v":18},{"$f":"'Project Summary'!B116","v":0},null,{"$f":"'Project Summary'!S116","v":0},{"$f":"'Project Summary'!T116","v":0},{"$f":"'Project Summary'!U116","v":0}]
[{"$f":"'Project Summary'!A117","v":19},{"$f":"'Project Summary'!B117","v":0},null,{"$f":"'Project Summary'!S117","v":0},{"$f":"'Project Summary'!T117","v":0},{"$f":"'Project Summary'!U117","v":0}]
[{"$f":"'Project Summary'!A118","v":20},{"$f":"'Project Summary'!B118","v":0},null,{"$f":"'Project Summary'!S118","v":0},{"$f":"'Project Summary'!T118","v":0},{"$f":"'Project Summary'!U118","v":0}]
[{"$f":"'Project Summary'!A119","v":21},{"$f":"'Project Summary'!B119","v":0},null,{"$f":"'Project Summary'!S119","v":0},{"$f":"'Project Summary'!T119","v":0},{"$f":"'Project Summary'!U119","v":0}]
[{"$f":"'Project Summary'!A120","v":22},{"$f":"'Project Summary'!B120","v":0},null,{"$f":"'Project Summary'!S120","v":0},{"$f":"'Project Summary'!T120","v":0},{"$f":"'Project Summary'!U120","v":0}]
[{"$f":"'Project Summary'!A121","v":23},{"$f":"'Project Summary'!B121","v":0},null,{"$f":"'Project Summary'!S121","v":0},{"$f":"'Project Summary'!T121","v":0},{"$f":"'Project Summary'!U121","v":0}]
[{"$f":"'Project Summary'!A122","v":24},{"$f":"'Project Summary'!B122","v":0},null,{"$f":"'Project Summary'!S122","v":0},{"$f":"'Project Summary'!T122","v":0},{"$f":"'Project Summary'!U122","v":0}]
[{"$f":"'Project Summary'!A123","v":25},{"$f":"'Project Summary'!B123","v":0},null,{"$f":"'Project Summary'!S123","v":0},{"$f":"'Project Summary'!T123","v":0},{"$f":"'Project Summary'!U123","v":0}]
[{"$f":"'Project Summary'!A124","v":26},{"$f":"'Project Summary'!B124","v":0},null,{"$f":"'Project Summary'!S124","v":0},{"$f":"'Project Summary'!T124","v":0},{"$f":"'Project Summary'!U124","v":0}]
[{"$f":"'Project Summary'!A125","v":27},{"$f":"'Project Summary'!B125","v":0},null,{"$f":"'Project Summary'!S125","v":0},{"$f":"'Project Summary'!T125","v":0},{"$f":"'Project Summary'!U125","v":0}]
[{"$f":"'Project Summary'!A126","v":28},{"$f":"'Project Summary'!B126","v":0},null,{"$f":"'Project Summary'!S126","v":0},{"$f":"'Project Summary'!T126","v":0},{"$f":"'Project Summary'!U126","v":0}]
[{"$f":"'Project Summary'!A127","v":29},{"$f":"'Project Summary'!B127","v":0},null,{"$f":"'Project Summary'!S127","v":0},{"$f":"'Project Summary'!T127","v":0},{"$f":"'Project Summary'!U127","v":0}]
[{"$f":"'Project Summary'!A128","v":30},{"$f":"'Project Summary'!B128","v":0},null,{"$f":"'Project Summary'!S128","v":0},{"$f":"'Project Summary'!T128","v":0},{"$f":"'Project Summary'!U128","v":0}]
[{"$f":"'Project Summary'!A129","v":31},{"$f":"'Project Summary'!B129","v":0},null,{"$f":"'Project Summary'!S129","v":0},{"$f":"'Project Summary'!T129","v":0},{"$f":"'Project Summary'!U129","v":0}]
[{"$f":"'Project Summary'!A130","v":32},{"$f":"'Project Summary'!B130","v":0},null,{"$f":"'Project Summary'!S130","v":0},{"$f":"'Project Summary'!T130","v":0},{"$f":"'Project Summary'!U130","v":0}]
[{"$f":"'Project Summary'!A131","v":33},{"$f":"'Project Summary'!B131","v":0},null,{"$f":"'Project Summary'!S131","v":0},{"$f":"'Project Summary'!T131","v":0},{"$f":"'Project Summary'!U131","v":0}]
[{"$f":"'Project Summary'!A132","v":34},{"$f":"'Project Summary'!B132","v":0},null,{"$f":"'Project Summary'!S132","v":0},{"$f":"'Project Summary'!T132","v":0},{"$f":"'Project Summary'!U132","v":0}]
[{"$f":"'Project Summary'!A133","v":35},{"$f":"'Project Summary'!B133","v":0},null,{"$f":"'Project Summary'!S133","v":0},{"$f":"'Project Summary'!T133","v":0},{"$f":"'Project Summary'!U133","v":0}]
[{"$f":"'Project Summary'!A134","v":36},{"$f":"'Project Summary'!B134","v":0},null,{"$f":"'Project Summary'!S134","v":0},{"$f":"'Project Summary'!T134","v":0},{"$f":"'Project Summary'!U134","v":0}]
[{"$f":"'Project Summary'!A135","v":37},{"$f":"'Project Summary'!B135","v":0},null,{"$f":"'Project Summary'!S135","v":0},{"$f":"'Project Summary'!T135","v":0},{"$f":"'Project Summary'!U135","v":0}]
[{"$f":"'Project Summary'!A136","v":38},{"$f":"'Project Summary'!B136","v":0},null,{"$f":"'Project Summary'!S136","v":0},{"$f":"'Project Summary'!T136","v":0},{"$f":"'Project Summary'!U136","v":0}]
[{"$f":"'Project Summary'!A137","v":39},{"$f":"'Project Summary'!B137","v":0},null,{"$f":"'Project Summary'!S137","v":0},{"$f":"'Project Summary'!T137","v":0},{"$f":"'Project Summary'!U137","v":0}]
[{"$f":"'Project Summary'!A138","v":40},{"$f":"'Project Summary'!B138","v":0},null,{"$f":"'Project Summary'!S138","v":0},{"$f":"'Project Summary'!T138","v":0},{"$f":"'Project Summary'!U138","v":0}]
[{"$f":"'Project Summary'!A139","v":41},{"$f":"'Project Summary'!B139","v":0},null,{"$f":"'Project Summary'!S139","v":0},{"$f":"'Project Summary'!T139","v":0},{"$f":"'Project Summary'!U139","v":0}]
[{"$f":"'Project Summary'!A140","v":42},{"$f":"'Project Summary'!B140","v":0},null,{"$f":"'Project Summary'!S140","v":0},{"$f":"'Project Summary'!T140","v":0},{"$f":"'Project Summary'!U140","v":0}]
[{"$f":"'Project Summary'!A141","v":43},{"$f":"'Project Summary'!B141","v":0},null,{"$f":"'Project Summary'!S141","v":0},{"$f":"'Project Summary'!T141","v":0},{"$f":"'Project Summary'!U141","v":0}]
[{"$f":"'Project Summary'!A142","v":44},{"$f":"'Project Summary'!B142","v":0},null,{"$f":"'Project Summary'!S142","v":0},{"$f":"'Project Summary'!T142","v":0},{"$f":"'Project Summary'!U142","v":0}]
[{"$f":"'Project Summary'!A143","v":45},{"$f":"'Project Summary'!B143","v":0},null,{"$f":"'Project Summary'!S143","v":0},{"$f":"'Project Summary'!T143","v":0},{"$f":"'Project Summary'!U143","v":0}]
[{"$f":"'Project Summary'!A144","v":46},{"$f":"'Project Summary'!B144","v":0},null,{"$f":"'Project Summary'!S144","v":0},{"$f":"'Project Summary'!T144","v":0},{"$f":"'Project Summary'!U144","v":0}]
[{"$f":"'Project Summary'!A145","v":47},{"$f":"'Project Summary'!B145","v":0},null,{"$f":"'Project Summary'!S145","v":0},{"$f":"'Project Summary'!T145","v":0},{"$f":"'Project Summary'!U145","v":0}]
[{"$f":"'Project Summary'!A146","v":48},{"$f":"'Project Summary'!B146","v":0},null,{"$f":"'Project Summary'!S146","v":0},{"$f":"'Project Summary'!T146","v":0},{"$f":"'Project Summary'!U146","v":0}]
[{"$f":"'Project Summary'!A147","v":49},{"$f":"'Project Summary'!B147","v":0},null,{"$f":"'Project Summary'!S147","v":0},{"$f":"'Project Summary'!T147","v":0},{"$f":"'Project Summary'!U147","v":0}]
[{"$f":"'Project Summary'!A148","v":50},{"$f":"'Project Summary'!B148","v":0},null,{"$f":"'Project Summary'!S148","v":0},{"$f":"'Project Summary'!T148","v":0},{"$f":"'Project Summary'!U148","v":0}]

{"sheet":"Master","index":2,"n_rows":2,"n_cols":23,"rows_kept":2,"cut":false,"hidden":true,"merged":[]}
[null,"Electricity  ","Thermal    ","Fleet  & Renewables ","Residential - Non Fuel Poor         ","Residential - Fuel Poor                 ","Total  Energy Credits ","Total  Co2 ","Project Costs                   ","Project Management ","Domestic BER costs              ","Non Domestic Design Fee ","M&V fee ","Eligible VAT Expenditure  ","Total Eligible Costs          ","Grant   ","Revoked ","Grant %","Energy poor €","Non-Energy poor €                                                   ","Total Domestic","Non-domestic €                                                       ","PM applied for                                                    "]
[null,{"$f":"'Application Form'!D39","v":0},{"$f":"'Application Form'!D40","v":0},{"$f":"'Application Form'!D41","v":0},{"$f":"'Application Form'!D42","v":0},{"$f":"'Application Form'!D43","v":0},{"$f":"SUM(B2:F2)","v":0},{"$f":"'Project Summary'!H228","v":0},{"$f":"'Project Summary'!L246","v":0},{"$f":"'Project Summary'!L247","v":0},null,null,null,{"$f":"'Project Summary'!L252","v":0},{"$f":"SUM(I2:N2)","v":0},{"$f":"'Project Summary'!L255","v":{"$error":"#DIV/0!"}},null,{"$f":"'Project Summary'!L256","v":{"$error":"#DIV/0!"}},{"$f":"'Project Summary'!L261","v":0},{"$f":"'Project Summary'!L260","v":0},{"$f":"SUM(S2:T2)","v":0},{"$f":"'Project Summary'!L259","v":0}]

{"sheet":"PV","index":3,"n_rows":52,"n_cols":29,"rows_kept":52,"cut":false,"hidden":true,"merged":[]}
["Grant per KW",0.2,"Proposed Energy Upgrades",null,null,null,null,null,null,"Electrical Savings kWh","Thermal Savings kWh","Fleet Savings kWh","Renewables Savings kWh","kgCo2 Electrical","kgCo2 Thermal","kgCo2 Fleet","kgCo2 Renewable","Electrical savings €","Thermal Savings €","Fleet savings €","Renewable Savings €","Cost of measure (excl VAT)","Milestone","Invoice","Payback on investment (excl VAT/ Other Costs)","Energy Credits","Grant on Offer","VAT ","Total Payment "]
[null,"Site Name ","Category of Energy upgrade eg. Lighting upgrade, Attic Insulation sqm, Roof Insulation, External Insulation, Heat Pump, Heating Controls etc","Description of Minimum Data Required for Existing Specification","Existing Specification","Description of Minimum Data Required for Proposed Specification","Proposed Specification","Additional Information","Triple E register Ref ID - where proposed"]
["ND 1",{"$f":"#REF!","v":{"$error":"#REF!"}},{"$f":"#REF!","v":{"$error":"#REF!"}},{"$f":"#REF!","v":{"$error":"#REF!"}},{"$f":"#REF!","v":{"$error":"#REF!"}},{"$f":"#REF!","v":{"$error":"#REF!"}},{"$f":"#REF!","v":{"$error":"#REF!"}},{"$f":"#REF!","v":{"$error":"#REF!"}},{"$f":"#REF!","v":{"$error":"#REF!"}},{"$f":"#REF!","v":{"$error":"#REF!"}},{"$f":"#REF!","v":{"$error":"#REF!"}},{"$f":"#REF!","v":{"$error":"#REF!"}},{"$f":"#REF!","v":{"$error":"#REF!"}},{"$f":"#REF!","v":{"$error":"#REF!"}},{"$f":"#REF!","v":{"$error":"#REF!"}},{"$f":"#REF!","v":{"$error":"#REF!"}},{"$f":"#REF!","v":{"$error":"#REF!"}},{"$f":"#REF!","v":{"$error":"#REF!"}},{"$f":"#REF!","v":{"$error":"#REF!"}},{"$f":"#REF!","v":{"$error":"#REF!"}},{"$f":"#REF!","v":{"$error":"#REF!"}},{"$f":"#REF!","v":{"$error":"#REF!"}},{"$f":"#REF!","v":{"$error":"#REF!"}},{"$f":"#REF!","v":{"$error":"#REF!"}},{"$f":"#REF!","v":{"$error":"#REF!"}},{"$f":"#REF!","v":{"$error":"#REF!"}},{"$f":"V3*+PVGRANT","v":{"$error":"#REF!"}},{"$f":"'Project Summary'!O99","v":0},{"$f":"AA3+AB3","v":{"$error":"#REF!"}}]
["ND 2",{"$f":"#REF!","v":{"$error":"#REF!"}},{"$f":"#REF!","v":{"$error":"#REF!"}},{"$f":"#REF!","v":{"$error":"#REF!"}},{"$f":"#REF!","v":{"$error":"#REF!"}},{"$f":"#REF!","v":{"$error":"#REF!"}},{"$f":"#REF!","v":{"$error":"#REF!"}},{"$f":"#REF!","v":{"$error":"#REF!"}},{"$f":"#REF!","v":{"$error":"#REF!"}},{"$f":"#REF!","v":{"$error":"#REF!"}},{"$f":"#REF!","v":{"$error":"#REF!"}},{"$f":"#REF!","v":{"$error":"#REF!"}},{"$f":"#REF!","v":{"$error":"#REF!"}},{"$f":"#REF!","v":{"$error":"#REF!"}},{"$f":"#REF!","v":{"$error":"#REF!"}},{"$f":"#REF!","v":{"$error":"#REF!"}},{"$f":"#REF!","v":{"$error":"#REF!"}},{"$f":"#REF!","v":{"$error":"#REF!"}},{"$f":"#REF!","v":{"$error":"#REF!"}},{"$f":"#REF!","v":{"$error":"#REF!"}},{"$f":"#REF!","v":{"$error":"#REF!"}},{"$f":"#REF!","v":{"$error":"#REF!"}},{"$f":"#REF!","v":{"$error":"#REF!"}},{"$f":"#REF!","v":{"$error":"#REF!"}},{"$f":"#REF!","v":{"$error":"#REF!"}},{"$f":"#REF!","v":{"$error":"#REF!"}},{"$error":"#REF!"},{"$f":"'Project Summary'!O100","v":0},{"$f":"AA4+AB4","v":{"$error":"#REF!"}}]
["ND 3",{"$f":"#REF!","v":{"$error":"#REF!"}},{"$f":"#REF!","v":{"$error":"#REF!"}},{"$f":"#REF!","v":{"$error":"#REF!"}},{"$f":"#REF!","v":{"$error":"#REF!"}},{"$f":"#REF!","v":{"$error":"#REF!"}},{"$f":"#REF!","v":{"$error":"#REF!"}},{"$f":"#REF!","v":{"$error":"#REF!"}},{"$f":"#REF!","v":{"$error":"#REF!"}},{"$f":"#REF!","v":{"$error":"#REF!"}},{"$f":"#REF!","v":{"$error":"#REF!"}},{"$f":"#REF!","v":{"$error":"#REF!"}},{"$f":"#REF!","v":{"$error":"#REF!"}},{"$f":"#REF!","v":{"$error":"#REF!"}},{"$f":"#REF!","v":{"$error":"#REF!"}},{"$f":"#REF!","v":{"$error":"#REF!"}},{"$f":"#REF!","v":{"$error":"#REF!"}},{"$f":"#REF!","v":{"$error":"#REF!"}},{"$f":"#REF!","v":{"$error":"#REF!"}},{"$f":"#REF!","v":{"$error":"#REF!"}},{"$f":"#REF!","v":{"$error":"#REF!"}},{"$f":"#REF!","v":{"$error":"#REF!"}},{"$f":"#REF!","v":{"$error":"#REF!"}},{"$f":"#REF!","v":{"$error":"#REF!"}},{"$f":"#REF!","v":{"$error":"#REF!"}},{"$f":"#REF!","v":{"$error":"#REF!"}},{"$error":"#REF!"},{"$f":"'Project Summary'!O101","v":0},{"$error":"#REF!"}]
["ND 4",{"$f":"#REF!","v":{"$error":"#REF!"}},{"$f":"#REF!","v":{"$error":"#REF!"}},{"$f":"#REF!","v":{"$error":"#REF!"}},{"$f":"#REF!","v":{"$error":"#REF!"}},{"$f":"#REF!","v":{"$error":"#REF!"}},{"$f":"#REF!","v":{"$error":"#REF!"}},{"$f":"#REF!","v":{"$error":"#REF!"}},{"$f":"#REF!","v":{"$error":"#REF!"}},{"$f":"#REF!","v":{"$error":"#REF!"}},{"$f":"#REF!","v":{"$error":"#REF!"}},{"$f":"#REF!","v":{"$error":"#REF!"}},{"$f":"#REF!","v":{"$error":"#REF!"}},{"$f":"#REF!","v":{"$error":"#REF!"}},{"$f":"#REF!","v":{"$error":"#REF!"}},{"$f":"#REF!","v":{"$error":"#REF!"}},{"$f":"#REF!","v":{"$error":"#REF!"}},{"$f":"#REF!","v":{"$error":"#REF!"}},{"$f":"#REF!","v":{"$error":"#REF!"}},{"$f":"#REF!","v":{"$error":"#REF!"}},{"$f":"#REF!","v":{"$error":"#REF!"}},{"$f":"#REF!","v":{"$error":"#REF!"}},{"$f":"#REF!","v":{"$error":"#REF!"}},{"$f":"#REF!","v":{"$error":"#REF!"}},{"$f":"#REF!","v":{"$error":"#REF!"}},{"$f":"#REF!","v":{"$error":"#REF!"}},{"$error":"#REF!"},{"$f":"'Project Summary'!O102","v":0},{"$error":"#REF!"}]
["ND 5",{"$f":"#REF!","v":{"$error":"#REF!"}},{"$f":"#REF!","v":{"$error":"#REF!"}},{"$f":"#REF!","v":{"$error":"#REF!"}},{"$f":"#REF!","v":{"$error":"#REF!"}},{"$f":"#REF!","v":{"$error":"#REF!"}},{"$f":"#REF!","v":{"$error":"#REF!"}},{"$f":"#REF!","v":{"$error":"#REF!"}},{"$f":"#REF!","v":{"$error":"#REF!"}},{"$f":"#REF!","v":{"$error":"#REF!"}},{"$f":"#REF!","v":{"$error":"#REF!"}},{"$f":"#REF!","v":{"$error":"#REF!"}},{"$f":"#REF!","v":{"$error":"#REF!"}},{"$f":"#REF!","v":{"$error":"#REF!"}},{"$f":"#REF!","v":{"$error":"#REF!"}},{"$f":"#REF!","v":{"$error":"#REF!"}},{"$f":"#REF!","v":{"$error":"#REF!"}},{"$f":"#REF!","v":{"$error":"#REF!"}},{"$f":"#REF!","v":{"$error":"#REF!"}},{"$f":"#REF!","v":{"$error":"#REF!"}},{"$f":"#REF!","v":{"$error":"#REF!"}},{"$f":"#REF!","v":{"$error":"#REF!"}},{"$f":"#REF!","v":{"$error":"#REF!"}},{"$f":"#REF!","v":{"$error":"#REF!"}},{"$f":"#REF!","v":{"$error":"#REF!"}},{"$f":"#REF!","v":{"$error":"#REF!"}},{"$error":"#REF!"},{"$f":"'Project Summary'!O103","v":0},{"$error":"#REF!"}]
["ND 6",{"$f":"#REF!","v":{"$error":"#REF!"}},{"$f":"#REF!","v":{"$error":"#REF!"}},{"$f":"#REF!","v":{"$error":"#REF!"}},{"$f":"#REF!","v":{"$error":"#REF!"}},{"$f":"#REF!","v":{"$error":"#REF!"}},{"$f":"#REF!","v":{"$error":"#REF!"}},{"$f":"#REF!","v":{"$error":"#REF!"}},{"$f":"#REF!","v":{"$error":"#REF!"}},{"$f":"#REF!","v":{"$error":"#REF!"}},{"$f":"#REF!","v":{"$error":"#REF!"}},{"$f":"#REF!","v":{"$error":"#REF!"}},{"$f":"#REF!","v":{"$error":"#REF!"}},{"$f":"#REF!","v":{"$error":"#REF!"}},{"$f":"#REF!","v":{"$error":"#REF!"}},{"$f":"#REF!","v":{"$error":"#REF!"}},{"$f":"#REF!","v":{"$error":"#REF!"}},{"$f":"#REF!","v":{"$error":"#REF!"}},{"$f":"#REF!","v":{"$error":"#REF!"}},{"$f":"#REF!","v":{"$error":"#REF!"}},{"$f":"#REF!","v":{"$error":"#REF!"}},{"$f":"#REF!","v":{"$error":"#REF!"}},{"$f":"#REF!","v":{"$error":"#REF!"}},{"$f":"#REF!","v":{"$error":"#REF!"}},{"$f":"#REF!","v":{"$error":"#REF!"}},{"$f":"#REF!","v":{"$error":"#REF!"}},{"$error":"#REF!"},{"$f":"'Project Summary'!O104","v":0},{"$error":"#REF!"}]
["ND 7",{"$f":"#REF!","v":{"$error":"#REF!"}},{"$f":"#REF!","v":{"$error":"#REF!"}},{"$f":"#REF!","v":{"$error":"#REF!"}},{"$f":"#REF!","v":{"$error":"#REF!"}},{"$f":"#REF!","v":{"$error":"#REF!"}},{"$f":"#REF!","v":{"$error":"#REF!"}},{"$f":"#REF!","v":{"$error":"#REF!"}},{"$f":"#REF!","v":{"$error":"#REF!"}},{"$f":"#REF!","v":{"$error":"#REF!"}},{"$f":"#REF!","v":{"$error":"#REF!"}},{"$f":"#REF!","v":{"$error":"#REF!"}},{"$f":"#REF!","v":{"$error":"#REF!"}},{"$f":"#REF!","v":{"$error":"#REF!"}},{"$f":"#REF!","v":{"$error":"#REF!"}},{"$f":"#REF!","v":{"$error":"#REF!"}},{"$f":"#REF!","v":{"$error":"#REF!"}},{"$f":"#REF!","v":{"$error":"#REF!"}},{"$f":"#REF!","v":{"$error":"#REF!"}},{"$f":"#REF!","v":{"$error":"#REF!"}},{"$f":"#REF!","v":{"$error":"#REF!"}},{"$f":"#REF!","v":{"$error":"#REF!"}},{"$f":"#REF!","v":{"$error":"#REF!"}},{"$f":"#REF!","v":{"$error":"#REF!"}},{"$f":"#REF!","v":{"$error":"#REF!"}},{"$f":"#REF!","v":{"$error":"#REF!"}},{"$error":"#REF!"},{"$f":"'Project Summary'!O105","v":0},{"$error":"#REF!"}]
["ND 8",{"$f":"#REF!","v":{"$error":"#REF!"}},{"$f":"#REF!","v":{"$error":"#REF!"}},{"$f":"#REF!","v":{"$error":"#REF!"}},{"$f":"#REF!","v":{"$error":"#REF!"}},{"$f":"#REF!","v":{"$error":"#REF!"}},{"$f":"#REF!","v":{"$error":"#REF!"}},{"$f":"#REF!","v":{"$error":"#REF!"}},{"$f":"#REF!","v":{"$error":"#REF!"}},{"$f":"#REF!","v":{"$error":"#REF!"}},{"$f":"#REF!","v":{"$error":"#REF!"}},{"$f":"#REF!","v":{"$error":"#REF!"}},{"$f":"#REF!","v":{"$error":"#REF!"}},{"$f":"#REF!","v":{"$error":"#REF!"}},{"$f":"#REF!","v":{"$error":"#REF!"}},{"$f":"#REF!","v":{"$error":"#REF!"}},{"$f":"#REF!","v":{"$error":"#REF!"}},{"$f":"#REF!","v":{"$error":"#REF!"}},{"$f":"#REF!","v":{"$error":"#REF!"}},{"$f":"#REF!","v":{"$error":"#REF!"}},{"$f":"#REF!","v":{"$error":"#REF!"}},{"$f":"#REF!","v":{"$error":"#REF!"}},{"$f":"#REF!","v":{"$error":"#REF!"}},{"$f":"#REF!","v":{"$error":"#REF!"}},{"$f":"#REF!","v":{"$error":"#REF!"}},{"$f":"#REF!","v":{"$error":"#REF!"}},{"$error":"#REF!"},{"$f":"'Project Summary'!O106","v":0},{"$error":"#REF!"}]
["ND 9",{"$f":"#REF!","v":{"$error":"#REF!"}},{"$f":"#REF!","v":{"$error":"#REF!"}},{"$f":"#REF!","v":{"$error":"#REF!"}},{"$f":"#REF!","v":{"$error":"#REF!"}},{"$f":"#REF!","v":{"$error":"#REF!"}},{"$f":"#REF!","v":{"$error":"#REF!"}},{"$f":"#REF!","v":{"$error":"#REF!"}},{"$f":"#REF!","v":{"$error":"#REF!"}},{"$f":"#REF!","v":{"$error":"#REF!"}},{"$f":"#REF!","v":{"$error":"#REF!"}},{"$f":"#REF!","v":{"$error":"#REF!"}},{"$f":"#REF!","v":{"$error":"#REF!"}},{"$f":"#REF!","v":{"$error":"#REF!"}},{"$f":"#REF!","v":{"$error":"#REF!"}},{"$f":"#REF!","v":{"$error":"#REF!"}},{"$f":"#REF!","v":{"$error":"#REF!"}},{"$f":"#REF!","v":{"$error":"#REF!"}},{"$f":"#REF!","v":{"$error":"#REF!"}},{"$f":"#REF!","v":{"$error":"#REF!"}},{"$f":"#REF!","v":{"$error":"#REF!"}},{"$f":"#REF!","v":{"$error":"#REF!"}},{"$f":"#REF!","v":{"$error":"#REF!"}},{"$f":"#REF!","v":{"$error":"#REF!"}},{"$f":"#REF!","v":{"$error":"#REF!"}},{"$f":"#REF!","v":{"$error":"#REF!"}},{"$error":"#REF!"},{"$f":"'Project Summary'!O107","v":0},{"$error":"#REF!"}]
["ND 10",{"$f":"#REF!","v":{"$error":"#REF!"}},{"$f":"#REF!","v":{"$error":"#REF!"}},{"$f":"#REF!","v":{"$error":"#REF!"}},{"$f":"#REF!","v":{"$error":"#REF!"}},{"$f":"#REF!","v":{"$error":"#REF!"}},{"$f":"#REF!","v":{"$error":"#REF!"}},{"$f":"#REF!","v":{"$error":"#REF!"}},{"$f":"#REF!","v":{"$error":"#REF!"}},{"$f":"#REF!","v":{"$error":"#REF!"}},{"$f":"#REF!","v":{"$error":"#REF!"}},{"$f":"#REF!","v":{"$error":"#REF!"}},{"$f":"#REF!","v":{"$error":"#REF!"}},{"$f":"#REF!","v":{"$error":"#REF!"}},{"$f":"#REF!","v":{"$error":"#REF!"}},{"$f":"#REF!","v":{"$error":"#REF!"}},{"$f":"#REF!","v":{"$error":"#REF!"}},{"$f":"#REF!","v":{"$error":"#REF!"}},{"$f":"#REF!","v":{"$error":"#REF!"}},{"$f":"#REF!","v":{"$error":"#REF!"}},{"$f":"#REF!","v":{"$error":"#REF!"}},{"$f":"#REF!","v":{"$error":"#REF!"}},{"$f":"#REF!","v":{"$error":"#REF!"}},{"$f":"#REF!","v":{"$error":"#REF!"}},{"$f":"#REF!","v":{"$error":"#REF!"}},{"$f":"#REF!","v":{"$error":"#REF!"}},{"$error":"#REF!"},{"$f":"'Project Summary'!O108","v":0},{"$error":"#REF!"}]
["ND 11",{"$f":"#REF!","v":{"$error":"#REF!"}},{"$f":"#REF!","v":{"$error":"#REF!"}},{"$f":"#REF!","v":{"$error":"#REF!"}},{"$f":"#REF!","v":{"$error":"#REF!"}},{"$f":"#REF!","v":{"$error":"#REF!"}},{"$f":"#REF!","v":{"$error":"#REF!"}},{"$f":"#REF!","v":{"$error":"#REF!"}},{"$f":"#REF!","v":{"$error":"#REF!"}},{"$f":"#REF!","v":{"$error":"#REF!"}},{"$f":"#REF!","v":{"$error":"#REF!"}},{"$f":"#REF!","v":{"$error":"#REF!"}},{"$f":"#REF!","v":{"$error":"#REF!"}},{"$f":"#REF!","v":{"$error":"#REF!"}},{"$f":"#REF!","v":{"$error":"#REF!"}},{"$f":"#REF!","v":{"$error":"#REF!"}},{"$f":"#REF!","v":{"$error":"#REF!"}},{"$f":"#REF!","v":{"$error":"#REF!"}},{"$f":"#REF!","v":{"$error":"#REF!"}},{"$f":"#REF!","v":{"$error":"#REF!"}},{"$f":"#REF!","v":{"$error":"#REF!"}},{"$f":"#REF!","v":{"$error":"#REF!"}},{"$f":"#REF!","v":{"$error":"#REF!"}},{"$f":"#REF!","v":{"$error":"#REF!"}},{"$f":"#REF!","v":{"$error":"#REF!"}},{"$f":"#REF!","v":{"$error":"#REF!"}},{"$error":"#REF!"},{"$f":"'Project Summary'!O109","v":0},{"$error":"#REF!"}]
["ND 12",{"$f":"#REF!","v":{"$error":"#REF!"}},{"$f":"#REF!","v":{"$error":"#REF!"}},{"$f":"#REF!","v":{"$error":"#REF!"}},{"$f":"#REF!","v":{"$error":"#REF!"}},{"$f":"#REF!","v":{"$error":"#REF!"}},{"$f":"#REF!","v":{"$error":"#REF!"}},{"$f":"#REF!","v":{"$error":"#REF!"}},{"$f":"#REF!","v":{"$error":"#REF!"}},{"$f":"#REF!","v":{"$error":"#REF!"}},{"$f":"#REF!","v":{"$error":"#REF!"}},{"$f":"#REF!","v":{"$error":"#REF!"}},{"$f":"#REF!","v":{"$error":"#REF!"}},{"$f":"#REF!","v":{"$error":"#REF!"}},{"$f":"#REF!","v":{"$error":"#REF!"}},{"$f":"#REF!","v":{"$error":"#REF!"}},{"$f":"#REF!","v":{"$error":"#REF!"}},{"$f":"#REF!","v":{"$error":"#REF!"}},{"$f":"#REF!","v":{"$error":"#REF!"}},{"$f":"#REF!","v":{"$error":"#REF!"}},{"$f":"#REF!","v":{"$error":"#REF!"}},{"$f":"#REF!","v":{"$error":"#REF!"}},{"$f":"#REF!","v":{"$error":"#REF!"}},{"$f":"#REF!","v":{"$error":"#REF!"}},{"$f":"#REF!","v":{"$error":"#REF!"}},{"$f":"#REF!","v":{"$error":"#REF!"}},{"$error":"#REF!"},{"$f":"'Project Summary'!O110","v":0},{"$error":"#REF!"}]
["ND 13",{"$f":"#REF!","v":{"$error":"#REF!"}},{"$f":"#REF!","v":{"$error":"#REF!"}},{"$f":"#REF!","v":{"$error":"#REF!"}},{"$f":"#REF!","v":{"$error":"#REF!"}},{"$f":"#REF!","v":{"$error":"#REF!"}},{"$f":"#REF!","v":{"$error":"#REF!"}},{"$f":"#REF!","v":{"$error":"#REF!"}},{"$f":"#REF!","v":{"$error":"#REF!"}},{"$f":"#REF!","v":{"$error":"#REF!"}},{"$f":"#REF!","v":{"$error":"#REF!"}},{"$f":"#REF!","v":{"$error":"#REF!"}},{"$f":"#REF!","v":{"$error":"#REF!"}},{"$f":"#REF!","v":{"$error":"#REF!"}},{"$f":"#REF!","v":{"$error":"#REF!"}},{"$f":"#REF!","v":{"$error":"#REF!"}},{"$f":"#REF!","v":{"$error":"#REF!"}},{"$f":"#REF!","v":{"$error":"#REF!"}},{"$f":"#REF!","v":{"$error":"#REF!"}},{"$f":"#REF!","v":{"$error":"#REF!"}},{"$f":"#REF!","v":{"$error":"#REF!"}},{"$f":"#REF!","v":{"$error":"#REF!"}},{"$f":"#REF!","v":{"$error":"#REF!"}},{"$f":"#REF!","v":{"$error":"#REF!"}},{"$f":"#REF!","v":{"$error":"#REF!"}},{"$f":"#REF!","v":{"$error":"#REF!"}},{"$error":"#REF!"},{"$f":"'Project Summary'!O111","v":0},{"$error":"#REF!"}]
["ND 14",{"$f":"#REF!","v":{"$error":"#REF!"}},{"$f":"#REF!","v":{"$error":"#REF!"}},{"$f":"#REF!","v":{"$error":"#REF!"}},{"$f":"#REF!","v":{"$error":"#REF!"}},{"$f":"#REF!","v":{"$error":"#REF!"}},{"$f":"#REF!","v":{"$error":"#REF!"}},{"$f":"#REF!","v":{"$error":"#REF!"}},{"$f":"#REF!","v":{"$error":"#REF!"}},{"$f":"#REF!","v":{"$error":"#REF!"}},{"$f":"#REF!","v":{"$error":"#REF!"}},{"$f":"#REF!","v":{"$error":"#REF!"}},{"$f":"#REF!","v":{"$error":"#REF!"}},{"$f":"#REF!","v":{"$error":"#REF!"}},{"$f":"#REF!","v":{"$error":"#REF!"}},{"$f":"#REF!","v":{"$error":"#REF!"}},{"$f":"#REF!","v":{"$error":"#REF!"}},{"$f":"#REF!","v":{"$error":"#REF!"}},{"$f":"#REF!","v":{"$error":"#REF!"}},{"$f":"#REF!","v":{"$error":"#REF!"}},{"$f":"#REF!","v":{"$error":"#REF!"}},{"$f":"#REF!","v":{"$error":"#REF!"}},{"$f":"#REF!","v":{"$error":"#REF!"}},{"$f":"#REF!","v":{"$error":"#REF!"}},{"$f":"#REF!","v":{"$error":"#REF!"}},{"$f":"#REF!","v":{"$error":"#REF!"}},{"$error":"#REF!"},{"$f":"'Project Summary'!O112","v":0},{"$error":"#REF!"}]
["ND 15",{"$f":"#REF!","v":{"$error":"#REF!"}},{"$f":"#REF!","v":{"$error":"#REF!"}},{"$f":"#REF!","v":{"$error":"#REF!"}},{"$f":"#REF!","v":{"$error":"#REF!"}},{"$f":"#REF!","v":{"$error":"#REF!"}},{"$f":"#REF!","v":{"$error":"#REF!"}},{"$f":"#REF!","v":{"$error":"#REF!"}},{"$f":"#REF!","v":{"$error":"#REF!"}},{"$f":"#REF!","v":{"$error":"#REF!"}},{"$f":"#REF!","v":{"$error":"#REF!"}},{"$f":"#REF!","v":{"$error":"#REF!"}},{"$f":"#REF!","v":{"$error":"#REF!"}},{"$f":"#REF!","v":{"$error":"#REF!"}},{"$f":"#REF!","v":{"$error":"#REF!"}},{"$f":"#REF!","v":{"$error":"#REF!"}},{"$f":"#REF!","v":{"$error":"#REF!"}},{"$f":"#REF!","v":{"$error":"#REF!"}},{"$f":"#REF!","v":{"$error":"#REF!"}},{"$f":"#REF!","v":{"$error":"#REF!"}},{"$f":"#REF!","v":{"$error":"#REF!"}},{"$f":"#REF!","v":{"$error":"#REF!"}},{"$f":"#REF!","v":{"$error":"#REF!"}},{"$f":"#REF!","v":{"$error":"#REF!"}},{"$f":"#REF!","v":{"$error":"#REF!"}},{"$f":"#REF!","v":{"$error":"#REF!"}},{"$error":"#REF!"},{"$f":"'Project Summary'!O113","v":0},{"$error":"#REF!"}]
["ND 16",{"$f":"#REF!","v":{"$error":"#REF!"}},{"$f":"#REF!","v":{"$error":"#REF!"}},{"$f":"#REF!","v":{"$error":"#REF!"}},{"$f":"#REF!","v":{"$error":"#REF!"}},{"$f":"#REF!","v":{"$error":"#REF!"}},{"$f":"#REF!","v":{"$error":"#REF!"}},{"$f":"#REF!","v":{"$error":"#REF!"}},{"$f":"#REF!","v":{"$error":"#REF!"}},{"$f":"#REF!","v":{"$error":"#REF!"}},{"$f":"#REF!","v":{"$error":"#REF!"}},{"$f":"#REF!","v":{"$error":"#REF!"}},{"$f":"#REF!","v":{"$error":"#REF!"}},{"$f":"#REF!","v":{"$error":"#REF!"}},{"$f":"#REF!","v":{"$error":"#REF!"}},{"$f":"#REF!","v":{"$error":"#REF!"}},{"$f":"#REF!","v":{"$error":"#REF!"}},{"$f":"#REF!","v":{"$error":"#REF!"}},{"$f":"#REF!","v":{"$error":"#REF!"}},{"$f":"#REF!","v":{"$error":"#REF!"}},{"$f":"#REF!","v":{"$error":"#REF!"}},{"$f":"#REF!","v":{"$error":"#REF!"}},{"$f":"#REF!","v":{"$error":"#REF!"}},{"$f":"#REF!","v":{"$error":"#REF!"}},{"$f":"#REF!","v":{"$error":"#REF!"}},{"$f":"#REF!","v":{"$error":"#REF!"}},{"$error":"#REF!"},{"$f":"'Project Summary'!O114","v":0},{"$error":"#REF!"}]
["ND 17",{"$f":"#REF!","v":{"$error":"#REF!"}},{"$f":"#REF!","v":{"$error":"#REF!"}},{"$f":"#REF!","v":{"$error":"#REF!"}},{"$f":"#REF!","v":{"$error":"#REF!"}},{"$f":"#REF!","v":{"$error":"#REF!"}},{"$f":"#REF!","v":{"$error":"#REF!"}},{"$f":"#REF!","v":{"$error":"#REF!"}},{"$f":"#REF!","v":{"$error":"#REF!"}},{"$f":"#REF!","v":{"$error":"#REF!"}},{"$f":"#REF!","v":{"$error":"#REF!"}},{"$f":"#REF!","v":{"$error":"#REF!"}},{"$f":"#REF!","v":{"$error":"#REF!"}},{"$f":"#REF!","v":{"$error":"#REF!"}},{"$f":"#REF!","v":{"$error":"#REF!"}},{"$f":"#REF!","v":{"$error":"#REF!"}},{"$f":"#REF!","v":{"$error":"#REF!"}},{"$f":"#REF!","v":{"$error":"#REF!"}},{"$f":"#REF!","v":{"$error":"#REF!"}},{"$f":"#REF!","v":{"$error":"#REF!"}},{"$f":"#REF!","v":{"$error":"#REF!"}},{"$f":"#REF!","v":{"$error":"#REF!"}},{"$f":"#REF!","v":{"$error":"#REF!"}},{"$f":"#REF!","v":{"$error":"#REF!"}},{"$f":"#REF!","v":{"$error":"#REF!"}},{"$f":"#REF!","v":{"$error":"#REF!"}},{"$error":"#REF!"},{"$f":"'Project Summary'!O115","v":0},{"$error":"#REF!"}]
["ND 18",{"$f":"#REF!","v":{"$error":"#REF!"}},{"$f":"#REF!","v":{"$error":"#REF!"}},{"$f":"#REF!","v":{"$error":"#REF!"}},{"$f":"#REF!","v":{"$error":"#REF!"}},{"$f":"#REF!","v":{"$error":"#REF!"}},{"$f":"#REF!","v":{"$error":"#REF!"}},{"$f":"#REF!","v":{"$error":"#REF!"}},{"$f":"#REF!","v":{"$error":"#REF!"}},{"$f":"#REF!","v":{"$error":"#REF!"}},{"$f":"#REF!","v":{"$error":"#REF!"}},{"$f":"#REF!","v":{"$error":"#REF!"}},{"$f":"#REF!","v":{"$error":"#REF!"}},{"$f":"#REF!","v":{"$error":"#REF!"}},{"$f":"#REF!","v":{"$error":"#REF!"}},{"$f":"#REF!","v":{"$error":"#REF!"}},{"$f":"#REF!","v":{"$error":"#REF!"}},{"$f":"#REF!","v":{"$error":"#REF!"}},{"$f":"#REF!","v":{"$error":"#REF!"}},{"$f":"#REF!","v":{"$error":"#REF!"}},{"$f":"#REF!","v":{"$error":"#REF!"}},{"$f":"#REF!","v":{"$error":"#REF!"}},{"$f":"#REF!","v":{"$error":"#REF!"}},{"$f":"#REF!","v":{"$error":"#REF!"}},{"$f":"#REF!","v":{"$error":"#REF!"}},{"$f":"#REF!","v":{"$error":"#REF!"}},{"$error":"#REF!"},{"$f":"'Project Summary'!O116","v":0},{"$error":"#REF!"}]
["ND 19",{"$f":"#REF!","v":{"$error":"#REF!"}},{"$f":"#REF!","v":{"$error":"#REF!"}},{"$f":"#REF!","v":{"$error":"#REF!"}},{"$f":"#REF!","v":{"$error":"#REF!"}},{"$f":"#REF!","v":{"$error":"#REF!"}},{"$f":"#REF!","v":{"$error":"#REF!"}},{"$f":"#REF!","v":{"$error":"#REF!"}},{"$f":"#REF!","v":{"$error":"#REF!"}},{"$f":"#REF!","v":{"$error":"#REF!"}},{"$f":"#REF!","v":{"$error":"#REF!"}},{"$f":"#REF!","v":{"$error":"#REF!"}},{"$f":"#REF!","v":{"$error":"#REF!"}},{"$f":"#REF!","v":{"$error":"#REF!"}},{"$f":"#REF!","v":{"$error":"#REF!"}},{"$f":"#REF!","v":{"$error":"#REF!"}},{"$f":"#REF!","v":{"$error":"#REF!"}},{"$f":"#REF!","v":{"$error":"#REF!"}},{"$f":"#REF!","v":{"$error":"#REF!"}},{"$f":"#REF!","v":{"$error":"#REF!"}},{"$f":"#REF!","v":{"$error":"#REF!"}},{"$f":"#REF!","v":{"$error":"#REF!"}},{"$f":"#REF!","v":{"$error":"#REF!"}},{"$f":"#REF!","v":{"$error":"#REF!"}},{"$f":"#REF!","v":{"$error":"#REF!"}},{"$f":"#REF!","v":{"$error":"#REF!"}},{"$error":"#REF!"},{"$f":"'Project Summary'!O117","v":0},{"$error":"#REF!"}]
["ND 20",{"$f":"#REF!","v":{"$error":"#REF!"}},{"$f":"#REF!","v":{"$error":"#REF!"}},{"$f":"#REF!","v":{"$error":"#REF!"}},{"$f":"#REF!","v":{"$error":"#REF!"}},{"$f":"#REF!","v":{"$error":"#REF!"}},{"$f":"#REF!","v":{"$error":"#REF!"}},{"$f":"#REF!","v":{"$error":"#REF!"}},{"$f":"#REF!","v":{"$error":"#REF!"}},{"$f":"#REF!","v":{"$error":"#REF!"}},{"$f":"#REF!","v":{"$error":"#REF!"}},{"$f":"#REF!","v":{"$error":"#REF!"}},{"$f":"#REF!","v":{"$error":"#REF!"}},{"$f":"#REF!","v":{"$error":"#REF!"}},{"$f":"#REF!","v":{"$error":"#REF!"}},{"$f":"#REF!","v":{"$error":"#REF!"}},{"$f":"#REF!","v":{"$error":"#REF!"}},{"$f":"#REF!","v":{"$error":"#REF!"}},{"$f":"#REF!","v":{"$error":"#REF!"}},{"$f":"#REF!","v":{"$error":"#REF!"}},{"$f":"#REF!","v":{"$error":"#REF!"}},{"$f":"#REF!","v":{"$error":"#REF!"}},{"$f":"#REF!","v":{"$error":"#REF!"}},{"$f":"#REF!","v":{"$error":"#REF!"}},{"$f":"#REF!","v":{"$error":"#REF!"}},{"$f":"#REF!","v":{"$error":"#REF!"}},{"$error":"#REF!"},{"$f":"'Project Summary'!O118","v":0},{"$error":"#REF!"}]
["ND 21",{"$f":"#REF!","v":{"$error":"#REF!"}},{"$f":"#REF!","v":{"$error":"#REF!"}},{"$f":"#REF!","v":{"$error":"#REF!"}},{"$f":"#REF!","v":{"$error":"#REF!"}},{"$f":"#REF!","v":{"$error":"#REF!"}},{"$f":"#REF!","v":{"$error":"#REF!"}},{"$f":"#REF!","v":{"$error":"#REF!"}},{"$f":"#REF!","v":{"$error":"#REF!"}},{"$f":"#REF!","v":{"$error":"#REF!"}},{"$f":"#REF!","v":{"$error":"#REF!"}},{"$f":"#REF!","v":{"$error":"#REF!"}},{"$f":"#REF!","v":{"$error":"#REF!"}},{"$f":"#REF!","v":{"$error":"#REF!"}},{"$f":"#REF!","v":{"$error":"#REF!"}},{"$f":"#REF!","v":{"$error":"#REF!"}},{"$f":"#REF!","v":{"$error":"#REF!"}},{"$f":"#REF!","v":{"$error":"#REF!"}},{"$f":"#REF!","v":{"$error":"#REF!"}},{"$f":"#REF!","v":{"$error":"#REF!"}},{"$f":"#REF!","v":{"$error":"#REF!"}},{"$f":"#REF!","v":{"$error":"#REF!"}},{"$f":"#REF!","v":{"$error":"#REF!"}},{"$f":"#REF!","v":{"$error":"#REF!"}},{"$f":"#REF!","v":{"$error":"#REF!"}},{"$f":"#REF!","v":{"$error":"#REF!"}},{"$error":"#REF!"},{"$f":"'Project Summary'!O119","v":0},{"$error":"#REF!"}]
["ND 22",{"$f":"#REF!","v":{"$error":"#REF!"}},{"$f":"#REF!","v":{"$error":"#REF!"}},{"$f":"#REF!","v":{"$error":"#REF!"}},{"$f":"#REF!","v":{"$error":"#REF!"}},{"$f":"#REF!","v":{"$error":"#REF!"}},{"$f":"#REF!","v":{"$error":"#REF!"}},{"$f":"#REF!","v":{"$error":"#REF!"}},{"$f":"#REF!","v":{"$error":"#REF!"}},{"$f":"#REF!","v":{"$error":"#REF!"}},{"$f":"#REF!","v":{"$error":"#REF!"}},{"$f":"#REF!","v":{"$error":"#REF!"}},{"$f":"#REF!","v":{"$error":"#REF!"}},{"$f":"#REF!","v":{"$error":"#REF!"}},{"$f":"#REF!","v":{"$error":"#REF!"}},{"$f":"#REF!","v":{"$error":"#REF!"}},{"$f":"#REF!","v":{"$error":"#REF!"}},{"$f":"#REF!","v":{"$error":"#REF!"}},{"$f":"#REF!","v":{"$error":"#REF!"}},{"$f":"#REF!","v":{"$error":"#REF!"}},{"$f":"#REF!","v":{"$error":"#REF!"}},{"$f":"#REF!","v":{"$error":"#REF!"}},{"$f":"#REF!","v":{"$error":"#REF!"}},{"$f":"#REF!","v":{"$error":"#REF!"}},{"$f":"#REF!","v":{"$error":"#REF!"}},{"$f":"#REF!","v":{"$error":"#REF!"}},{"$error":"#REF!"},{"$f":"'Project Summary'!O120","v":0},{"$error":"#REF!"}]
["ND 23",{"$f":"#REF!","v":{"$error":"#REF!"}},{"$f":"#REF!","v":{"$error":"#REF!"}},{"$f":"#REF!","v":{"$error":"#REF!"}},{"$f":"#REF!","v":{"$error":"#REF!"}},{"$f":"#REF!","v":{"$error":"#REF!"}},{"$f":"#REF!","v":{"$error":"#REF!"}},{"$f":"#REF!","v":{"$error":"#REF!"}},{"$f":"#REF!","v":{"$error":"#REF!"}},{"$f":"#REF!","v":{"$error":"#REF!"}},{"$f":"#REF!","v":{"$error":"#REF!"}},{"$f":"#REF!","v":{"$error":"#REF!"}},{"$f":"#REF!","v":{"$error":"#REF!"}},{"$f":"#REF!","v":{"$error":"#REF!"}},{"$f":"#REF!","v":{"$error":"#REF!"}},{"$f":"#REF!","v":{"$error":"#REF!"}},{"$f":"#REF!","v":{"$error":"#REF!"}},{"$f":"#REF!","v":{"$error":"#REF!"}},{"$f":"#REF!","v":{"$error":"#REF!"}},{"$f":"#REF!","v":{"$error":"#REF!"}},{"$f":"#REF!","v":{"$error":"#REF!"}},{"$f":"#REF!","v":{"$error":"#REF!"}},{"$f":"#REF!","v":{"$error":"#REF!"}},{"$f":"#REF!","v":{"$error":"#REF!"}},{"$f":"#REF!","v":{"$error":"#REF!"}},{"$f":"#REF!","v":{"$error":"#REF!"}},{"$error":"#REF!"},{"$f":"'Project Summary'!O121","v":0},{"$error":"#REF!"}]
["ND 24",{"$f":"#REF!","v":{"$error":"#REF!"}},{"$f":"#REF!","v":{"$error":"#REF!"}},{"$f":"#REF!","v":{"$error":"#REF!"}},{"$f":"#REF!","v":{"$error":"#REF!"}},{"$f":"#REF!","v":{"$error":"#REF!"}},{"$f":"#REF!","v":{"$error":"#REF!"}},{"$f":"#REF!","v":{"$error":"#REF!"}},{"$f":"#REF!","v":{"$error":"#REF!"}},{"$f":"#REF!","v":{"$error":"#REF!"}},{"$f":"#REF!","v":{"$error":"#REF!"}},{"$f":"#REF!","v":{"$error":"#REF!"}},{"$f":"#REF!","v":{"$error":"#REF!"}},{"$f":"#REF!","v":{"$error":"#REF!"}},{"$f":"#REF!","v":{"$error":"#REF!"}},{"$f":"#REF!","v":{"$error":"#REF!"}},{"$f":"#REF!","v":{"$error":"#REF!"}},{"$f":"#REF!","v":{"$error":"#REF!"}},{"$f":"#REF!","v":{"$error":"#REF!"}},{"$f":"#REF!","v":{"$error":"#REF!"}},{"$f":"#REF!","v":{"$error":"#REF!"}},{"$f":"#REF!","v":{"$error":"#REF!"}},{"$f":"#REF!","v":{"$error":"#REF!"}},{"$f":"#REF!","v":{"$error":"#REF!"}},{"$f":"#REF!","v":{"$error":"#REF!"}},{"$f":"#REF!","v":{"$error":"#REF!"}},{"$error":"#REF!"},{"$f":"'Project Summary'!O122","v":0},{"$error":"#REF!"}]
["ND 25",{"$f":"#REF!","v":{"$error":"#REF!"}},{"$f":"#REF!","v":{"$error":"#REF!"}},{"$f":"#REF!","v":{"$error":"#REF!"}},{"$f":"#REF!","v":{"$error":"#REF!"}},{"$f":"#REF!","v":{"$error":"#REF!"}},{"$f":"#REF!","v":{"$error":"#REF!"}},{"$f":"#REF!","v":{"$error":"#REF!"}},{"$f":"#REF!","v":{"$error":"#REF!"}},{"$f":"#REF!","v":{"$error":"#REF!"}},{"$f":"#REF!","v":{"$error":"#REF!"}},{"$f":"#REF!","v":{"$error":"#REF!"}},{"$f":"#REF!","v":{"$error":"#REF!"}},{"$f":"#REF!","v":{"$error":"#REF!"}},{"$f":"#REF!","v":{"$error":"#REF!"}},{"$f":"#REF!","v":{"$error":"#REF!"}},{"$f":"#REF!","v":{"$error":"#REF!"}},{"$f":"#REF!","v":{"$error":"#REF!"}},{"$f":"#REF!","v":{"$error":"#REF!"}},{"$f":"#REF!","v":{"$error":"#REF!"}},{"$f":"#REF!","v":{"$error":"#REF!"}},{"$f":"#REF!","v":{"$error":"#REF!"}},{"$f":"#REF!","v":{"$error":"#REF!"}},{"$f":"#REF!","v":{"$error":"#REF!"}},{"$f":"#REF!","v":{"$error":"#REF!"}},{"$f":"#REF!","v":{"$error":"#REF!"}},{"$error":"#REF!"},{"$f":"'Project Summary'!O123","v":0},{"$error":"#REF!"}]
["ND 26",{"$f":"#REF!","v":{"$error":"#REF!"}},{"$f":"#REF!","v":{"$error":"#REF!"}},{"$f":"#REF!","v":{"$error":"#REF!"}},{"$f":"#REF!","v":{"$error":"#REF!"}},{"$f":"#REF!","v":{"$error":"#REF!"}},{"$f":"#REF!","v":{"$error":"#REF!"}},{"$f":"#REF!","v":{"$error":"#REF!"}},{"$f":"#REF!","v":{"$error":"#REF!"}},{"$f":"#REF!","v":{"$error":"#REF!"}},{"$f":"#REF!","v":{"$error":"#REF!"}},{"$f":"#REF!","v":{"$error":"#REF!"}},{"$f":"#REF!","v":{"$error":"#REF!"}},{"$f":"#REF!","v":{"$error":"#REF!"}},{"$f":"#REF!","v":{"$error":"#REF!"}},{"$f":"#REF!","v":{"$error":"#REF!"}},{"$f":"#REF!","v":{"$error":"#REF!"}},{"$f":"#REF!","v":{"$error":"#REF!"}},{"$f":"#REF!","v":{"$error":"#REF!"}},{"$f":"#REF!","v":{"$error":"#REF!"}},{"$f":"#REF!","v":{"$error":"#REF!"}},{"$f":"#REF!","v":{"$error":"#REF!"}},{"$f":"#REF!","v":{"$error":"#REF!"}},{"$f":"#REF!","v":{"$error":"#REF!"}},{"$f":"#REF!","v":{"$error":"#REF!"}},{"$f":"#REF!","v":{"$error":"#REF!"}},{"$error":"#REF!"},{"$f":"'Project Summary'!O124","v":0},{"$error":"#REF!"}]
["ND 27",{"$f":"#REF!","v":{"$error":"#REF!"}},{"$f":"#REF!","v":{"$error":"#REF!"}},{"$f":"#REF!","v":{"$error":"#REF!"}},{"$f":"#REF!","v":{"$error":"#REF!"}},{"$f":"#REF!","v":{"$error":"#REF!"}},{"$f":"#REF!","v":{"$error":"#REF!"}},{"$f":"#REF!","v":{"$error":"#REF!"}},{"$f":"#REF!","v":{"$error":"#REF!"}},{"$f":"#REF!","v":{"$error":"#REF!"}},{"$f":"#REF!","v":{"$error":"#REF!"}},{"$f":"#REF!","v":{"$error":"#REF!"}},{"$f":"#REF!","v":{"$error":"#REF!"}},{"$f":"#REF!","v":{"$error":"#REF!"}},{"$f":"#REF!","v":{"$error":"#REF!"}},{"$f":"#REF!","v":{"$error":"#REF!"}},{"$f":"#REF!","v":{"$error":"#REF!"}},{"$f":"#REF!","v":{"$error":"#REF!"}},{"$f":"#REF!","v":{"$error":"#REF!"}},{"$f":"#REF!","v":{"$error":"#REF!"}},{"$f":"#REF!","v":{"$error":"#REF!"}},{"$f":"#REF!","v":{"$error":"#REF!"}},{"$f":"#REF!","v":{"$error":"#REF!"}},{"$f":"#REF!","v":{"$error":"#REF!"}},{"$f":"#REF!","v":{"$error":"#REF!"}},{"$f":"#REF!","v":{"$error":"#REF!"}},{"$error":"#REF!"},{"$f":"'Project Summary'!O125","v":0},{"$error":"#REF!"}]
["ND 28",{"$f":"#REF!","v":{"$error":"#REF!"}},{"$f":"#REF!","v":{"$error":"#REF!"}},{"$f":"#REF!","v":{"$error":"#REF!"}},{"$f":"#REF!","v":{"$error":"#REF!"}},{"$f":"#REF!","v":{"$error":"#REF!"}},{"$f":"#REF!","v":{"$error":"#REF!"}},{"$f":"#REF!","v":{"$error":"#REF!"}},{"$f":"#REF!","v":{"$error":"#REF!"}},{"$f":"#REF!","v":{"$error":"#REF!"}},{"$f":"#REF!","v":{"$error":"#REF!"}},{"$f":"#REF!","v":{"$error":"#REF!"}},{"$f":"#REF!","v":{"$error":"#REF!"}},{"$f":"#REF!","v":{"$error":"#REF!"}},{"$f":"#REF!","v":{"$error":"#REF!"}},{"$f":"#REF!","v":{"$error":"#REF!"}},{"$f":"#REF!","v":{"$error":"#REF!"}},{"$f":"#REF!","v":{"$error":"#REF!"}},{"$f":"#REF!","v":{"$error":"#REF!"}},{"$f":"#REF!","v":{"$error":"#REF!"}},{"$f":"#REF!","v":{"$error":"#REF!"}},{"$f":"#REF!","v":{"$error":"#REF!"}},{"$f":"#REF!","v":{"$error":"#REF!"}},{"$f":"#REF!","v":{"$error":"#REF!"}},{"$f":"#REF!","v":{"$error":"#REF!"}},{"$f":"#REF!","v":{"$error":"#REF!"}},{"$error":"#REF!"},{"$f":"'Project Summary'!O126","v":0},{"$error":"#REF!"}]
["ND 29",{"$f":"#REF!","v":{"$error":"#REF!"}},{"$f":"#REF!","v":{"$error":"#REF!"}},{"$f":"#REF!","v":{"$error":"#REF!"}},{"$f":"#REF!","v":{"$error":"#REF!"}},{"$f":"#REF!","v":{"$error":"#REF!"}},{"$f":"#REF!","v":{"$error":"#REF!"}},{"$f":"#REF!","v":{"$error":"#REF!"}},{"$f":"#REF!","v":{"$error":"#REF!"}},{"$f":"#REF!","v":{"$error":"#REF!"}},{"$f":"#REF!","v":{"$error":"#REF!"}},{"$f":"#REF!","v":{"$error":"#REF!"}},{"$f":"#REF!","v":{"$error":"#REF!"}},{"$f":"#REF!","v":{"$error":"#REF!"}},{"$f":"#REF!","v":{"$error":"#REF!"}},{"$f":"#REF!","v":{"$error":"#REF!"}},{"$f":"#REF!","v":{"$error":"#REF!"}},{"$f":"#REF!","v":{"$error":"#REF!"}},{"$f":"#REF!","v":{"$error":"#REF!"}},{"$f":"#REF!","v":{"$error":"#REF!"}},{"$f":"#REF!","v":{"$error":"#REF!"}},{"$f":"#REF!","v":{"$error":"#REF!"}},{"$f":"#REF!","v":{"$error":"#REF!"}},{"$f":"#REF!","v":{"$error":"#REF!"}},{"$f":"#REF!","v":{"$error":"#REF!"}},{"$f":"#REF!","v":{"$error":"#REF!"}},{"$error":"#REF!"},{"$f":"'Project Summary'!O127","v":0},{"$error":"#REF!"}]
["ND 30",{"$f":"#REF!","v":{"$error":"#REF!"}},{"$f":"#REF!","v":{"$error":"#REF!"}},{"$f":"#REF!","v":{"$error":"#REF!"}},{"$f":"#REF!","v":{"$error":"#REF!"}},{"$f":"#REF!","v":{"$error":"#REF!"}},{"$f":"#REF!","v":{"$error":"#REF!"}},{"$f":"#REF!","v":{"$error":"#REF!"}},{"$f":"#REF!","v":{"$error":"#REF!"}},{"$f":"#REF!","v":{"$error":"#REF!"}},{"$f":"#REF!","v":{"$error":"#REF!"}},{"$f":"#REF!","v":{"$error":"#REF!"}},{"$f":"#REF!","v":{"$error":"#REF!"}},{"$f":"#REF!","v":{"$error":"#REF!"}},{"$f":"#REF!","v":{"$error":"#REF!"}},{"$f":"#REF!","v":{"$error":"#REF!"}},{"$f":"#REF!","v":{"$error":"#REF!"}},{"$f":"#REF!","v":{"$error":"#REF!"}},{"$f":"#REF!","v":{"$error":"#REF!"}},{"$f":"#REF!","v":{"$error":"#REF!"}},{"$f":"#REF!","v":{"$error":"#REF!"}},{"$f":"#REF!","v":{"$error":"#REF!"}},{"$f":"#REF!","v":{"$error":"#REF!"}},{"$f":"#REF!","v":{"$error":"#REF!"}},{"$f":"#REF!","v":{"$error":"#REF!"}},{"$f":"#REF!","v":{"$error":"#REF!"}},{"$error":"#REF!"},{"$f":"'Project Summary'!O128","v":0},{"$error":"#REF!"}]
["ND 31",{"$f":"#REF!","v":{"$error":"#REF!"}},{"$f":"#REF!","v":{"$error":"#REF!"}},{"$f":"#REF!","v":{"$error":"#REF!"}},{"$f":"#REF!","v":{"$error":"#REF!"}},{"$f":"#REF!","v":{"$error":"#REF!"}},{"$f":"#REF!","v":{"$error":"#REF!"}},{"$f":"#REF!","v":{"$error":"#REF!"}},{"$f":"#REF!","v":{"$error":"#REF!"}},{"$f":"#REF!","v":{"$error":"#REF!"}},{"$f":"#REF!","v":{"$error":"#REF!"}},{"$f":"#REF!","v":{"$error":"#REF!"}},{"$f":"#REF!","v":{"$error":"#REF!"}},{"$f":"#REF!","v":{"$error":"#REF!"}},{"$f":"#REF!","v":{"$error":"#REF!"}},{"$f":"#REF!","v":{"$error":"#REF!"}},{"$f":"#REF!","v":{"$error":"#REF!"}},{"$f":"#REF!","v":{"$error":"#REF!"}},{"$f":"#REF!","v":{"$error":"#REF!"}},{"$f":"#REF!","v":{"$error":"#REF!"}},{"$f":"#REF!","v":{"$error":"#REF!"}},{"$f":"#REF!","v":{"$error":"#REF!"}},{"$f":"#REF!","v":{"$error":"#REF!"}},{"$f":"#REF!","v":{"$error":"#REF!"}},{"$f":"#REF!","v":{"$error":"#REF!"}},{"$f":"#REF!","v":{"$error":"#REF!"}},{"$error":"#REF!"},{"$f":"'Project Summary'!O129","v":0},{"$error":"#REF!"}]
["ND 32",{"$f":"#REF!","v":{"$error":"#REF!"}},{"$f":"#REF!","v":{"$error":"#REF!"}},{"$f":"#REF!","v":{"$error":"#REF!"}},{"$f":"#REF!","v":{"$error":"#REF!"}},{"$f":"#REF!","v":{"$error":"#REF!"}},{"$f":"#REF!","v":{"$error":"#REF!"}},{"$f":"#REF!","v":{"$error":"#REF!"}},{"$f":"#REF!","v":{"$error":"#REF!"}},{"$f":"#REF!","v":{"$error":"#REF!"}},{"$f":"#REF!","v":{"$error":"#REF!"}},{"$f":"#REF!","v":{"$error":"#REF!"}},{"$f":"#REF!","v":{"$error":"#REF!"}},{"$f":"#REF!","v":{"$error":"#REF!"}},{"$f":"#REF!","v":{"$error":"#REF!"}},{"$f":"#REF!","v":{"$error":"#REF!"}},{"$f":"#REF!","v":{"$error":"#REF!"}},{"$f":"#REF!","v":{"$error":"#REF!"}},{"$f":"#REF!","v":{"$error":"#REF!"}},{"$f":"#REF!","v":{"$error":"#REF!"}},{"$f":"#REF!","v":{"$error":"#REF!"}},{"$f":"#REF!","v":{"$error":"#REF!"}},{"$f":"#REF!","v":{"$error":"#REF!"}},{"$f":"#REF!","v":{"$error":"#REF!"}},{"$f":"#REF!","v":{"$error":"#REF!"}},{"$f":"#REF!","v":{"$error":"#REF!"}},{"$error":"#REF!"},{"$f":"'Project Summary'!O130","v":0},{"$error":"#REF!"}]
["ND 33",{"$f":"#REF!","v":{"$error":"#REF!"}},{"$f":"#REF!","v":{"$error":"#REF!"}},{"$f":"#REF!","v":{"$error":"#REF!"}},{"$f":"#REF!","v":{"$error":"#REF!"}},{"$f":"#REF!","v":{"$error":"#REF!"}},{"$f":"#REF!","v":{"$error":"#REF!"}},{"$f":"#REF!","v":{"$error":"#REF!"}},{"$f":"#REF!","v":{"$error":"#REF!"}},{"$f":"#REF!","v":{"$error":"#REF!"}},{"$f":"#REF!","v":{"$error":"#REF!"}},{"$f":"#REF!","v":{"$error":"#REF!"}},{"$f":"#REF!","v":{"$error":"#REF!"}},{"$f":"#REF!","v":{"$error":"#REF!"}},{"$f":"#REF!","v":{"$error":"#REF!"}},{"$f":"#REF!","v":{"$error":"#REF!"}},{"$f":"#REF!","v":{"$error":"#REF!"}},{"$f":"#REF!","v":{"$error":"#REF!"}},{"$f":"#REF!","v":{"$error":"#REF!"}},{"$f":"#REF!","v":{"$error":"#REF!"}},{"$f":"#REF!","v":{"$error":"#REF!"}},{"$f":"#REF!","v":{"$error":"#REF!"}},{"$f":"#REF!","v":{"$error":"#REF!"}},{"$f":"#REF!","v":{"$error":"#REF!"}},{"$f":"#REF!","v":{"$error":"#REF!"}},{"$f":"#REF!","v":{"$error":"#REF!"}},{"$f":"V35*+PVGRANT","v":{"$error":"#REF!"}},{"$f":"'Project Summary'!O131","v":0},{"$error":"#REF!"}]
["ND 34",{"$f":"#REF!","v":{"$error":"#REF!"}},{"$f":"#REF!","v":{"$error":"#REF!"}},{"$f":"#REF!","v":{"$error":"#REF!"}},{"$f":"#REF!","v":{"$error":"#REF!"}},{"$f":"#REF!","v":{"$error":"#REF!"}},{"$f":"#REF!","v":{"$error":"#REF!"}},{"$f":"#REF!","v":{"$error":"#REF!"}},{"$f":"#REF!","v":{"$error":"#REF!"}},{"$f":"#REF!","v":{"$error":"#REF!"}},{"$f":"#REF!","v":{"$error":"#REF!"}},{"$f":"#REF!","v":{"$error":"#REF!"}},{"$f":"#REF!","v":{"$error":"#REF!"}},{"$f":"#REF!","v":{"$error":"#REF!"}},{"$f":"#REF!","v":{"$error":"#REF!"}},{"$f":"#REF!","v":{"$error":"#REF!"}},{"$f":"#REF!","v":{"$error":"#REF!"}},{"$f":"#REF!","v":{"$error":"#REF!"}},{"$f":"#REF!","v":{"$error":"#REF!"}},{"$f":"#REF!","v":{"$error":"#REF!"}},{"$f":"#REF!","v":{"$error":"#REF!"}},{"$f":"#REF!","v":{"$error":"#REF!"}},{"$f":"#REF!","v":{"$error":"#REF!"}},{"$f":"#REF!","v":{"$error":"#REF!"}},{"$f":"#REF!","v":{"$error":"#REF!"}},{"$f":"#REF!","v":{"$error":"#REF!"}},{"$error":"#REF!"},{"$f":"'Project Summary'!O132","v":0},{"$error":"#REF!"}]
["ND 35",{"$f":"#REF!","v":{"$error":"#REF!"}},{"$f":"#REF!","v":{"$error":"#REF!"}},{"$f":"#REF!","v":{"$error":"#REF!"}},{"$f":"#REF!","v":{"$error":"#REF!"}},{"$f":"#REF!","v":{"$error":"#REF!"}},{"$f":"#REF!","v":{"$error":"#REF!"}},{"$f":"#REF!","v":{"$error":"#REF!"}},{"$f":"#REF!","v":{"$error":"#REF!"}},{"$f":"#REF!","v":{"$error":"#REF!"}},{"$f":"#REF!","v":{"$error":"#REF!"}},{"$f":"#REF!","v":{"$error":"#REF!"}},{"$f":"#REF!","v":{"$error":"#REF!"}},{"$f":"#REF!","v":{"$error":"#REF!"}},{"$f":"#REF!","v":{"$error":"#REF!"}},{"$f":"#REF!","v":{"$error":"#REF!"}},{"$f":"#REF!","v":{"$error":"#REF!"}},{"$f":"#REF!","v":{"$error":"#REF!"}},{"$f":"#REF!","v":{"$error":"#REF!"}},{"$f":"#REF!","v":{"$error":"#REF!"}},{"$f":"#REF!","v":{"$error":"#REF!"}},{"$f":"#REF!","v":{"$error":"#REF!"}},{"$f":"#REF!","v":{"$error":"#REF!"}},{"$f":"#REF!","v":{"$error":"#REF!"}},{"$f":"#REF!","v":{"$error":"#REF!"}},{"$f":"#REF!","v":{"$error":"#REF!"}},{"$error":"#REF!"},{"$f":"'Project Summary'!O133","v":0},{"$error":"#REF!"}]
["ND 36",{"$f":"#REF!","v":{"$error":"#REF!"}},{"$f":"#REF!","v":{"$error":"#REF!"}},{"$f":"#REF!","v":{"$error":"#REF!"}},{"$f":"#REF!","v":{"$error":"#REF!"}},{"$f":"#REF!","v":{"$error":"#REF!"}},{"$f":"#REF!","v":{"$error":"#REF!"}},{"$f":"#REF!","v":{"$error":"#REF!"}},{"$f":"#REF!","v":{"$error":"#REF!"}},{"$f":"#REF!","v":{"$error":"#REF!"}},{"$f":"#REF!","v":{"$error":"#REF!"}},{"$f":"#REF!","v":{"$error":"#REF!"}},{"$f":"#REF!","v":{"$error":"#REF!"}},{"$f":"#REF!","v":{"$error":"#REF!"}},{"$f":"#REF!","v":{"$error":"#REF!"}},{"$f":"#REF!","v":{"$error":"#REF!"}},{"$f":"#REF!","v":{"$error":"#REF!"}},{"$f":"#REF!","v":{"$error":"#REF!"}},{"$f":"#REF!","v":{"$error":"#REF!"}},{"$f":"#REF!","v":{"$error":"#REF!"}},{"$f":"#REF!","v":{"$error":"#REF!"}},{"$f":"#REF!","v":{"$error":"#REF!"}},{"$f":"#REF!","v":{"$error":"#REF!"}},{"$f":"#REF!","v":{"$error":"#REF!"}},{"$f":"#REF!","v":{"$error":"#REF!"}},{"$f":"#REF!","v":{"$error":"#REF!"}},{"$error":"#REF!"},{"$f":"'Project Summary'!O134","v":0},{"$error":"#REF!"}]
["ND 37",{"$f":"#REF!","v":{"$error":"#REF!"}},{"$f":"#REF!","v":{"$error":"#REF!"}},{"$f":"#REF!","v":{"$error":"#REF!"}},{"$f":"#REF!","v":{"$error":"#REF!"}},{"$f":"#REF!","v":{"$error":"#REF!"}},{"$f":"#REF!","v":{"$error":"#REF!"}},{"$f":"#REF!","v":{"$error":"#REF!"}},{"$f":"#REF!","v":{"$error":"#REF!"}},{"$f":"#REF!","v":{"$error":"#REF!"}},{"$f":"#REF!","v":{"$error":"#REF!"}},{"$f":"#REF!","v":{"$error":"#REF!"}},{"$f":"#REF!","v":{"$error":"#REF!"}},{"$f":"#REF!","v":{"$error":"#REF!"}},{"$f":"#REF!","v":{"$error":"#REF!"}},{"$f":"#REF!","v":{"$error":"#REF!"}},{"$f":"#REF!","v":{"$error":"#REF!"}},{"$f":"#REF!","v":{"$error":"#REF!"}},{"$f":"#REF!","v":{"$error":"#REF!"}},{"$f":"#REF!","v":{"$error":"#REF!"}},{"$f":"#REF!","v":{"$error":"#REF!"}},{"$f":"#REF!","v":{"$error":"#REF!"}},{"$f":"#REF!","v":{"$error":"#REF!"}},{"$f":"#REF!","v":{"$error":"#REF!"}},{"$f":"#REF!","v":{"$error":"#REF!"}},{"$f":"#REF!","v":{"$error":"#REF!"}},{"$error":"#REF!"},{"$f":"'Project Summary'!O135","v":0},{"$error":"#REF!"}]
["ND 38",{"$f":"#REF!","v":{"$error":"#REF!"}},{"$f":"#REF!","v":{"$error":"#REF!"}},{"$f":"#REF!","v":{"$error":"#REF!"}},{"$f":"#REF!","v":{"$error":"#REF!"}},{"$f":"#REF!","v":{"$error":"#REF!"}},{"$f":"#REF!","v":{"$error":"#REF!"}},{"$f":"#REF!","v":{"$error":"#REF!"}},{"$f":"#REF!","v":{"$error":"#REF!"}},{"$f":"#REF!","v":{"$error":"#REF!"}},{"$f":"#REF!","v":{"$error":"#REF!"}},{"$f":"#REF!","v":{"$error":"#REF!"}},{"$f":"#REF!","v":{"$error":"#REF!"}},{"$f":"#REF!","v":{"$error":"#REF!"}},{"$f":"#REF!","v":{"$error":"#REF!"}},{"$f":"#REF!","v":{"$error":"#REF!"}},{"$f":"#REF!","v":{"$error":"#REF!"}},{"$f":"#REF!","v":{"$error":"#REF!"}},{"$f":"#REF!","v":{"$error":"#REF!"}},{"$f":"#REF!","v":{"$error":"#REF!"}},{"$f":"#REF!","v":{"$error":"#REF!"}},{"$f":"#REF!","v":{"$error":"#REF!"}},{"$f":"#REF!","v":{"$error":"#REF!"}},{"$f":"#REF!","v":{"$error":"#REF!"}},{"$f":"#REF!","v":{"$error":"#REF!"}},{"$f":"#REF!","v":{"$error":"#REF!"}},{"$error":"#REF!"},{"$f":"'Project Summary'!O136","v":0},{"$error":"#REF!"}]
["ND 39",{"$f":"#REF!","v":{"$error":"#REF!"}},{"$f":"#REF!","v":{"$error":"#REF!"}},{"$f":"#REF!","v":{"$error":"#REF!"}},{"$f":"#REF!","v":{"$error":"#REF!"}},{"$f":"#REF!","v":{"$error":"#REF!"}},{"$f":"#REF!","v":{"$error":"#REF!"}},{"$f":"#REF!","v":{"$error":"#REF!"}},{"$f":"#REF!","v":{"$error":"#REF!"}},{"$f":"#REF!","v":{"$error":"#REF!"}},{"$f":"#REF!","v":{"$error":"#REF!"}},{"$f":"#REF!","v":{"$error":"#REF!"}},{"$f":"#REF!","v":{"$error":"#REF!"}},{"$f":"#REF!","v":{"$error":"#REF!"}},{"$f":"#REF!","v":{"$error":"#REF!"}},{"$f":"#REF!","v":{"$error":"#REF!"}},{"$f":"#REF!","v":{"$error":"#REF!"}},{"$f":"#REF!","v":{"$error":"#REF!"}},{"$f":"#REF!","v":{"$error":"#REF!"}},{"$f":"#REF!","v":{"$error":"#REF!"}},{"$f":"#REF!","v":{"$error":"#REF!"}},{"$f":"#REF!","v":{"$error":"#REF!"}},{"$f":"#REF!","v":{"$error":"#REF!"}},{"$f":"#REF!","v":{"$error":"#REF!"}},{"$f":"#REF!","v":{"$error":"#REF!"}},{"$f":"#REF!","v":{"$error":"#REF!"}},{"$error":"#REF!"},{"$f":"'Project Summary'!O137","v":0},{"$error":"#REF!"}]
["ND 40",{"$f":"#REF!","v":{"$error":"#REF!"}},{"$f":"#REF!","v":{"$error":"#REF!"}},{"$f":"#REF!","v":{"$error":"#REF!"}},{"$f":"#REF!","v":{"$error":"#REF!"}},{"$f":"#REF!","v":{"$error":"#REF!"}},{"$f":"#REF!","v":{"$error":"#REF!"}},{"$f":"#REF!","v":{"$error":"#REF!"}},{"$f":"#REF!","v":{"$error":"#REF!"}},{"$f":"#REF!","v":{"$error":"#REF!"}},{"$f":"#REF!","v":{"$error":"#REF!"}},{"$f":"#REF!","v":{"$error":"#REF!"}},{"$f":"#REF!","v":{"$error":"#REF!"}},{"$f":"#REF!","v":{"$error":"#REF!"}},{"$f":"#REF!","v":{"$error":"#REF!"}},{"$f":"#REF!","v":{"$error":"#REF!"}},{"$f":"#REF!","v":{"$error":"#REF!"}},{"$f":"#REF!","v":{"$error":"#REF!"}},{"$f":"#REF!","v":{"$error":"#REF!"}},{"$f":"#REF!","v":{"$error":"#REF!"}},{"$f":"#REF!","v":{"$error":"#REF!"}},{"$f":"#REF!","v":{"$error":"#REF!"}},{"$f":"#REF!","v":{"$error":"#REF!"}},{"$f":"#REF!","v":{"$error":"#REF!"}},{"$f":"#REF!","v":{"$error":"#REF!"}},{"$f":"#REF!","v":{"$error":"#REF!"}},{"$error":"#REF!"},{"$f":"'Project Summary'!O138","v":0},{"$error":"#REF!"}]
["ND 41",{"$f":"#REF!","v":{"$error":"#REF!"}},{"$f":"#REF!","v":{"$error":"#REF!"}},{"$f":"#REF!","v":{"$error":"#REF!"}},{"$f":"#REF!","v":{"$error":"#REF!"}},{"$f":"#REF!","v":{"$error":"#REF!"}},{"$f":"#REF!","v":{"$error":"#REF!"}},{"$f":"#REF!","v":{"$error":"#REF!"}},{"$f":"#REF!","v":{"$error":"#REF!"}},{"$f":"#REF!","v":{"$error":"#REF!"}},{"$f":"#REF!","v":{"$error":"#REF!"}},{"$f":"#REF!","v":{"$error":"#REF!"}},{"$f":"#REF!","v":{"$error":"#REF!"}},{"$f":"#REF!","v":{"$error":"#REF!"}},{"$f":"#REF!","v":{"$error":"#REF!"}},{"$f":"#REF!","v":{"$error":"#REF!"}},{"$f":"#REF!","v":{"$error":"#REF!"}},{"$f":"#REF!","v":{"$error":"#REF!"}},{"$f":"#REF!","v":{"$error":"#REF!"}},{"$f":"#REF!","v":{"$error":"#REF!"}},{"$f":"#REF!","v":{"$error":"#REF!"}},{"$f":"#REF!","v":{"$error":"#REF!"}},{"$f":"#REF!","v":{"$error":"#REF!"}},{"$f":"#REF!","v":{"$error":"#REF!"}},{"$f":"#REF!","v":{"$error":"#REF!"}},{"$f":"#REF!","v":{"$error":"#REF!"}},{"$error":"#REF!"},{"$f":"'Project Summary'!O139","v":0},{"$error":"#REF!"}]
["ND 42",{"$f":"#REF!","v":{"$error":"#REF!"}},{"$f":"#REF!","v":{"$error":"#REF!"}},{"$f":"#REF!","v":{"$error":"#REF!"}},{"$f":"#REF!","v":{"$error":"#REF!"}},{"$f":"#REF!","v":{"$error":"#REF!"}},{"$f":"#REF!","v":{"$error":"#REF!"}},{"$f":"#REF!","v":{"$error":"#REF!"}},{"$f":"#REF!","v":{"$error":"#REF!"}},{"$f":"#REF!","v":{"$error":"#REF!"}},{"$f":"#REF!","v":{"$error":"#REF!"}},{"$f":"#REF!","v":{"$error":"#REF!"}},{"$f":"#REF!","v":{"$error":"#REF!"}},{"$f":"#REF!","v":{"$error":"#REF!"}},{"$f":"#REF!","v":{"$error":"#REF!"}},{"$f":"#REF!","v":{"$error":"#REF!"}},{"$f":"#REF!","v":{"$error":"#REF!"}},{"$f":"#REF!","v":{"$error":"#REF!"}},{"$f":"#REF!","v":{"$error":"#REF!"}},{"$f":"#REF!","v":{"$error":"#REF!"}},{"$f":"#REF!","v":{"$error":"#REF!"}},{"$f":"#REF!","v":{"$error":"#REF!"}},{"$f":"#REF!","v":{"$error":"#REF!"}},{"$f":"#REF!","v":{"$error":"#REF!"}},{"$f":"#REF!","v":{"$error":"#REF!"}},{"$f":"#REF!","v":{"$error":"#REF!"}},{"$error":"#REF!"},{"$f":"'Project Summary'!O140","v":0},{"$error":"#REF!"}]
["ND 43",{"$f":"#REF!","v":{"$error":"#REF!"}},{"$f":"#REF!","v":{"$error":"#REF!"}},{"$f":"#REF!","v":{"$error":"#REF!"}},{"$f":"#REF!","v":{"$error":"#REF!"}},{"$f":"#REF!","v":{"$error":"#REF!"}},{"$f":"#REF!","v":{"$error":"#REF!"}},{"$f":"#REF!","v":{"$error":"#REF!"}},{"$f":"#REF!","v":{"$error":"#REF!"}},{"$f":"#REF!","v":{"$error":"#REF!"}},{"$f":"#REF!","v":{"$error":"#REF!"}},{"$f":"#REF!","v":{"$error":"#REF!"}},{"$f":"#REF!","v":{"$error":"#REF!"}},{"$f":"#REF!","v":{"$error":"#REF!"}},{"$f":"#REF!","v":{"$error":"#REF!"}},{"$f":"#REF!","v":{"$error":"#REF!"}},{"$f":"#REF!","v":{"$error":"#REF!"}},{"$f":"#REF!","v":{"$error":"#REF!"}},{"$f":"#REF!","v":{"$error":"#REF!"}},{"$f":"#REF!","v":{"$error":"#REF!"}},{"$f":"#REF!","v":{"$error":"#REF!"}},{"$f":"#REF!","v":{"$error":"#REF!"}},{"$f":"#REF!","v":{"$error":"#REF!"}},{"$f":"#REF!","v":{"$error":"#REF!"}},{"$f":"#REF!","v":{"$error":"#REF!"}},{"$f":"#REF!","v":{"$error":"#REF!"}},{"$error":"#REF!"},{"$f":"'Project Summary'!O141","v":0},{"$error":"#REF!"}]
["ND 44",{"$f":"#REF!","v":{"$error":"#REF!"}},{"$f":"#REF!","v":{"$error":"#REF!"}},{"$f":"#REF!","v":{"$error":"#REF!"}},{"$f":"#REF!","v":{"$error":"#REF!"}},{"$f":"#REF!","v":{"$error":"#REF!"}},{"$f":"#REF!","v":{"$error":"#REF!"}},{"$f":"#REF!","v":{"$error":"#REF!"}},{"$f":"#REF!","v":{"$error":"#REF!"}},{"$f":"#REF!","v":{"$error":"#REF!"}},{"$f":"#REF!","v":{"$error":"#REF!"}},{"$f":"#REF!","v":{"$error":"#REF!"}},{"$f":"#REF!","v":{"$error":"#REF!"}},{"$f":"#REF!","v":{"$error":"#REF!"}},{"$f":"#REF!","v":{"$error":"#REF!"}},{"$f":"#REF!","v":{"$error":"#REF!"}},{"$f":"#REF!","v":{"$error":"#REF!"}},{"$f":"#REF!","v":{"$error":"#REF!"}},{"$f":"#REF!","v":{"$error":"#REF!"}},{"$f":"#REF!","v":{"$error":"#REF!"}},{"$f":"#REF!","v":{"$error":"#REF!"}},{"$f":"#REF!","v":{"$error":"#REF!"}},{"$f":"#REF!","v":{"$error":"#REF!"}},{"$f":"#REF!","v":{"$error":"#REF!"}},{"$f":"#REF!","v":{"$error":"#REF!"}},{"$f":"#REF!","v":{"$error":"#REF!"}},{"$error":"#REF!"},{"$f":"'Project Summary'!O142","v":0},{"$error":"#REF!"}]
["ND 45",{"$f":"#REF!","v":{"$error":"#REF!"}},{"$f":"#REF!","v":{"$error":"#REF!"}},{"$f":"#REF!","v":{"$error":"#REF!"}},{"$f":"#REF!","v":{"$error":"#REF!"}},{"$f":"#REF!","v":{"$error":"#REF!"}},{"$f":"#REF!","v":{"$error":"#REF!"}},{"$f":"#REF!","v":{"$error":"#REF!"}},{"$f":"#REF!","v":{"$error":"#REF!"}},{"$f":"#REF!","v":{"$error":"#REF!"}},{"$f":"#REF!","v":{"$error":"#REF!"}},{"$f":"#REF!","v":{"$error":"#REF!"}},{"$f":"#REF!","v":{"$error":"#REF!"}},{"$f":"#REF!","v":{"$error":"#REF!"}},{"$f":"#REF!","v":{"$error":"#REF!"}},{"$f":"#REF!","v":{"$error":"#REF!"}},{"$f":"#REF!","v":{"$error":"#REF!"}},{"$f":"#REF!","v":{"$error":"#REF!"}},{"$f":"#REF!","v":{"$error":"#REF!"}},{"$f":"#REF!","v":{"$error":"#REF!"}},{"$f":"#REF!","v":{"$error":"#REF!"}},{"$f":"#REF!","v":{"$error":"#REF!"}},{"$f":"#REF!","v":{"$error":"#REF!"}},{"$f":"#REF!","v":{"$error":"#REF!"}},{"$f":"#REF!","v":{"$error":"#REF!"}},{"$f":"#REF!","v":{"$error":"#REF!"}},{"$error":"#REF!"},{"$f":"'Project Summary'!O143","v":0},{"$error":"#REF!"}]
["ND 46",{"$f":"#REF!","v":{"$error":"#REF!"}},{"$f":"#REF!","v":{"$error":"#REF!"}},{"$f":"#REF!","v":{"$error":"#REF!"}},{"$f":"#REF!","v":{"$error":"#REF!"}},{"$f":"#REF!","v":{"$error":"#REF!"}},{"$f":"#REF!","v":{"$error":"#REF!"}},{"$f":"#REF!","v":{"$error":"#REF!"}},{"$f":"#REF!","v":{"$error":"#REF!"}},{"$f":"#REF!","v":{"$error":"#REF!"}},{"$f":"#REF!","v":{"$error":"#REF!"}},{"$f":"#REF!","v":{"$error":"#REF!"}},{"$f":"#REF!","v":{"$error":"#REF!"}},{"$f":"#REF!","v":{"$error":"#REF!"}},{"$f":"#REF!","v":{"$error":"#REF!"}},{"$f":"#REF!","v":{"$error":"#REF!"}},{"$f":"#REF!","v":{"$error":"#REF!"}},{"$f":"#REF!","v":{"$error":"#REF!"}},{"$f":"#REF!","v":{"$error":"#REF!"}},{"$f":"#REF!","v":{"$error":"#REF!"}},{"$f":"#REF!","v":{"$error":"#REF!"}},{"$f":"#REF!","v":{"$error":"#REF!"}},{"$f":"#REF!","v":{"$error":"#REF!"}},{"$f":"#REF!","v":{"$error":"#REF!"}},{"$f":"#REF!","v":{"$error":"#REF!"}},{"$f":"#REF!","v":{"$error":"#REF!"}},{"$error":"#REF!"},{"$f":"'Project Summary'!O144","v":0},{"$error":"#REF!"}]
["ND 47",{"$f":"#REF!","v":{"$error":"#REF!"}},{"$f":"#REF!","v":{"$error":"#REF!"}},{"$f":"#REF!","v":{"$error":"#REF!"}},{"$f":"#REF!","v":{"$error":"#REF!"}},{"$f":"#REF!","v":{"$error":"#REF!"}},{"$f":"#REF!","v":{"$error":"#REF!"}},{"$f":"#REF!","v":{"$error":"#REF!"}},{"$f":"#REF!","v":{"$error":"#REF!"}},{"$f":"#REF!","v":{"$error":"#REF!"}},{"$f":"#REF!","v":{"$error":"#REF!"}},{"$f":"#REF!","v":{"$error":"#REF!"}},{"$f":"#REF!","v":{"$error":"#REF!"}},{"$f":"#REF!","v":{"$error":"#REF!"}},{"$f":"#REF!","v":{"$error":"#REF!"}},{"$f":"#REF!","v":{"$error":"#REF!"}},{"$f":"#REF!","v":{"$error":"#REF!"}},{"$f":"#REF!","v":{"$error":"#REF!"}},{"$f":"#REF!","v":{"$error":"#REF!"}},{"$f":"#REF!","v":{"$error":"#REF!"}},{"$f":"#REF!","v":{"$error":"#REF!"}},{"$f":"#REF!","v":{"$error":"#REF!"}},{"$f":"#REF!","v":{"$error":"#REF!"}},{"$f":"#REF!","v":{"$error":"#REF!"}},{"$f":"#REF!","v":{"$error":"#REF!"}},{"$f":"#REF!","v":{"$error":"#REF!"}},{"$error":"#REF!"},{"$f":"'Project Summary'!O145","v":0},{"$error":"#REF!"}]
["ND 48",{"$f":"#REF!","v":{"$error":"#REF!"}},{"$f":"#REF!","v":{"$error":"#REF!"}},{"$f":"#REF!","v":{"$error":"#REF!"}},{"$f":"#REF!","v":{"$error":"#REF!"}},{"$f":"#REF!","v":{"$error":"#REF!"}},{"$f":"#REF!","v":{"$error":"#REF!"}},{"$f":"#REF!","v":{"$error":"#REF!"}},{"$f":"#REF!","v":{"$error":"#REF!"}},{"$f":"#REF!","v":{"$error":"#REF!"}},{"$f":"#REF!","v":{"$error":"#REF!"}},{"$f":"#REF!","v":{"$error":"#REF!"}},{"$f":"#REF!","v":{"$error":"#REF!"}},{"$f":"#REF!","v":{"$error":"#REF!"}},{"$f":"#REF!","v":{"$error":"#REF!"}},{"$f":"#REF!","v":{"$error":"#REF!"}},{"$f":"#REF!","v":{"$error":"#REF!"}},{"$f":"#REF!","v":{"$error":"#REF!"}},{"$f":"#REF!","v":{"$error":"#REF!"}},{"$f":"#REF!","v":{"$error":"#REF!"}},{"$f":"#REF!","v":{"$error":"#REF!"}},{"$f":"#REF!","v":{"$error":"#REF!"}},{"$f":"#REF!","v":{"$error":"#REF!"}},{"$f":"#REF!","v":{"$error":"#REF!"}},{"$f":"#REF!","v":{"$error":"#REF!"}},{"$f":"#REF!","v":{"$error":"#REF!"}},{"$error":"#REF!"},{"$f":"'Project Summary'!O146","v":0},{"$error":"#REF!"}]
["ND 49",{"$f":"#REF!","v":{"$error":"#REF!"}},{"$f":"#REF!","v":{"$error":"#REF!"}},{"$f":"#REF!","v":{"$error":"#REF!"}},{"$f":"#REF!","v":{"$error":"#REF!"}},{"$f":"#REF!","v":{"$error":"#REF!"}},{"$f":"#REF!","v":{"$error":"#REF!"}},{"$f":"#REF!","v":{"$error":"#REF!"}},{"$f":"#REF!","v":{"$error":"#REF!"}},{"$f":"#REF!","v":{"$error":"#REF!"}},{"$f":"#REF!","v":{"$error":"#REF!"}},{"$f":"#REF!","v":{"$error":"#REF!"}},{"$f":"#REF!","v":{"$error":"#REF!"}},{"$f":"#REF!","v":{"$error":"#REF!"}},{"$f":"#REF!","v":{"$error":"#REF!"}},{"$f":"#REF!","v":{"$error":"#REF!"}},{"$f":"#REF!","v":{"$error":"#REF!"}},{"$f":"#REF!","v":{"$error":"#REF!"}},{"$f":"#REF!","v":{"$error":"#REF!"}},{"$f":"#REF!","v":{"$error":"#REF!"}},{"$f":"#REF!","v":{"$error":"#REF!"}},{"$f":"#REF!","v":{"$error":"#REF!"}},{"$f":"#REF!","v":{"$error":"#REF!"}},{"$f":"#REF!","v":{"$error":"#REF!"}},{"$f":"#REF!","v":{"$error":"#REF!"}},{"$f":"#REF!","v":{"$error":"#REF!"}},{"$error":"#REF!"},{"$f":"'Project Summary'!O147","v":0},{"$error":"#REF!"}]
["ND 50",{"$f":"#REF!","v":{"$error":"#REF!"}},{"$f":"#REF!","v":{"$error":"#REF!"}},{"$f":"#REF!","v":{"$error":"#REF!"}},{"$f":"#REF!","v":{"$error":"#REF!"}},{"$f":"#REF!","v":{"$error":"#REF!"}},{"$f":"#REF!","v":{"$error":"#REF!"}},{"$f":"#REF!","v":{"$error":"#REF!"}},{"$f":"#REF!","v":{"$error":"#REF!"}},{"$f":"#REF!","v":{"$error":"#REF!"}},{"$f":"#REF!","v":{"$error":"#REF!"}},{"$f":"#REF!","v":{"$error":"#REF!"}},{"$f":"#REF!","v":{"$error":"#REF!"}},{"$f":"#REF!","v":{"$error":"#REF!"}},{"$f":"#REF!","v":{"$error":"#REF!"}},{"$f":"#REF!","v":{"$error":"#REF!"}},{"$f":"#REF!","v":{"$error":"#REF!"}},{"$f":"#REF!","v":{"$error":"#REF!"}},{"$f":"#REF!","v":{"$error":"#REF!"}},{"$f":"#REF!","v":{"$error":"#REF!"}},{"$f":"#REF!","v":{"$error":"#REF!"}},{"$f":"#REF!","v":{"$error":"#REF!"}},{"$f":"#REF!","v":{"$error":"#REF!"}},{"$f":"#REF!","v":{"$error":"#REF!"}},{"$f":"#REF!","v":{"$error":"#REF!"}},{"$f":"#REF!","v":{"$error":"#REF!"}},{"$error":"#REF!"},{"$f":"'Project Summary'!O148","v":0},{"$error":"#REF!"}]

{"sheet":"Lookups","index":4,"n_rows":35,"n_cols":5,"rows_kept":35,"cut":false,"hidden":true,"merged":[]}
["Construction Vat","PM Vat","Other Vat",null,"Project Category"]
[0,0,0,null,"Other Community buildings & services"]
[0.13500000000000001,0.23,0.13500000000000001,null,"Educational / Library / Cultural"]
[0.23,null,0.23,null,"Public Sector Buildings & Services"]
[null,null,null,null,"Sports & Leisure Centres"]
[null,null,null,null,"Private Sector Buildings"]
[null,null,null,null,"Dwelling Description"]
[null,null,null,null,"Private: Energy Poor"]
[null,null,null,null,"Private: Non - Energy Poor Homes"]
[null,null,null,null,"Local Auth: Energy Poor"]
[null,null,null,null,"Local Auth: Non - Energy Poor Homes"]
[]
[]
[null,null,null,null,"Project Category"]
[null,null,null,null,"Ground Floor Apartment"]
[null,null,null,null,"Mid Floor Apartment"]
[null,null,null,null,"Top Floor Apartment"]
[null,null,null,null,"End of Terrace House"]
[null,null,null,null,"Mid Terrace House"]
[null,null,null,null,"Semi Detached House"]
[null,null,null,null,"Detached House"]
[null,null,null,null,"Maisonette"]
[null,null,null,null,"Basement Apartment"]
[]
[null,null,null,null,"Year of Construction"]
[null,null,null,null,"2005 onwards"]
[null,null,null,null,"2000-2004"]
[null,null,null,null,"1994-1999"]
[null,null,null,null,"1983-1993"]
[null,null,null,null,"1978-1982"]
[null,null,null,null,"1967-1977"]
[null,null,null,null,"1950-1966"]
[null,null,null,null,"1930-1949"]
[null,null,null,null,"1900-1929"]
[null,null,null,null,"Pre 1900"]

{"sheet":"Evaluation","index":5,"n_rows":31,"n_cols":8,"rows_kept":31,"cut":false,"hidden":true,"merged":[[10,1,10,5],[18,2,18,3],[30,1,30,5],[0,0,1,5],[2,1,2,6],[4,1,4,6],[5,1,5,6],[8,1,8,6],[9,1,9,5]]}
["Better Energy Communities Programme 2022 - Evaluation"]
[]
["Project Summary (e.g. partners, buildings, key measures, innovation, delivery, etc. ",{"$f":"'Project Summary'!C3","v":21}]
[]
["Lead Applicant Company Name ",{"$f":"'Project Summary'!C5","v":" "}]
["Public/Private/Voluntary/Commercial ",{"$f":"'Project Summary'!C6","v":0}]
["Number of Partners (Including Lead Applicant)",{"$f":"'Project Summary'!C7","v":" "}]
[]
["Summary of Project Team & Management ",{"$f":"'Project Summary'!C14","v":" "}]
["Project Co-ord Time commitment ",{"$f":"'Project Summary'!C15","v":" "}]
["Project Co-ordinator has adequate experience ",{"$f":"'Project Summary'!C16","v":" "}]
[]
[null,"Electrical","Thermal","Fleet","Renewables","Total"]
["Aggregate Annual Energy Savings (kWh)",{"$f":"'Project Summary'!D228","v":0},{"$f":"'Project Summary'!E228","v":0},{"$f":"'Project Summary'!F228","v":0},{"$f":"'Project Summary'!G228","v":0},{"$f":"SUM(B14:E14)","v":0},null," "]
["Primary Energy Factor",1,1,1,1,null,"Does Energy Credits match Energy Saving"]
["Aggregate Annual Energy Savings (kWh)",{"$f":"B14*B15","v":0},{"$f":"C14*C15","v":0},{"$f":"D14*D15","v":0},{"$f":"E14*E15","v":0},{"$f":"SUM(B16:E16)","v":0},{"$f":"IF(F16='Project Summary'!N228,\"Yes\",\"No\")","v":"Yes"}]
["Aggregate Annual Energy Savings (€)",{"$f":"SUM('Project Summary'!J228:M228)","v":0}]
["Aggregate Annual Energy Savings (%) ",{"$f":"('Project Summary'!N228/('Project Summary'!D76*1+'Project Summary'!E76+'Project Summary'!F76))","v":{"$error":"#REF!"}}]
["Total Project Cost (€)",{"$f":"'Project Summary'!L253","v":0}]
["Total Grant Request (€)",{"$f":"'Project Summary'!L255","v":{"$error":"#DIV/0!"}}]
["% Grant Request ",{"$f":"B20/B19","v":{"$error":"#DIV/0!"}}]
["Euro Cents/kWh (Total Project) (=Total Project Cost (€)/Aggregate Annual Energy Savings (kWh))",{"$f":"'Project Summary'!O228","v":0}]
["Euro Cents/kWh (Grant Request) (=Total Grant Request (€)/Aggregate Annual Energy Savings (kWh))",{"$f":"(B19-B20)*B22/B19","v":{"$error":"#DIV/0!"}}]
["Payback (Years) without Grant (Cost/Savings)",{"$f":"'Project Summary'!I228","v":0}]
["Payback (Years) with Grant (Cost/Savings)",{"$f":"(B19-B20)*B24/B19","v":{"$error":"#DIV/0!"}}]
[]
["Completion Date ",{"$f":"'Project Summary'!C17","v":"00:00:00"}]
["Tax Clearance Certificate (Yes/No)"]
[]
["Application Complete (Yes/No)"]
["If not, what is missing"]

{"sheet":"Carbon Cap","index":6,"n_rows":159,"n_cols":7,"rows_kept":159,"cut":false,"hidden":true,"merged":[]}
[null,"Site","Location","Total Eligble costs ","Eligble VAT ","SEAI Funding ","Carbon Savings "]
["ND1",{"$f":"'Site Inspection'!$B$6","v":{"$error":"#REF!"}},{"$f":"'Site Inspection'!$C$6","v":{"$error":"#REF!"}},{"$f":"'Project Summary'!S99","v":0},{"$f":"'Project Summary'!T99","v":0},{"$f":"'Project Summary'!#REF!","v":{"$error":"#REF!"}},{"$f":"'Project Summary'!H175","v":{"$error":"#REF!"}}]
["ND2",{"$f":"'Site Inspection'!$B$14","v":{"$error":"#REF!"}},{"$f":"'Site Inspection'!$C$14","v":{"$error":"#REF!"}},{"$f":"'Project Summary'!S100","v":0},{"$f":"'Project Summary'!T100","v":0},{"$f":"'Project Summary'!U99","v":0},{"$f":"'Project Summary'!H176","v":{"$error":"#REF!"}}]
["ND3",{"$f":"'Site Inspection'!$B$22","v":{"$error":"#REF!"}},{"$f":"'Site Inspection'!$C$22","v":{"$error":"#REF!"}},{"$f":"'Project Summary'!S101","v":0},{"$f":"'Project Summary'!T101","v":0},{"$f":"'Project Summary'!#REF!","v":{"$error":"#REF!"}},{"$f":"'Project Summary'!H177","v":{"$error":"#REF!"}}]
["ND4",{"$f":"'Site Inspection'!$B$30","v":{"$error":"#REF!"}},{"$f":"'Site Inspection'!$C$30","v":{"$error":"#REF!"}},{"$f":"'Project Summary'!S102","v":0},{"$f":"'Project Summary'!T102","v":0},{"$f":"'Project Summary'!U102","v":0},{"$f":"'Project Summary'!H178","v":{"$error":"#REF!"}}]
["ND5",{"$f":"'Site Inspection'!$B$38","v":{"$error":"#REF!"}},{"$f":"'Site Inspection'!$C$38","v":{"$error":"#REF!"}},{"$f":"'Project Summary'!S103","v":0},{"$f":"'Project Summary'!T103","v":0},{"$f":"'Project Summary'!U103","v":0},{"$f":"'Project Summary'!H179","v":{"$error":"#REF!"}}]
["ND6",{"$f":"'Site Inspection'!$B$46","v":{"$error":"#REF!"}},{"$f":"'Site Inspection'!$C$46","v":{"$error":"#REF!"}},{"$f":"'Project Summary'!S104","v":0},{"$f":"'Project Summary'!T104","v":0},{"$f":"'Project Summary'!U104","v":0},{"$f":"'Project Summary'!H180","v":{"$error":"#REF!"}}]
["ND7",{"$f":"'Site Inspection'!$B$54","v":{"$error":"#REF!"}},{"$f":"'Site Inspection'!$C$54","v":{"$error":"#REF!"}},{"$f":"'Project Summary'!S105","v":0},{"$f":"'Project Summary'!T105","v":0},{"$f":"'Project Summary'!U105","v":0},{"$f":"'Project Summary'!H181","v":{"$error":"#REF!"}}]
["ND8",{"$f":"'Site Inspection'!$B$62","v":{"$error":"#REF!"}},{"$f":"'Site Inspection'!$C$62","v":{"$error":"#REF!"}},{"$f":"'Project Summary'!S106","v":0},{"$f":"'Project Summary'!T106","v":0},{"$f":"'Project Summary'!U106","v":0},{"$f":"'Project Summary'!H182","v":{"$error":"#REF!"}}]
["ND9",{"$f":"'Site Inspection'!$B$70","v":{"$error":"#REF!"}},{"$f":"'Site Inspection'!$C$70","v":{"$error":"#REF!"}},{"$f":"'Project Summary'!S107","v":0},{"$f":"'Project Summary'!T107","v":0},{"$f":"'Project Summary'!U107","v":0},{"$f":"'Project Summary'!H183","v":{"$error":"#REF!"}}]
["ND10",{"$f":"'Site Inspection'!$B$78","v":{"$error":"#REF!"}},{"$f":"'Site Inspection'!$C$78","v":{"$error":"#REF!"}},{"$f":"'Project Summary'!S108","v":0},{"$f":"'Project Summary'!T108","v":0},{"$f":"'Project Summary'!U108","v":0},{"$f":"'Project Summary'!H184","v":{"$error":"#REF!"}}]
["ND11",{"$f":"'Site Inspection'!$B$86","v":{"$error":"#REF!"}},{"$f":"'Site Inspection'!$C$86","v":{"$error":"#REF!"}},{"$f":"'Project Summary'!S109","v":0},{"$f":"'Project Summary'!T109","v":0},{"$f":"'Project Summary'!U109","v":0},{"$f":"'Project Summary'!H185","v":{"$error":"#REF!"}}]
["ND12",{"$f":"'Site Inspection'!$B$94","v":{"$error":"#REF!"}},{"$f":"'Site Inspection'!$C$94","v":{"$error":"#REF!"}},{"$f":"'Project Summary'!S110","v":0},{"$f":"'Project Summary'!T110","v":0},{"$f":"'Project Summary'!U110","v":0},{"$f":"'Project Summary'!H186","v":{"$error":"#REF!"}}]
["ND13",{"$f":"'Site Inspection'!$B$102","v":{"$error":"#REF!"}},{"$f":"'Site Inspection'!$C$102","v":{"$error":"#REF!"}},{"$f":"'Project Summary'!S111","v":0},{"$f":"'Project Summary'!T111","v":0},{"$f":"'Project Summary'!U111","v":0},{"$f":"'Project Summary'!H187","v":{"$error":"#REF!"}}]
["ND14",{"$f":"'Site Inspection'!$B$110","v":{"$error":"#REF!"}},{"$f":"'Site Inspection'!$C$110","v":{"$error":"#REF!"}},{"$f":"'Project Summary'!S112","v":0},{"$f":"'Project Summary'!T112","v":0},{"$f":"'Project Summary'!U112","v":0},{"$f":"'Project Summary'!H188","v":{"$error":"#REF!"}}]
["ND15",{"$f":"'Site Inspection'!$B$118","v":{"$error":"#REF!"}},{"$f":"'Site Inspection'!$C$118","v":{"$error":"#REF!"}},{"$f":"'Project Summary'!S113","v":0},{"$f":"'Project Summary'!T113","v":0},{"$f":"'Project Summary'!U113","v":0},{"$f":"'Project Summary'!H189","v":{"$error":"#REF!"}}]
["ND16",{"$f":"'Site Inspection'!$B$126","v":{"$error":"#REF!"}},{"$f":"'Site Inspection'!$C$126","v":{"$error":"#REF!"}},{"$f":"'Project Summary'!S114","v":0},{"$f":"'Project Summary'!T114","v":0},{"$f":"'Project Summary'!U114","v":0},{"$f":"'Project Summary'!H190","v":{"$error":"#REF!"}}]
["ND17",{"$f":"'Site Inspection'!$B$134","v":{"$error":"#REF!"}},{"$f":"'Site Inspection'!$C$134","v":{"$error":"#REF!"}},{"$f":"'Project Summary'!S115","v":0},{"$f":"'Project Summary'!T115","v":0},{"$f":"'Project Summary'!U115","v":0},{"$f":"'Project Summary'!H191","v":{"$error":"#REF!"}}]
["ND18",{"$f":"'Site Inspection'!$B$142","v":{"$error":"#REF!"}},{"$f":"'Site Inspection'!$C$142","v":{"$error":"#REF!"}},{"$f":"'Project Summary'!S116","v":0},{"$f":"'Project Summary'!T116","v":0},{"$f":"'Project Summary'!U116","v":0},{"$f":"'Project Summary'!H192","v":{"$error":"#REF!"}}]
["ND19",{"$f":"'Site Inspection'!$B$150","v":{"$error":"#REF!"}},{"$f":"'Site Inspection'!$C$150","v":{"$error":"#REF!"}},{"$f":"'Project Summary'!S117","v":0},{"$f":"'Project Summary'!T117","v":0},{"$f":"'Project Summary'!U117","v":0},{"$f":"'Project Summary'!H193","v":{"$error":"#REF!"}}]
["ND20",{"$f":"'Site Inspection'!$B$158","v":{"$error":"#REF!"}},{"$f":"'Site Inspection'!$C$158","v":{"$error":"#REF!"}},{"$f":"'Project Summary'!S118","v":0},{"$f":"'Project Summary'!T118","v":0},{"$f":"'Project Summary'!U118","v":0},{"$f":"'Project Summary'!H194","v":{"$error":"#REF!"}}]
["ND21",{"$f":"'Site Inspection'!$B$166","v":{"$error":"#REF!"}},{"$f":"'Site Inspection'!$C$166","v":{"$error":"#REF!"}},{"$f":"'Project Summary'!S119","v":0},{"$f":"'Project Summary'!T119","v":0},{"$f":"'Project Summary'!U119","v":0},{"$f":"'Project Summary'!H195","v":{"$error":"#REF!"}}]
["ND22",{"$f":"'Site Inspection'!$B$174","v":{"$error":"#REF!"}},{"$f":"'Site Inspection'!$C$174","v":{"$error":"#REF!"}},{"$f":"'Project Summary'!S120","v":0},{"$f":"'Project Summary'!T120","v":0},{"$f":"'Project Summary'!U120","v":0},{"$f":"'Project Summary'!H196","v":{"$error":"#REF!"}}]
["ND23",{"$f":"'Site Inspection'!$B$182","v":{"$error":"#REF!"}},{"$f":"'Site Inspection'!$C$182","v":{"$error":"#REF!"}},{"$f":"'Project Summary'!S121","v":0},{"$f":"'Project Summary'!T121","v":0},{"$f":"'Project Summary'!U121","v":0},{"$f":"'Project Summary'!H197","v":{"$error":"#REF!"}}]
["ND24",{"$f":"'Site Inspection'!$B$190","v":{"$error":"#REF!"}},{"$f":"'Site Inspection'!$C$190","v":{"$error":"#REF!"}},{"$f":"'Project Summary'!S122","v":0},{"$f":"'Project Summary'!T122","v":0},{"$f":"'Project Summary'!U122","v":0},{"$f":"'Project Summary'!H198","v":{"$error":"#REF!"}}]
["ND25",{"$f":"'Site Inspection'!$B$198","v":{"$error":"#REF!"}},{"$f":"'Site Inspection'!$C$198","v":{"$error":"#REF!"}},{"$f":"'Project Summary'!S123","v":0},{"$f":"'Project Summary'!T123","v":0},{"$f":"'Project Summary'!U123","v":0},{"$f":"'Project Summary'!H199","v":{"$error":"#REF!"}}]
["ND26",{"$f":"'Site Inspection'!$B$206","v":{"$error":"#REF!"}},{"$f":"'Site Inspection'!$C$206","v":{"$error":"#REF!"}},{"$f":"'Project Summary'!S124","v":0},{"$f":"'Project Summary'!T124","v":0},{"$f":"'Project Summary'!U124","v":0},{"$f":"'Project Summary'!H200","v":{"$error":"#REF!"}}]
["ND27",{"$f":"'Site Inspection'!$B$214","v":{"$error":"#REF!"}},{"$f":"'Site Inspection'!$C$214","v":{"$error":"#REF!"}},{"$f":"'Project Summary'!S125","v":0},{"$f":"'Project Summary'!T125","v":0},{"$f":"'Project Summary'!U125","v":0},{"$f":"'Project Summary'!H201","v":{"$error":"#REF!"}}]
["ND28",{"$f":"'Site Inspection'!$B$222","v":{"$error":"#REF!"}},{"$f":"'Site Inspection'!$C$222","v":{"$error":"#REF!"}},{"$f":"'Project Summary'!S126","v":0},{"$f":"'Project Summary'!T126","v":0},{"$f":"'Project Summary'!U126","v":0},{"$f":"'Project Summary'!H202","v":{"$error":"#REF!"}}]
["ND29",{"$f":"'Site Inspection'!$B$230","v":{"$error":"#REF!"}},{"$f":"'Site Inspection'!$C$230","v":{"$error":"#REF!"}},{"$f":"'Project Summary'!S127","v":0},{"$f":"'Project Summary'!T127","v":0},{"$f":"'Project Summary'!U127","v":0},{"$f":"'Project Summary'!H203","v":{"$error":"#REF!"}}]
["ND30",{"$f":"'Site Inspection'!$B$238","v":{"$error":"#REF!"}},{"$f":"'Site Inspection'!$C$238","v":{"$error":"#REF!"}},{"$f":"'Project Summary'!S128","v":0},{"$f":"'Project Summary'!T128","v":0},{"$f":"'Project Summary'!U128","v":0},{"$f":"'Project Summary'!H204","v":{"$error":"#REF!"}}]
["ND31",{"$f":"'Site Inspection'!$B$246","v":{"$error":"#REF!"}},{"$f":"'Site Inspection'!$C$246","v":{"$error":"#REF!"}},{"$f":"'Project Summary'!S129","v":0},{"$f":"'Project Summary'!T129","v":0},{"$f":"'Project Summary'!U129","v":0},{"$f":"'Project Summary'!H205","v":{"$error":"#REF!"}}]
["ND32",{"$f":"'Site Inspection'!$B$254","v":{"$error":"#REF!"}},{"$f":"'Site Inspection'!$C$254","v":{"$error":"#REF!"}},{"$f":"'Project Summary'!S130","v":0},{"$f":"'Project Summary'!T130","v":0},{"$f":"'Project Summary'!U130","v":0},{"$f":"'Project Summary'!H206","v":{"$error":"#REF!"}}]
["ND33",{"$f":"'Site Inspection'!$B$262","v":{"$error":"#REF!"}},{"$f":"'Site Inspection'!$C$262","v":{"$error":"#REF!"}},{"$f":"'Project Summary'!S131","v":0},{"$f":"'Project Summary'!T131","v":0},{"$f":"'Project Summary'!U131","v":0},{"$f":"'Project Summary'!H207","v":{"$error":"#REF!"}}]
["ND34",{"$f":"'Site Inspection'!$B$270","v":{"$error":"#REF!"}},{"$f":"'Site Inspection'!$C$270","v":{"$error":"#REF!"}},{"$f":"'Project Summary'!S132","v":0},{"$f":"'Project Summary'!T132","v":0},{"$f":"'Project Summary'!U132","v":0},{"$f":"'Project Summary'!H208","v":{"$error":"#REF!"}}]
["ND35",{"$f":"'Site Inspection'!$B$278","v":{"$error":"#REF!"}},{"$f":"'Site Inspection'!$C$278","v":{"$error":"#REF!"}},{"$f":"'Project Summary'!S133","v":0},{"$f":"'Project Summary'!T133","v":0},{"$f":"'Project Summary'!U133","v":0},{"$f":"'Project Summary'!H209","v":{"$error":"#REF!"}}]
["ND36",{"$f":"'Site Inspection'!$B$286","v":{"$error":"#REF!"}},{"$f":"'Site Inspection'!$C$286","v":{"$error":"#REF!"}},{"$f":"'Project Summary'!S134","v":0},{"$f":"'Project Summary'!T134","v":0},{"$f":"'Project Summary'!U134","v":0},{"$f":"'Project Summary'!H210","v":{"$error":"#REF!"}}]
["ND37",{"$f":"'Site Inspection'!$B$294","v":{"$error":"#REF!"}},{"$f":"'Site Inspection'!$C$294","v":{"$error":"#REF!"}},{"$f":"'Project Summary'!S135","v":0},{"$f":"'Project Summary'!T135","v":0},{"$f":"'Project Summary'!U135","v":0},{"$f":"'Project Summary'!H211","v":{"$error":"#REF!"}}]
["ND38",{"$f":"'Site Inspection'!$B$302","v":{"$error":"#REF!"}},{"$f":"'Site Inspection'!$C$302","v":{"$error":"#REF!"}},{"$f":"'Project Summary'!S136","v":0},{"$f":"'Project Summary'!T136","v":0},{"$f":"'Project Summary'!U136","v":0},{"$f":"'Project Summary'!H212","v":{"$error":"#REF!"}}]
["ND39",{"$f":"'Site Inspection'!$B$310","v":{"$error":"#REF!"}},{"$f":"'Site Inspection'!$C$310","v":{"$error":"#REF!"}},{"$f":"'Project Summary'!S137","v":0},{"$f":"'Project Summary'!T137","v":0},{"$f":"'Project Summary'!U137","v":0},{"$f":"'Project Summary'!H213","v":{"$error":"#REF!"}}]
["ND40",{"$f":"'Site Inspection'!$B$318","v":{"$error":"#REF!"}},{"$f":"'Site Inspection'!$C$318","v":{"$error":"#REF!"}},{"$f":"'Project Summary'!S138","v":0},{"$f":"'Project Summary'!T138","v":0},{"$f":"'Project Summary'!U138","v":0},{"$f":"'Project Summary'!H214","v":{"$error":"#REF!"}}]
["ND41",{"$f":"'Site Inspection'!$B$326","v":{"$error":"#REF!"}},{"$f":"'Site Inspection'!$C$326","v":{"$error":"#REF!"}},{"$f":"'Project Summary'!S139","v":0},{"$f":"'Project Summary'!T139","v":0},{"$f":"'Project Summary'!U139","v":0},{"$f":"'Project Summary'!H215","v":{"$error":"#REF!"}}]
["ND42",{"$f":"'Site Inspection'!$B$334","v":{"$error":"#REF!"}},{"$f":"'Site Inspection'!$C$334","v":{"$error":"#REF!"}},{"$f":"'Project Summary'!S140","v":0},{"$f":"'Project Summary'!T140","v":0},{"$f":"'Project Summary'!U140","v":0},{"$f":"'Project Summary'!H216","v":{"$error":"#REF!"}}]
["ND43",{"$f":"'Site Inspection'!$B$342","v":{"$error":"#REF!"}},{"$f":"'Site Inspection'!$C$342","v":{"$error":"#REF!"}},{"$f":"'Project Summary'!S141","v":0},{"$f":"'Project Summary'!T141","v":0},{"$f":"'Project Summary'!U141","v":0},{"$f":"'Project Summary'!H217","v":{"$error":"#REF!"}}]
["ND44",{"$f":"'Site Inspection'!$B$350","v":{"$error":"#REF!"}},{"$f":"'Site Inspection'!$C$350","v":{"$error":"#REF!"}},{"$f":"'Project Summary'!S142","v":0},{"$f":"'Project Summary'!T142","v":0},{"$f":"'Project Summary'!U142","v":0},{"$f":"'Project Summary'!H218","v":{"$error":"#REF!"}}]
["ND45",{"$f":"'Site Inspection'!$B$358","v":{"$error":"#REF!"}},{"$f":"'Site Inspection'!$C$358","v":{"$error":"#REF!"}},{"$f":"'Project Summary'!S143","v":0},{"$f":"'Project Summary'!T143","v":0},{"$f":"'Project Summary'!U143","v":0},{"$f":"'Project Summary'!H219","v":{"$error":"#REF!"}}]
["ND46",{"$f":"'Site Inspection'!$B$366","v":{"$error":"#REF!"}},{"$f":"'Site Inspection'!$C$366","v":{"$error":"#REF!"}},{"$f":"'Project Summary'!S144","v":0},{"$f":"'Project Summary'!T144","v":0},{"$f":"'Project Summary'!U144","v":0},{"$f":"'Project Summary'!H220","v":{"$error":"#REF!"}}]
["ND47",{"$f":"'Site Inspection'!$B$374","v":{"$error":"#REF!"}},{"$f":"'Site Inspection'!$C$374","v":{"$error":"#REF!"}},{"$f":"'Project Summary'!S145","v":0},{"$f":"'Project Summary'!T145","v":0},{"$f":"'Project Summary'!U145","v":0},{"$f":"'Project Summary'!H221","v":{"$error":"#REF!"}}]
["ND48",{"$f":"'Site Inspection'!$B$382","v":{"$error":"#REF!"}},{"$f":"'Site Inspection'!$C$382","v":{"$error":"#REF!"}},{"$f":"'Project Summary'!S146","v":0},{"$f":"'Project Summary'!T146","v":0},{"$f":"'Project Summary'!U146","v":0},{"$f":"'Project Summary'!H222","v":{"$error":"#REF!"}}]
["ND49",{"$f":"'Site Inspection'!$B$390","v":{"$error":"#REF!"}},{"$f":"'Site Inspection'!$C$390","v":{"$error":"#REF!"}},{"$f":"'Project Summary'!S147","v":0},{"$f":"'Project Summary'!T147","v":0},{"$f":"'Project Summary'!U147","v":0},{"$f":"'Project Summary'!H223","v":{"$error":"#REF!"}}]
["ND50",{"$f":"'Site Inspection'!$B$398","v":{"$error":"#REF!"}},{"$f":"'Site Inspection'!$C$398","v":{"$error":"#REF!"}},{"$f":"'Project Summary'!S148","v":0},{"$f":"'Project Summary'!T148","v":0},{"$f":"'Project Summary'!U148","v":0},{"$f":"'Project Summary'!H224","v":{"$error":"#REF!"}}]
[null,{"$f":"'Site Inspection'!B406","v":{"$error":"#REF!"}},null,{"$f":"'Site Inspection'!$E$406","v":{"$error":"#REF!"}}]
[null,{"$f":"'Site Inspection'!B407","v":{"$error":"#REF!"}},null,{"$f":"'Site Inspection'!$E$407","v":{"$error":"#REF!"}}]
[null,{"$f":"'Site Inspection'!B408","v":{"$error":"#REF!"}},null,{"$f":"'Site Inspection'!$E$408","v":{"$error":"#REF!"}}]
[null,{"$f":"'Site Inspection'!B409","v":{"$error":"#REF!"}},null,{"$f":"'Site Inspection'!$E$409","v":{"$error":"#REF!"}}]
[null,{"$f":"'Site Inspection'!B410","v":{"$error":"#REF!"}},null,{"$f":"'Site Inspection'!$E$410","v":{"$error":"#REF!"}}]
[null,{"$f":"'Site Inspection'!B411","v":{"$error":"#REF!"}},null,{"$f":"'Site Inspection'!$E$411","v":{"$error":"#REF!"}}]
[null,{"$f":"'Site Inspection'!B412","v":{"$error":"#REF!"}},null,{"$f":"'Site Inspection'!$E$412","v":{"$error":"#REF!"}}]
[null,{"$f":"'Site Inspection'!B413","v":{"$error":"#REF!"}},null,{"$f":"'Site Inspection'!$E$413","v":{"$error":"#REF!"}}]
[]
[]
[]
[]
[]
[]
[]
[]
[]
[]
[]
[]
[]
[]
[]
[]
[]
[]
[]
[]
[]
[]
[]
[]
[]
[]
[]
[]
[]
[]
[]
[]
[]
[]
[]
[]
[]
[]
[]
[]
[]
[]
[]
[]
[]
[]
[]
[]
[]
[]
[null,{"$f":"'Site Inspection'!B414","v":0},null,{"$f":"'Site Inspection'!E414","v":0}]
[null,{"$f":"'Site Inspection'!B415","v":0},null,{"$f":"'Site Inspection'!E415","v":0}]
[null,{"$f":"'Site Inspection'!B416","v":0},null,{"$f":"'Site Inspection'!E416","v":0}]
[null,{"$f":"'Site Inspection'!B417","v":0},null,{"$f":"'Site Inspection'!E417","v":0}]
[null,{"$f":"'Site Inspection'!B418","v":0},null,{"$f":"'Site Inspection'!E418","v":0}]
[null,{"$f":"'Site Inspection'!B419","v":0},null,{"$f":"'Site Inspection'!E419","v":0}]
[null,{"$f":"'Site Inspection'!B420","v":0},null,{"$f":"'Site Inspection'!E420","v":0}]
[null,{"$f":"'Site Inspection'!B421","v":0},null,{"$f":"'Site Inspection'!E421","v":0}]
[null,{"$f":"'Site Inspection'!B422","v":0},null,{"$f":"'Site Inspection'!E422","v":0}]
[null,{"$f":"'Site Inspection'!B423","v":0},null,{"$f":"'Site Inspection'!E423","v":0}]
[null,{"$f":"'Site Inspection'!B424","v":0},null,{"$f":"'Site Inspection'!E424","v":0}]
[null,{"$f":"'Site Inspection'!B425","v":0},null,{"$f":"'Site Inspection'!E425","v":0}]
[null,{"$f":"'Site Inspection'!B426","v":0},null,{"$f":"'Site Inspection'!E426","v":0}]
[null,{"$f":"'Site Inspection'!B427","v":0},null,{"$f":"'Site Inspection'!E427","v":0}]
[null,{"$f":"'Site Inspection'!B428","v":0},null,{"$f":"'Site Inspection'!E428","v":0}]
[null,{"$f":"'Site Inspection'!B429","v":0},null,{"$f":"'Site Inspection'!E429","v":0}]
[null,{"$f":"'Site Inspection'!B430","v":0},null,{"$f":"'Site Inspection'!E430","v":0}]
[null,{"$f":"'Site Inspection'!B431","v":0},null,{"$f":"'Site Inspection'!E431","v":0}]
[null,{"$f":"'Site Inspection'!B432","v":0},null,{"$f":"'Site Inspection'!E432","v":0}]
[null,{"$f":"'Site Inspection'!B433","v":0},null,{"$f":"'Site Inspection'!E433","v":0}]
[null,{"$f":"'Site Inspection'!B434","v":0},null,{"$f":"'Site Inspection'!E434","v":0}]
[null,{"$f":"'Site Inspection'!B435","v":0},null,{"$f":"'Site Inspection'!E435","v":0}]
[null,{"$f":"'Site Inspection'!B436","v":0},null,{"$f":"'Site Inspection'!E436","v":0}]
[null,{"$f":"'Site Inspection'!B437","v":0},null,{"$f":"'Site Inspection'!E437","v":0}]
[null,{"$f":"'Site Inspection'!B438","v":0},null,{"$f":"'Site Inspection'!E438","v":0}]
[null,{"$f":"'Site Inspection'!B439","v":0},null,{"$f":"'Site Inspection'!E439","v":0}]
[null,{"$f":"'Site Inspection'!B440","v":0},null,{"$f":"'Site Inspection'!E440","v":0}]
[null,{"$f":"'Site Inspection'!B441","v":0},null,{"$f":"'Site Inspection'!E441","v":0}]
[null,{"$f":"'Site Inspection'!B442","v":0},null,{"$f":"'Site Inspection'!E442","v":0}]
[null,{"$f":"'Site Inspection'!B443","v":0},null,{"$f":"'Site Inspection'!E443","v":0}]
[null,{"$f":"'Site Inspection'!B444","v":0},null,{"$f":"'Site Inspection'!E444","v":0}]
[null,{"$f":"'Site Inspection'!B445","v":0},null,{"$f":"'Site Inspection'!E445","v":0}]
[null,{"$f":"'Site Inspection'!B446","v":0},null,{"$f":"'Site Inspection'!E446","v":0}]
[null,{"$f":"'Site Inspection'!B447","v":0},null,{"$f":"'Site Inspection'!E447","v":0}]
[null,{"$f":"'Site Inspection'!B448","v":0},null,{"$f":"'Site Inspection'!E448","v":0}]
[null,{"$f":"'Site Inspection'!B449","v":0},null,{"$f":"'Site Inspection'!E449","v":0}]
[null,{"$f":"'Site Inspection'!B450","v":0},null,{"$f":"'Site Inspection'!E450","v":0}]
[null,{"$f":"'Site Inspection'!B451","v":0},null,{"$f":"'Site Inspection'!E451","v":0}]
[null,{"$f":"'Site Inspection'!B452","v":0},null,{"$f":"'Site Inspection'!E452","v":0}]
[null,{"$f":"'Site Inspection'!B453","v":0},null,{"$f":"'Site Inspection'!E453","v":0}]
[null,{"$f":"'Site Inspection'!B454","v":0},null,{"$f":"'Site Inspection'!E454","v":0}]
[null,{"$f":"'Site Inspection'!B455","v":0},null,{"$f":"'Site Inspection'!E455","v":0}]
[null,{"$f":"'Site Inspection'!B456","v":0},null,{"$f":"'Site Inspection'!E456","v":0}]
[null,{"$f":"'Site Inspection'!B457","v":0},null,{"$f":"'Site Inspection'!E457","v":0}]
[null,{"$f":"'Site Inspection'!B458","v":0},null,{"$f":"'Site Inspection'!E458","v":0}]
[null,{"$f":"'Site Inspection'!B459","v":0},null,{"$f":"'Site Inspection'!E459","v":0}]
[null,{"$f":"'Site Inspection'!B460","v":0},null,{"$f":"'Site Inspection'!E460","v":0}]
[null,{"$f":"'Site Inspection'!B461","v":0},null,{"$f":"'Site Inspection'!E461","v":0}]
[null,{"$f":"'Site Inspection'!B462","v":0},null,{"$f":"'Site Inspection'!E462","v":0}]
[null,{"$f":"'Site Inspection'!B463","v":0},null,{"$f":"'Site Inspection'!E463","v":0}]

{"sheet":"PM Capture","index":7,"n_rows":159,"n_cols":12,"rows_kept":159,"cut":false,"hidden":true,"merged":[]}
[null,"Site","Location","Measure 1","PV Eligible cost ","Measure 2 ","Measure 3","Measure 4","Measure 5","Measure 6","Measure 7","Measure 8"]
["ND1",{"$f":"'Site Inspection'!$B$6","v":{"$error":"#REF!"}},{"$f":"'Site Inspection'!$C$6","v":{"$error":"#REF!"}},{"$f":"'Site Inspection'!$E$6","v":{"$error":"#REF!"}},{"$f":"'Site Inspection'!$H$6","v":{"$error":"#REF!"}},{"$f":"'Site Inspection'!$E$7","v":{"$error":"#REF!"}},{"$f":"'Site Inspection'!$E$8","v":{"$error":"#REF!"}},{"$f":"'Site Inspection'!$E$9","v":{"$error":"#REF!"}},{"$f":"'Site Inspection'!$E$10","v":{"$error":"#REF!"}},{"$f":"'Site Inspection'!$E$11","v":{"$error":"#REF!"}},{"$f":"'Site Inspection'!$E$12","v":{"$error":"#REF!"}},{"$f":"'Site Inspection'!$E$13","v":{"$error":"#REF!"}}]
["ND2",{"$f":"'Site Inspection'!$B$14","v":{"$error":"#REF!"}},{"$f":"'Site Inspection'!$C$14","v":{"$error":"#REF!"}},{"$f":"'Site Inspection'!$E$14","v":{"$error":"#REF!"}},{"$f":"'Site Inspection'!$H$14","v":{"$error":"#REF!"}},{"$f":"'Site Inspection'!$E$15","v":{"$error":"#REF!"}},{"$f":"'Site Inspection'!$E$16","v":{"$error":"#REF!"}},{"$f":"'Site Inspection'!$E$17","v":{"$error":"#REF!"}},{"$f":"'Site Inspection'!$E$18","v":{"$error":"#REF!"}},{"$f":"'Site Inspection'!$E$19","v":{"$error":"#REF!"}},{"$f":"'Site Inspection'!$E$20","v":{"$error":"#REF!"}},{"$f":"'Site Inspection'!$E$21","v":{"$error":"#REF!"}}]
["ND3",{"$f":"'Site Inspection'!$B$22","v":{"$error":"#REF!"}},{"$f":"'Site Inspection'!$C$22","v":{"$error":"#REF!"}},{"$f":"'Site Inspection'!$E$22","v":{"$error":"#REF!"}},{"$f":"'Site Inspection'!$H$22","v":{"$error":"#REF!"}},{"$f":"'Site Inspection'!$E$23","v":{"$error":"#REF!"}},{"$f":"'Site Inspection'!$E$24","v":{"$error":"#REF!"}},{"$f":"'Site Inspection'!$E$25","v":{"$error":"#REF!"}},{"$f":"'Site Inspection'!$E$26","v":{"$error":"#REF!"}},{"$f":"'Site Inspection'!$E$27","v":{"$error":"#REF!"}},{"$f":"'Site Inspection'!$E$28","v":{"$error":"#REF!"}},{"$f":"'Site Inspection'!$E$29","v":{"$error":"#REF!"}}]
["ND4",{"$f":"'Site Inspection'!$B$30","v":{"$error":"#REF!"}},{"$f":"'Site Inspection'!$C$30","v":{"$error":"#REF!"}},{"$f":"'Site Inspection'!$E$30","v":{"$error":"#REF!"}},{"$f":"'Site Inspection'!$H$30","v":{"$error":"#REF!"}},{"$f":"'Site Inspection'!$E$31","v":{"$error":"#REF!"}},{"$f":"'Site Inspection'!$E$32","v":{"$error":"#REF!"}},{"$f":"'Site Inspection'!$E$33","v":{"$error":"#REF!"}},{"$f":"'Site Inspection'!$E$34","v":{"$error":"#REF!"}},{"$f":"'Site Inspection'!$E$35","v":{"$error":"#REF!"}},{"$f":"'Site Inspection'!$E$36","v":{"$error":"#REF!"}},{"$f":"'Site Inspection'!$E$37","v":{"$error":"#REF!"}}]
["ND5",{"$f":"'Site Inspection'!$B$38","v":{"$error":"#REF!"}},{"$f":"'Site Inspection'!$C$38","v":{"$error":"#REF!"}},{"$f":"'Site Inspection'!$E$38","v":{"$error":"#REF!"}},{"$f":"'Site Inspection'!$H$38","v":{"$error":"#REF!"}},{"$f":"'Site Inspection'!$E$39","v":{"$error":"#REF!"}},{"$f":"'Site Inspection'!$E$40","v":{"$error":"#REF!"}},{"$f":"'Site Inspection'!$E$41","v":{"$error":"#REF!"}},{"$f":"'Site Inspection'!$E$42","v":{"$error":"#REF!"}},{"$f":"'Site Inspection'!$E$43","v":{"$error":"#REF!"}},{"$f":"'Site Inspection'!$E$44","v":{"$error":"#REF!"}},{"$f":"'Site Inspection'!$E$45","v":{"$error":"#REF!"}}]
["ND6",{"$f":"'Site Inspection'!$B$46","v":{"$error":"#REF!"}},{"$f":"'Site Inspection'!$C$46","v":{"$error":"#REF!"}},{"$f":"'Site Inspection'!$E$46","v":{"$error":"#REF!"}},{"$f":"'Site Inspection'!$H$46","v":{"$error":"#REF!"}},{"$f":"'Site Inspection'!$E$47","v":{"$error":"#REF!"}},{"$f":"'Site Inspection'!$E$48","v":{"$error":"#REF!"}},{"$f":"'Site Inspection'!$E$49","v":{"$error":"#REF!"}},{"$f":"'Site Inspection'!$E$50","v":{"$error":"#REF!"}},{"$f":"'Site Inspection'!$E$51","v":{"$error":"#REF!"}},{"$f":"'Site Inspection'!$E$52","v":{"$error":"#REF!"}},{"$f":"'Site Inspection'!$E$53","v":{"$error":"#REF!"}}]
["ND7",{"$f":"'Site Inspection'!$B$54","v":{"$error":"#REF!"}},{"$f":"'Site Inspection'!$C$54","v":{"$error":"#REF!"}},{"$f":"'Site Inspection'!$E$54","v":{"$error":"#REF!"}},{"$f":"'Site Inspection'!$H$54","v":{"$error":"#REF!"}},{"$f":"'Site Inspection'!$E$55","v":{"$error":"#REF!"}},{"$f":"'Site Inspection'!$E$56","v":{"$error":"#REF!"}},{"$f":"'Site Inspection'!$E$57","v":{"$error":"#REF!"}},{"$f":"'Site Inspection'!$E$58","v":{"$error":"#REF!"}},{"$f":"'Site Inspection'!$E$59","v":{"$error":"#REF!"}},{"$f":"'Site Inspection'!$E$60","v":{"$error":"#REF!"}},{"$f":"'Site Inspection'!$E$61","v":{"$error":"#REF!"}}]
["ND8",{"$f":"'Site Inspection'!$B$62","v":{"$error":"#REF!"}},{"$f":"'Site Inspection'!$C$62","v":{"$error":"#REF!"}},{"$f":"'Site Inspection'!$E$62","v":{"$error":"#REF!"}},{"$f":"'Site Inspection'!$H$62","v":{"$error":"#REF!"}},{"$f":"'Site Inspection'!$E$63","v":{"$error":"#REF!"}},{"$f":"'Site Inspection'!$E$64","v":{"$error":"#REF!"}},{"$f":"'Site Inspection'!$E$65","v":{"$error":"#REF!"}},{"$f":"'Site Inspection'!$E$66","v":{"$error":"#REF!"}},{"$f":"'Site Inspection'!$E$67","v":{"$error":"#REF!"}},{"$f":"'Site Inspection'!$E$68","v":{"$error":"#REF!"}},{"$f":"'Site Inspection'!$E$69","v":{"$error":"#REF!"}}]
["ND9",{"$f":"'Site Inspection'!$B$70","v":{"$error":"#REF!"}},{"$f":"'Site Inspection'!$C$70","v":{"$error":"#REF!"}},{"$f":"'Site Inspection'!$E$70","v":{"$error":"#REF!"}},{"$f":"'Site Inspection'!$H$70","v":{"$error":"#REF!"}},{"$f":"'Site Inspection'!$E$71","v":{"$error":"#REF!"}},{"$f":"'Site Inspection'!$E$72","v":{"$error":"#REF!"}},{"$f":"'Site Inspection'!$E$73","v":{"$error":"#REF!"}},{"$f":"'Site Inspection'!$E$74","v":{"$error":"#REF!"}},{"$f":"'Site Inspection'!$E$75","v":{"$error":"#REF!"}},{"$f":"'Site Inspection'!$E$76","v":{"$error":"#REF!"}},{"$f":"'Site Inspection'!$E$77","v":{"$error":"#REF!"}}]
["ND10",{"$f":"'Site Inspection'!$B$78","v":{"$error":"#REF!"}},{"$f":"'Site Inspection'!$C$78","v":{"$error":"#REF!"}},{"$f":"'Site Inspection'!$E$78","v":{"$error":"#REF!"}},{"$f":"'Site Inspection'!$H$78","v":{"$error":"#REF!"}},{"$f":"'Site Inspection'!$E$79","v":{"$error":"#REF!"}},{"$f":"'Site Inspection'!$E$80","v":{"$error":"#REF!"}},{"$f":"'Site Inspection'!$E$81","v":{"$error":"#REF!"}},{"$f":"'Site Inspection'!$E$82","v":{"$error":"#REF!"}},{"$f":"'Site Inspection'!$E$83","v":{"$error":"#REF!"}},{"$f":"'Site Inspection'!$E$84","v":{"$error":"#REF!"}},{"$f":"'Site Inspection'!$E$85","v":{"$error":"#REF!"}}]
["ND11",{"$f":"'Site Inspection'!$B$86","v":{"$error":"#REF!"}},{"$f":"'Site Inspection'!$C$86","v":{"$error":"#REF!"}},{"$f":"'Site Inspection'!$E$86","v":{"$error":"#REF!"}},{"$f":"'Site Inspection'!$H$86","v":{"$error":"#REF!"}},{"$f":"'Site Inspection'!$E$87","v":{"$error":"#REF!"}},{"$f":"'Site Inspection'!$E$88","v":{"$error":"#REF!"}},{"$f":"'Site Inspection'!$E$89","v":{"$error":"#REF!"}},{"$f":"'Site Inspection'!$E$90","v":{"$error":"#REF!"}},{"$f":"'Site Inspection'!$E$91","v":{"$error":"#REF!"}},{"$f":"'Site Inspection'!$E$92","v":{"$error":"#REF!"}},{"$f":"'Site Inspection'!$E$93","v":{"$error":"#REF!"}}]
["ND12",{"$f":"'Site Inspection'!$B$94","v":{"$error":"#REF!"}},{"$f":"'Site Inspection'!$C$94","v":{"$error":"#REF!"}},{"$f":"'Site Inspection'!$E$94","v":{"$error":"#REF!"}},{"$f":"'Site Inspection'!$H$94","v":{"$error":"#REF!"}},{"$f":"'Site Inspection'!$E$95","v":{"$error":"#REF!"}},{"$f":"'Site Inspection'!$E$96","v":{"$error":"#REF!"}},{"$f":"'Site Inspection'!$E$97","v":{"$error":"#REF!"}},{"$f":"'Site Inspection'!$E$98","v":{"$error":"#REF!"}},{"$f":"'Site Inspection'!$E$99","v":{"$error":"#REF!"}},{"$f":"'Site Inspection'!$E$100","v":{"$error":"#REF!"}},{"$f":"'Site Inspection'!$E$101","v":{"$error":"#REF!"}}]
["ND13",{"$f":"'Site Inspection'!$B$102","v":{"$error":"#REF!"}},{"$f":"'Site Inspection'!$C$102","v":{"$error":"#REF!"}},{"$f":"'Site Inspection'!$E$102","v":{"$error":"#REF!"}},{"$f":"'Site Inspection'!$H$102","v":{"$error":"#REF!"}},{"$f":"'Site Inspection'!$E$103","v":{"$error":"#REF!"}},{"$f":"'Site Inspection'!$E$104","v":{"$error":"#REF!"}},{"$f":"'Site Inspection'!$E$105","v":{"$error":"#REF!"}},{"$f":"'Site Inspection'!$E$106","v":{"$error":"#REF!"}},{"$f":"'Site Inspection'!$E$107","v":{"$error":"#REF!"}},{"$f":"'Site Inspection'!$E$108","v":{"$error":"#REF!"}},{"$f":"'Site Inspection'!$E$109","v":{"$error":"#REF!"}}]
["ND14",{"$f":"'Site Inspection'!$B$110","v":{"$error":"#REF!"}},{"$f":"'Site Inspection'!$C$110","v":{"$error":"#REF!"}},{"$f":"'Site Inspection'!$E$110","v":{"$error":"#REF!"}},{"$f":"'Site Inspection'!$H$110","v":{"$error":"#REF!"}},{"$f":"'Site Inspection'!$E$111","v":{"$error":"#REF!"}},{"$f":"'Site Inspection'!$E$112","v":{"$error":"#REF!"}},{"$f":"'Site Inspection'!$E$113","v":{"$error":"#REF!"}},{"$f":"'Site Inspection'!$E$114","v":{"$error":"#REF!"}},{"$f":"'Site Inspection'!$E$115","v":{"$error":"#REF!"}},{"$f":"'Site Inspection'!$E$116","v":{"$error":"#REF!"}},{"$f":"'Site Inspection'!$E$117","v":{"$error":"#REF!"}}]
["ND15",{"$f":"'Site Inspection'!$B$118","v":{"$error":"#REF!"}},{"$f":"'Site Inspection'!$C$118","v":{"$error":"#REF!"}},{"$f":"'Site Inspection'!$E$118","v":{"$error":"#REF!"}},{"$f":"'Site Inspection'!$H$118","v":{"$error":"#REF!"}},{"$f":"'Site Inspection'!$E$119","v":{"$error":"#REF!"}},{"$f":"'Site Inspection'!$E$120","v":{"$error":"#REF!"}},{"$f":"'Site Inspection'!$E$121","v":{"$error":"#REF!"}},{"$f":"'Site Inspection'!$E$122","v":{"$error":"#REF!"}},{"$f":"'Site Inspection'!$E$123","v":{"$error":"#REF!"}},{"$f":"'Site Inspection'!$E$124","v":{"$error":"#REF!"}},{"$f":"'Site Inspection'!$E$125","v":{"$error":"#REF!"}}]
["ND16",{"$f":"'Site Inspection'!$B$126","v":{"$error":"#REF!"}},{"$f":"'Site Inspection'!$C$126","v":{"$error":"#REF!"}},{"$f":"'Site Inspection'!$E$126","v":{"$error":"#REF!"}},{"$f":"'Site Inspection'!$H$126","v":{"$error":"#REF!"}},{"$f":"'Site Inspection'!$E$127","v":{"$error":"#REF!"}},{"$f":"'Site Inspection'!$E$128","v":{"$error":"#REF!"}},{"$f":"'Site Inspection'!$E$129","v":{"$error":"#REF!"}},{"$f":"'Site Inspection'!$E$130","v":{"$error":"#REF!"}},{"$f":"'Site Inspection'!$E$131","v":{"$error":"#REF!"}},{"$f":"'Site Inspection'!$E$132","v":{"$error":"#REF!"}},{"$f":"'Site Inspection'!$E$133","v":{"$error":"#REF!"}}]
["ND17",{"$f":"'Site Inspection'!$B$134","v":{"$error":"#REF!"}},{"$f":"'Site Inspection'!$C$134","v":{"$error":"#REF!"}},{"$f":"'Site Inspection'!$E$134","v":{"$error":"#REF!"}},{"$f":"'Site Inspection'!$H$134","v":{"$error":"#REF!"}},{"$f":"'Site Inspection'!$E$135","v":{"$error":"#REF!"}},{"$f":"'Site Inspection'!$E$136","v":{"$error":"#REF!"}},{"$f":"'Site Inspection'!$E$137","v":{"$error":"#REF!"}},{"$f":"'Site Inspection'!$E$138","v":{"$error":"#REF!"}},{"$f":"'Site Inspection'!$E$139","v":{"$error":"#REF!"}},{"$f":"'Site Inspection'!$E$140","v":{"$error":"#REF!"}},{"$f":"'Site Inspection'!$E$141","v":{"$error":"#REF!"}}]
["ND18",{"$f":"'Site Inspection'!$B$142","v":{"$error":"#REF!"}},{"$f":"'Site Inspection'!$C$142","v":{"$error":"#REF!"}},{"$f":"'Site Inspection'!$E$142","v":{"$error":"#REF!"}},{"$f":"'Site Inspection'!$H$142","v":{"$error":"#REF!"}},{"$f":"'Site Inspection'!$E$143","v":{"$error":"#REF!"}},{"$f":"'Site Inspection'!$E$144","v":{"$error":"#REF!"}},{"$f":"'Site Inspection'!$E$145","v":{"$error":"#REF!"}},{"$f":"'Site Inspection'!$E$146","v":{"$error":"#REF!"}},{"$f":"'Site Inspection'!$E$147","v":{"$error":"#REF!"}},{"$f":"'Site Inspection'!$E$148","v":{"$error":"#REF!"}},{"$f":"'Site Inspection'!$E$149","v":{"$error":"#REF!"}}]
["ND19",{"$f":"'Site Inspection'!$B$150","v":{"$error":"#REF!"}},{"$f":"'Site Inspection'!$C$150","v":{"$error":"#REF!"}},{"$f":"'Site Inspection'!$E$150","v":{"$error":"#REF!"}},{"$f":"'Site Inspection'!$H$150","v":{"$error":"#REF!"}},{"$f":"'Site Inspection'!$E$151","v":{"$error":"#REF!"}},{"$f":"'Site Inspection'!$E$152","v":{"$error":"#REF!"}},{"$f":"'Site Inspection'!$E$153","v":{"$error":"#REF!"}},{"$f":"'Site Inspection'!$E$154","v":{"$error":"#REF!"}},{"$f":"'Site Inspection'!$E$155","v":{"$error":"#REF!"}},{"$f":"'Site Inspection'!$E$156","v":{"$error":"#REF!"}},{"$f":"'Site Inspection'!$E$157","v":{"$error":"#REF!"}}]
["ND20",{"$f":"'Site Inspection'!$B$158","v":{"$error":"#REF!"}},{"$f":"'Site Inspection'!$C$158","v":{"$error":"#REF!"}},{"$f":"'Site Inspection'!$E$158","v":{"$error":"#REF!"}},{"$f":"'Site Inspection'!$H$158","v":{"$error":"#REF!"}},{"$f":"'Site Inspection'!$E$159","v":{"$error":"#REF!"}},{"$f":"'Site Inspection'!$E$160","v":{"$error":"#REF!"}},{"$f":"'Site Inspection'!$E$161","v":{"$error":"#REF!"}},{"$f":"'Site Inspection'!$E$162","v":{"$error":"#REF!"}},{"$f":"'Site Inspection'!$E$163","v":{"$error":"#REF!"}},{"$f":"'Site Inspection'!$E$164","v":{"$error":"#REF!"}},{"$f":"'Site Inspection'!$E$165","v":{"$error":"#REF!"}}]
["ND21",{"$f":"'Site Inspection'!$B$166","v":{"$error":"#REF!"}},{"$f":"'Site Inspection'!$C$166","v":{"$error":"#REF!"}},{"$f":"'Site Inspection'!$E$166","v":{"$error":"#REF!"}},{"$f":"'Site Inspection'!$H$166","v":{"$error":"#REF!"}},{"$f":"'Site Inspection'!$E$167","v":{"$error":"#REF!"}},{"$f":"'Site Inspection'!$E$168","v":{"$error":"#REF!"}},{"$f":"'Site Inspection'!$E$169","v":{"$error":"#REF!"}},{"$f":"'Site Inspection'!$E$170","v":{"$error":"#REF!"}},{"$f":"'Site Inspection'!$E$171","v":{"$error":"#REF!"}},{"$f":"'Site Inspection'!$E$172","v":{"$error":"#REF!"}},{"$f":"'Site Inspection'!$E$173","v":{"$error":"#REF!"}}]
["ND22",{"$f":"'Site Inspection'!$B$174","v":{"$error":"#REF!"}},{"$f":"'Site Inspection'!$C$174","v":{"$error":"#REF!"}},{"$f":"'Site Inspection'!$E$174","v":{"$error":"#REF!"}},{"$f":"'Site Inspection'!$H$174","v":{"$error":"#REF!"}},{"$f":"'Site Inspection'!$E$175","v":{"$error":"#REF!"}},{"$f":"'Site Inspection'!$E$176","v":{"$error":"#REF!"}},{"$f":"'Site Inspection'!$E$177","v":{"$error":"#REF!"}},{"$f":"'Site Inspection'!$E$178","v":{"$error":"#REF!"}},{"$f":"'Site Inspection'!$E$179","v":{"$error":"#REF!"}},{"$f":"'Site Inspection'!$E$180","v":{"$error":"#REF!"}},{"$f":"'Site Inspection'!$E$181","v":{"$error":"#REF!"}}]
["ND23",{"$f":"'Site Inspection'!$B$182","v":{"$error":"#REF!"}},{"$f":"'Site Inspection'!$C$182","v":{"$error":"#REF!"}},{"$f":"'Site Inspection'!$E$182","v":{"$error":"#REF!"}},{"$f":"'Site Inspection'!$H182","v":{"$error":"#REF!"}},{"$f":"'Site Inspection'!$E$183","v":{"$error":"#REF!"}},{"$f":"'Site Inspection'!$E$184","v":{"$error":"#REF!"}},{"$f":"'Site Inspection'!$E$185","v":{"$error":"#REF!"}},{"$f":"'Site Inspection'!$E$186","v":{"$error":"#REF!"}},{"$f":"'Site Inspection'!$E$187","v":{"$error":"#REF!"}},{"$f":"'Site Inspection'!$E$188","v":{"$error":"#REF!"}},{"$f":"'Site Inspection'!$E$189","v":{"$error":"#REF!"}}]
["ND24",{"$f":"'Site Inspection'!$B$190","v":{"$error":"#REF!"}},{"$f":"'Site Inspection'!$C$190","v":{"$error":"#REF!"}},{"$f":"'Site Inspection'!$E$190","v":{"$error":"#REF!"}},{"$f":"'Site Inspection'!$H$190","v":{"$error":"#REF!"}},{"$f":"'Site Inspection'!$E$191","v":{"$error":"#REF!"}},{"$f":"'Site Inspection'!$E$192","v":{"$error":"#REF!"}},{"$f":"'Site Inspection'!$E$193","v":{"$error":"#REF!"}},{"$f":"'Site Inspection'!$E$194","v":{"$error":"#REF!"}},{"$f":"'Site Inspection'!$E$195","v":{"$error":"#REF!"}},{"$f":"'Site Inspection'!$E$196","v":{"$error":"#REF!"}},{"$f":"'Site Inspection'!$E$197","v":{"$error":"#REF!"}}]
["ND25",{"$f":"'Site Inspection'!$B$198","v":{"$error":"#REF!"}},{"$f":"'Site Inspection'!$C$198","v":{"$error":"#REF!"}},{"$f":"'Site Inspection'!$E$198","v":{"$error":"#REF!"}},{"$f":"'Site Inspection'!$H$198","v":{"$error":"#REF!"}},{"$f":"'Site Inspection'!$E$199","v":{"$error":"#REF!"}},{"$f":"'Site Inspection'!$E$200","v":{"$error":"#REF!"}},{"$f":"'Site Inspection'!$E$201","v":{"$error":"#REF!"}},{"$f":"'Site Inspection'!$E$202","v":{"$error":"#REF!"}},{"$f":"'Site Inspection'!$E$203","v":{"$error":"#REF!"}},{"$f":"'Site Inspection'!$E$204","v":{"$error":"#REF!"}},{"$f":"'Site Inspection'!$E$205","v":{"$error":"#REF!"}}]
["ND26",{"$f":"'Site Inspection'!$B$206","v":{"$error":"#REF!"}},{"$f":"'Site Inspection'!$C$206","v":{"$error":"#REF!"}},{"$f":"'Site Inspection'!$E$206","v":{"$error":"#REF!"}},{"$f":"'Site Inspection'!$H$206","v":{"$error":"#REF!"}},{"$f":"'Site Inspection'!$E$207","v":{"$error":"#REF!"}},{"$f":"'Site Inspection'!$E$208","v":{"$error":"#REF!"}},{"$f":"'Site Inspection'!$E$209","v":{"$error":"#REF!"}},{"$f":"'Site Inspection'!$E$210","v":{"$error":"#REF!"}},{"$f":"'Site Inspection'!$E$211","v":{"$error":"#REF!"}},{"$f":"'Site Inspection'!$E$212","v":{"$error":"#REF!"}},{"$f":"'Site Inspection'!$E$213","v":{"$error":"#REF!"}}]
["ND27",{"$f":"'Site Inspection'!$B$214","v":{"$error":"#REF!"}},{"$f":"'Site Inspection'!$C$214","v":{"$error":"#REF!"}},{"$f":"'Site Inspection'!$E$214","v":{"$error":"#REF!"}},{"$f":"'Site Inspection'!$H$214","v":{"$error":"#REF!"}},{"$f":"'Site Inspection'!$E$215","v":{"$error":"#REF!"}},{"$f":"'Site Inspection'!$E$216","v":{"$error":"#REF!"}},{"$f":"'Site Inspection'!$E$217","v":{"$error":"#REF!"}},{"$f":"'Site Inspection'!$E$218","v":{"$error":"#REF!"}},{"$f":"'Site Inspection'!$E$219","v":{"$error":"#REF!"}},{"$f":"'Site Inspection'!$E$220","v":{"$error":"#REF!"}},{"$f":"'Site Inspection'!$E$221","v":{"$error":"#REF!"}}]
["ND28",{"$f":"'Site Inspection'!$B$222","v":{"$error":"#REF!"}},{"$f":"'Site Inspection'!$C$222","v":{"$error":"#REF!"}},{"$f":"'Site Inspection'!$E$222","v":{"$error":"#REF!"}},{"$f":"'Site Inspection'!$H$222","v":{"$error":"#REF!"}},{"$f":"'Site Inspection'!$E$223","v":{"$error":"#REF!"}},{"$f":"'Site Inspection'!$E$224","v":{"$error":"#REF!"}},{"$f":"'Site Inspection'!$E$225","v":{"$error":"#REF!"}},{"$f":"'Site Inspection'!$E$226","v":{"$error":"#REF!"}},{"$f":"'Site Inspection'!$E$227","v":{"$error":"#REF!"}},{"$f":"'Site Inspection'!$E$228","v":{"$error":"#REF!"}},{"$f":"'Site Inspection'!$E$229","v":{"$error":"#REF!"}}]
["ND29",{"$f":"'Site Inspection'!$B$230","v":{"$error":"#REF!"}},{"$f":"'Site Inspection'!$C$230","v":{"$error":"#REF!"}},{"$f":"'Site Inspection'!$E$230","v":{"$error":"#REF!"}},{"$f":"'Site Inspection'!$H$230","v":{"$error":"#REF!"}},{"$f":"'Site Inspection'!$E$231","v":{"$error":"#REF!"}},{"$f":"'Site Inspection'!$E$232","v":{"$error":"#REF!"}},{"$f":"'Site Inspection'!$E$233","v":{"$error":"#REF!"}},{"$f":"'Site Inspection'!$E$234","v":{"$error":"#REF!"}},{"$f":"'Site Inspection'!$E$235","v":{"$error":"#REF!"}},{"$f":"'Site Inspection'!$E$236","v":{"$error":"#REF!"}},{"$f":"'Site Inspection'!$E$237","v":{"$error":"#REF!"}}]
["ND30",{"$f":"'Site Inspection'!$B$238","v":{"$error":"#REF!"}},{"$f":"'Site Inspection'!$C$238","v":{"$error":"#REF!"}},{"$f":"'Site Inspection'!$E$238","v":{"$error":"#REF!"}},{"$f":"'Site Inspection'!$H$238","v":{"$error":"#REF!"}},{"$f":"'Site Inspection'!$E$239","v":{"$error":"#REF!"}},{"$f":"'Site Inspection'!$E$240","v":{"$error":"#REF!"}},{"$f":"'Site Inspection'!$E$241","v":{"$error":"#REF!"}},{"$f":"'Site Inspection'!$E$242","v":{"$error":"#REF!"}},{"$f":"'Site Inspection'!$E$243","v":{"$error":"#REF!"}},{"$f":"'Site Inspection'!$E$244","v":{"$error":"#REF!"}},{"$f":"'Site Inspection'!$E$245","v":{"$error":"#REF!"}}]
["ND31",{"$f":"'Site Inspection'!$B$246","v":{"$error":"#REF!"}},{"$f":"'Site Inspection'!$C$246","v":{"$error":"#REF!"}},{"$f":"'Site Inspection'!$E$246","v":{"$error":"#REF!"}},{"$f":"'Site Inspection'!$H$246","v":{"$error":"#REF!"}},{"$f":"'Site Inspection'!$E$247","v":{"$error":"#REF!"}},{"$f":"'Site Inspection'!$E$248","v":{"$error":"#REF!"}},{"$f":"'Site Inspection'!$E$249","v":{"$error":"#REF!"}},{"$f":"'Site Inspection'!$E$250","v":{"$error":"#REF!"}},{"$f":"'Site Inspection'!$E$251","v":{"$error":"#REF!"}},{"$f":"'Site Inspection'!$E$252","v":{"$error":"#REF!"}},{"$f":"'Site Inspection'!$E$253","v":{"$error":"#REF!"}}]
["ND32",{"$f":"'Site Inspection'!$B$254","v":{"$error":"#REF!"}},{"$f":"'Site Inspection'!$C$254","v":{"$error":"#REF!"}},{"$f":"'Site Inspection'!$E$254","v":{"$error":"#REF!"}},{"$f":"'Site Inspection'!$H$254","v":{"$error":"#REF!"}},{"$f":"'Site Inspection'!$E$255","v":{"$error":"#REF!"}},{"$f":"'Site Inspection'!$E$256","v":{"$error":"#REF!"}},{"$f":"'Site Inspection'!$E$257","v":{"$error":"#REF!"}},{"$f":"'Site Inspection'!$E$258","v":{"$error":"#REF!"}},{"$f":"'Site Inspection'!$E$259","v":{"$error":"#REF!"}},{"$f":"'Site Inspection'!$E$260","v":{"$error":"#REF!"}},{"$f":"'Site Inspection'!$E$261","v":{"$error":"#REF!"}}]
["ND33",{"$f":"'Site Inspection'!$B$262","v":{"$error":"#REF!"}},{"$f":"'Site Inspection'!$C$262","v":{"$error":"#REF!"}},{"$f":"'Site Inspection'!$E$262","v":{"$error":"#REF!"}},{"$f":"'Site Inspection'!$H$262","v":{"$error":"#REF!"}},{"$f":"'Site Inspection'!$E$263","v":{"$error":"#REF!"}},{"$f":"'Site Inspection'!$E$264","v":{"$error":"#REF!"}},{"$f":"'Site Inspection'!$E$265","v":{"$error":"#REF!"}},{"$f":"'Site Inspection'!$E$266","v":{"$error":"#REF!"}},{"$f":"'Site Inspection'!$E$267","v":{"$error":"#REF!"}},{"$f":"'Site Inspection'!$E$268","v":{"$error":"#REF!"}},{"$f":"'Site Inspection'!$E$269","v":{"$error":"#REF!"}}]
["ND34",{"$f":"'Site Inspection'!$B$270","v":{"$error":"#REF!"}},{"$f":"'Site Inspection'!$C$270","v":{"$error":"#REF!"}},{"$f":"'Site Inspection'!$E$270","v":{"$error":"#REF!"}},{"$f":"'Site Inspection'!$H$270","v":{"$error":"#REF!"}},{"$f":"'Site Inspection'!$E$271","v":{"$error":"#REF!"}},{"$f":"'Site Inspection'!$E$272","v":{"$error":"#REF!"}},{"$f":"'Site Inspection'!$E$273","v":{"$error":"#REF!"}},{"$f":"'Site Inspection'!$E$274","v":{"$error":"#REF!"}},{"$f":"'Site Inspection'!$E$275","v":{"$error":"#REF!"}},{"$f":"'Site Inspection'!$E$276","v":{"$error":"#REF!"}},{"$f":"'Site Inspection'!$E$277","v":{"$error":"#REF!"}}]
["ND35",{"$f":"'Site Inspection'!$B$278","v":{"$error":"#REF!"}},{"$f":"'Site Inspection'!$C$278","v":{"$error":"#REF!"}},{"$f":"'Site Inspection'!$E$278","v":{"$error":"#REF!"}},{"$f":"'Site Inspection'!$H$278","v":{"$error":"#REF!"}},{"$f":"'Site Inspection'!$E$279","v":{"$error":"#REF!"}},{"$f":"'Site Inspection'!$E$280","v":{"$error":"#REF!"}},{"$f":"'Site Inspection'!$E$281","v":{"$error":"#REF!"}},{"$f":"'Site Inspection'!$E$282","v":{"$error":"#REF!"}},{"$f":"'Site Inspection'!$E$283","v":{"$error":"#REF!"}},{"$f":"'Site Inspection'!$E$284","v":{"$error":"#REF!"}},{"$f":"'Site Inspection'!$E$285","v":{"$error":"#REF!"}}]
["ND36",{"$f":"'Site Inspection'!$B$286","v":{"$error":"#REF!"}},{"$f":"'Site Inspection'!$C$286","v":{"$error":"#REF!"}},{"$f":"'Site Inspection'!$E$286","v":{"$error":"#REF!"}},{"$f":"'Site Inspection'!$H$286","v":{"$error":"#REF!"}},{"$f":"'Site Inspection'!$E$287","v":{"$error":"#REF!"}},{"$f":"'Site Inspection'!$E$288","v":{"$error":"#REF!"}},{"$f":"'Site Inspection'!$E$289","v":{"$error":"#REF!"}},{"$f":"'Site Inspection'!$E$290","v":{"$error":"#REF!"}},{"$f":"'Site Inspection'!$E$291","v":{"$error":"#REF!"}},{"$f":"'Site Inspection'!$E$292","v":{"$error":"#REF!"}},{"$f":"'Site Inspection'!$E$293","v":{"$error":"#REF!"}}]
["ND37",{"$f":"'Site Inspection'!$B$294","v":{"$error":"#REF!"}},{"$f":"'Site Inspection'!$C$294","v":{"$error":"#REF!"}},{"$f":"'Site Inspection'!$E$294","v":{"$error":"#REF!"}},{"$f":"'Site Inspection'!$H$294","v":{"$error":"#REF!"}},{"$f":"'Site Inspection'!$E$295","v":{"$error":"#REF!"}},{"$f":"'Site Inspection'!$E$296","v":{"$error":"#REF!"}},{"$f":"'Site Inspection'!$E$297","v":{"$error":"#REF!"}},{"$f":"'Site Inspection'!$E$298","v":{"$error":"#REF!"}},{"$f":"'Site Inspection'!$E$299","v":{"$error":"#REF!"}},{"$f":"'Site Inspection'!$E$300","v":{"$error":"#REF!"}},{"$f":"'Site Inspection'!$E$301","v":{"$error":"#REF!"}}]
["ND38",{"$f":"'Site Inspection'!$B$302","v":{"$error":"#REF!"}},{"$f":"'Site Inspection'!$C$302","v":{"$error":"#REF!"}},{"$f":"'Site Inspection'!$E$302","v":{"$error":"#REF!"}},{"$f":"'Site Inspection'!$H$302","v":{"$error":"#REF!"}},{"$f":"'Site Inspection'!$E$303","v":{"$error":"#REF!"}},{"$f":"'Site Inspection'!$E$304","v":{"$error":"#REF!"}},{"$f":"'Site Inspection'!$E$305","v":{"$error":"#REF!"}},{"$f":"'Site Inspection'!$E$306","v":{"$error":"#REF!"}},{"$f":"'Site Inspection'!$E$307","v":{"$error":"#REF!"}},{"$f":"'Site Inspection'!$E$308","v":{"$error":"#REF!"}},{"$f":"'Site Inspection'!$E$309","v":{"$error":"#REF!"}}]
["ND39",{"$f":"'Site Inspection'!$B$310","v":{"$error":"#REF!"}},{"$f":"'Site Inspection'!$C$310","v":{"$error":"#REF!"}},{"$f":"'Site Inspection'!$E$310","v":{"$error":"#REF!"}},{"$f":"'Site Inspection'!$H$310","v":{"$error":"#REF!"}},{"$f":"'Site Inspection'!$E$311","v":{"$error":"#REF!"}},{"$f":"'Site Inspection'!$E$312","v":{"$error":"#REF!"}},{"$f":"'Site Inspection'!$E$313","v":{"$error":"#REF!"}},{"$f":"'Site Inspection'!$E$314","v":{"$error":"#REF!"}},{"$f":"'Site Inspection'!$E$315","v":{"$error":"#REF!"}},{"$f":"'Site Inspection'!$E$316","v":{"$error":"#REF!"}},{"$f":"'Site Inspection'!$E$317","v":{"$error":"#REF!"}}]
["ND40",{"$f":"'Site Inspection'!$B$318","v":{"$error":"#REF!"}},{"$f":"'Site Inspection'!$C$318","v":{"$error":"#REF!"}},{"$f":"'Site Inspection'!$E$318","v":{"$error":"#REF!"}},{"$f":"'Site Inspection'!$H$318","v":{"$error":"#REF!"}},{"$f":"'Site Inspection'!$E$319","v":{"$error":"#REF!"}},{"$f":"'Site Inspection'!$E$320","v":{"$error":"#REF!"}},{"$f":"'Site Inspection'!$E$321","v":{"$error":"#REF!"}},{"$f":"'Site Inspection'!$E$322","v":{"$error":"#REF!"}},{"$f":"'Site Inspection'!$E$323","v":{"$error":"#REF!"}},{"$f":"'Site Inspection'!$E$324","v":{"$error":"#REF!"}},{"$f":"'Site Inspection'!$E$325","v":{"$error":"#REF!"}}]
["ND41",{"$f":"'Site Inspection'!$B$326","v":{"$error":"#REF!"}},{"$f":"'Site Inspection'!$C$326","v":{"$error":"#REF!"}},{"$f":"'Site Inspection'!$E$326","v":{"$error":"#REF!"}},{"$f":"'Site Inspection'!$H$326","v":{"$error":"#REF!"}},{"$f":"'Site Inspection'!$E$327","v":{"$error":"#REF!"}},{"$f":"'Site Inspection'!$E$328","v":{"$error":"#REF!"}},{"$f":"'Site Inspection'!$E$329","v":{"$error":"#REF!"}},{"$f":"'Site Inspection'!$E$330","v":{"$error":"#REF!"}},{"$f":"'Site Inspection'!$E$331","v":{"$error":"#REF!"}},{"$f":"'Site Inspection'!$E$332","v":{"$error":"#REF!"}},{"$f":"'Site Inspection'!$E$333","v":{"$error":"#REF!"}}]
["ND42",{"$f":"'Site Inspection'!$B$334","v":{"$error":"#REF!"}},{"$f":"'Site Inspection'!$C$334","v":{"$error":"#REF!"}},{"$f":"'Site Inspection'!$E$334","v":{"$error":"#REF!"}},{"$f":"'Site Inspection'!$H$334","v":{"$error":"#REF!"}},{"$f":"'Site Inspection'!$E$335","v":{"$error":"#REF!"}},{"$f":"'Site Inspection'!$E$336","v":{"$error":"#REF!"}},{"$f":"'Site Inspection'!$E$337","v":{"$error":"#REF!"}},{"$f":"'Site Inspection'!$E$338","v":{"$error":"#REF!"}},{"$f":"'Site Inspection'!$E$339","v":{"$error":"#REF!"}},{"$f":"'Site Inspection'!$E$340","v":{"$error":"#REF!"}},{"$f":"'Site Inspection'!$E$341","v":{"$error":"#REF!"}}]
["ND43",{"$f":"'Site Inspection'!$B$342","v":{"$error":"#REF!"}},{"$f":"'Site Inspection'!$C$342","v":{"$error":"#REF!"}},{"$f":"'Site Inspection'!$E$342","v":{"$error":"#REF!"}},{"$f":"'Site Inspection'!$H$342","v":{"$error":"#REF!"}},{"$f":"'Site Inspection'!$E$343","v":{"$error":"#REF!"}},{"$f":"'Site Inspection'!$E$344","v":{"$error":"#REF!"}},{"$f":"'Site Inspection'!$E$345","v":{"$error":"#REF!"}},{"$f":"'Site Inspection'!$E$346","v":{"$error":"#REF!"}},{"$f":"'Site Inspection'!$E$347","v":{"$error":"#REF!"}},{"$f":"'Site Inspection'!$E$348","v":{"$error":"#REF!"}},{"$f":"'Site Inspection'!$E$349","v":{"$error":"#REF!"}}]
["ND44",{"$f":"'Site Inspection'!$B$350","v":{"$error":"#REF!"}},{"$f":"'Site Inspection'!$C$350","v":{"$error":"#REF!"}},{"$f":"'Site Inspection'!$E$350","v":{"$error":"#REF!"}},{"$f":"'Site Inspection'!$H$350","v":{"$error":"#REF!"}},{"$f":"'Site Inspection'!$E$351","v":{"$error":"#REF!"}},{"$f":"'Site Inspection'!$E$352","v":{"$error":"#REF!"}},{"$f":"'Site Inspection'!$E$353","v":{"$error":"#REF!"}},{"$f":"'Site Inspection'!$E$354","v":{"$error":"#REF!"}},{"$f":"'Site Inspection'!$E$355","v":{"$error":"#REF!"}},{"$f":"'Site Inspection'!$E$356","v":{"$error":"#REF!"}},{"$f":"'Site Inspection'!$E$357","v":{"$error":"#REF!"}}]
["ND45",{"$f":"'Site Inspection'!$B$358","v":{"$error":"#REF!"}},{"$f":"'Site Inspection'!$C$358","v":{"$error":"#REF!"}},{"$f":"'Site Inspection'!$E$358","v":{"$error":"#REF!"}},{"$f":"'Site Inspection'!$H$358","v":{"$error":"#REF!"}},{"$f":"'Site Inspection'!$E$359","v":{"$error":"#REF!"}},{"$f":"'Site Inspection'!$E$360","v":{"$error":"#REF!"}},{"$f":"'Site Inspection'!$E$361","v":{"$error":"#REF!"}},{"$f":"'Site Inspection'!$E$362","v":{"$error":"#REF!"}},{"$f":"'Site Inspection'!$E$363","v":{"$error":"#REF!"}},{"$f":"'Site Inspection'!$E$364","v":{"$error":"#REF!"}},{"$f":"'Site Inspection'!$E$365","v":{"$error":"#REF!"}}]
["ND46",{"$f":"'Site Inspection'!$B$366","v":{"$error":"#REF!"}},{"$f":"'Site Inspection'!$C$366","v":{"$error":"#REF!"}},{"$f":"'Site Inspection'!$E$366","v":{"$error":"#REF!"}},{"$f":"'Site Inspection'!$H$366","v":{"$error":"#REF!"}},{"$f":"'Site Inspection'!$E$367","v":{"$error":"#REF!"}},{"$f":"'Site Inspection'!$E$368","v":{"$error":"#REF!"}},{"$f":"'Site Inspection'!$E$369","v":{"$error":"#REF!"}},{"$f":"'Site Inspection'!$E$370","v":{"$error":"#REF!"}},{"$f":"'Site Inspection'!$E$371","v":{"$error":"#REF!"}},{"$f":"'Site Inspection'!$E$372","v":{"$error":"#REF!"}},{"$f":"'Site Inspection'!$E$373","v":{"$error":"#REF!"}}]
["ND47",{"$f":"'Site Inspection'!$B$374","v":{"$error":"#REF!"}},{"$f":"'Site Inspection'!$C$374","v":{"$error":"#REF!"}},{"$f":"'Site Inspection'!$E$374","v":{"$error":"#REF!"}},{"$f":"'Site Inspection'!$H$374","v":{"$error":"#REF!"}},{"$f":"'Site Inspection'!$E$375","v":{"$error":"#REF!"}},{"$f":"'Site Inspection'!$E$376","v":{"$error":"#REF!"}},{"$f":"'Site Inspection'!$E$377","v":{"$error":"#REF!"}},{"$f":"'Site Inspection'!$E$378","v":{"$error":"#REF!"}},{"$f":"'Site Inspection'!$E$379","v":{"$error":"#REF!"}},{"$f":"'Site Inspection'!$E$380","v":{"$error":"#REF!"}},{"$f":"'Site Inspection'!$E$381","v":{"$error":"#REF!"}}]
["ND48",{"$f":"'Site Inspection'!$B$382","v":{"$error":"#REF!"}},{"$f":"'Site Inspection'!$C$382","v":{"$error":"#REF!"}},{"$f":"'Site Inspection'!$E$382","v":{"$error":"#REF!"}},{"$f":"'Site Inspection'!$H$382","v":{"$error":"#REF!"}},{"$f":"'Site Inspection'!$E$383","v":{"$error":"#REF!"}},{"$f":"'Site Inspection'!$E$384","v":{"$error":"#REF!"}},{"$f":"'Site Inspection'!$E$385","v":{"$error":"#REF!"}},{"$f":"'Site Inspection'!$E$386","v":{"$error":"#REF!"}},{"$f":"'Site Inspection'!$E$387","v":{"$error":"#REF!"}},{"$f":"'Site Inspection'!$E$388","v":{"$error":"#REF!"}},{"$f":"'Site Inspection'!$E$389","v":{"$error":"#REF!"}}]
["ND49",{"$f":"'Site Inspection'!$B$390","v":{"$error":"#REF!"}},{"$f":"'Site Inspection'!$C$390","v":{"$error":"#REF!"}},{"$f":"'Site Inspection'!$E$390","v":{"$error":"#REF!"}},{"$f":"'Site Inspection'!$H$390","v":{"$error":"#REF!"}},{"$f":"'Site Inspection'!$E$391","v":{"$error":"#REF!"}},{"$f":"'Site Inspection'!$E$392","v":{"$error":"#REF!"}},{"$f":"'Site Inspection'!$E$393","v":{"$error":"#REF!"}},{"$f":"'Site Inspection'!$E$394","v":{"$error":"#REF!"}},{"$f":"'Site Inspection'!$E$395","v":{"$error":"#REF!"}},{"$f":"'Site Inspection'!$E$396","v":{"$error":"#REF!"}},{"$f":"'Site Inspection'!$E$397","v":{"$error":"#REF!"}}]
["ND50",{"$f":"'Site Inspection'!$B$398","v":{"$error":"#REF!"}},{"$f":"'Site Inspection'!$C$398","v":{"$error":"#REF!"}},{"$f":"'Site Inspection'!$E$398","v":{"$error":"#REF!"}},{"$f":"'Site Inspection'!$H$398","v":{"$error":"#REF!"}},{"$f":"'Site Inspection'!$E$399","v":{"$error":"#REF!"}},{"$f":"'Site Inspection'!$E$400","v":{"$error":"#REF!"}},{"$f":"'Site Inspection'!$E$401","v":{"$error":"#REF!"}},{"$f":"'Site Inspection'!$E$402","v":{"$error":"#REF!"}},{"$f":"'Site Inspection'!$E$403","v":{"$error":"#REF!"}},{"$f":"'Site Inspection'!$E$404","v":{"$error":"#REF!"}},{"$f":"'Site Inspection'!$E$405","v":{"$error":"#REF!"}}]
[null,{"$f":"'Site Inspection'!B406","v":{"$error":"#REF!"}},null,{"$f":"'Site Inspection'!$E$406","v":{"$error":"#REF!"}}]
[null,{"$f":"'Site Inspection'!B407","v":{"$error":"#REF!"}},null,{"$f":"'Site Inspection'!$E$407","v":{"$error":"#REF!"}}]
[null,{"$f":"'Site Inspection'!B408","v":{"$error":"#REF!"}},null,{"$f":"'Site Inspection'!$E$408","v":{"$error":"#REF!"}}]
[null,{"$f":"'Site Inspection'!B409","v":{"$error":"#REF!"}},null,{"$f":"'Site Inspection'!$E$409","v":{"$error":"#REF!"}}]
[null,{"$f":"'Site Inspection'!B410","v":{"$error":"#REF!"}},null,{"$f":"'Site Inspection'!$E$410","v":{"$error":"#REF!"}}]
[null,{"$f":"'Site Inspection'!B411","v":{"$error":"#REF!"}},null,{"$f":"'Site Inspection'!$E$411","v":{"$error":"#REF!"}}]
[null,{"$f":"'Site Inspection'!B412","v":{"$error":"#REF!"}},null,{"$f":"'Site Inspection'!$E$412","v":{"$error":"#REF!"}}]
[null,{"$f":"'Site Inspection'!B413","v":{"$error":"#REF!"}},null,{"$f":"'Site Inspection'!$E$413","v":{"$error":"#REF!"}}]
[]
[]
[]
[]
[]
[]
[]
[]
[]
[]
[]
[]
[]
[]
[]
[]
[]
[]
[]
[]
[]
[]
[]
[]
[]
[]
[]
[]
[]
[]
[]
[]
[]
[]
[]
[]
[]
[]
[]
[]
[]
[]
[]
[]
[]
[]
[]
[]
[]
[]
[null,{"$f":"'Site Inspection'!B414","v":0},null,{"$f":"'Site Inspection'!E414","v":0}]
[null,{"$f":"'Site Inspection'!B415","v":0},null,{"$f":"'Site Inspection'!E415","v":0}]
[null,{"$f":"'Site Inspection'!B416","v":0},null,{"$f":"'Site Inspection'!E416","v":0}]
[null,{"$f":"'Site Inspection'!B417","v":0},null,{"$f":"'Site Inspection'!E417","v":0}]
[null,{"$f":"'Site Inspection'!B418","v":0},null,{"$f":"'Site Inspection'!E418","v":0}]
[null,{"$f":"'Site Inspection'!B419","v":0},null,{"$f":"'Site Inspection'!E419","v":0}]
[null,{"$f":"'Site Inspection'!B420","v":0},null,{"$f":"'Site Inspection'!E420","v":0}]
[null,{"$f":"'Site Inspection'!B421","v":0},null,{"$f":"'Site Inspection'!E421","v":0}]
[null,{"$f":"'Site Inspection'!B422","v":0},null,{"$f":"'Site Inspection'!E422","v":0}]
[null,{"$f":"'Site Inspection'!B423","v":0},null,{"$f":"'Site Inspection'!E423","v":0}]
[null,{"$f":"'Site Inspection'!B424","v":0},null,{"$f":"'Site Inspection'!E424","v":0}]
[null,{"$f":"'Site Inspection'!B425","v":0},null,{"$f":"'Site Inspection'!E425","v":0}]
[null,{"$f":"'Site Inspection'!B426","v":0},null,{"$f":"'Site Inspection'!E426","v":0}]
[null,{"$f":"'Site Inspection'!B427","v":0},null,{"$f":"'Site Inspection'!E427","v":0}]
[null,{"$f":"'Site Inspection'!B428","v":0},null,{"$f":"'Site Inspection'!E428","v":0}]
[null,{"$f":"'Site Inspection'!B429","v":0},null,{"$f":"'Site Inspection'!E429","v":0}]
[null,{"$f":"'Site Inspection'!B430","v":0},null,{"$f":"'Site Inspection'!E430","v":0}]
[null,{"$f":"'Site Inspection'!B431","v":0},null,{"$f":"'Site Inspection'!E431","v":0}]
[null,{"$f":"'Site Inspection'!B432","v":0},null,{"$f":"'Site Inspection'!E432","v":0}]
[null,{"$f":"'Site Inspection'!B433","v":0},null,{"$f":"'Site Inspection'!E433","v":0}]
[null,{"$f":"'Site Inspection'!B434","v":0},null,{"$f":"'Site Inspection'!E434","v":0}]
[null,{"$f":"'Site Inspection'!B435","v":0},null,{"$f":"'Site Inspection'!E435","v":0}]
[null,{"$f":"'Site Inspection'!B436","v":0},null,{"$f":"'Site Inspection'!E436","v":0}]
[null,{"$f":"'Site Inspection'!B437","v":0},null,{"$f":"'Site Inspection'!E437","v":0}]
[null,{"$f":"'Site Inspection'!B438","v":0},null,{"$f":"'Site Inspection'!E438","v":0}]
[null,{"$f":"'Site Inspection'!B439","v":0},null,{"$f":"'Site Inspection'!E439","v":0}]
[null,{"$f":"'Site Inspection'!B440","v":0},null,{"$f":"'Site Inspection'!E440","v":0}]
[null,{"$f":"'Site Inspection'!B441","v":0},null,{"$f":"'Site Inspection'!E441","v":0}]
[null,{"$f":"'Site Inspection'!B442","v":0},null,{"$f":"'Site Inspection'!E442","v":0}]
[null,{"$f":"'Site Inspection'!B443","v":0},null,{"$f":"'Site Inspection'!E443","v":0}]
[null,{"$f":"'Site Inspection'!B444","v":0},null,{"$f":"'Site Inspection'!E444","v":0}]
[null,{"$f":"'Site Inspection'!B445","v":0},null,{"$f":"'Site Inspection'!E445","v":0}]
[null,{"$f":"'Site Inspection'!B446","v":0},null,{"$f":"'Site Inspection'!E446","v":0}]
[null,{"$f":"'Site Inspection'!B447","v":0},null,{"$f":"'Site Inspection'!E447","v":0}]
[null,{"$f":"'Site Inspection'!B448","v":0},null,{"$f":"'Site Inspection'!E448","v":0}]
[null,{"$f":"'Site Inspection'!B449","v":0},null,{"$f":"'Site Inspection'!E449","v":0}]
[null,{"$f":"'Site Inspection'!B450","v":0},null,{"$f":"'Site Inspection'!E450","v":0}]
[null,{"$f":"'Site Inspection'!B451","v":0},null,{"$f":"'Site Inspection'!E451","v":0}]
[null,{"$f":"'Site Inspection'!B452","v":0},null,{"$f":"'Site Inspection'!E452","v":0}]
[null,{"$f":"'Site Inspection'!B453","v":0},null,{"$f":"'Site Inspection'!E453","v":0}]
[null,{"$f":"'Site Inspection'!B454","v":0},null,{"$f":"'Site Inspection'!E454","v":0}]
[null,{"$f":"'Site Inspection'!B455","v":0},null,{"$f":"'Site Inspection'!E455","v":0}]
[null,{"$f":"'Site Inspection'!B456","v":0},null,{"$f":"'Site Inspection'!E456","v":0}]
[null,{"$f":"'Site Inspection'!B457","v":0},null,{"$f":"'Site Inspection'!E457","v":0}]
[null,{"$f":"'Site Inspection'!B458","v":0},null,{"$f":"'Site Inspection'!E458","v":0}]
[null,{"$f":"'Site Inspection'!B459","v":0},null,{"$f":"'Site Inspection'!E459","v":0}]
[null,{"$f":"'Site Inspection'!B460","v":0},null,{"$f":"'Site Inspection'!E460","v":0}]
[null,{"$f":"'Site Inspection'!B461","v":0},null,{"$f":"'Site Inspection'!E461","v":0}]
[null,{"$f":"'Site Inspection'!B462","v":0},null,{"$f":"'Site Inspection'!E462","v":0}]
[null,{"$f":"'Site Inspection'!B463","v":0},null,{"$f":"'Site Inspection'!E463","v":0}]

{"sheet":"Site Inspection","index":8,"n_rows":413,"n_cols":15,"rows_kept":413,"cut":false,"hidden":true,"merged":[[0,0,0,2],[0,7,0,9]]}
["Communities Programme 2023",null,null,null,null,null,null,"SEAI Reference",null,null,"CEG"]
[]
["SITE INSPECTION SHEET",null,null,null,null,null,null,"Select No of Non Domestic Projects",null,null,50]
[]
["Beneficiary","Facility name","Facility address","Existing Spec","Type of energy upgrade","Proposed spec","IU Comments","Cost of measures (excl VAT)","Payback on measure (excl VAT)","Energy credits","Cost per kWh (excl VAT)","Grant Value"]
[{"$f":"'Project Summary'!I99","v":0},{"$f":"#REF!","v":{"$error":"#REF!"}},{"$f":"#REF!","v":{"$error":"#REF!"}},{"$f":"#REF!","v":{"$error":"#REF!"}},{"$f":"#REF!","v":{"$error":"#REF!"}},{"$f":"#REF!","v":{"$error":"#REF!"}},null,{"$f":"#REF!","v":{"$error":"#REF!"}},{"$f":"#REF!","v":{"$error":"#REF!"}},{"$f":"#REF!","v":{"$error":"#REF!"}},{"$f":"#REF!","v":{"$error":"#REF!"}},{"$f":"H6*'Project Summary'!F99","v":{"$error":"#REF!"}},null,null," "]
[{"$f":"'Project Summary'!I99","v":0},{"$f":"$B$6","v":{"$error":"#REF!"}},{"$f":"$C$6","v":{"$error":"#REF!"}},{"$f":"#REF!","v":{"$error":"#REF!"}},{"$f":"#REF!","v":{"$error":"#REF!"}},{"$f":"#REF!","v":{"$error":"#REF!"}},null,{"$f":"#REF!","v":{"$error":"#REF!"}},{"$f":"#REF!","v":{"$error":"#REF!"}},{"$f":"#REF!","v":{"$error":"#REF!"}},{"$f":"#REF!","v":{"$error":"#REF!"}},{"$f":"H7*'Project Summary'!F99","v":{"$error":"#REF!"}},null,null," "]
[{"$f":"'Project Summary'!I99","v":0},{"$f":"$B$6","v":{"$error":"#REF!"}},{"$f":"$C$6","v":{"$error":"#REF!"}},{"$f":"#REF!","v":{"$error":"#REF!"}},{"$f":"#REF!","v":{"$error":"#REF!"}},{"$f":"#REF!","v":{"$error":"#REF!"}},null,{"$f":"#REF!","v":{"$error":"#REF!"}},{"$f":"#REF!","v":{"$error":"#REF!"}},{"$f":"#REF!","v":{"$error":"#REF!"}},{"$f":"#REF!","v":{"$error":"#REF!"}},{"$f":"H8*'Project Summary'!F99","v":{"$error":"#REF!"}},null,null," "]
[{"$f":"'Project Summary'!I99","v":0},{"$error":"#REF!"},{"$error":"#REF!"},{"$f":"#REF!","v":{"$error":"#REF!"}},{"$f":"#REF!","v":{"$error":"#REF!"}},{"$f":"#REF!","v":{"$error":"#REF!"}},null,{"$f":"#REF!","v":{"$error":"#REF!"}},{"$f":"#REF!","v":{"$error":"#REF!"}},{"$f":"#REF!","v":{"$error":"#REF!"}},{"$f":"#REF!","v":{"$error":"#REF!"}},{"$f":"H9*'Project Summary'!F99","v":{"$error":"#REF!"}},null,null," "]
[{"$f":"'Project Summary'!I99","v":0},{"$error":"#REF!"},{"$error":"#REF!"},{"$f":"#REF!","v":{"$error":"#REF!"}},{"$f":"#REF!","v":{"$error":"#REF!"}},{"$f":"#REF!","v":{"$error":"#REF!"}},null,{"$f":"#REF!","v":{"$error":"#REF!"}},{"$f":"#REF!","v":{"$error":"#REF!"}},{"$f":"#REF!","v":{"$error":"#REF!"}},{"$f":"#REF!","v":{"$error":"#REF!"}},{"$f":"H10*'Project Summary'!F99","v":{"$error":"#REF!"}},null,null," "]
[{"$f":"'Project Summary'!I99","v":0},{"$error":"#REF!"},{"$error":"#REF!"},{"$f":"#REF!","v":{"$error":"#REF!"}},{"$f":"#REF!","v":{"$error":"#REF!"}},{"$f":"#REF!","v":{"$error":"#REF!"}},null,{"$f":"#REF!","v":{"$error":"#REF!"}},{"$f":"#REF!","v":{"$error":"#REF!"}},{"$f":"#REF!","v":{"$error":"#REF!"}},{"$f":"#REF!","v":{"$error":"#REF!"}},{"$f":"H11*'Project Summary'!F99","v":{"$error":"#REF!"}},null,null," "]
[{"$f":"'Project Summary'!I99","v":0},{"$error":"#REF!"},{"$error":"#REF!"},{"$f":"#REF!","v":{"$error":"#REF!"}},{"$f":"#REF!","v":{"$error":"#REF!"}},{"$f":"#REF!","v":{"$error":"#REF!"}},null,{"$f":"#REF!","v":{"$error":"#REF!"}},{"$f":"#REF!","v":{"$error":"#REF!"}},{"$f":"#REF!","v":{"$error":"#REF!"}},{"$f":"#REF!","v":{"$error":"#REF!"}},{"$f":"H12*'Project Summary'!F99","v":{"$error":"#REF!"}},null,null," "]
[{"$f":"'Project Summary'!I99","v":0},{"$error":"#REF!"},{"$f":"$C$6","v":{"$error":"#REF!"}},{"$f":"#REF!","v":{"$error":"#REF!"}},{"$f":"#REF!","v":{"$error":"#REF!"}},{"$f":"#REF!","v":{"$error":"#REF!"}},null,{"$f":"#REF!","v":{"$error":"#REF!"}},{"$f":"#REF!","v":{"$error":"#REF!"}},{"$f":"#REF!","v":{"$error":"#REF!"}},{"$f":"#REF!","v":{"$error":"#REF!"}},{"$f":"H13*'Project Summary'!F99","v":{"$error":"#REF!"}},null,null," "]
[{"$f":"'Project Summary'!I100","v":0},{"$f":"#REF!","v":{"$error":"#REF!"}},{"$f":"#REF!","v":{"$error":"#REF!"}},{"$f":"#REF!","v":{"$error":"#REF!"}},{"$f":"#REF!","v":{"$error":"#REF!"}},{"$f":"#REF!","v":{"$error":"#REF!"}},null,{"$f":"#REF!","v":{"$error":"#REF!"}},{"$f":"#REF!","v":{"$error":"#REF!"}},{"$f":"#REF!","v":{"$error":"#REF!"}},{"$f":"#REF!","v":{"$error":"#REF!"}},{"$f":"H14*'Project Summary'!F100","v":{"$error":"#REF!"}},null,null," "]
[{"$f":"'Project Summary'!I100","v":0},{"$f":"$B$14","v":{"$error":"#REF!"}},{"$f":"$C$14","v":{"$error":"#REF!"}},{"$f":"#REF!","v":{"$error":"#REF!"}},{"$f":"#REF!","v":{"$error":"#REF!"}},{"$f":"#REF!","v":{"$error":"#REF!"}},null,{"$f":"#REF!","v":{"$error":"#REF!"}},{"$f":"#REF!","v":{"$error":"#REF!"}},{"$f":"#REF!","v":{"$error":"#REF!"}},{"$f":"#REF!","v":{"$error":"#REF!"}},{"$f":"H15*'Project Summary'!F100","v":{"$error":"#REF!"}},null,null," "]
[{"$f":"'Project Summary'!I100","v":0},{"$f":"$B$14","v":{"$error":"#REF!"}},{"$f":"$C$14","v":{"$error":"#REF!"}},{"$f":"#REF!","v":{"$error":"#REF!"}},{"$f":"#REF!","v":{"$error":"#REF!"}},{"$f":"#REF!","v":{"$error":"#REF!"}},null,{"$f":"#REF!","v":{"$error":"#REF!"}},{"$f":"#REF!","v":{"$error":"#REF!"}},{"$f":"#REF!","v":{"$error":"#REF!"}},{"$f":"#REF!","v":{"$error":"#REF!"}},{"$f":"H16*'Project Summary'!F100","v":{"$error":"#REF!"}},null,null," "]
[{"$f":"'Project Summary'!I100","v":0},{"$error":"#REF!"},{"$error":"#REF!"},{"$f":"#REF!","v":{"$error":"#REF!"}},{"$f":"#REF!","v":{"$error":"#REF!"}},{"$f":"#REF!","v":{"$error":"#REF!"}},null,{"$f":"#REF!","v":{"$error":"#REF!"}},{"$f":"#REF!","v":{"$error":"#REF!"}},{"$f":"#REF!","v":{"$error":"#REF!"}},{"$f":"#REF!","v":{"$error":"#REF!"}},{"$f":"H17*'Project Summary'!F100","v":{"$error":"#REF!"}},null,null," "]
[{"$f":"'Project Summary'!I100","v":0},{"$error":"#REF!"},{"$error":"#REF!"},{"$f":"#REF!","v":{"$error":"#REF!"}},{"$f":"#REF!","v":{"$error":"#REF!"}},{"$f":"#REF!","v":{"$error":"#REF!"}},null,{"$f":"#REF!","v":{"$error":"#REF!"}},{"$f":"#REF!","v":{"$error":"#REF!"}},{"$f":"#REF!","v":{"$error":"#REF!"}},{"$f":"#REF!","v":{"$error":"#REF!"}},{"$f":"H18*'Project Summary'!F100","v":{"$error":"#REF!"}},null,null," "]
[{"$f":"'Project Summary'!I100","v":0},{"$error":"#REF!"},{"$error":"#REF!"},{"$f":"#REF!","v":{"$error":"#REF!"}},{"$f":"#REF!","v":{"$error":"#REF!"}},{"$f":"#REF!","v":{"$error":"#REF!"}},null,{"$f":"#REF!","v":{"$error":"#REF!"}},{"$f":"#REF!","v":{"$error":"#REF!"}},{"$f":"#REF!","v":{"$error":"#REF!"}},{"$f":"#REF!","v":{"$error":"#REF!"}},{"$f":"H19*'Project Summary'!F100","v":{"$error":"#REF!"}},null,null," "]
[{"$f":"'Project Summary'!I100","v":0},{"$error":"#REF!"},{"$error":"#REF!"},{"$f":"#REF!","v":{"$error":"#REF!"}},{"$f":"#REF!","v":{"$error":"#REF!"}},{"$f":"#REF!","v":{"$error":"#REF!"}},null,{"$f":"#REF!","v":{"$error":"#REF!"}},{"$f":"#REF!","v":{"$error":"#REF!"}},{"$f":"#REF!","v":{"$error":"#REF!"}},{"$f":"#REF!","v":{"$error":"#REF!"}},{"$f":"H20*'Project Summary'!F100","v":{"$error":"#REF!"}},null,null," "]
[{"$f":"'Project Summary'!I100","v":0},{"$error":"#REF!"},{"$error":"#REF!"},{"$f":"#REF!","v":{"$error":"#REF!"}},{"$f":"#REF!","v":{"$error":"#REF!"}},{"$f":"#REF!","v":{"$error":"#REF!"}},null,{"$f":"#REF!","v":{"$error":"#REF!"}},{"$f":"#REF!","v":{"$error":"#REF!"}},{"$f":"#REF!","v":{"$error":"#REF!"}},{"$f":"#REF!","v":{"$error":"#REF!"}},{"$f":"H21*'Project Summary'!F100","v":{"$error":"#REF!"}},null,null," "]
[{"$f":"'Project Summary'!I101","v":0},{"$f":"#REF!","v":{"$error":"#REF!"}},{"$f":"#REF!","v":{"$error":"#REF!"}},{"$f":"#REF!","v":{"$error":"#REF!"}},{"$f":"#REF!","v":{"$error":"#REF!"}},{"$f":"#REF!","v":{"$error":"#REF!"}},null,{"$f":"#REF!","v":{"$error":"#REF!"}},{"$f":"#REF!","v":{"$error":"#REF!"}},{"$f":"#REF!","v":{"$error":"#REF!"}},{"$f":"#REF!","v":{"$error":"#REF!"}},{"$f":"H22*'Project Summary'!F101","v":{"$error":"#REF!"}},null,null," "]
[{"$f":"$A$22","v":0},{"$f":"B$22","v":{"$error":"#REF!"}},{"$f":"C$22","v":{"$error":"#REF!"}},{"$f":"#REF!","v":{"$error":"#REF!"}},{"$f":"#REF!","v":{"$error":"#REF!"}},{"$f":"#REF!","v":{"$error":"#REF!"}},null,{"$f":"#REF!","v":{"$error":"#REF!"}},{"$f":"#REF!","v":{"$error":"#REF!"}},{"$f":"#REF!","v":{"$error":"#REF!"}},{"$f":"#REF!","v":{"$error":"#REF!"}},{"$f":"H23*'Project Summary'!F101","v":{"$error":"#REF!"}},null,null," "]
[{"$f":"$A$22","v":0},{"$f":"B$22","v":{"$error":"#REF!"}},{"$error":"#REF!"},{"$f":"#REF!","v":{"$error":"#REF!"}},{"$f":"#REF!","v":{"$error":"#REF!"}},{"$f":"#REF!","v":{"$error":"#REF!"}},null,{"$f":"#REF!","v":{"$error":"#REF!"}},{"$f":"#REF!","v":{"$error":"#REF!"}},{"$f":"#REF!","v":{"$error":"#REF!"}},{"$f":"#REF!","v":{"$error":"#REF!"}},{"$f":"H24*'Project Summary'!F101","v":{"$error":"#REF!"}},null,null," "]
[0,{"$error":"#REF!"},{"$error":"#REF!"},{"$f":"#REF!","v":{"$error":"#REF!"}},{"$f":"#REF!","v":{"$error":"#REF!"}},{"$f":"#REF!","v":{"$error":"#REF!"}},null,{"$f":"#REF!","v":{"$error":"#REF!"}},{"$f":"#REF!","v":{"$error":"#REF!"}},{"$f":"#REF!","v":{"$error":"#REF!"}},{"$f":"#REF!","v":{"$error":"#REF!"}},{"$f":"H25*'Project Summary'!F101","v":{"$error":"#REF!"}},null,null," "]
[0,{"$error":"#REF!"},{"$error":"#REF!"},{"$f":"#REF!","v":{"$error":"#REF!"}},{"$f":"#REF!","v":{"$error":"#REF!"}},{"$f":"#REF!","v":{"$error":"#REF!"}},null,{"$f":"#REF!","v":{"$error":"#REF!"}},{"$f":"#REF!","v":{"$error":"#REF!"}},{"$f":"#REF!","v":{"$error":"#REF!"}},{"$f":"#REF!","v":{"$error":"#REF!"}},{"$f":"H26*'Project Summary'!F101","v":{"$error":"#REF!"}},null,null," "]
[0,{"$error":"#REF!"},{"$error":"#REF!"},{"$f":"#REF!","v":{"$error":"#REF!"}},{"$f":"#REF!","v":{"$error":"#REF!"}},{"$f":"#REF!","v":{"$error":"#REF!"}},null,{"$f":"#REF!","v":{"$error":"#REF!"}},{"$f":"#REF!","v":{"$error":"#REF!"}},{"$f":"#REF!","v":{"$error":"#REF!"}},{"$f":"#REF!","v":{"$error":"#REF!"}},{"$f":"H27*'Project Summary'!F101","v":{"$error":"#REF!"}},null,null," "]
[0,{"$error":"#REF!"},{"$error":"#REF!"},{"$f":"#REF!","v":{"$error":"#REF!"}},{"$f":"#REF!","v":{"$error":"#REF!"}},{"$f":"#REF!","v":{"$error":"#REF!"}},null,{"$f":"#REF!","v":{"$error":"#REF!"}},{"$f":"#REF!","v":{"$error":"#REF!"}},{"$f":"#REF!","v":{"$error":"#REF!"}},{"$f":"#REF!","v":{"$error":"#REF!"}},{"$f":"H28*'Project Summary'!F101","v":{"$error":"#REF!"}},null,null," "]
[{"$f":"$A$22","v":0},{"$f":"B$22","v":{"$error":"#REF!"}},{"$error":"#REF!"},{"$f":"#REF!","v":{"$error":"#REF!"}},{"$f":"#REF!","v":{"$error":"#REF!"}},{"$f":"#REF!","v":{"$error":"#REF!"}},null,{"$f":"#REF!","v":{"$error":"#REF!"}},{"$f":"#REF!","v":{"$error":"#REF!"}},{"$f":"#REF!","v":{"$error":"#REF!"}},{"$f":"#REF!","v":{"$error":"#REF!"}},{"$f":"H29*'Project Summary'!F101","v":{"$error":"#REF!"}},null,null," "]
[{"$f":"'Project Summary'!I102","v":0},{"$f":"#REF!","v":{"$error":"#REF!"}},{"$f":"#REF!","v":{"$error":"#REF!"}},{"$f":"#REF!","v":{"$error":"#REF!"}},{"$f":"#REF!","v":{"$error":"#REF!"}},{"$f":"#REF!","v":{"$error":"#REF!"}},null,{"$f":"#REF!","v":{"$error":"#REF!"}},{"$f":"#REF!","v":{"$error":"#REF!"}},{"$f":"#REF!","v":{"$error":"#REF!"}},{"$f":"#REF!","v":{"$error":"#REF!"}},{"$f":"H30*'Project Summary'!F102","v":{"$error":"#REF!"}},null,null," "]
[{"$f":"$A$30","v":0},{"$f":"B$30","v":{"$error":"#REF!"}},{"$f":"C$30","v":{"$error":"#REF!"}},{"$f":"#REF!","v":{"$error":"#REF!"}},{"$f":"#REF!","v":{"$error":"#REF!"}},{"$f":"#REF!","v":{"$error":"#REF!"}},null,{"$f":"#REF!","v":{"$error":"#REF!"}},{"$f":"#REF!","v":{"$error":"#REF!"}},{"$f":"#REF!","v":{"$error":"#REF!"}},{"$f":"#REF!","v":{"$error":"#REF!"}},{"$f":"H31*'Project Summary'!F102","v":{"$error":"#REF!"}},null,null," "]
[{"$f":"$A$30","v":0},{"$f":"B$30","v":{"$error":"#REF!"}},{"$error":"#REF!"},{"$f":"#REF!","v":{"$error":"#REF!"}},{"$f":"#REF!","v":{"$error":"#REF!"}},{"$f":"#REF!","v":{"$error":"#REF!"}},null,{"$f":"#REF!","v":{"$error":"#REF!"}},{"$f":"#REF!","v":{"$error":"#REF!"}},{"$f":"#REF!","v":{"$error":"#REF!"}},{"$f":"#REF!","v":{"$error":"#REF!"}},{"$f":"H32*'Project Summary'!F102","v":{"$error":"#REF!"}},null,null," "]
[0,{"$error":"#REF!"},{"$error":"#REF!"},{"$f":"#REF!","v":{"$error":"#REF!"}},{"$f":"#REF!","v":{"$error":"#REF!"}},{"$f":"#REF!","v":{"$error":"#REF!"}},null,{"$f":"#REF!","v":{"$error":"#REF!"}},{"$f":"#REF!","v":{"$error":"#REF!"}},{"$f":"#REF!","v":{"$error":"#REF!"}},{"$f":"#REF!","v":{"$error":"#REF!"}},{"$f":"H33*'Project Summary'!F102","v":{"$error":"#REF!"}},null,null," "]
[0,{"$error":"#REF!"},{"$error":"#REF!"},{"$f":"#REF!","v":{"$error":"#REF!"}},{"$f":"#REF!","v":{"$error":"#REF!"}},{"$f":"#REF!","v":{"$error":"#REF!"}},null,{"$f":"#REF!","v":{"$error":"#REF!"}},{"$f":"#REF!","v":{"$error":"#REF!"}},{"$f":"#REF!","v":{"$error":"#REF!"}},{"$f":"#REF!","v":{"$error":"#REF!"}},{"$f":"H34*'Project Summary'!F102","v":{"$error":"#REF!"}},null,null," "]
[0,{"$error":"#REF!"},{"$error":"#REF!"},{"$f":"#REF!","v":{"$error":"#REF!"}},{"$f":"#REF!","v":{"$error":"#REF!"}},{"$f":"#REF!","v":{"$error":"#REF!"}},null,{"$f":"#REF!","v":{"$error":"#REF!"}},{"$f":"#REF!","v":{"$error":"#REF!"}},{"$f":"#REF!","v":{"$error":"#REF!"}},{"$f":"#REF!","v":{"$error":"#REF!"}},{"$f":"H35*'Project Summary'!F102","v":{"$error":"#REF!"}},null,null," "]
[0,{"$error":"#REF!"},{"$error":"#REF!"},{"$f":"#REF!","v":{"$error":"#REF!"}},{"$f":"#REF!","v":{"$error":"#REF!"}},{"$f":"#REF!","v":{"$error":"#REF!"}},null,{"$f":"#REF!","v":{"$error":"#REF!"}},{"$f":"#REF!","v":{"$error":"#REF!"}},{"$f":"#REF!","v":{"$error":"#REF!"}},{"$f":"#REF!","v":{"$error":"#REF!"}},{"$f":"H36*'Project Summary'!F102","v":{"$error":"#REF!"}},null,null," "]
[{"$f":"$A$30","v":0},{"$f":"B$30","v":{"$error":"#REF!"}},{"$f":"C$30","v":{"$error":"#REF!"}},{"$f":"#REF!","v":{"$error":"#REF!"}},{"$f":"#REF!","v":{"$error":"#REF!"}},{"$f":"#REF!","v":{"$error":"#REF!"}},null,{"$f":"#REF!","v":{"$error":"#REF!"}},{"$f":"#REF!","v":{"$error":"#REF!"}},{"$f":"#REF!","v":{"$error":"#REF!"}},{"$f":"#REF!","v":{"$error":"#REF!"}},{"$f":"H37*'Project Summary'!F102","v":{"$error":"#REF!"}},null,null," "]
[{"$f":"'Project Summary'!I103","v":0},{"$f":"#REF!","v":{"$error":"#REF!"}},{"$f":"#REF!","v":{"$error":"#REF!"}},{"$f":"#REF!","v":{"$error":"#REF!"}},{"$f":"#REF!","v":{"$error":"#REF!"}},{"$f":"#REF!","v":{"$error":"#REF!"}},null,{"$f":"#REF!","v":{"$error":"#REF!"}},{"$f":"#REF!","v":{"$error":"#REF!"}},{"$f":"#REF!","v":{"$error":"#REF!"}},{"$f":"#REF!","v":{"$error":"#REF!"}},{"$f":"H38*'Project Summary'!F103","v":{"$error":"#REF!"}},null,null," "]
[{"$f":"$A$38","v":0},{"$f":"B$38","v":{"$error":"#REF!"}},{"$f":"C$38","v":{"$error":"#REF!"}},{"$f":"#REF!","v":{"$error":"#REF!"}},{"$f":"#REF!","v":{"$error":"#REF!"}},{"$f":"#REF!","v":{"$error":"#REF!"}},null,{"$f":"#REF!","v":{"$error":"#REF!"}},{"$f":"#REF!","v":{"$error":"#REF!"}},{"$f":"#REF!","v":{"$error":"#REF!"}},{"$f":"#REF!","v":{"$error":"#REF!"}},{"$f":"H39*'Project Summary'!F103","v":{"$error":"#REF!"}},null,null," "]
[{"$f":"$A$38","v":0},{"$f":"B$38","v":{"$error":"#REF!"}},{"$error":"#REF!"},{"$f":"#REF!","v":{"$error":"#REF!"}},{"$f":"#REF!","v":{"$error":"#REF!"}},{"$f":"#REF!","v":{"$error":"#REF!"}},null,{"$f":"#REF!","v":{"$error":"#REF!"}},{"$f":"#REF!","v":{"$error":"#REF!"}},{"$f":"#REF!","v":{"$error":"#REF!"}},{"$f":"#REF!","v":{"$error":"#REF!"}},{"$f":"H40*'Project Summary'!F103","v":{"$error":"#REF!"}},null,null," "]
[0,{"$error":"#REF!"},{"$error":"#REF!"},{"$f":"#REF!","v":{"$error":"#REF!"}},{"$f":"#REF!","v":{"$error":"#REF!"}},{"$f":"#REF!","v":{"$error":"#REF!"}},null,{"$f":"#REF!","v":{"$error":"#REF!"}},{"$f":"#REF!","v":{"$error":"#REF!"}},{"$f":"#REF!","v":{"$error":"#REF!"}},{"$f":"#REF!","v":{"$error":"#REF!"}},{"$f":"H41*'Project Summary'!F103","v":{"$error":"#REF!"}},null,null," "]
[0,{"$error":"#REF!"},{"$error":"#REF!"},{"$f":"#REF!","v":{"$error":"#REF!"}},{"$f":"#REF!","v":{"$error":"#REF!"}},{"$f":"#REF!","v":{"$error":"#REF!"}},null,{"$f":"#REF!","v":{"$error":"#REF!"}},{"$f":"#REF!","v":{"$error":"#REF!"}},{"$f":"#REF!","v":{"$error":"#REF!"}},{"$f":"#REF!","v":{"$error":"#REF!"}},{"$f":"H42*'Project Summary'!F103","v":{"$error":"#REF!"}},null,null," "]
[0,{"$error":"#REF!"},{"$error":"#REF!"},{"$f":"#REF!","v":{"$error":"#REF!"}},{"$f":"#REF!","v":{"$error":"#REF!"}},{"$f":"#REF!","v":{"$error":"#REF!"}},null,{"$f":"#REF!","v":{"$error":"#REF!"}},{"$f":"#REF!","v":{"$error":"#REF!"}},{"$f":"#REF!","v":{"$error":"#REF!"}},{"$f":"#REF!","v":{"$error":"#REF!"}},{"$f":"H43*'Project Summary'!F103","v":{"$error":"#REF!"}},null,null," "]
[0,{"$error":"#REF!"},{"$error":"#REF!"},{"$f":"#REF!","v":{"$error":"#REF!"}},{"$f":"#REF!","v":{"$error":"#REF!"}},{"$f":"#REF!","v":{"$error":"#REF!"}},null,{"$f":"#REF!","v":{"$error":"#REF!"}},{"$f":"#REF!","v":{"$error":"#REF!"}},{"$f":"#REF!","v":{"$error":"#REF!"}},{"$f":"#REF!","v":{"$error":"#REF!"}},{"$f":"H44*'Project Summary'!F103","v":{"$error":"#REF!"}},null,null," "]
[0,{"$f":"B$38","v":{"$error":"#REF!"}},{"$error":"#REF!"},{"$f":"#REF!","v":{"$error":"#REF!"}},{"$f":"#REF!","v":{"$error":"#REF!"}},{"$f":"#REF!","v":{"$error":"#REF!"}},null,{"$f":"#REF!","v":{"$error":"#REF!"}},{"$f":"#REF!","v":{"$error":"#REF!"}},{"$f":"#REF!","v":{"$error":"#REF!"}},{"$f":"#REF!","v":{"$error":"#REF!"}},{"$f":"H45*'Project Summary'!F103","v":{"$error":"#REF!"}},null,null," "]
[{"$f":"'Project Summary'!I104","v":0},{"$f":"#REF!","v":{"$error":"#REF!"}},{"$f":"#REF!","v":{"$error":"#REF!"}},{"$f":"#REF!","v":{"$error":"#REF!"}},{"$f":"#REF!","v":{"$error":"#REF!"}},{"$f":"#REF!","v":{"$error":"#REF!"}},null,{"$f":"#REF!","v":{"$error":"#REF!"}},{"$f":"#REF!","v":{"$error":"#REF!"}},{"$f":"#REF!","v":{"$error":"#REF!"}},{"$f":"#REF!","v":{"$error":"#REF!"}},{"$f":"H46*'Project Summary'!F104","v":{"$error":"#REF!"}},null,null," "]
[{"$f":"$A$46","v":0},{"$f":"B$46","v":{"$error":"#REF!"}},{"$f":"C$46","v":{"$error":"#REF!"}},{"$f":"#REF!","v":{"$error":"#REF!"}},{"$f":"#REF!","v":{"$error":"#REF!"}},{"$f":"#REF!","v":{"$error":"#REF!"}},null,{"$f":"#REF!","v":{"$error":"#REF!"}},{"$f":"#REF!","v":{"$error":"#REF!"}},{"$f":"#REF!","v":{"$error":"#REF!"}},{"$f":"#REF!","v":{"$error":"#REF!"}},{"$f":"H47*'Project Summary'!F104","v":{"$error":"#REF!"}},null,null," "]
[{"$f":"$A$46","v":0},{"$f":"B$46","v":{"$error":"#REF!"}},{"$error":"#REF!"},{"$f":"#REF!","v":{"$error":"#REF!"}},{"$f":"#REF!","v":{"$error":"#REF!"}},{"$f":"#REF!","v":{"$error":"#REF!"}},null,{"$f":"#REF!","v":{"$error":"#REF!"}},{"$f":"#REF!","v":{"$error":"#REF!"}},{"$f":"#REF!","v":{"$error":"#REF!"}},{"$f":"#REF!","v":{"$error":"#REF!"}},{"$f":"H48*'Project Summary'!F104","v":{"$error":"#REF!"}},null,null," "]
[0,{"$error":"#REF!"},{"$error":"#REF!"},{"$f":"#REF!","v":{"$error":"#REF!"}},{"$f":"#REF!","v":{"$error":"#REF!"}},{"$f":"#REF!","v":{"$error":"#REF!"}},null,{"$f":"#REF!","v":{"$error":"#REF!"}},{"$f":"#REF!","v":{"$error":"#REF!"}},{"$f":"#REF!","v":{"$error":"#REF!"}},{"$f":"#REF!","v":{"$error":"#REF!"}},{"$f":"H49*'Project Summary'!F104","v":{"$error":"#REF!"}},null,null," "]
[0,{"$error":"#REF!"},{"$error":"#REF!"},{"$f":"#REF!","v":{"$error":"#REF!"}},{"$f":"#REF!","v":{"$error":"#REF!"}},{"$f":"#REF!","v":{"$error":"#REF!"}},null,{"$f":"#REF!","v":{"$error":"#REF!"}},{"$f":"#REF!","v":{"$error":"#REF!"}},{"$f":"#REF!","v":{"$error":"#REF!"}},{"$f":"#REF!","v":{"$error":"#REF!"}},{"$f":"H50*'Project Summary'!F104","v":{"$error":"#REF!"}},null,null," "]
[0,{"$error":"#REF!"},{"$error":"#REF!"},{"$f":"#REF!","v":{"$error":"#REF!"}},{"$f":"#REF!","v":{"$error":"#REF!"}},{"$f":"#REF!","v":{"$error":"#REF!"}},null,{"$f":"#REF!","v":{"$error":"#REF!"}},{"$f":"#REF!","v":{"$error":"#REF!"}},{"$f":"#REF!","v":{"$error":"#REF!"}},{"$f":"#REF!","v":{"$error":"#REF!"}},{"$f":"H51*'Project Summary'!F104","v":{"$error":"#REF!"}},null,null," "]
[0,{"$error":"#REF!"},{"$error":"#REF!"},{"$f":"#REF!","v":{"$error":"#REF!"}},{"$f":"#REF!","v":{"$error":"#REF!"}},{"$f":"#REF!","v":{"$error":"#REF!"}},null,{"$f":"#REF!","v":{"$error":"#REF!"}},{"$f":"#REF!","v":{"$error":"#REF!"}},{"$f":"#REF!","v":{"$error":"#REF!"}},{"$f":"#REF!","v":{"$error":"#REF!"}},{"$f":"H52*'Project Summary'!F104","v":{"$error":"#REF!"}},null,null," "]
[0,{"$f":"B$46","v":{"$error":"#REF!"}},{"$f":"C$46","v":{"$error":"#REF!"}},{"$f":"#REF!","v":{"$error":"#REF!"}},{"$f":"#REF!","v":{"$error":"#REF!"}},{"$f":"#REF!","v":{"$error":"#REF!"}},null,{"$f":"#REF!","v":{"$error":"#REF!"}},{"$f":"#REF!","v":{"$error":"#REF!"}},{"$f":"#REF!","v":{"$error":"#REF!"}},{"$f":"#REF!","v":{"$error":"#REF!"}},{"$f":"H53*'Project Summary'!F104","v":{"$error":"#REF!"}},null,null," "]
[{"$f":"'Project Summary'!I105","v":0},{"$f":"#REF!","v":{"$error":"#REF!"}},{"$f":"#REF!","v":{"$error":"#REF!"}},{"$f":"#REF!","v":{"$error":"#REF!"}},{"$f":"#REF!","v":{"$error":"#REF!"}},{"$f":"#REF!","v":{"$error":"#REF!"}},null,{"$f":"#REF!","v":{"$error":"#REF!"}},{"$f":"#REF!","v":{"$error":"#REF!"}},{"$f":"#REF!","v":{"$error":"#REF!"}},{"$f":"#REF!","v":{"$error":"#REF!"}},{"$f":"H54*'Project Summary'!F105","v":{"$error":"#REF!"}},null,null," "]
[{"$f":"$A$54","v":0},{"$f":"B$54","v":{"$error":"#REF!"}},{"$f":"C$54","v":{"$error":"#REF!"}},{"$f":"#REF!","v":{"$error":"#REF!"}},{"$f":"#REF!","v":{"$error":"#REF!"}},{"$f":"#REF!","v":{"$error":"#REF!"}},null,{"$f":"#REF!","v":{"$error":"#REF!"}},{"$f":"#REF!","v":{"$error":"#REF!"}},{"$f":"#REF!","v":{"$error":"#REF!"}},{"$f":"#REF!","v":{"$error":"#REF!"}},{"$f":"H55*'Project Summary'!F105","v":{"$error":"#REF!"}},null,null," "]
[{"$f":"$A$54","v":0},{"$f":"B$54","v":{"$error":"#REF!"}},{"$error":"#REF!"},{"$f":"#REF!","v":{"$error":"#REF!"}},{"$f":"#REF!","v":{"$error":"#REF!"}},{"$f":"#REF!","v":{"$error":"#REF!"}},null,{"$f":"#REF!","v":{"$error":"#REF!"}},{"$f":"#REF!","v":{"$error":"#REF!"}},{"$f":"#REF!","v":{"$error":"#REF!"}},{"$f":"#REF!","v":{"$error":"#REF!"}},{"$f":"H56*'Project Summary'!F105","v":{"$error":"#REF!"}},null,null," "]
[0,{"$error":"#REF!"},{"$error":"#REF!"},{"$f":"#REF!","v":{"$error":"#REF!"}},{"$f":"#REF!","v":{"$error":"#REF!"}},{"$f":"#REF!","v":{"$error":"#REF!"}},null,{"$f":"#REF!","v":{"$error":"#REF!"}},{"$f":"#REF!","v":{"$error":"#REF!"}},{"$f":"#REF!","v":{"$error":"#REF!"}},{"$f":"#REF!","v":{"$error":"#REF!"}},{"$f":"H57*'Project Summary'!F105","v":{"$error":"#REF!"}},null,null," "]
[0,{"$error":"#REF!"},{"$error":"#REF!"},{"$f":"#REF!","v":{"$error":"#REF!"}},{"$f":"#REF!","v":{"$error":"#REF!"}},{"$f":"#REF!","v":{"$error":"#REF!"}},null,{"$f":"#REF!","v":{"$error":"#REF!"}},{"$f":"#REF!","v":{"$error":"#REF!"}},{"$f":"#REF!","v":{"$error":"#REF!"}},{"$f":"#REF!","v":{"$error":"#REF!"}},{"$f":"H58*'Project Summary'!F105","v":{"$error":"#REF!"}},null,null," "]
[0,{"$error":"#REF!"},{"$error":"#REF!"},{"$f":"#REF!","v":{"$error":"#REF!"}},{"$f":"#REF!","v":{"$error":"#REF!"}},{"$f":"#REF!","v":{"$error":"#REF!"}},null,{"$f":"#REF!","v":{"$error":"#REF!"}},{"$f":"#REF!","v":{"$error":"#REF!"}},{"$f":"#REF!","v":{"$error":"#REF!"}},{"$f":"#REF!","v":{"$error":"#REF!"}},{"$f":"H59*'Project Summary'!F105","v":{"$error":"#REF!"}},null,null," "]
[0,{"$error":"#REF!"},{"$error":"#REF!"},{"$f":"#REF!","v":{"$error":"#REF!"}},{"$f":"#REF!","v":{"$error":"#REF!"}},{"$f":"#REF!","v":{"$error":"#REF!"}},null,{"$f":"#REF!","v":{"$error":"#REF!"}},{"$f":"#REF!","v":{"$error":"#REF!"}},{"$f":"#REF!","v":{"$error":"#REF!"}},{"$f":"#REF!","v":{"$error":"#REF!"}},{"$f":"H60*'Project Summary'!F105","v":{"$error":"#REF!"}},null,null," "]
[0,{"$error":"#REF!"},{"$error":"#REF!"},{"$f":"#REF!","v":{"$error":"#REF!"}},{"$f":"#REF!","v":{"$error":"#REF!"}},{"$f":"#REF!","v":{"$error":"#REF!"}},null,{"$f":"#REF!","v":{"$error":"#REF!"}},{"$f":"#REF!","v":{"$error":"#REF!"}},{"$f":"#REF!","v":{"$error":"#REF!"}},{"$f":"#REF!","v":{"$error":"#REF!"}},{"$f":"H61*'Project Summary'!F105","v":{"$error":"#REF!"}},null,null," "]
[{"$f":"'Project Summary'!I106","v":0},{"$f":"#REF!","v":{"$error":"#REF!"}},{"$f":"#REF!","v":{"$error":"#REF!"}},{"$f":"#REF!","v":{"$error":"#REF!"}},{"$f":"#REF!","v":{"$error":"#REF!"}},{"$f":"#REF!","v":{"$error":"#REF!"}},null,{"$f":"#REF!","v":{"$error":"#REF!"}},{"$f":"#REF!","v":{"$error":"#REF!"}},{"$f":"#REF!","v":{"$error":"#REF!"}},{"$f":"#REF!","v":{"$error":"#REF!"}},{"$f":"H62*'Project Summary'!F106","v":{"$error":"#REF!"}},null,null," "]
[{"$f":"$A$62","v":0},{"$f":"B$62","v":{"$error":"#REF!"}},{"$f":"C$62","v":{"$error":"#REF!"}},{"$f":"#REF!","v":{"$error":"#REF!"}},{"$f":"#REF!","v":{"$error":"#REF!"}},{"$f":"#REF!","v":{"$error":"#REF!"}},null,{"$f":"#REF!","v":{"$error":"#REF!"}},{"$f":"#REF!","v":{"$error":"#REF!"}},{"$f":"#REF!","v":{"$error":"#REF!"}},{"$f":"#REF!","v":{"$error":"#REF!"}},{"$f":"H63*'Project Summary'!F106","v":{"$error":"#REF!"}},null,null," "]
[{"$f":"$A$62","v":0},{"$f":"B$62","v":{"$error":"#REF!"}},{"$error":"#REF!"},{"$f":"#REF!","v":{"$error":"#REF!"}},{"$f":"#REF!","v":{"$error":"#REF!"}},{"$f":"#REF!","v":{"$error":"#REF!"}},null,{"$f":"#REF!","v":{"$error":"#REF!"}},{"$f":"#REF!","v":{"$error":"#REF!"}},{"$f":"#REF!","v":{"$error":"#REF!"}},{"$f":"#REF!","v":{"$error":"#REF!"}},{"$f":"H64*'Project Summary'!F106","v":{"$error":"#REF!"}},null,null," "]
[0,{"$error":"#REF!"},{"$error":"#REF!"},{"$f":"#REF!","v":{"$error":"#REF!"}},{"$f":"#REF!","v":{"$error":"#REF!"}},{"$f":"#REF!","v":{"$error":"#REF!"}},null,{"$f":"#REF!","v":{"$error":"#REF!"}},{"$f":"#REF!","v":{"$error":"#REF!"}},{"$f":"#REF!","v":{"$error":"#REF!"}},{"$f":"#REF!","v":{"$error":"#REF!"}},{"$f":"H65*'Project Summary'!F106","v":{"$error":"#REF!"}},null,null," "]
[0,{"$error":"#REF!"},{"$error":"#REF!"},{"$f":"#REF!","v":{"$error":"#REF!"}},{"$f":"#REF!","v":{"$error":"#REF!"}},{"$f":"#REF!","v":{"$error":"#REF!"}},null,{"$f":"#REF!","v":{"$error":"#REF!"}},{"$f":"#REF!","v":{"$error":"#REF!"}},{"$f":"#REF!","v":{"$error":"#REF!"}},{"$f":"#REF!","v":{"$error":"#REF!"}},{"$f":"H66*'Project Summary'!F106","v":{"$error":"#REF!"}},null,null," "]
[0,{"$error":"#REF!"},{"$error":"#REF!"},{"$f":"#REF!","v":{"$error":"#REF!"}},{"$f":"#REF!","v":{"$error":"#REF!"}},{"$f":"#REF!","v":{"$error":"#REF!"}},null,{"$f":"#REF!","v":{"$error":"#REF!"}},{"$f":"#REF!","v":{"$error":"#REF!"}},{"$f":"#REF!","v":{"$error":"#REF!"}},{"$f":"#REF!","v":{"$error":"#REF!"}},{"$f":"H67*'Project Summary'!F106","v":{"$error":"#REF!"}},null,null," "]
[0,{"$error":"#REF!"},{"$error":"#REF!"},{"$f":"#REF!","v":{"$error":"#REF!"}},{"$f":"#REF!","v":{"$error":"#REF!"}},{"$f":"#REF!","v":{"$error":"#REF!"}},null,{"$f":"#REF!","v":{"$error":"#REF!"}},{"$f":"#REF!","v":{"$error":"#REF!"}},{"$f":"#REF!","v":{"$error":"#REF!"}},{"$f":"#REF!","v":{"$error":"#REF!"}},{"$f":"H68*'Project Summary'!F106","v":{"$error":"#REF!"}},null,null," "]
[0,{"$error":"#REF!"},{"$error":"#REF!"},{"$f":"#REF!","v":{"$error":"#REF!"}},{"$f":"#REF!","v":{"$error":"#REF!"}},{"$f":"#REF!","v":{"$error":"#REF!"}},null,{"$f":"#REF!","v":{"$error":"#REF!"}},{"$f":"#REF!","v":{"$error":"#REF!"}},{"$f":"#REF!","v":{"$error":"#REF!"}},{"$f":"#REF!","v":{"$error":"#REF!"}},{"$f":"H69*'Project Summary'!F106","v":{"$error":"#REF!"}},null,null," "]
[{"$f":"'Project Summary'!I107","v":0},{"$f":"#REF!","v":{"$error":"#REF!"}},{"$f":"#REF!","v":{"$error":"#REF!"}},{"$f":"#REF!","v":{"$error":"#REF!"}},{"$f":"#REF!","v":{"$error":"#REF!"}},{"$f":"#REF!","v":{"$error":"#REF!"}},null,{"$f":"#REF!","v":{"$error":"#REF!"}},{"$f":"#REF!","v":{"$error":"#REF!"}},{"$f":"#REF!","v":{"$error":"#REF!"}},{"$f":"#REF!","v":{"$error":"#REF!"}},{"$f":"H70*'Project Summary'!F107","v":{"$error":"#REF!"}},null,null," "]
[{"$f":"$A$70","v":0},{"$f":"B$70","v":{"$error":"#REF!"}},{"$f":"C$70","v":{"$error":"#REF!"}},{"$f":"#REF!","v":{"$error":"#REF!"}},{"$f":"#REF!","v":{"$error":"#REF!"}},{"$f":"#REF!","v":{"$error":"#REF!"}},null,{"$f":"#REF!","v":{"$error":"#REF!"}},{"$f":"#REF!","v":{"$error":"#REF!"}},{"$f":"#REF!","v":{"$error":"#REF!"}},{"$f":"#REF!","v":{"$error":"#REF!"}},{"$f":"H71*'Project Summary'!F107","v":{"$error":"#REF!"}},null,null," "]
[{"$f":"$A$70","v":0},{"$f":"B$70","v":{"$error":"#REF!"}},{"$error":"#REF!"},{"$f":"#REF!","v":{"$error":"#REF!"}},{"$f":"#REF!","v":{"$error":"#REF!"}},{"$f":"#REF!","v":{"$error":"#REF!"}},null,{"$f":"#REF!","v":{"$error":"#REF!"}},{"$f":"#REF!","v":{"$error":"#REF!"}},{"$f":"#REF!","v":{"$error":"#REF!"}},{"$f":"#REF!","v":{"$error":"#REF!"}},{"$f":"H72*'Project Summary'!F107","v":{"$error":"#REF!"}},null,null," "]
[0,{"$error":"#REF!"},{"$error":"#REF!"},{"$f":"#REF!","v":{"$error":"#REF!"}},{"$f":"#REF!","v":{"$error":"#REF!"}},{"$f":"#REF!","v":{"$error":"#REF!"}},null,{"$f":"#REF!","v":{"$error":"#REF!"}},{"$f":"#REF!","v":{"$error":"#REF!"}},{"$f":"#REF!","v":{"$error":"#REF!"}},{"$f":"#REF!","v":{"$error":"#REF!"}},{"$f":"H73*'Project Summary'!F107","v":{"$error":"#REF!"}},null,null," "]
[0,{"$error":"#REF!"},{"$error":"#REF!"},{"$f":"#REF!","v":{"$error":"#REF!"}},{"$f":"#REF!","v":{"$error":"#REF!"}},{"$f":"#REF!","v":{"$error":"#REF!"}},null,{"$f":"#REF!","v":{"$error":"#REF!"}},{"$f":"#REF!","v":{"$error":"#REF!"}},{"$f":"#REF!","v":{"$error":"#REF!"}},{"$f":"#REF!","v":{"$error":"#REF!"}},{"$f":"H74*'Project Summary'!F107","v":{"$error":"#REF!"}},null,null," "]
[0,{"$error":"#REF!"},{"$error":"#REF!"},{"$f":"#REF!","v":{"$error":"#REF!"}},{"$f":"#REF!","v":{"$error":"#REF!"}},{"$f":"#REF!","v":{"$error":"#REF!"}},null,{"$f":"#REF!","v":{"$error":"#REF!"}},{"$f":"#REF!","v":{"$error":"#REF!"}},{"$f":"#REF!","v":{"$error":"#REF!"}},{"$f":"#REF!","v":{"$error":"#REF!"}},{"$f":"H75*'Project Summary'!F107","v":{"$error":"#REF!"}},null,null," "]
[0,{"$error":"#REF!"},{"$error":"#REF!"},{"$f":"#REF!","v":{"$error":"#REF!"}},{"$f":"#REF!","v":{"$error":"#REF!"}},{"$f":"#REF!","v":{"$error":"#REF!"}},null,{"$f":"#REF!","v":{"$error":"#REF!"}},{"$f":"#REF!","v":{"$error":"#REF!"}},{"$f":"#REF!","v":{"$error":"#REF!"}},{"$f":"#REF!","v":{"$error":"#REF!"}},{"$f":"H76*'Project Summary'!F107","v":{"$error":"#REF!"}},null,null," "]
[{"$f":"$A$70","v":0},{"$error":"#REF!"},{"$error":"#REF!"},{"$f":"#REF!","v":{"$error":"#REF!"}},{"$f":"#REF!","v":{"$error":"#REF!"}},{"$f":"#REF!","v":{"$error":"#REF!"}},null,{"$f":"#REF!","v":{"$error":"#REF!"}},{"$f":"#REF!","v":{"$error":"#REF!"}},{"$f":"#REF!","v":{"$error":"#REF!"}},{"$f":"#REF!","v":{"$error":"#REF!"}},{"$f":"H77*'Project Summary'!F107","v":{"$error":"#REF!"}},null,null," "]
[{"$f":"'Project Summary'!I108","v":0},{"$f":"#REF!","v":{"$error":"#REF!"}},{"$f":"#REF!","v":{"$error":"#REF!"}},{"$f":"#REF!","v":{"$error":"#REF!"}},{"$f":"#REF!","v":{"$error":"#REF!"}},{"$f":"#REF!","v":{"$error":"#REF!"}},null,{"$f":"#REF!","v":{"$error":"#REF!"}},{"$f":"#REF!","v":{"$error":"#REF!"}},{"$f":"#REF!","v":{"$error":"#REF!"}},{"$f":"#REF!","v":{"$error":"#REF!"}},{"$f":"H78*'Project Summary'!F108","v":{"$error":"#REF!"}},null,null," "]
[{"$f":"$A$78","v":0},{"$f":"B$78","v":{"$error":"#REF!"}},{"$f":"C$78","v":{"$error":"#REF!"}},{"$f":"#REF!","v":{"$error":"#REF!"}},{"$f":"#REF!","v":{"$error":"#REF!"}},{"$f":"#REF!","v":{"$error":"#REF!"}},null,{"$f":"#REF!","v":{"$error":"#REF!"}},{"$f":"#REF!","v":{"$error":"#REF!"}},{"$f":"#REF!","v":{"$error":"#REF!"}},{"$f":"#REF!","v":{"$error":"#REF!"}},{"$f":"H79*'Project Summary'!F108","v":{"$error":"#REF!"}},null,null," "]
[{"$f":"$A$78","v":0},{"$f":"B$78","v":{"$error":"#REF!"}},{"$error":"#REF!"},{"$f":"#REF!","v":{"$error":"#REF!"}},{"$f":"#REF!","v":{"$error":"#REF!"}},{"$f":"#REF!","v":{"$error":"#REF!"}},null,{"$f":"#REF!","v":{"$error":"#REF!"}},{"$f":"#REF!","v":{"$error":"#REF!"}},{"$f":"#REF!","v":{"$error":"#REF!"}},{"$f":"#REF!","v":{"$error":"#REF!"}},{"$f":"H80*'Project Summary'!F108","v":{"$error":"#REF!"}},null,null," "]
[0,{"$error":"#REF!"},{"$error":"#REF!"},{"$f":"#REF!","v":{"$error":"#REF!"}},{"$f":"#REF!","v":{"$error":"#REF!"}},{"$f":"#REF!","v":{"$error":"#REF!"}},null,{"$f":"#REF!","v":{"$error":"#REF!"}},{"$f":"#REF!","v":{"$error":"#REF!"}},{"$f":"#REF!","v":{"$error":"#REF!"}},{"$f":"#REF!","v":{"$error":"#REF!"}},{"$f":"H81*'Project Summary'!F108","v":{"$error":"#REF!"}},null,null," "]
[0,{"$error":"#REF!"},{"$error":"#REF!"},{"$f":"#REF!","v":{"$error":"#REF!"}},{"$f":"#REF!","v":{"$error":"#REF!"}},{"$f":"#REF!","v":{"$error":"#REF!"}},null,{"$f":"#REF!","v":{"$error":"#REF!"}},{"$f":"#REF!","v":{"$error":"#REF!"}},{"$f":"#REF!","v":{"$error":"#REF!"}},{"$f":"#REF!","v":{"$error":"#REF!"}},{"$f":"H82*'Project Summary'!F108","v":{"$error":"#REF!"}},null,null," "]
[0,{"$error":"#REF!"},{"$error":"#REF!"},{"$f":"#REF!","v":{"$error":"#REF!"}},{"$f":"#REF!","v":{"$error":"#REF!"}},{"$f":"#REF!","v":{"$error":"#REF!"}},null,{"$f":"#REF!","v":{"$error":"#REF!"}},{"$f":"#REF!","v":{"$error":"#REF!"}},{"$f":"#REF!","v":{"$error":"#REF!"}},{"$f":"#REF!","v":{"$error":"#REF!"}},{"$f":"H83*'Project Summary'!F108","v":{"$error":"#REF!"}},null,null," "]
[0,{"$error":"#REF!"},{"$error":"#REF!"},{"$f":"#REF!","v":{"$error":"#REF!"}},{"$f":"#REF!","v":{"$error":"#REF!"}},{"$f":"#REF!","v":{"$error":"#REF!"}},null,{"$f":"#REF!","v":{"$error":"#REF!"}},{"$f":"#REF!","v":{"$error":"#REF!"}},{"$f":"#REF!","v":{"$error":"#REF!"}},{"$f":"#REF!","v":{"$error":"#REF!"}},{"$f":"H84*'Project Summary'!F108","v":{"$error":"#REF!"}},null,null," "]
[0,{"$error":"#REF!"},{"$error":"#REF!"},{"$f":"#REF!","v":{"$error":"#REF!"}},{"$f":"#REF!","v":{"$error":"#REF!"}},{"$f":"#REF!","v":{"$error":"#REF!"}},null,{"$f":"#REF!","v":{"$error":"#REF!"}},{"$f":"#REF!","v":{"$error":"#REF!"}},{"$f":"#REF!","v":{"$error":"#REF!"}},{"$f":"#REF!","v":{"$error":"#REF!"}},{"$f":"H85*'Project Summary'!F108","v":{"$error":"#REF!"}},null,null," "]
[{"$f":"'Project Summary'!I109","v":0},{"$f":"#REF!","v":{"$error":"#REF!"}},{"$f":"#REF!","v":{"$error":"#REF!"}},{"$f":"#REF!","v":{"$error":"#REF!"}},{"$f":"#REF!","v":{"$error":"#REF!"}},{"$f":"#REF!","v":{"$error":"#REF!"}},null,{"$f":"#REF!","v":{"$error":"#REF!"}},{"$f":"#REF!","v":{"$error":"#REF!"}},{"$f":"#REF!","v":{"$error":"#REF!"}},{"$f":"#REF!","v":{"$error":"#REF!"}},{"$f":"H86*'Project Summary'!F109","v":{"$error":"#REF!"}},null,null," "]
[{"$f":"$A$86","v":0},{"$f":"B$86","v":{"$error":"#REF!"}},{"$f":"C$86","v":{"$error":"#REF!"}},{"$f":"#REF!","v":{"$error":"#REF!"}},{"$f":"#REF!","v":{"$error":"#REF!"}},{"$f":"#REF!","v":{"$error":"#REF!"}},null,{"$f":"#REF!","v":{"$error":"#REF!"}},{"$f":"#REF!","v":{"$error":"#REF!"}},{"$f":"#REF!","v":{"$error":"#REF!"}},{"$f":"#REF!","v":{"$error":"#REF!"}},{"$f":"H87*'Project Summary'!F109","v":{"$error":"#REF!"}},null,null," "]
[{"$f":"$A$86","v":0},{"$f":"B$86","v":{"$error":"#REF!"}},{"$error":"#REF!"},{"$f":"#REF!","v":{"$error":"#REF!"}},{"$f":"#REF!","v":{"$error":"#REF!"}},{"$f":"#REF!","v":{"$error":"#REF!"}},null,{"$f":"#REF!","v":{"$error":"#REF!"}},{"$f":"#REF!","v":{"$error":"#REF!"}},{"$f":"#REF!","v":{"$error":"#REF!"}},{"$f":"#REF!","v":{"$error":"#REF!"}},{"$f":"H88*'Project Summary'!F109","v":{"$error":"#REF!"}},null,null," "]
[0,{"$error":"#REF!"},{"$error":"#REF!"},{"$f":"#REF!","v":{"$error":"#REF!"}},{"$f":"#REF!","v":{"$error":"#REF!"}},{"$f":"#REF!","v":{"$error":"#REF!"}},null,{"$f":"#REF!","v":{"$error":"#REF!"}},{"$f":"#REF!","v":{"$error":"#REF!"}},{"$f":"#REF!","v":{"$error":"#REF!"}},{"$f":"#REF!","v":{"$error":"#REF!"}},{"$f":"H89*'Project Summary'!F109","v":{"$error":"#REF!"}},null,null," "]
[0,{"$error":"#REF!"},{"$error":"#REF!"},{"$f":"#REF!","v":{"$error":"#REF!"}},{"$f":"#REF!","v":{"$error":"#REF!"}},{"$f":"#REF!","v":{"$error":"#REF!"}},null,{"$f":"#REF!","v":{"$error":"#REF!"}},{"$f":"#REF!","v":{"$error":"#REF!"}},{"$f":"#REF!","v":{"$error":"#REF!"}},{"$f":"#REF!","v":{"$error":"#REF!"}},{"$f":"H90*'Project Summary'!F109","v":{"$error":"#REF!"}},null,null," "]
[0,{"$error":"#REF!"},{"$error":"#REF!"},{"$f":"#REF!","v":{"$error":"#REF!"}},{"$f":"#REF!","v":{"$error":"#REF!"}},{"$f":"#REF!","v":{"$error":"#REF!"}},null,{"$f":"#REF!","v":{"$error":"#REF!"}},{"$f":"#REF!","v":{"$error":"#REF!"}},{"$f":"#REF!","v":{"$error":"#REF!"}},{"$f":"#REF!","v":{"$error":"#REF!"}},{"$f":"H91*'Project Summary'!F109","v":{"$error":"#REF!"}},null,null," "]
[0,{"$error":"#REF!"},{"$error":"#REF!"},{"$f":"#REF!","v":{"$error":"#REF!"}},{"$f":"#REF!","v":{"$error":"#REF!"}},{"$f":"#REF!","v":{"$error":"#REF!"}},null,{"$f":"#REF!","v":{"$error":"#REF!"}},{"$f":"#REF!","v":{"$error":"#REF!"}},{"$f":"#REF!","v":{"$error":"#REF!"}},{"$f":"#REF!","v":{"$error":"#REF!"}},{"$f":"H92*'Project Summary'!F109","v":{"$error":"#REF!"}},null,null," "]
[0,{"$error":"#REF!"},{"$f":"C$86","v":{"$error":"#REF!"}},{"$f":"#REF!","v":{"$error":"#REF!"}},{"$f":"#REF!","v":{"$error":"#REF!"}},{"$f":"#REF!","v":{"$error":"#REF!"}},null,{"$f":"#REF!","v":{"$error":"#REF!"}},{"$f":"#REF!","v":{"$error":"#REF!"}},{"$f":"#REF!","v":{"$error":"#REF!"}},{"$f":"#REF!","v":{"$error":"#REF!"}},{"$f":"H93*'Project Summary'!F109","v":{"$error":"#REF!"}},null,null," "]
[{"$f":"'Project Summary'!I110","v":0},{"$f":"#REF!","v":{"$error":"#REF!"}},{"$f":"#REF!","v":{"$error":"#REF!"}},{"$f":"#REF!","v":{"$error":"#REF!"}},{"$f":"#REF!","v":{"$error":"#REF!"}},{"$f":"#REF!","v":{"$error":"#REF!"}},null,{"$f":"#REF!","v":{"$error":"#REF!"}},{"$f":"#REF!","v":{"$error":"#REF!"}},{"$f":"#REF!","v":{"$error":"#REF!"}},{"$f":"#REF!","v":{"$error":"#REF!"}},{"$f":"H94*'Project Summary'!F110","v":{"$error":"#REF!"}},null,null," "]
[{"$f":"$A$94","v":0},{"$f":"B$94","v":{"$error":"#REF!"}},{"$f":"C$94","v":{"$error":"#REF!"}},{"$f":"#REF!","v":{"$error":"#REF!"}},{"$f":"#REF!","v":{"$error":"#REF!"}},{"$f":"#REF!","v":{"$error":"#REF!"}},null,{"$f":"#REF!","v":{"$error":"#REF!"}},{"$f":"#REF!","v":{"$error":"#REF!"}},{"$f":"#REF!","v":{"$error":"#REF!"}},{"$f":"#REF!","v":{"$error":"#REF!"}},{"$f":"H95*'Project Summary'!F110","v":{"$error":"#REF!"}},null,null," "]
[{"$f":"$A$94","v":0},{"$f":"B$94","v":{"$error":"#REF!"}},{"$error":"#REF!"},{"$f":"#REF!","v":{"$error":"#REF!"}},{"$f":"#REF!","v":{"$error":"#REF!"}},{"$f":"#REF!","v":{"$error":"#REF!"}},null,{"$f":"#REF!","v":{"$error":"#REF!"}},{"$f":"#REF!","v":{"$error":"#REF!"}},{"$f":"#REF!","v":{"$error":"#REF!"}},{"$f":"#REF!","v":{"$error":"#REF!"}},{"$f":"H96*'Project Summary'!F110","v":{"$error":"#REF!"}},null,null," "]
[0,{"$error":"#REF!"},{"$error":"#REF!"},{"$f":"#REF!","v":{"$error":"#REF!"}},{"$f":"#REF!","v":{"$error":"#REF!"}},{"$f":"#REF!","v":{"$error":"#REF!"}},null,{"$f":"#REF!","v":{"$error":"#REF!"}},{"$f":"#REF!","v":{"$error":"#REF!"}},{"$f":"#REF!","v":{"$error":"#REF!"}},{"$f":"#REF!","v":{"$error":"#REF!"}},{"$f":"H97*'Project Summary'!F110","v":{"$error":"#REF!"}},null,null," "]
[0,{"$error":"#REF!"},{"$error":"#REF!"},{"$f":"#REF!","v":{"$error":"#REF!"}},{"$f":"#REF!","v":{"$error":"#REF!"}},{"$f":"#REF!","v":{"$error":"#REF!"}},null,{"$f":"#REF!","v":{"$error":"#REF!"}},{"$f":"#REF!","v":{"$error":"#REF!"}},{"$f":"#REF!","v":{"$error":"#REF!"}},{"$f":"#REF!","v":{"$error":"#REF!"}},{"$f":"H98*'Project Summary'!F110","v":{"$error":"#REF!"}},null,null," "]
[0,{"$error":"#REF!"},{"$error":"#REF!"},{"$f":"#REF!","v":{"$error":"#REF!"}},{"$f":"#REF!","v":{"$error":"#REF!"}},{"$f":"#REF!","v":{"$error":"#REF!"}},null,{"$f":"#REF!","v":{"$error":"#REF!"}},{"$f":"#REF!","v":{"$error":"#REF!"}},{"$f":"#REF!","v":{"$error":"#REF!"}},{"$f":"#REF!","v":{"$error":"#REF!"}},{"$f":"H99*'Project Summary'!F110","v":{"$error":"#REF!"}},null,null," "]
[0,{"$error":"#REF!"},{"$error":"#REF!"},{"$f":"#REF!","v":{"$error":"#REF!"}},{"$f":"#REF!","v":{"$error":"#REF!"}},{"$f":"#REF!","v":{"$error":"#REF!"}},null,{"$f":"#REF!","v":{"$error":"#REF!"}},{"$f":"#REF!","v":{"$error":"#REF!"}},{"$f":"#REF!","v":{"$error":"#REF!"}},{"$f":"#REF!","v":{"$error":"#REF!"}},{"$f":"H100*'Project Summary'!F110","v":{"$error":"#REF!"}},null,null," "]
[0,{"$error":"#REF!"},{"$error":"#REF!"},{"$f":"#REF!","v":{"$error":"#REF!"}},{"$f":"#REF!","v":{"$error":"#REF!"}},{"$f":"#REF!","v":{"$error":"#REF!"}},null,{"$f":"#REF!","v":{"$error":"#REF!"}},{"$f":"#REF!","v":{"$error":"#REF!"}},{"$f":"#REF!","v":{"$error":"#REF!"}},{"$f":"#REF!","v":{"$error":"#REF!"}},{"$f":"H101*'Project Summary'!F110","v":{"$error":"#REF!"}},null,null," "]
[{"$f":"'Project Summary'!I111","v":0},{"$f":"#REF!","v":{"$error":"#REF!"}},{"$f":"#REF!","v":{"$error":"#REF!"}},{"$f":"#REF!","v":{"$error":"#REF!"}},{"$f":"#REF!","v":{"$error":"#REF!"}},{"$f":"#REF!","v":{"$error":"#REF!"}},null,{"$f":"#REF!","v":{"$error":"#REF!"}},{"$f":"#REF!","v":{"$error":"#REF!"}},{"$f":"#REF!","v":{"$error":"#REF!"}},{"$f":"#REF!","v":{"$error":"#REF!"}},{"$f":"H102*'Project Summary'!F111","v":{"$error":"#REF!"}},null,null," "]
[{"$f":"$A$102","v":0},{"$f":"B$102","v":{"$error":"#REF!"}},{"$f":"C$102","v":{"$error":"#REF!"}},{"$f":"#REF!","v":{"$error":"#REF!"}},{"$f":"#REF!","v":{"$error":"#REF!"}},{"$f":"#REF!","v":{"$error":"#REF!"}},null,{"$f":"#REF!","v":{"$error":"#REF!"}},{"$f":"#REF!","v":{"$error":"#REF!"}},{"$f":"#REF!","v":{"$error":"#REF!"}},{"$f":"#REF!","v":{"$error":"#REF!"}},{"$f":"H103*'Project Summary'!F111","v":{"$error":"#REF!"}},null,null," "]
[{"$f":"$A$102","v":0},{"$f":"B$102","v":{"$error":"#REF!"}},{"$error":"#REF!"},{"$f":"#REF!","v":{"$error":"#REF!"}},{"$f":"#REF!","v":{"$error":"#REF!"}},{"$f":"#REF!","v":{"$error":"#REF!"}},null,{"$f":"#REF!","v":{"$error":"#REF!"}},{"$f":"#REF!","v":{"$error":"#REF!"}},{"$f":"#REF!","v":{"$error":"#REF!"}},{"$f":"#REF!","v":{"$error":"#REF!"}},{"$f":"H104*'Project Summary'!F111","v":{"$error":"#REF!"}},null,null," "]
[0,{"$error":"#REF!"},{"$error":"#REF!"},{"$f":"#REF!","v":{"$error":"#REF!"}},{"$f":"#REF!","v":{"$error":"#REF!"}},{"$f":"#REF!","v":{"$error":"#REF!"}},null,{"$f":"#REF!","v":{"$error":"#REF!"}},{"$f":"#REF!","v":{"$error":"#REF!"}},{"$f":"#REF!","v":{"$error":"#REF!"}},{"$f":"#REF!","v":{"$error":"#REF!"}},{"$f":"H105*'Project Summary'!F111","v":{"$error":"#REF!"}},null,null," "]
[0,{"$error":"#REF!"},{"$error":"#REF!"},{"$f":"#REF!","v":{"$error":"#REF!"}},{"$f":"#REF!","v":{"$error":"#REF!"}},{"$f":"#REF!","v":{"$error":"#REF!"}},null,{"$f":"#REF!","v":{"$error":"#REF!"}},{"$f":"#REF!","v":{"$error":"#REF!"}},{"$f":"#REF!","v":{"$error":"#REF!"}},{"$f":"#REF!","v":{"$error":"#REF!"}},{"$f":"H106*'Project Summary'!F111","v":{"$error":"#REF!"}},null,null," "]
[0,{"$error":"#REF!"},{"$error":"#REF!"},{"$f":"#REF!","v":{"$error":"#REF!"}},{"$f":"#REF!","v":{"$error":"#REF!"}},{"$f":"#REF!","v":{"$error":"#REF!"}},null,{"$f":"#REF!","v":{"$error":"#REF!"}},{"$f":"#REF!","v":{"$error":"#REF!"}},{"$f":"#REF!","v":{"$error":"#REF!"}},{"$f":"#REF!","v":{"$error":"#REF!"}},{"$f":"H107*'Project Summary'!F111","v":{"$error":"#REF!"}},null,null," "]
[0,{"$error":"#REF!"},{"$error":"#REF!"},{"$f":"#REF!","v":{"$error":"#REF!"}},{"$f":"#REF!","v":{"$error":"#REF!"}},{"$f":"#REF!","v":{"$error":"#REF!"}},null,{"$f":"#REF!","v":{"$error":"#REF!"}},{"$f":"#REF!","v":{"$error":"#REF!"}},{"$f":"#REF!","v":{"$error":"#REF!"}},{"$f":"#REF!","v":{"$error":"#REF!"}},{"$f":"H108*'Project Summary'!F111","v":{"$error":"#REF!"}},null,null," "]
[0,{"$error":"#REF!"},{"$error":"#REF!"},{"$f":"#REF!","v":{"$error":"#REF!"}},{"$f":"#REF!","v":{"$error":"#REF!"}},{"$f":"#REF!","v":{"$error":"#REF!"}},null,{"$f":"#REF!","v":{"$error":"#REF!"}},{"$f":"#REF!","v":{"$error":"#REF!"}},{"$f":"#REF!","v":{"$error":"#REF!"}},{"$f":"#REF!","v":{"$error":"#REF!"}},{"$f":"H109*'Project Summary'!F111","v":{"$error":"#REF!"}},null,null," "]
[{"$f":"'Project Summary'!I112","v":0},{"$f":"#REF!","v":{"$error":"#REF!"}},{"$f":"#REF!","v":{"$error":"#REF!"}},{"$f":"#REF!","v":{"$error":"#REF!"}},{"$f":"#REF!","v":{"$error":"#REF!"}},{"$f":"#REF!","v":{"$error":"#REF!"}},null,{"$f":"#REF!","v":{"$error":"#REF!"}},{"$f":"#REF!","v":{"$error":"#REF!"}},{"$f":"#REF!","v":{"$error":"#REF!"}},{"$f":"#REF!","v":{"$error":"#REF!"}},{"$f":"H110*'Project Summary'!F112","v":{"$error":"#REF!"}},null,null," "]
[{"$f":"$A$110","v":0},{"$f":"B$110","v":{"$error":"#REF!"}},{"$f":"C$110","v":{"$error":"#REF!"}},{"$f":"#REF!","v":{"$error":"#REF!"}},{"$f":"#REF!","v":{"$error":"#REF!"}},{"$f":"#REF!","v":{"$error":"#REF!"}},null,{"$f":"#REF!","v":{"$error":"#REF!"}},{"$f":"#REF!","v":{"$error":"#REF!"}},{"$f":"#REF!","v":{"$error":"#REF!"}},{"$f":"#REF!","v":{"$error":"#REF!"}},{"$f":"H111*'Project Summary'!F112","v":{"$error":"#REF!"}},null,null," "]
[{"$f":"$A$110","v":0},{"$f":"B$110","v":{"$error":"#REF!"}},{"$error":"#REF!"},{"$f":"#REF!","v":{"$error":"#REF!"}},{"$f":"#REF!","v":{"$error":"#REF!"}},{"$f":"#REF!","v":{"$error":"#REF!"}},null,{"$f":"#REF!","v":{"$error":"#REF!"}},{"$f":"#REF!","v":{"$error":"#REF!"}},{"$f":"#REF!","v":{"$error":"#REF!"}},{"$f":"#REF!","v":{"$error":"#REF!"}},{"$f":"H112*'Project Summary'!F112","v":{"$error":"#REF!"}},null,null," "]
[0,{"$error":"#REF!"},{"$error":"#REF!"},{"$f":"#REF!","v":{"$error":"#REF!"}},{"$f":"#REF!","v":{"$error":"#REF!"}},{"$f":"#REF!","v":{"$error":"#REF!"}},null,{"$f":"#REF!","v":{"$error":"#REF!"}},{"$f":"#REF!","v":{"$error":"#REF!"}},{"$f":"#REF!","v":{"$error":"#REF!"}},{"$f":"#REF!","v":{"$error":"#REF!"}},{"$f":"H113*'Project Summary'!F112","v":{"$error":"#REF!"}},null,null," "]
[0,{"$error":"#REF!"},{"$error":"#REF!"},{"$f":"#REF!","v":{"$error":"#REF!"}},{"$f":"#REF!","v":{"$error":"#REF!"}},{"$f":"#REF!","v":{"$error":"#REF!"}},null,{"$f":"#REF!","v":{"$error":"#REF!"}},{"$f":"#REF!","v":{"$error":"#REF!"}},{"$f":"#REF!","v":{"$error":"#REF!"}},{"$f":"#REF!","v":{"$error":"#REF!"}},{"$f":"H114*'Project Summary'!F112","v":{"$error":"#REF!"}},null,null," "]
[0,{"$error":"#REF!"},{"$error":"#REF!"},{"$f":"#REF!","v":{"$error":"#REF!"}},{"$f":"#REF!","v":{"$error":"#REF!"}},{"$f":"#REF!","v":{"$error":"#REF!"}},null,{"$f":"#REF!","v":{"$error":"#REF!"}},{"$f":"#REF!","v":{"$error":"#REF!"}},{"$f":"#REF!","v":{"$error":"#REF!"}},{"$f":"#REF!","v":{"$error":"#REF!"}},{"$f":"H115*'Project Summary'!F112","v":{"$error":"#REF!"}},null,null," "]
[0,{"$error":"#REF!"},{"$error":"#REF!"},{"$f":"#REF!","v":{"$error":"#REF!"}},{"$f":"#REF!","v":{"$error":"#REF!"}},{"$f":"#REF!","v":{"$error":"#REF!"}},null,{"$f":"#REF!","v":{"$error":"#REF!"}},{"$f":"#REF!","v":{"$error":"#REF!"}},{"$f":"#REF!","v":{"$error":"#REF!"}},{"$f":"#REF!","v":{"$error":"#REF!"}},{"$f":"H116*'Project Summary'!F112","v":{"$error":"#REF!"}},null,null," "]
[0,{"$f":"B$110","v":{"$error":"#REF!"}},{"$error":"#REF!"},{"$f":"#REF!","v":{"$error":"#REF!"}},{"$f":"#REF!","v":{"$error":"#REF!"}},{"$f":"#REF!","v":{"$error":"#REF!"}},null,{"$f":"#REF!","v":{"$error":"#REF!"}},{"$f":"#REF!","v":{"$error":"#REF!"}},{"$f":"#REF!","v":{"$error":"#REF!"}},{"$f":"#REF!","v":{"$error":"#REF!"}},{"$f":"H117*'Project Summary'!F112","v":{"$error":"#REF!"}},null,null," "]
[{"$f":"'Project Summary'!I113","v":0},{"$f":"#REF!","v":{"$error":"#REF!"}},{"$f":"#REF!","v":{"$error":"#REF!"}},{"$f":"#REF!","v":{"$error":"#REF!"}},{"$f":"#REF!","v":{"$error":"#REF!"}},{"$f":"#REF!","v":{"$error":"#REF!"}},null,{"$f":"#REF!","v":{"$error":"#REF!"}},{"$f":"#REF!","v":{"$error":"#REF!"}},{"$f":"#REF!","v":{"$error":"#REF!"}},{"$f":"#REF!","v":{"$error":"#REF!"}},{"$f":"H118*'Project Summary'!F113","v":{"$error":"#REF!"}},null,null," "]
[{"$f":"$A$118","v":0},{"$f":"B$118","v":{"$error":"#REF!"}},{"$f":"C$118","v":{"$error":"#REF!"}},{"$f":"#REF!","v":{"$error":"#REF!"}},{"$f":"#REF!","v":{"$error":"#REF!"}},{"$f":"#REF!","v":{"$error":"#REF!"}},null,{"$f":"#REF!","v":{"$error":"#REF!"}},{"$f":"#REF!","v":{"$error":"#REF!"}},{"$f":"#REF!","v":{"$error":"#REF!"}},{"$f":"#REF!","v":{"$error":"#REF!"}},{"$f":"H119*'Project Summary'!F113","v":{"$error":"#REF!"}},null,null," "]
[{"$f":"$A$118","v":0},{"$f":"B$118","v":{"$error":"#REF!"}},{"$error":"#REF!"},{"$f":"#REF!","v":{"$error":"#REF!"}},{"$f":"#REF!","v":{"$error":"#REF!"}},{"$f":"#REF!","v":{"$error":"#REF!"}},null,{"$f":"#REF!","v":{"$error":"#REF!"}},{"$f":"#REF!","v":{"$error":"#REF!"}},{"$f":"#REF!","v":{"$error":"#REF!"}},{"$f":"#REF!","v":{"$error":"#REF!"}},{"$f":"H120*'Project Summary'!F113","v":{"$error":"#REF!"}},null,null," "]
[0,{"$error":"#REF!"},{"$error":"#REF!"},{"$f":"#REF!","v":{"$error":"#REF!"}},{"$f":"#REF!","v":{"$error":"#REF!"}},{"$f":"#REF!","v":{"$error":"#REF!"}},null,{"$f":"#REF!","v":{"$error":"#REF!"}},{"$f":"#REF!","v":{"$error":"#REF!"}},{"$f":"#REF!","v":{"$error":"#REF!"}},{"$f":"#REF!","v":{"$error":"#REF!"}},{"$f":"H121*'Project Summary'!F113","v":{"$error":"#REF!"}},null,null," "]
[0,{"$error":"#REF!"},{"$error":"#REF!"},{"$f":"#REF!","v":{"$error":"#REF!"}},{"$f":"#REF!","v":{"$error":"#REF!"}},{"$f":"#REF!","v":{"$error":"#REF!"}},null,{"$f":"#REF!","v":{"$error":"#REF!"}},{"$f":"#REF!","v":{"$error":"#REF!"}},{"$f":"#REF!","v":{"$error":"#REF!"}},{"$f":"#REF!","v":{"$error":"#REF!"}},{"$f":"H122*'Project Summary'!F113","v":{"$error":"#REF!"}},null,null," "]
[0,{"$error":"#REF!"},{"$error":"#REF!"},{"$f":"#REF!","v":{"$error":"#REF!"}},{"$f":"#REF!","v":{"$error":"#REF!"}},{"$f":"#REF!","v":{"$error":"#REF!"}},null,{"$f":"#REF!","v":{"$error":"#REF!"}},{"$f":"#REF!","v":{"$error":"#REF!"}},{"$f":"#REF!","v":{"$error":"#REF!"}},{"$f":"#REF!","v":{"$error":"#REF!"}},{"$f":"H123*'Project Summary'!F113","v":{"$error":"#REF!"}},null,null," "]
[0,{"$error":"#REF!"},{"$error":"#REF!"},{"$f":"#REF!","v":{"$error":"#REF!"}},{"$f":"#REF!","v":{"$error":"#REF!"}},{"$f":"#REF!","v":{"$error":"#REF!"}},null,{"$f":"#REF!","v":{"$error":"#REF!"}},{"$f":"#REF!","v":{"$error":"#REF!"}},{"$f":"#REF!","v":{"$error":"#REF!"}},{"$f":"#REF!","v":{"$error":"#REF!"}},{"$f":"H124*'Project Summary'!F113","v":{"$error":"#REF!"}},null,null," "]
[0,{"$error":"#REF!"},{"$error":"#REF!"},{"$f":"#REF!","v":{"$error":"#REF!"}},{"$f":"#REF!","v":{"$error":"#REF!"}},{"$f":"#REF!","v":{"$error":"#REF!"}},null,{"$f":"#REF!","v":{"$error":"#REF!"}},{"$f":"#REF!","v":{"$error":"#REF!"}},{"$f":"#REF!","v":{"$error":"#REF!"}},{"$f":"#REF!","v":{"$error":"#REF!"}},{"$f":"H125*'Project Summary'!F113","v":{"$error":"#REF!"}},null,null," "]
[{"$f":"'Project Summary'!I114","v":0},{"$f":"#REF!","v":{"$error":"#REF!"}},{"$f":"#REF!","v":{"$error":"#REF!"}},{"$f":"#REF!","v":{"$error":"#REF!"}},{"$f":"#REF!","v":{"$error":"#REF!"}},{"$f":"#REF!","v":{"$error":"#REF!"}},null,{"$f":"#REF!","v":{"$error":"#REF!"}},{"$f":"#REF!","v":{"$error":"#REF!"}},{"$f":"#REF!","v":{"$error":"#REF!"}},{"$f":"#REF!","v":{"$error":"#REF!"}},{"$f":"H126*'Project Summary'!F114","v":{"$error":"#REF!"}},null,null," "]
[{"$f":"$A$126","v":0},{"$f":"B$126","v":{"$error":"#REF!"}},{"$f":"C$126","v":{"$error":"#REF!"}},{"$f":"#REF!","v":{"$error":"#REF!"}},{"$f":"#REF!","v":{"$error":"#REF!"}},{"$f":"#REF!","v":{"$error":"#REF!"}},null,{"$f":"#REF!","v":{"$error":"#REF!"}},{"$f":"#REF!","v":{"$error":"#REF!"}},{"$f":"#REF!","v":{"$error":"#REF!"}},{"$f":"#REF!","v":{"$error":"#REF!"}},{"$f":"H127*'Project Summary'!F114","v":{"$error":"#REF!"}},null,null," "]
[{"$f":"$A$126","v":0},{"$f":"B$126","v":{"$error":"#REF!"}},{"$error":"#REF!"},{"$f":"#REF!","v":{"$error":"#REF!"}},{"$f":"#REF!","v":{"$error":"#REF!"}},{"$f":"#REF!","v":{"$error":"#REF!"}},null,{"$f":"#REF!","v":{"$error":"#REF!"}},{"$f":"#REF!","v":{"$error":"#REF!"}},{"$f":"#REF!","v":{"$error":"#REF!"}},{"$f":"#REF!","v":{"$error":"#REF!"}},{"$f":"H128*'Project Summary'!F114","v":{"$error":"#REF!"}},null,null," "]
[0,{"$error":"#REF!"},{"$error":"#REF!"},{"$f":"#REF!","v":{"$error":"#REF!"}},{"$f":"#REF!","v":{"$error":"#REF!"}},{"$f":"#REF!","v":{"$error":"#REF!"}},null,{"$f":"#REF!","v":{"$error":"#REF!"}},{"$f":"#REF!","v":{"$error":"#REF!"}},{"$f":"#REF!","v":{"$error":"#REF!"}},{"$f":"#REF!","v":{"$error":"#REF!"}},{"$f":"H129*'Project Summary'!F114","v":{"$error":"#REF!"}},null,null," "]
[0,{"$error":"#REF!"},{"$error":"#REF!"},{"$f":"#REF!","v":{"$error":"#REF!"}},{"$f":"#REF!","v":{"$error":"#REF!"}},{"$f":"#REF!","v":{"$error":"#REF!"}},null,{"$f":"#REF!","v":{"$error":"#REF!"}},{"$f":"#REF!","v":{"$error":"#REF!"}},{"$f":"#REF!","v":{"$error":"#REF!"}},{"$f":"#REF!","v":{"$error":"#REF!"}},{"$f":"H130*'Project Summary'!F114","v":{"$error":"#REF!"}},null,null," "]
[0,{"$error":"#REF!"},{"$error":"#REF!"},{"$f":"#REF!","v":{"$error":"#REF!"}},{"$f":"#REF!","v":{"$error":"#REF!"}},{"$f":"#REF!","v":{"$error":"#REF!"}},null,{"$f":"#REF!","v":{"$error":"#REF!"}},{"$f":"#REF!","v":{"$error":"#REF!"}},{"$f":"#REF!","v":{"$error":"#REF!"}},{"$f":"#REF!","v":{"$error":"#REF!"}},{"$f":"H131*'Project Summary'!F114","v":{"$error":"#REF!"}},null,null," "]
[0,{"$error":"#REF!"},{"$error":"#REF!"},{"$f":"#REF!","v":{"$error":"#REF!"}},{"$f":"#REF!","v":{"$error":"#REF!"}},{"$f":"#REF!","v":{"$error":"#REF!"}},null,{"$f":"#REF!","v":{"$error":"#REF!"}},{"$f":"#REF!","v":{"$error":"#REF!"}},{"$f":"#REF!","v":{"$error":"#REF!"}},{"$f":"#REF!","v":{"$error":"#REF!"}},{"$f":"H132*'Project Summary'!F114","v":{"$error":"#REF!"}},null,null," "]
[{"$f":"$A$126","v":0},{"$f":"B$126","v":{"$error":"#REF!"}},{"$f":"C$126","v":{"$error":"#REF!"}},{"$f":"#REF!","v":{"$error":"#REF!"}},{"$f":"#REF!","v":{"$error":"#REF!"}},{"$f":"#REF!","v":{"$error":"#REF!"}},null,{"$f":"#REF!","v":{"$error":"#REF!"}},{"$f":"#REF!","v":{"$error":"#REF!"}},{"$f":"#REF!","v":{"$error":"#REF!"}},{"$f":"#REF!","v":{"$error":"#REF!"}},{"$f":"H133*'Project Summary'!F114","v":{"$error":"#REF!"}},null,null," "]
[{"$f":"'Project Summary'!I115","v":0},{"$f":"#REF!","v":{"$error":"#REF!"}},{"$f":"#REF!","v":{"$error":"#REF!"}},{"$f":"#REF!","v":{"$error":"#REF!"}},{"$f":"#REF!","v":{"$error":"#REF!"}},{"$f":"#REF!","v":{"$error":"#REF!"}},null,{"$f":"#REF!","v":{"$error":"#REF!"}},{"$f":"#REF!","v":{"$error":"#REF!"}},{"$f":"#REF!","v":{"$error":"#REF!"}},{"$f":"#REF!","v":{"$error":"#REF!"}},{"$f":"H134*'Project Summary'!F115","v":{"$error":"#REF!"}},null,null," "]
[{"$f":"$A$134","v":0},{"$f":"B$134","v":{"$error":"#REF!"}},{"$f":"C$134","v":{"$error":"#REF!"}},{"$f":"#REF!","v":{"$error":"#REF!"}},{"$f":"#REF!","v":{"$error":"#REF!"}},{"$f":"#REF!","v":{"$error":"#REF!"}},null,{"$f":"#REF!","v":{"$error":"#REF!"}},{"$f":"#REF!","v":{"$error":"#REF!"}},{"$f":"#REF!","v":{"$error":"#REF!"}},{"$f":"#REF!","v":{"$error":"#REF!"}},{"$f":"H135*'Project Summary'!F115","v":{"$error":"#REF!"}},null,null," "]
[{"$f":"$A$134","v":0},{"$f":"B$134","v":{"$error":"#REF!"}},{"$error":"#REF!"},{"$f":"#REF!","v":{"$error":"#REF!"}},{"$f":"#REF!","v":{"$error":"#REF!"}},{"$f":"#REF!","v":{"$error":"#REF!"}},null,{"$f":"#REF!","v":{"$error":"#REF!"}},{"$f":"#REF!","v":{"$error":"#REF!"}},{"$f":"#REF!","v":{"$error":"#REF!"}},{"$f":"#REF!","v":{"$error":"#REF!"}},{"$f":"H136*'Project Summary'!F115","v":{"$error":"#REF!"}},null,null," "]
[0,{"$error":"#REF!"},{"$error":"#REF!"},{"$f":"#REF!","v":{"$error":"#REF!"}},{"$f":"#REF!","v":{"$error":"#REF!"}},{"$f":"#REF!","v":{"$error":"#REF!"}},null,{"$f":"#REF!","v":{"$error":"#REF!"}},{"$f":"#REF!","v":{"$error":"#REF!"}},{"$f":"#REF!","v":{"$error":"#REF!"}},{"$f":"#REF!","v":{"$error":"#REF!"}},{"$f":"H137*'Project Summary'!F115","v":{"$error":"#REF!"}},null,null," "]
[0,{"$error":"#REF!"},{"$error":"#REF!"},{"$f":"#REF!","v":{"$error":"#REF!"}},{"$f":"#REF!","v":{"$error":"#REF!"}},{"$f":"#REF!","v":{"$error":"#REF!"}},null,{"$f":"#REF!","v":{"$error":"#REF!"}},{"$f":"#REF!","v":{"$error":"#REF!"}},{"$f":"#REF!","v":{"$error":"#REF!"}},{"$f":"#REF!","v":{"$error":"#REF!"}},{"$f":"H138*'Project Summary'!F115","v":{"$error":"#REF!"}},null,null," "]
[0,{"$error":"#REF!"},{"$error":"#REF!"},{"$f":"#REF!","v":{"$error":"#REF!"}},{"$f":"#REF!","v":{"$error":"#REF!"}},{"$f":"#REF!","v":{"$error":"#REF!"}},null,{"$f":"#REF!","v":{"$error":"#REF!"}},{"$f":"#REF!","v":{"$error":"#REF!"}},{"$f":"#REF!","v":{"$error":"#REF!"}},{"$f":"#REF!","v":{"$error":"#REF!"}},{"$f":"H139*'Project Summary'!F115","v":{"$error":"#REF!"}},null,null," "]
[0,{"$error":"#REF!"},{"$error":"#REF!"},{"$f":"#REF!","v":{"$error":"#REF!"}},{"$f":"#REF!","v":{"$error":"#REF!"}},{"$f":"#REF!","v":{"$error":"#REF!"}},null,{"$f":"#REF!","v":{"$error":"#REF!"}},{"$f":"#REF!","v":{"$error":"#REF!"}},{"$f":"#REF!","v":{"$error":"#REF!"}},{"$f":"#REF!","v":{"$error":"#REF!"}},{"$f":"H140*'Project Summary'!F115","v":{"$error":"#REF!"}},null,null," "]
[{"$f":"$A$134","v":0},{"$error":"#REF!"},{"$f":"C$134","v":{"$error":"#REF!"}},{"$f":"#REF!","v":{"$error":"#REF!"}},{"$f":"#REF!","v":{"$error":"#REF!"}},{"$f":"#REF!","v":{"$error":"#REF!"}},null,{"$f":"#REF!","v":{"$error":"#REF!"}},{"$f":"#REF!","v":{"$error":"#REF!"}},{"$f":"#REF!","v":{"$error":"#REF!"}},{"$f":"#REF!","v":{"$error":"#REF!"}},{"$f":"H141*'Project Summary'!F115","v":{"$error":"#REF!"}},null,null," "]
[{"$f":"'Project Summary'!I116","v":0},{"$f":"#REF!","v":{"$error":"#REF!"}},{"$f":"#REF!","v":{"$error":"#REF!"}},{"$f":"#REF!","v":{"$error":"#REF!"}},{"$f":"#REF!","v":{"$error":"#REF!"}},{"$f":"#REF!","v":{"$error":"#REF!"}},null,{"$f":"#REF!","v":{"$error":"#REF!"}},{"$f":"#REF!","v":{"$error":"#REF!"}},{"$f":"#REF!","v":{"$error":"#REF!"}},{"$f":"#REF!","v":{"$error":"#REF!"}},{"$f":"H142*'Project Summary'!F116","v":{"$error":"#REF!"}},null,null," "]
[{"$f":"$A$142","v":0},{"$f":"B$142","v":{"$error":"#REF!"}},{"$f":"C$142","v":{"$error":"#REF!"}},{"$f":"#REF!","v":{"$error":"#REF!"}},{"$f":"#REF!","v":{"$error":"#REF!"}},{"$f":"#REF!","v":{"$error":"#REF!"}},null,{"$f":"#REF!","v":{"$error":"#REF!"}},{"$f":"#REF!","v":{"$error":"#REF!"}},{"$f":"#REF!","v":{"$error":"#REF!"}},{"$f":"#REF!","v":{"$error":"#REF!"}},{"$f":"H143*'Project Summary'!F116","v":{"$error":"#REF!"}},null,null," "]
[{"$f":"$A$142","v":0},{"$f":"B$142","v":{"$error":"#REF!"}},{"$error":"#REF!"},{"$f":"#REF!","v":{"$error":"#REF!"}},{"$f":"#REF!","v":{"$error":"#REF!"}},{"$f":"#REF!","v":{"$error":"#REF!"}},null,{"$f":"#REF!","v":{"$error":"#REF!"}},{"$f":"#REF!","v":{"$error":"#REF!"}},{"$f":"#REF!","v":{"$error":"#REF!"}},{"$f":"#REF!","v":{"$error":"#REF!"}},{"$f":"H144*'Project Summary'!F116","v":{"$error":"#REF!"}},null,null," "]
[0,{"$error":"#REF!"},{"$error":"#REF!"},{"$f":"#REF!","v":{"$error":"#REF!"}},{"$f":"#REF!","v":{"$error":"#REF!"}},{"$f":"#REF!","v":{"$error":"#REF!"}},null,{"$f":"#REF!","v":{"$error":"#REF!"}},{"$f":"#REF!","v":{"$error":"#REF!"}},{"$f":"#REF!","v":{"$error":"#REF!"}},{"$f":"#REF!","v":{"$error":"#REF!"}},{"$f":"H145*'Project Summary'!F116","v":{"$error":"#REF!"}},null,null," "]
[0,{"$error":"#REF!"},{"$error":"#REF!"},{"$f":"#REF!","v":{"$error":"#REF!"}},{"$f":"#REF!","v":{"$error":"#REF!"}},{"$f":"#REF!","v":{"$error":"#REF!"}},null,{"$f":"#REF!","v":{"$error":"#REF!"}},{"$f":"#REF!","v":{"$error":"#REF!"}},{"$f":"#REF!","v":{"$error":"#REF!"}},{"$f":"#REF!","v":{"$error":"#REF!"}},{"$f":"H146*'Project Summary'!F116","v":{"$error":"#REF!"}},null,null," "]
[0,{"$error":"#REF!"},{"$error":"#REF!"},{"$f":"#REF!","v":{"$error":"#REF!"}},{"$f":"#REF!","v":{"$error":"#REF!"}},{"$f":"#REF!","v":{"$error":"#REF!"}},null,{"$f":"#REF!","v":{"$error":"#REF!"}},{"$f":"#REF!","v":{"$error":"#REF!"}},{"$f":"#REF!","v":{"$error":"#REF!"}},{"$f":"#REF!","v":{"$error":"#REF!"}},{"$f":"H147*'Project Summary'!F116","v":{"$error":"#REF!"}},null,null," "]
[0,{"$error":"#REF!"},{"$error":"#REF!"},{"$f":"#REF!","v":{"$error":"#REF!"}},{"$f":"#REF!","v":{"$error":"#REF!"}},{"$f":"#REF!","v":{"$error":"#REF!"}},null,{"$f":"#REF!","v":{"$error":"#REF!"}},{"$f":"#REF!","v":{"$error":"#REF!"}},{"$f":"#REF!","v":{"$error":"#REF!"}},{"$f":"#REF!","v":{"$error":"#REF!"}},{"$f":"H148*'Project Summary'!F116","v":{"$error":"#REF!"}},null,null," "]
[0,{"$error":"#REF!"},{"$error":"#REF!"},{"$f":"#REF!","v":{"$error":"#REF!"}},{"$f":"#REF!","v":{"$error":"#REF!"}},{"$f":"#REF!","v":{"$error":"#REF!"}},null,{"$f":"#REF!","v":{"$error":"#REF!"}},{"$f":"#REF!","v":{"$error":"#REF!"}},{"$f":"#REF!","v":{"$error":"#REF!"}},{"$f":"#REF!","v":{"$error":"#REF!"}},{"$f":"H149*'Project Summary'!F116","v":{"$error":"#REF!"}},null,null," "]
[{"$f":"'Project Summary'!I117","v":0},{"$f":"#REF!","v":{"$error":"#REF!"}},{"$f":"#REF!","v":{"$error":"#REF!"}},{"$f":"#REF!","v":{"$error":"#REF!"}},{"$f":"#REF!","v":{"$error":"#REF!"}},{"$f":"#REF!","v":{"$error":"#REF!"}},null,{"$f":"#REF!","v":{"$error":"#REF!"}},{"$f":"#REF!","v":{"$error":"#REF!"}},{"$f":"#REF!","v":{"$error":"#REF!"}},{"$f":"#REF!","v":{"$error":"#REF!"}},{"$f":"H150*'Project Summary'!F117","v":{"$error":"#REF!"}},null,null," "]
[{"$f":"$A$150","v":0},{"$f":"B$150","v":{"$error":"#REF!"}},{"$f":"C$150","v":{"$error":"#REF!"}},{"$f":"#REF!","v":{"$error":"#REF!"}},{"$f":"#REF!","v":{"$error":"#REF!"}},{"$f":"#REF!","v":{"$error":"#REF!"}},null,{"$f":"#REF!","v":{"$error":"#REF!"}},{"$f":"#REF!","v":{"$error":"#REF!"}},{"$f":"#REF!","v":{"$error":"#REF!"}},{"$f":"#REF!","v":{"$error":"#REF!"}},{"$f":"H151*'Project Summary'!F117","v":{"$error":"#REF!"}},null,null," "]
[{"$f":"$A$150","v":0},{"$f":"B$150","v":{"$error":"#REF!"}},{"$error":"#REF!"},{"$f":"#REF!","v":{"$error":"#REF!"}},{"$f":"#REF!","v":{"$error":"#REF!"}},{"$f":"#REF!","v":{"$error":"#REF!"}},null,{"$f":"#REF!","v":{"$error":"#REF!"}},{"$f":"#REF!","v":{"$error":"#REF!"}},{"$f":"#REF!","v":{"$error":"#REF!"}},{"$f":"#REF!","v":{"$error":"#REF!"}},{"$f":"H152*'Project Summary'!F117","v":{"$error":"#REF!"}},null,null," "]
[0,{"$error":"#REF!"},{"$error":"#REF!"},{"$f":"#REF!","v":{"$error":"#REF!"}},{"$f":"#REF!","v":{"$error":"#REF!"}},{"$f":"#REF!","v":{"$error":"#REF!"}},null,{"$f":"#REF!","v":{"$error":"#REF!"}},{"$f":"#REF!","v":{"$error":"#REF!"}},{"$f":"#REF!","v":{"$error":"#REF!"}},{"$f":"#REF!","v":{"$error":"#REF!"}},{"$f":"H153*'Project Summary'!F117","v":{"$error":"#REF!"}},null,null," "]
[0,{"$error":"#REF!"},{"$error":"#REF!"},{"$f":"#REF!","v":{"$error":"#REF!"}},{"$f":"#REF!","v":{"$error":"#REF!"}},{"$f":"#REF!","v":{"$error":"#REF!"}},null,{"$f":"#REF!","v":{"$error":"#REF!"}},{"$f":"#REF!","v":{"$error":"#REF!"}},{"$f":"#REF!","v":{"$error":"#REF!"}},{"$f":"#REF!","v":{"$error":"#REF!"}},{"$f":"H154*'Project Summary'!F117","v":{"$error":"#REF!"}},null,null," "]
[0,{"$error":"#REF!"},{"$error":"#REF!"},{"$f":"#REF!","v":{"$error":"#REF!"}},{"$f":"#REF!","v":{"$error":"#REF!"}},{"$f":"#REF!","v":{"$error":"#REF!"}},null,{"$f":"#REF!","v":{"$error":"#REF!"}},{"$f":"#REF!","v":{"$error":"#REF!"}},{"$f":"#REF!","v":{"$error":"#REF!"}},{"$f":"#REF!","v":{"$error":"#REF!"}},{"$f":"H155*'Project Summary'!F117","v":{"$error":"#REF!"}},null,null," "]
[0,{"$error":"#REF!"},{"$error":"#REF!"},{"$f":"#REF!","v":{"$error":"#REF!"}},{"$f":"#REF!","v":{"$error":"#REF!"}},{"$f":"#REF!","v":{"$error":"#REF!"}},null,{"$f":"#REF!","v":{"$error":"#REF!"}},{"$f":"#REF!","v":{"$error":"#REF!"}},{"$f":"#REF!","v":{"$error":"#REF!"}},{"$f":"#REF!","v":{"$error":"#REF!"}},{"$f":"H156*'Project Summary'!F117","v":{"$error":"#REF!"}},null,null," "]
[0,{"$error":"#REF!"},{"$f":"C$150","v":{"$error":"#REF!"}},{"$f":"#REF!","v":{"$error":"#REF!"}},{"$f":"#REF!","v":{"$error":"#REF!"}},{"$f":"#REF!","v":{"$error":"#REF!"}},null,{"$f":"#REF!","v":{"$error":"#REF!"}},{"$f":"#REF!","v":{"$error":"#REF!"}},{"$f":"#REF!","v":{"$error":"#REF!"}},{"$f":"#REF!","v":{"$error":"#REF!"}},{"$f":"H157*'Project Summary'!F117","v":{"$error":"#REF!"}},null,null," "]
[{"$f":"'Project Summary'!I118","v":0},{"$f":"#REF!","v":{"$error":"#REF!"}},{"$f":"#REF!","v":{"$error":"#REF!"}},{"$f":"#REF!","v":{"$error":"#REF!"}},{"$f":"#REF!","v":{"$error":"#REF!"}},{"$f":"#REF!","v":{"$error":"#REF!"}},null,{"$f":"#REF!","v":{"$error":"#REF!"}},{"$f":"#REF!","v":{"$error":"#REF!"}},{"$f":"#REF!","v":{"$error":"#REF!"}},{"$f":"#REF!","v":{"$error":"#REF!"}},{"$f":"H158*'Project Summary'!F118","v":{"$error":"#REF!"}},null,null," "]
[{"$f":"$A$158","v":0},{"$f":"B$158","v":{"$error":"#REF!"}},{"$f":"C$158","v":{"$error":"#REF!"}},{"$f":"#REF!","v":{"$error":"#REF!"}},{"$f":"#REF!","v":{"$error":"#REF!"}},{"$f":"#REF!","v":{"$error":"#REF!"}},null,{"$f":"#REF!","v":{"$error":"#REF!"}},{"$f":"#REF!","v":{"$error":"#REF!"}},{"$f":"#REF!","v":{"$error":"#REF!"}},{"$f":"#REF!","v":{"$error":"#REF!"}},{"$f":"H159*'Project Summary'!F118","v":{"$error":"#REF!"}},null,null," "]
[{"$f":"$A$158","v":0},{"$f":"B$158","v":{"$error":"#REF!"}},{"$error":"#REF!"},{"$f":"#REF!","v":{"$error":"#REF!"}},{"$f":"#REF!","v":{"$error":"#REF!"}},{"$f":"#REF!","v":{"$error":"#REF!"}},null,{"$f":"#REF!","v":{"$error":"#REF!"}},{"$f":"#REF!","v":{"$error":"#REF!"}},{"$f":"#REF!","v":{"$error":"#REF!"}},{"$f":"#REF!","v":{"$error":"#REF!"}},{"$f":"H160*'Project Summary'!F118","v":{"$error":"#REF!"}},null,null," "]
[0,{"$error":"#REF!"},{"$error":"#REF!"},{"$f":"#REF!","v":{"$error":"#REF!"}},{"$f":"#REF!","v":{"$error":"#REF!"}},{"$f":"#REF!","v":{"$error":"#REF!"}},null,{"$f":"#REF!","v":{"$error":"#REF!"}},{"$f":"#REF!","v":{"$error":"#REF!"}},{"$f":"#REF!","v":{"$error":"#REF!"}},{"$f":"#REF!","v":{"$error":"#REF!"}},{"$f":"H161*'Project Summary'!F118","v":{"$error":"#REF!"}},null,null," "]
[0,{"$error":"#REF!"},{"$error":"#REF!"},{"$f":"#REF!","v":{"$error":"#REF!"}},{"$f":"#REF!","v":{"$error":"#REF!"}},{"$f":"#REF!","v":{"$error":"#REF!"}},null,{"$f":"#REF!","v":{"$error":"#REF!"}},{"$f":"#REF!","v":{"$error":"#REF!"}},{"$f":"#REF!","v":{"$error":"#REF!"}},{"$f":"#REF!","v":{"$error":"#REF!"}},{"$f":"H162*'Project Summary'!F118","v":{"$error":"#REF!"}},null,null," "]
[0,{"$error":"#REF!"},{"$error":"#REF!"},{"$f":"#REF!","v":{"$error":"#REF!"}},{"$f":"#REF!","v":{"$error":"#REF!"}},{"$f":"#REF!","v":{"$error":"#REF!"}},null,{"$f":"#REF!","v":{"$error":"#REF!"}},{"$f":"#REF!","v":{"$error":"#REF!"}},{"$f":"#REF!","v":{"$error":"#REF!"}},{"$f":"#REF!","v":{"$error":"#REF!"}},{"$f":"H163*'Project Summary'!F118","v":{"$error":"#REF!"}},null,null," "]
[0,{"$error":"#REF!"},{"$error":"#REF!"},{"$f":"#REF!","v":{"$error":"#REF!"}},{"$f":"#REF!","v":{"$error":"#REF!"}},{"$f":"#REF!","v":{"$error":"#REF!"}},null,{"$f":"#REF!","v":{"$error":"#REF!"}},{"$f":"#REF!","v":{"$error":"#REF!"}},{"$f":"#REF!","v":{"$error":"#REF!"}},{"$f":"#REF!","v":{"$error":"#REF!"}},{"$f":"H164*'Project Summary'!F118","v":{"$error":"#REF!"}},null,null," "]
[0,{"$error":"#REF!"},{"$error":"#REF!"},{"$f":"#REF!","v":{"$error":"#REF!"}},{"$f":"#REF!","v":{"$error":"#REF!"}},{"$f":"#REF!","v":{"$error":"#REF!"}},null,{"$f":"#REF!","v":{"$error":"#REF!"}},{"$f":"#REF!","v":{"$error":"#REF!"}},{"$f":"#REF!","v":{"$error":"#REF!"}},{"$f":"#REF!","v":{"$error":"#REF!"}},{"$f":"H165*'Project Summary'!F118","v":{"$error":"#REF!"}},null,null," "]
[{"$f":"'Project Summary'!I119","v":0},{"$f":"#REF!","v":{"$error":"#REF!"}},{"$f":"#REF!","v":{"$error":"#REF!"}},{"$f":"#REF!","v":{"$error":"#REF!"}},{"$f":"#REF!","v":{"$error":"#REF!"}},{"$f":"#REF!","v":{"$error":"#REF!"}},null,{"$f":"#REF!","v":{"$error":"#REF!"}},{"$f":"#REF!","v":{"$error":"#REF!"}},{"$f":"#REF!","v":{"$error":"#REF!"}},{"$f":"#REF!","v":{"$error":"#REF!"}},{"$f":"H166*'Project Summary'!F119","v":{"$error":"#REF!"}},null,null," "]
[{"$f":"$A$166","v":0},{"$f":"B$166","v":{"$error":"#REF!"}},{"$f":"C$166","v":{"$error":"#REF!"}},{"$f":"#REF!","v":{"$error":"#REF!"}},{"$f":"#REF!","v":{"$error":"#REF!"}},{"$f":"#REF!","v":{"$error":"#REF!"}},null,{"$f":"#REF!","v":{"$error":"#REF!"}},{"$f":"#REF!","v":{"$error":"#REF!"}},{"$f":"#REF!","v":{"$error":"#REF!"}},{"$f":"#REF!","v":{"$error":"#REF!"}},{"$f":"H167*'Project Summary'!F119","v":{"$error":"#REF!"}},null,null," "]
[{"$f":"$A$166","v":0},{"$f":"B$166","v":{"$error":"#REF!"}},{"$error":"#REF!"},{"$f":"#REF!","v":{"$error":"#REF!"}},{"$f":"#REF!","v":{"$error":"#REF!"}},{"$f":"#REF!","v":{"$error":"#REF!"}},null,{"$f":"#REF!","v":{"$error":"#REF!"}},{"$f":"#REF!","v":{"$error":"#REF!"}},{"$f":"#REF!","v":{"$error":"#REF!"}},{"$f":"#REF!","v":{"$error":"#REF!"}},{"$f":"H168*'Project Summary'!F119","v":{"$error":"#REF!"}},null,null," "]
[0,{"$error":"#REF!"},{"$error":"#REF!"},{"$f":"#REF!","v":{"$error":"#REF!"}},{"$f":"#REF!","v":{"$error":"#REF!"}},{"$f":"#REF!","v":{"$error":"#REF!"}},null,{"$f":"#REF!","v":{"$error":"#REF!"}},{"$f":"#REF!","v":{"$error":"#REF!"}},{"$f":"#REF!","v":{"$error":"#REF!"}},{"$f":"#REF!","v":{"$error":"#REF!"}},{"$f":"H169*'Project Summary'!F119","v":{"$error":"#REF!"}},null,null," "]
[0,{"$error":"#REF!"},{"$error":"#REF!"},{"$f":"#REF!","v":{"$error":"#REF!"}},{"$f":"#REF!","v":{"$error":"#REF!"}},{"$f":"#REF!","v":{"$error":"#REF!"}},null,{"$f":"#REF!","v":{"$error":"#REF!"}},{"$f":"#REF!","v":{"$error":"#REF!"}},{"$f":"#REF!","v":{"$error":"#REF!"}},{"$f":"#REF!","v":{"$error":"#REF!"}},{"$f":"H170*'Project Summary'!F119","v":{"$error":"#REF!"}},null,null," "]
[0,{"$error":"#REF!"},{"$error":"#REF!"},{"$f":"#REF!","v":{"$error":"#REF!"}},{"$f":"#REF!","v":{"$error":"#REF!"}},{"$f":"#REF!","v":{"$error":"#REF!"}},null,{"$f":"#REF!","v":{"$error":"#REF!"}},{"$f":"#REF!","v":{"$error":"#REF!"}},{"$f":"#REF!","v":{"$error":"#REF!"}},{"$f":"#REF!","v":{"$error":"#REF!"}},{"$f":"H171*'Project Summary'!F119","v":{"$error":"#REF!"}},null,null," "]
[0,{"$error":"#REF!"},{"$error":"#REF!"},{"$f":"#REF!","v":{"$error":"#REF!"}},{"$f":"#REF!","v":{"$error":"#REF!"}},{"$f":"#REF!","v":{"$error":"#REF!"}},null,{"$f":"#REF!","v":{"$error":"#REF!"}},{"$f":"#REF!","v":{"$error":"#REF!"}},{"$f":"#REF!","v":{"$error":"#REF!"}},{"$f":"#REF!","v":{"$error":"#REF!"}},{"$f":"H172*'Project Summary'!F119","v":{"$error":"#REF!"}},null,null," "]
[0,{"$error":"#REF!"},{"$error":"#REF!"},{"$f":"#REF!","v":{"$error":"#REF!"}},{"$f":"#REF!","v":{"$error":"#REF!"}},{"$f":"#REF!","v":{"$error":"#REF!"}},null,{"$f":"#REF!","v":{"$error":"#REF!"}},{"$f":"#REF!","v":{"$error":"#REF!"}},{"$f":"#REF!","v":{"$error":"#REF!"}},{"$f":"#REF!","v":{"$error":"#REF!"}},{"$f":"H173*'Project Summary'!F119","v":{"$error":"#REF!"}},null,null," "]
[{"$f":"'Project Summary'!I120","v":0},{"$f":"#REF!","v":{"$error":"#REF!"}},{"$f":"#REF!","v":{"$error":"#REF!"}},{"$f":"#REF!","v":{"$error":"#REF!"}},{"$f":"#REF!","v":{"$error":"#REF!"}},{"$f":"#REF!","v":{"$error":"#REF!"}},null,{"$f":"#REF!","v":{"$error":"#REF!"}},{"$f":"#REF!","v":{"$error":"#REF!"}},{"$f":"#REF!","v":{"$error":"#REF!"}},{"$f":"#REF!","v":{"$error":"#REF!"}},{"$f":"H174*'Project Summary'!F120","v":{"$error":"#REF!"}},null,null," "]
[{"$f":"$A$174","v":0},{"$f":"B$174","v":{"$error":"#REF!"}},{"$f":"C$174","v":{"$error":"#REF!"}},{"$f":"#REF!","v":{"$error":"#REF!"}},{"$f":"#REF!","v":{"$error":"#REF!"}},{"$f":"#REF!","v":{"$error":"#REF!"}},null,{"$f":"#REF!","v":{"$error":"#REF!"}},{"$f":"#REF!","v":{"$error":"#REF!"}},{"$f":"#REF!","v":{"$error":"#REF!"}},{"$f":"#REF!","v":{"$error":"#REF!"}},{"$f":"H175*'Project Summary'!F120","v":{"$error":"#REF!"}},null,null," "]
[{"$f":"$A$174","v":0},{"$f":"B$174","v":{"$error":"#REF!"}},{"$error":"#REF!"},{"$f":"#REF!","v":{"$error":"#REF!"}},{"$f":"#REF!","v":{"$error":"#REF!"}},{"$f":"#REF!","v":{"$error":"#REF!"}},null,{"$f":"#REF!","v":{"$error":"#REF!"}},{"$f":"#REF!","v":{"$error":"#REF!"}},{"$f":"#REF!","v":{"$error":"#REF!"}},{"$f":"#REF!","v":{"$error":"#REF!"}},{"$f":"H176*'Project Summary'!F120","v":{"$error":"#REF!"}},null,null," "]
[0,{"$error":"#REF!"},{"$error":"#REF!"},{"$f":"#REF!","v":{"$error":"#REF!"}},{"$f":"#REF!","v":{"$error":"#REF!"}},{"$f":"#REF!","v":{"$error":"#REF!"}},null,{"$f":"#REF!","v":{"$error":"#REF!"}},{"$f":"#REF!","v":{"$error":"#REF!"}},{"$f":"#REF!","v":{"$error":"#REF!"}},{"$f":"#REF!","v":{"$error":"#REF!"}},{"$f":"H177*'Project Summary'!F120","v":{"$error":"#REF!"}},null,null," "]
[0,{"$error":"#REF!"},{"$error":"#REF!"},{"$f":"#REF!","v":{"$error":"#REF!"}},{"$f":"#REF!","v":{"$error":"#REF!"}},{"$f":"#REF!","v":{"$error":"#REF!"}},null,{"$f":"#REF!","v":{"$error":"#REF!"}},{"$f":"#REF!","v":{"$error":"#REF!"}},{"$f":"#REF!","v":{"$error":"#REF!"}},{"$f":"#REF!","v":{"$error":"#REF!"}},{"$f":"H178*'Project Summary'!F120","v":{"$error":"#REF!"}},null,null," "]
[0,{"$error":"#REF!"},{"$error":"#REF!"},{"$f":"#REF!","v":{"$error":"#REF!"}},{"$f":"#REF!","v":{"$error":"#REF!"}},{"$f":"#REF!","v":{"$error":"#REF!"}},null,{"$f":"#REF!","v":{"$error":"#REF!"}},{"$f":"#REF!","v":{"$error":"#REF!"}},{"$f":"#REF!","v":{"$error":"#REF!"}},{"$f":"#REF!","v":{"$error":"#REF!"}},{"$f":"H179*'Project Summary'!F120","v":{"$error":"#REF!"}},null,null," "]
[0,{"$error":"#REF!"},{"$error":"#REF!"},{"$f":"#REF!","v":{"$error":"#REF!"}},{"$f":"#REF!","v":{"$error":"#REF!"}},{"$f":"#REF!","v":{"$error":"#REF!"}},null,{"$f":"#REF!","v":{"$error":"#REF!"}},{"$f":"#REF!","v":{"$error":"#REF!"}},{"$f":"#REF!","v":{"$error":"#REF!"}},{"$f":"#REF!","v":{"$error":"#REF!"}},{"$f":"H180*'Project Summary'!F120","v":{"$error":"#REF!"}},null,null," "]
[0,{"$error":"#REF!"},{"$f":"C$174","v":{"$error":"#REF!"}},{"$f":"#REF!","v":{"$error":"#REF!"}},{"$f":"#REF!","v":{"$error":"#REF!"}},{"$f":"#REF!","v":{"$error":"#REF!"}},null,{"$f":"#REF!","v":{"$error":"#REF!"}},{"$f":"#REF!","v":{"$error":"#REF!"}},{"$f":"#REF!","v":{"$error":"#REF!"}},{"$f":"#REF!","v":{"$error":"#REF!"}},{"$f":"H181*'Project Summary'!F120","v":{"$error":"#REF!"}},null,null," "]
[{"$f":"'Project Summary'!I121","v":0},{"$f":"#REF!","v":{"$error":"#REF!"}},{"$f":"#REF!","v":{"$error":"#REF!"}},{"$f":"#REF!","v":{"$error":"#REF!"}},{"$f":"#REF!","v":{"$error":"#REF!"}},{"$f":"#REF!","v":{"$error":"#REF!"}},null,{"$f":"#REF!","v":{"$error":"#REF!"}},{"$f":"#REF!","v":{"$error":"#REF!"}},{"$f":"#REF!","v":{"$error":"#REF!"}},{"$f":"#REF!","v":{"$error":"#REF!"}},{"$f":"H182*'Project Summary'!F121","v":{"$error":"#REF!"}},null,null," "]
[{"$f":"$A$182","v":0},{"$f":"B$182","v":{"$error":"#REF!"}},{"$f":"C$182","v":{"$error":"#REF!"}},{"$f":"#REF!","v":{"$error":"#REF!"}},{"$f":"#REF!","v":{"$error":"#REF!"}},{"$f":"#REF!","v":{"$error":"#REF!"}},null,{"$f":"#REF!","v":{"$error":"#REF!"}},{"$f":"#REF!","v":{"$error":"#REF!"}},{"$f":"#REF!","v":{"$error":"#REF!"}},{"$f":"#REF!","v":{"$error":"#REF!"}},{"$f":"H183*'Project Summary'!F121","v":{"$error":"#REF!"}},null,null," "]
[{"$f":"$A$182","v":0},{"$f":"B$182","v":{"$error":"#REF!"}},{"$error":"#REF!"},{"$f":"#REF!","v":{"$error":"#REF!"}},{"$f":"#REF!","v":{"$error":"#REF!"}},{"$f":"#REF!","v":{"$error":"#REF!"}},null,{"$f":"#REF!","v":{"$error":"#REF!"}},{"$f":"#REF!","v":{"$error":"#REF!"}},{"$f":"#REF!","v":{"$error":"#REF!"}},{"$f":"#REF!","v":{"$error":"#REF!"}},{"$f":"H184*'Project Summary'!F121","v":{"$error":"#REF!"}},null,null," "]
[0,{"$error":"#REF!"},{"$error":"#REF!"},{"$f":"#REF!","v":{"$error":"#REF!"}},{"$f":"#REF!","v":{"$error":"#REF!"}},{"$f":"#REF!","v":{"$error":"#REF!"}},null,{"$f":"#REF!","v":{"$error":"#REF!"}},{"$f":"#REF!","v":{"$error":"#REF!"}},{"$f":"#REF!","v":{"$error":"#REF!"}},{"$f":"#REF!","v":{"$error":"#REF!"}},{"$f":"H185*'Project Summary'!F121","v":{"$error":"#REF!"}},null,null," "]
[0,{"$error":"#REF!"},{"$error":"#REF!"},{"$f":"#REF!","v":{"$error":"#REF!"}},{"$f":"#REF!","v":{"$error":"#REF!"}},{"$f":"#REF!","v":{"$error":"#REF!"}},null,{"$f":"#REF!","v":{"$error":"#REF!"}},{"$f":"#REF!","v":{"$error":"#REF!"}},{"$f":"#REF!","v":{"$error":"#REF!"}},{"$f":"#REF!","v":{"$error":"#REF!"}},{"$f":"H186*'Project Summary'!F121","v":{"$error":"#REF!"}},null,null," "]
[0,{"$error":"#REF!"},{"$error":"#REF!"},{"$f":"#REF!","v":{"$error":"#REF!"}},{"$f":"#REF!","v":{"$error":"#REF!"}},{"$f":"#REF!","v":{"$error":"#REF!"}},null,{"$f":"#REF!","v":{"$error":"#REF!"}},{"$f":"#REF!","v":{"$error":"#REF!"}},{"$f":"#REF!","v":{"$error":"#REF!"}},{"$f":"#REF!","v":{"$error":"#REF!"}},{"$f":"H187*'Project Summary'!F121","v":{"$error":"#REF!"}},null,null," "]
[0,{"$error":"#REF!"},{"$error":"#REF!"},{"$f":"#REF!","v":{"$error":"#REF!"}},{"$f":"#REF!","v":{"$error":"#REF!"}},{"$f":"#REF!","v":{"$error":"#REF!"}},null,{"$f":"#REF!","v":{"$error":"#REF!"}},{"$f":"#REF!","v":{"$error":"#REF!"}},{"$f":"#REF!","v":{"$error":"#REF!"}},{"$f":"#REF!","v":{"$error":"#REF!"}},{"$f":"H188*'Project Summary'!F121","v":{"$error":"#REF!"}},null,null," "]
[0,{"$error":"#REF!"},{"$f":"C$182","v":{"$error":"#REF!"}},{"$f":"#REF!","v":{"$error":"#REF!"}},{"$f":"#REF!","v":{"$error":"#REF!"}},{"$f":"#REF!","v":{"$error":"#REF!"}},null,{"$f":"#REF!","v":{"$error":"#REF!"}},{"$f":"#REF!","v":{"$error":"#REF!"}},{"$f":"#REF!","v":{"$error":"#REF!"}},{"$f":"#REF!","v":{"$error":"#REF!"}},{"$f":"H189*'Project Summary'!F121","v":{"$error":"#REF!"}},null,null," "]
[{"$f":"'Project Summary'!I122","v":0},{"$f":"#REF!","v":{"$error":"#REF!"}},{"$f":"#REF!","v":{"$error":"#REF!"}},{"$f":"#REF!","v":{"$error":"#REF!"}},{"$f":"#REF!","v":{"$error":"#REF!"}},{"$f":"#REF!","v":{"$error":"#REF!"}},null,{"$f":"#REF!","v":{"$error":"#REF!"}},{"$f":"#REF!","v":{"$error":"#REF!"}},{"$f":"#REF!","v":{"$error":"#REF!"}},{"$f":"#REF!","v":{"$error":"#REF!"}},{"$f":"H190*'Project Summary'!F122","v":{"$error":"#REF!"}},null,null," "]
[{"$f":"$A$190","v":0},{"$f":"B$190","v":{"$error":"#REF!"}},{"$f":"C$190","v":{"$error":"#REF!"}},{"$f":"#REF!","v":{"$error":"#REF!"}},{"$f":"#REF!","v":{"$error":"#REF!"}},{"$f":"#REF!","v":{"$error":"#REF!"}},null,{"$f":"#REF!","v":{"$error":"#REF!"}},{"$f":"#REF!","v":{"$error":"#REF!"}},{"$f":"#REF!","v":{"$error":"#REF!"}},{"$f":"#REF!","v":{"$error":"#REF!"}},{"$f":"H191*'Project Summary'!F122","v":{"$error":"#REF!"}},null,null," "]
[{"$f":"$A$190","v":0},{"$f":"B$190","v":{"$error":"#REF!"}},{"$error":"#REF!"},{"$f":"#REF!","v":{"$error":"#REF!"}},{"$f":"#REF!","v":{"$error":"#REF!"}},{"$f":"#REF!","v":{"$error":"#REF!"}},null,{"$f":"#REF!","v":{"$error":"#REF!"}},{"$f":"#REF!","v":{"$error":"#REF!"}},{"$f":"#REF!","v":{"$error":"#REF!"}},{"$f":"#REF!","v":{"$error":"#REF!"}},{"$f":"H192*'Project Summary'!F122","v":{"$error":"#REF!"}},null,null," "]
[0,{"$error":"#REF!"},{"$error":"#REF!"},{"$f":"#REF!","v":{"$error":"#REF!"}},{"$f":"#REF!","v":{"$error":"#REF!"}},{"$f":"#REF!","v":{"$error":"#REF!"}},null,{"$f":"#REF!","v":{"$error":"#REF!"}},{"$f":"#REF!","v":{"$error":"#REF!"}},{"$f":"#REF!","v":{"$error":"#REF!"}},{"$f":"#REF!","v":{"$error":"#REF!"}},{"$f":"H193*'Project Summary'!F122","v":{"$error":"#REF!"}},null,null," "]
[0,{"$error":"#REF!"},{"$error":"#REF!"},{"$f":"#REF!","v":{"$error":"#REF!"}},{"$f":"#REF!","v":{"$error":"#REF!"}},{"$f":"#REF!","v":{"$error":"#REF!"}},null,{"$f":"#REF!","v":{"$error":"#REF!"}},{"$f":"#REF!","v":{"$error":"#REF!"}},{"$f":"#REF!","v":{"$error":"#REF!"}},{"$f":"#REF!","v":{"$error":"#REF!"}},{"$f":"H194*'Project Summary'!F122","v":{"$error":"#REF!"}},null,null," "]
[0,{"$error":"#REF!"},{"$error":"#REF!"},{"$f":"#REF!","v":{"$error":"#REF!"}},{"$f":"#REF!","v":{"$error":"#REF!"}},{"$f":"#REF!","v":{"$error":"#REF!"}},null,{"$f":"#REF!","v":{"$error":"#REF!"}},{"$f":"#REF!","v":{"$error":"#REF!"}},{"$f":"#REF!","v":{"$error":"#REF!"}},{"$f":"#REF!","v":{"$error":"#REF!"}},{"$f":"H195*'Project Summary'!F122","v":{"$error":"#REF!"}},null,null," "]
[0,{"$error":"#REF!"},{"$error":"#REF!"},{"$f":"#REF!","v":{"$error":"#REF!"}},{"$f":"#REF!","v":{"$error":"#REF!"}},{"$f":"#REF!","v":{"$error":"#REF!"}},null,{"$f":"#REF!","v":{"$error":"#REF!"}},{"$f":"#REF!","v":{"$error":"#REF!"}},{"$f":"#REF!","v":{"$error":"#REF!"}},{"$f":"#REF!","v":{"$error":"#REF!"}},{"$f":"H196*'Project Summary'!F122","v":{"$error":"#REF!"}},null,null," "]
[0,{"$error":"#REF!"},{"$f":"C$190","v":{"$error":"#REF!"}},{"$f":"#REF!","v":{"$error":"#REF!"}},{"$f":"#REF!","v":{"$error":"#REF!"}},{"$f":"#REF!","v":{"$error":"#REF!"}},null,{"$f":"#REF!","v":{"$error":"#REF!"}},{"$f":"#REF!","v":{"$error":"#REF!"}},{"$f":"#REF!","v":{"$error":"#REF!"}},{"$f":"#REF!","v":{"$error":"#REF!"}},{"$f":"H197*'Project Summary'!F122","v":{"$error":"#REF!"}},null,null," "]
[{"$f":"'Project Summary'!I123","v":0},{"$f":"#REF!","v":{"$error":"#REF!"}},{"$f":"#REF!","v":{"$error":"#REF!"}},{"$f":"#REF!","v":{"$error":"#REF!"}},{"$f":"#REF!","v":{"$error":"#REF!"}},{"$f":"#REF!","v":{"$error":"#REF!"}},null,{"$f":"#REF!","v":{"$error":"#REF!"}},{"$f":"#REF!","v":{"$error":"#REF!"}},{"$f":"#REF!","v":{"$error":"#REF!"}},{"$f":"#REF!","v":{"$error":"#REF!"}},{"$f":"H198*'Project Summary'!F123","v":{"$error":"#REF!"}},null,null," "]
[{"$f":"$A$198","v":0},{"$f":"B$198","v":{"$error":"#REF!"}},{"$f":"C$198","v":{"$error":"#REF!"}},{"$f":"#REF!","v":{"$error":"#REF!"}},{"$f":"#REF!","v":{"$error":"#REF!"}},{"$f":"#REF!","v":{"$error":"#REF!"}},null,{"$f":"#REF!","v":{"$error":"#REF!"}},{"$f":"#REF!","v":{"$error":"#REF!"}},{"$f":"#REF!","v":{"$error":"#REF!"}},{"$f":"#REF!","v":{"$error":"#REF!"}},{"$f":"H199*'Project Summary'!F123","v":{"$error":"#REF!"}},null,null," "]
[{"$f":"$A$198","v":0},{"$f":"B$198","v":{"$error":"#REF!"}},{"$error":"#REF!"},{"$f":"#REF!","v":{"$error":"#REF!"}},{"$f":"#REF!","v":{"$error":"#REF!"}},{"$f":"#REF!","v":{"$error":"#REF!"}},null,{"$f":"#REF!","v":{"$error":"#REF!"}},{"$f":"#REF!","v":{"$error":"#REF!"}},{"$f":"#REF!","v":{"$error":"#REF!"}},{"$f":"#REF!","v":{"$error":"#REF!"}},{"$f":"H200*'Project Summary'!F123","v":{"$error":"#REF!"}},null,null," "]
[0,{"$error":"#REF!"},{"$error":"#REF!"},{"$f":"#REF!","v":{"$error":"#REF!"}},{"$f":"#REF!","v":{"$error":"#REF!"}},{"$f":"#REF!","v":{"$error":"#REF!"}},null,{"$f":"#REF!","v":{"$error":"#REF!"}},{"$f":"#REF!","v":{"$error":"#REF!"}},{"$f":"#REF!","v":{"$error":"#REF!"}},{"$f":"#REF!","v":{"$error":"#REF!"}},{"$f":"H201*'Project Summary'!F123","v":{"$error":"#REF!"}},null,null," "]
[0,{"$error":"#REF!"},{"$error":"#REF!"},{"$f":"#REF!","v":{"$error":"#REF!"}},{"$f":"#REF!","v":{"$error":"#REF!"}},{"$f":"#REF!","v":{"$error":"#REF!"}},null,{"$f":"#REF!","v":{"$error":"#REF!"}},{"$f":"#REF!","v":{"$error":"#REF!"}},{"$f":"#REF!","v":{"$error":"#REF!"}},{"$f":"#REF!","v":{"$error":"#REF!"}},{"$f":"H202*'Project Summary'!F123","v":{"$error":"#REF!"}},null,null," "]
[0,{"$error":"#REF!"},{"$error":"#REF!"},{"$f":"#REF!","v":{"$error":"#REF!"}},{"$f":"#REF!","v":{"$error":"#REF!"}},{"$f":"#REF!","v":{"$error":"#REF!"}},null,{"$f":"#REF!","v":{"$error":"#REF!"}},{"$f":"#REF!","v":{"$error":"#REF!"}},{"$f":"#REF!","v":{"$error":"#REF!"}},{"$f":"#REF!","v":{"$error":"#REF!"}},{"$f":"H203*'Project Summary'!F123","v":{"$error":"#REF!"}},null,null," "]
[0,{"$error":"#REF!"},{"$error":"#REF!"},{"$f":"#REF!","v":{"$error":"#REF!"}},{"$f":"#REF!","v":{"$error":"#REF!"}},{"$f":"#REF!","v":{"$error":"#REF!"}},null,{"$f":"#REF!","v":{"$error":"#REF!"}},{"$f":"#REF!","v":{"$error":"#REF!"}},{"$f":"#REF!","v":{"$error":"#REF!"}},{"$f":"#REF!","v":{"$error":"#REF!"}},{"$f":"H204*'Project Summary'!F123","v":{"$error":"#REF!"}},null,null," "]
[0,{"$error":"#REF!"},{"$error":"#REF!"},{"$f":"#REF!","v":{"$error":"#REF!"}},{"$f":"#REF!","v":{"$error":"#REF!"}},{"$f":"#REF!","v":{"$error":"#REF!"}},null,{"$f":"#REF!","v":{"$error":"#REF!"}},{"$f":"#REF!","v":{"$error":"#REF!"}},{"$f":"#REF!","v":{"$error":"#REF!"}},{"$f":"#REF!","v":{"$error":"#REF!"}},{"$f":"H205*'Project Summary'!F123","v":{"$error":"#REF!"}},null,null," "]
[{"$f":"'Project Summary'!I124","v":0},{"$f":"#REF!","v":{"$error":"#REF!"}},{"$f":"#REF!","v":{"$error":"#REF!"}},{"$f":"#REF!","v":{"$error":"#REF!"}},{"$f":"#REF!","v":{"$error":"#REF!"}},{"$f":"#REF!","v":{"$error":"#REF!"}},null,{"$f":"#REF!","v":{"$error":"#REF!"}},{"$f":"#REF!","v":{"$error":"#REF!"}},{"$f":"#REF!","v":{"$error":"#REF!"}},{"$f":"#REF!","v":{"$error":"#REF!"}},{"$f":"H206*'Project Summary'!F124","v":{"$error":"#REF!"}},null,null," "]
[{"$f":"$A$206","v":0},{"$f":"B$206","v":{"$error":"#REF!"}},{"$f":"C$206","v":{"$error":"#REF!"}},{"$f":"#REF!","v":{"$error":"#REF!"}},{"$f":"#REF!","v":{"$error":"#REF!"}},{"$f":"#REF!","v":{"$error":"#REF!"}},null,{"$f":"#REF!","v":{"$error":"#REF!"}},{"$f":"#REF!","v":{"$error":"#REF!"}},{"$f":"#REF!","v":{"$error":"#REF!"}},{"$f":"#REF!","v":{"$error":"#REF!"}},{"$f":"H207*'Project Summary'!F124","v":{"$error":"#REF!"}},null,null," "]
[{"$f":"$A$206","v":0},{"$f":"B$206","v":{"$error":"#REF!"}},{"$error":"#REF!"},{"$f":"#REF!","v":{"$error":"#REF!"}},{"$f":"#REF!","v":{"$error":"#REF!"}},{"$f":"#REF!","v":{"$error":"#REF!"}},null,{"$f":"#REF!","v":{"$error":"#REF!"}},{"$f":"#REF!","v":{"$error":"#REF!"}},{"$f":"#REF!","v":{"$error":"#REF!"}},{"$f":"#REF!","v":{"$error":"#REF!"}},{"$f":"H208*'Project Summary'!F124","v":{"$error":"#REF!"}},null,null," "]
[0,{"$error":"#REF!"},{"$error":"#REF!"},{"$f":"#REF!","v":{"$error":"#REF!"}},{"$f":"#REF!","v":{"$error":"#REF!"}},{"$f":"#REF!","v":{"$error":"#REF!"}},null,{"$f":"#REF!","v":{"$error":"#REF!"}},{"$f":"#REF!","v":{"$error":"#REF!"}},{"$f":"#REF!","v":{"$error":"#REF!"}},{"$f":"#REF!","v":{"$error":"#REF!"}},{"$f":"H209*'Project Summary'!F124","v":{"$error":"#REF!"}},null,null," "]
[0,{"$error":"#REF!"},{"$error":"#REF!"},{"$f":"#REF!","v":{"$error":"#REF!"}},{"$f":"#REF!","v":{"$error":"#REF!"}},{"$f":"#REF!","v":{"$error":"#REF!"}},null,{"$f":"#REF!","v":{"$error":"#REF!"}},{"$f":"#REF!","v":{"$error":"#REF!"}},{"$f":"#REF!","v":{"$error":"#REF!"}},{"$f":"#REF!","v":{"$error":"#REF!"}},{"$f":"H210*'Project Summary'!F124","v":{"$error":"#REF!"}},null,null," "]
[0,{"$error":"#REF!"},{"$error":"#REF!"},{"$f":"#REF!","v":{"$error":"#REF!"}},{"$f":"#REF!","v":{"$error":"#REF!"}},{"$f":"#REF!","v":{"$error":"#REF!"}},null,{"$f":"#REF!","v":{"$error":"#REF!"}},{"$f":"#REF!","v":{"$error":"#REF!"}},{"$f":"#REF!","v":{"$error":"#REF!"}},{"$f":"#REF!","v":{"$error":"#REF!"}},{"$f":"H211*'Project Summary'!F124","v":{"$error":"#REF!"}},null,null," "]
[0,{"$error":"#REF!"},{"$error":"#REF!"},{"$f":"#REF!","v":{"$error":"#REF!"}},{"$f":"#REF!","v":{"$error":"#REF!"}},{"$f":"#REF!","v":{"$error":"#REF!"}},null,{"$f":"#REF!","v":{"$error":"#REF!"}},{"$f":"#REF!","v":{"$error":"#REF!"}},{"$f":"#REF!","v":{"$error":"#REF!"}},{"$f":"#REF!","v":{"$error":"#REF!"}},{"$f":"H212*'Project Summary'!F124","v":{"$error":"#REF!"}},null,null," "]
[0,{"$error":"#REF!"},{"$error":"#REF!"},{"$f":"#REF!","v":{"$error":"#REF!"}},{"$f":"#REF!","v":{"$error":"#REF!"}},{"$f":"#REF!","v":{"$error":"#REF!"}},null,{"$f":"#REF!","v":{"$error":"#REF!"}},{"$f":"#REF!","v":{"$error":"#REF!"}},{"$f":"#REF!","v":{"$error":"#REF!"}},{"$f":"#REF!","v":{"$error":"#REF!"}},{"$f":"H213*'Project Summary'!F124","v":{"$error":"#REF!"}},null,null," "]
[{"$f":"'Project Summary'!I125","v":0},{"$f":"#REF!","v":{"$error":"#REF!"}},{"$f":"#REF!","v":{"$error":"#REF!"}},{"$f":"#REF!","v":{"$error":"#REF!"}},{"$f":"#REF!","v":{"$error":"#REF!"}},{"$f":"#REF!","v":{"$error":"#REF!"}},null,{"$f":"#REF!","v":{"$error":"#REF!"}},{"$f":"#REF!","v":{"$error":"#REF!"}},{"$f":"#REF!","v":{"$error":"#REF!"}},{"$f":"#REF!","v":{"$error":"#REF!"}},{"$f":"H214*'Project Summary'!F125","v":{"$error":"#REF!"}},null,null," "]
[{"$f":"$A$214","v":0},{"$f":"B$214","v":{"$error":"#REF!"}},{"$f":"C$214","v":{"$error":"#REF!"}},{"$f":"#REF!","v":{"$error":"#REF!"}},{"$f":"#REF!","v":{"$error":"#REF!"}},{"$f":"#REF!","v":{"$error":"#REF!"}},null,{"$f":"#REF!","v":{"$error":"#REF!"}},{"$f":"#REF!","v":{"$error":"#REF!"}},{"$f":"#REF!","v":{"$error":"#REF!"}},{"$f":"#REF!","v":{"$error":"#REF!"}},{"$f":"H215*'Project Summary'!F125","v":{"$error":"#REF!"}},null,null," "]
[{"$f":"$A$214","v":0},{"$f":"B$214","v":{"$error":"#REF!"}},{"$error":"#REF!"},{"$f":"#REF!","v":{"$error":"#REF!"}},{"$f":"#REF!","v":{"$error":"#REF!"}},{"$f":"#REF!","v":{"$error":"#REF!"}},null,{"$f":"#REF!","v":{"$error":"#REF!"}},{"$f":"#REF!","v":{"$error":"#REF!"}},{"$f":"#REF!","v":{"$error":"#REF!"}},{"$f":"#REF!","v":{"$error":"#REF!"}},{"$f":"H216*'Project Summary'!F125","v":{"$error":"#REF!"}},null,null," "]
[0,{"$error":"#REF!"},{"$error":"#REF!"},{"$f":"#REF!","v":{"$error":"#REF!"}},{"$f":"#REF!","v":{"$error":"#REF!"}},{"$f":"#REF!","v":{"$error":"#REF!"}},null,{"$f":"#REF!","v":{"$error":"#REF!"}},{"$f":"#REF!","v":{"$error":"#REF!"}},{"$f":"#REF!","v":{"$error":"#REF!"}},{"$f":"#REF!","v":{"$error":"#REF!"}},{"$f":"H217*'Project Summary'!F125","v":{"$error":"#REF!"}},null,null," "]
[0,{"$error":"#REF!"},{"$error":"#REF!"},{"$f":"#REF!","v":{"$error":"#REF!"}},{"$f":"#REF!","v":{"$error":"#REF!"}},{"$f":"#REF!","v":{"$error":"#REF!"}},null,{"$f":"#REF!","v":{"$error":"#REF!"}},{"$f":"#REF!","v":{"$error":"#REF!"}},{"$f":"#REF!","v":{"$error":"#REF!"}},{"$f":"#REF!","v":{"$error":"#REF!"}},{"$f":"H218*'Project Summary'!F125","v":{"$error":"#REF!"}},null,null," "]
[0,{"$error":"#REF!"},{"$error":"#REF!"},{"$f":"#REF!","v":{"$error":"#REF!"}},{"$f":"#REF!","v":{"$error":"#REF!"}},{"$f":"#REF!","v":{"$error":"#REF!"}},null,{"$f":"#REF!","v":{"$error":"#REF!"}},{"$f":"#REF!","v":{"$error":"#REF!"}},{"$f":"#REF!","v":{"$error":"#REF!"}},{"$f":"#REF!","v":{"$error":"#REF!"}},{"$f":"H219*'Project Summary'!F125","v":{"$error":"#REF!"}},null,null," "]
[0,{"$error":"#REF!"},{"$error":"#REF!"},{"$f":"#REF!","v":{"$error":"#REF!"}},{"$f":"#REF!","v":{"$error":"#REF!"}},{"$f":"#REF!","v":{"$error":"#REF!"}},null,{"$f":"#REF!","v":{"$error":"#REF!"}},{"$f":"#REF!","v":{"$error":"#REF!"}},{"$f":"#REF!","v":{"$error":"#REF!"}},{"$f":"#REF!","v":{"$error":"#REF!"}},{"$f":"H220*'Project Summary'!F125","v":{"$error":"#REF!"}},null,null," "]
[0,{"$error":"#REF!"},{"$error":"#REF!"},{"$f":"#REF!","v":{"$error":"#REF!"}},{"$f":"#REF!","v":{"$error":"#REF!"}},{"$f":"#REF!","v":{"$error":"#REF!"}},null,{"$f":"#REF!","v":{"$error":"#REF!"}},{"$f":"#REF!","v":{"$error":"#REF!"}},{"$f":"#REF!","v":{"$error":"#REF!"}},{"$f":"#REF!","v":{"$error":"#REF!"}},{"$f":"H221*'Project Summary'!F125","v":{"$error":"#REF!"}},null,null," "]
[{"$f":"'Project Summary'!I126","v":0},{"$f":"#REF!","v":{"$error":"#REF!"}},{"$f":"#REF!","v":{"$error":"#REF!"}},{"$f":"#REF!","v":{"$error":"#REF!"}},{"$f":"#REF!","v":{"$error":"#REF!"}},{"$f":"#REF!","v":{"$error":"#REF!"}},null,{"$f":"#REF!","v":{"$error":"#REF!"}},{"$f":"#REF!","v":{"$error":"#REF!"}},{"$f":"#REF!","v":{"$error":"#REF!"}},{"$f":"#REF!","v":{"$error":"#REF!"}},{"$f":"H222*'Project Summary'!F126","v":{"$error":"#REF!"}},null,null," "]
[{"$f":"$A$222","v":0},{"$f":"B$222","v":{"$error":"#REF!"}},{"$f":"C$222","v":{"$error":"#REF!"}},{"$f":"#REF!","v":{"$error":"#REF!"}},{"$f":"#REF!","v":{"$error":"#REF!"}},{"$f":"#REF!","v":{"$error":"#REF!"}},null,{"$f":"#REF!","v":{"$error":"#REF!"}},{"$f":"#REF!","v":{"$error":"#REF!"}},{"$f":"#REF!","v":{"$error":"#REF!"}},{"$f":"#REF!","v":{"$error":"#REF!"}},{"$f":"H223*'Project Summary'!F126","v":{"$error":"#REF!"}},null,null," "]
[{"$f":"$A$222","v":0},{"$f":"B$222","v":{"$error":"#REF!"}},{"$error":"#REF!"},{"$f":"#REF!","v":{"$error":"#REF!"}},{"$f":"#REF!","v":{"$error":"#REF!"}},{"$f":"#REF!","v":{"$error":"#REF!"}},null,{"$f":"#REF!","v":{"$error":"#REF!"}},{"$f":"#REF!","v":{"$error":"#REF!"}},{"$f":"#REF!","v":{"$error":"#REF!"}},{"$f":"#REF!","v":{"$error":"#REF!"}},{"$f":"H224*'Project Summary'!F126","v":{"$error":"#REF!"}},null,null," "]
[0,{"$error":"#REF!"},{"$error":"#REF!"},{"$f":"#REF!","v":{"$error":"#REF!"}},{"$f":"#REF!","v":{"$error":"#REF!"}},{"$f":"#REF!","v":{"$error":"#REF!"}},null,{"$f":"#REF!","v":{"$error":"#REF!"}},{"$f":"#REF!","v":{"$error":"#REF!"}},{"$f":"#REF!","v":{"$error":"#REF!"}},{"$f":"#REF!","v":{"$error":"#REF!"}},{"$f":"H225*'Project Summary'!F126","v":{"$error":"#REF!"}},null,null," "]
[0,{"$error":"#REF!"},{"$error":"#REF!"},{"$f":"#REF!","v":{"$error":"#REF!"}},{"$f":"#REF!","v":{"$error":"#REF!"}},{"$f":"#REF!","v":{"$error":"#REF!"}},null,{"$f":"#REF!","v":{"$error":"#REF!"}},{"$f":"#REF!","v":{"$error":"#REF!"}},{"$f":"#REF!","v":{"$error":"#REF!"}},{"$f":"#REF!","v":{"$error":"#REF!"}},{"$f":"H226*'Project Summary'!F126","v":{"$error":"#REF!"}},null,null," "]
[0,{"$error":"#REF!"},{"$error":"#REF!"},{"$f":"#REF!","v":{"$error":"#REF!"}},{"$f":"#REF!","v":{"$error":"#REF!"}},{"$f":"#REF!","v":{"$error":"#REF!"}},null,{"$f":"#REF!","v":{"$error":"#REF!"}},{"$f":"#REF!","v":{"$error":"#REF!"}},{"$f":"#REF!","v":{"$error":"#REF!"}},{"$f":"#REF!","v":{"$error":"#REF!"}},{"$f":"H227*'Project Summary'!F126","v":{"$error":"#REF!"}},null,null," "]
[0,{"$error":"#REF!"},{"$error":"#REF!"},{"$f":"#REF!","v":{"$error":"#REF!"}},{"$f":"#REF!","v":{"$error":"#REF!"}},{"$f":"#REF!","v":{"$error":"#REF!"}},null,{"$f":"#REF!","v":{"$error":"#REF!"}},{"$f":"#REF!","v":{"$error":"#REF!"}},{"$f":"#REF!","v":{"$error":"#REF!"}},{"$f":"#REF!","v":{"$error":"#REF!"}},{"$f":"H228*'Project Summary'!F126","v":{"$error":"#REF!"}},null,null," "]
[0,{"$error":"#REF!"},{"$error":"#REF!"},{"$f":"#REF!","v":{"$error":"#REF!"}},{"$f":"#REF!","v":{"$error":"#REF!"}},{"$f":"#REF!","v":{"$error":"#REF!"}},null,{"$f":"#REF!","v":{"$error":"#REF!"}},{"$f":"#REF!","v":{"$error":"#REF!"}},{"$f":"#REF!","v":{"$error":"#REF!"}},{"$f":"#REF!","v":{"$error":"#REF!"}},{"$f":"H229*'Project Summary'!F126","v":{"$error":"#REF!"}},null,null," "]
[{"$f":"'Project Summary'!I127","v":0},{"$f":"#REF!","v":{"$error":"#REF!"}},{"$f":"#REF!","v":{"$error":"#REF!"}},{"$f":"#REF!","v":{"$error":"#REF!"}},{"$f":"#REF!","v":{"$error":"#REF!"}},{"$f":"#REF!","v":{"$error":"#REF!"}},null,{"$f":"#REF!","v":{"$error":"#REF!"}},{"$f":"#REF!","v":{"$error":"#REF!"}},{"$f":"#REF!","v":{"$error":"#REF!"}},{"$f":"#REF!","v":{"$error":"#REF!"}},{"$f":"H230*'Project Summary'!F127","v":{"$error":"#REF!"}},null,null," "]
[{"$f":"$A$230","v":0},{"$f":"B$230","v":{"$error":"#REF!"}},{"$f":"C$230","v":{"$error":"#REF!"}},{"$f":"#REF!","v":{"$error":"#REF!"}},{"$f":"#REF!","v":{"$error":"#REF!"}},{"$f":"#REF!","v":{"$error":"#REF!"}},null,{"$f":"#REF!","v":{"$error":"#REF!"}},{"$f":"#REF!","v":{"$error":"#REF!"}},{"$f":"#REF!","v":{"$error":"#REF!"}},{"$f":"#REF!","v":{"$error":"#REF!"}},{"$f":"H231*'Project Summary'!F127","v":{"$error":"#REF!"}},null,null," "]
[{"$f":"$A$230","v":0},{"$f":"B$230","v":{"$error":"#REF!"}},{"$error":"#REF!"},{"$f":"#REF!","v":{"$error":"#REF!"}},{"$f":"#REF!","v":{"$error":"#REF!"}},{"$f":"#REF!","v":{"$error":"#REF!"}},null,{"$f":"#REF!","v":{"$error":"#REF!"}},{"$f":"#REF!","v":{"$error":"#REF!"}},{"$f":"#REF!","v":{"$error":"#REF!"}},{"$f":"#REF!","v":{"$error":"#REF!"}},{"$f":"H232*'Project Summary'!F127","v":{"$error":"#REF!"}},null,null," "]
[0,{"$error":"#REF!"},{"$error":"#REF!"},{"$f":"#REF!","v":{"$error":"#REF!"}},{"$f":"#REF!","v":{"$error":"#REF!"}},{"$f":"#REF!","v":{"$error":"#REF!"}},null,{"$f":"#REF!","v":{"$error":"#REF!"}},{"$f":"#REF!","v":{"$error":"#REF!"}},{"$f":"#REF!","v":{"$error":"#REF!"}},{"$f":"#REF!","v":{"$error":"#REF!"}},{"$f":"H233*'Project Summary'!F127","v":{"$error":"#REF!"}},null,null," "]
[0,{"$error":"#REF!"},{"$error":"#REF!"},{"$f":"#REF!","v":{"$error":"#REF!"}},{"$f":"#REF!","v":{"$error":"#REF!"}},{"$f":"#REF!","v":{"$error":"#REF!"}},null,{"$f":"#REF!","v":{"$error":"#REF!"}},{"$f":"#REF!","v":{"$error":"#REF!"}},{"$f":"#REF!","v":{"$error":"#REF!"}},{"$f":"#REF!","v":{"$error":"#REF!"}},{"$f":"H234*'Project Summary'!F127","v":{"$error":"#REF!"}},null,null," "]
[0,{"$error":"#REF!"},{"$error":"#REF!"},{"$f":"#REF!","v":{"$error":"#REF!"}},{"$f":"#REF!","v":{"$error":"#REF!"}},{"$f":"#REF!","v":{"$error":"#REF!"}},null,{"$f":"#REF!","v":{"$error":"#REF!"}},{"$f":"#REF!","v":{"$error":"#REF!"}},{"$f":"#REF!","v":{"$error":"#REF!"}},{"$f":"#REF!","v":{"$error":"#REF!"}},{"$f":"H235*'Project Summary'!F127","v":{"$error":"#REF!"}},null,null," "]
[0,{"$error":"#REF!"},{"$error":"#REF!"},{"$f":"#REF!","v":{"$error":"#REF!"}},{"$f":"#REF!","v":{"$error":"#REF!"}},{"$f":"#REF!","v":{"$error":"#REF!"}},null,{"$f":"#REF!","v":{"$error":"#REF!"}},{"$f":"#REF!","v":{"$error":"#REF!"}},{"$f":"#REF!","v":{"$error":"#REF!"}},{"$f":"#REF!","v":{"$error":"#REF!"}},{"$f":"H236*'Project Summary'!F127","v":{"$error":"#REF!"}},null,null," "]
[0,{"$error":"#REF!"},{"$error":"#REF!"},{"$f":"#REF!","v":{"$error":"#REF!"}},{"$f":"#REF!","v":{"$error":"#REF!"}},{"$f":"#REF!","v":{"$error":"#REF!"}},null,{"$f":"#REF!","v":{"$error":"#REF!"}},{"$f":"#REF!","v":{"$error":"#REF!"}},{"$f":"#REF!","v":{"$error":"#REF!"}},{"$f":"#REF!","v":{"$error":"#REF!"}},{"$f":"H237*'Project Summary'!F127","v":{"$error":"#REF!"}},null,null," "]
[{"$f":"'Project Summary'!I128","v":0},{"$f":"#REF!","v":{"$error":"#REF!"}},{"$f":"#REF!","v":{"$error":"#REF!"}},{"$f":"#REF!","v":{"$error":"#REF!"}},{"$f":"#REF!","v":{"$error":"#REF!"}},{"$f":"#REF!","v":{"$error":"#REF!"}},null,{"$f":"#REF!","v":{"$error":"#REF!"}},{"$f":"#REF!","v":{"$error":"#REF!"}},{"$f":"#REF!","v":{"$error":"#REF!"}},{"$f":"#REF!","v":{"$error":"#REF!"}},{"$f":"H238*'Project Summary'!F128","v":{"$error":"#REF!"}},null,null," "]
[{"$f":"$A$238","v":0},{"$f":"B$238","v":{"$error":"#REF!"}},{"$f":"C$238","v":{"$error":"#REF!"}},{"$f":"#REF!","v":{"$error":"#REF!"}},{"$f":"#REF!","v":{"$error":"#REF!"}},{"$f":"#REF!","v":{"$error":"#REF!"}},null,{"$f":"#REF!","v":{"$error":"#REF!"}},{"$f":"#REF!","v":{"$error":"#REF!"}},{"$f":"#REF!","v":{"$error":"#REF!"}},{"$f":"#REF!","v":{"$error":"#REF!"}},{"$f":"H239*'Project Summary'!F128","v":{"$error":"#REF!"}},null,null," "]
[{"$f":"$A$238","v":0},{"$f":"B$238","v":{"$error":"#REF!"}},{"$error":"#REF!"},{"$f":"#REF!","v":{"$error":"#REF!"}},{"$f":"#REF!","v":{"$error":"#REF!"}},{"$f":"#REF!","v":{"$error":"#REF!"}},null,{"$f":"#REF!","v":{"$error":"#REF!"}},{"$f":"#REF!","v":{"$error":"#REF!"}},{"$f":"#REF!","v":{"$error":"#REF!"}},{"$f":"#REF!","v":{"$error":"#REF!"}},{"$f":"H240*'Project Summary'!F128","v":{"$error":"#REF!"}},null,null," "]
[0,{"$error":"#REF!"},{"$error":"#REF!"},{"$f":"#REF!","v":{"$error":"#REF!"}},{"$f":"#REF!","v":{"$error":"#REF!"}},{"$f":"#REF!","v":{"$error":"#REF!"}},null,{"$f":"#REF!","v":{"$error":"#REF!"}},{"$f":"#REF!","v":{"$error":"#REF!"}},{"$f":"#REF!","v":{"$error":"#REF!"}},{"$f":"#REF!","v":{"$error":"#REF!"}},{"$f":"H241*'Project Summary'!F128","v":{"$error":"#REF!"}},null,null," "]
[0,{"$error":"#REF!"},{"$error":"#REF!"},{"$f":"#REF!","v":{"$error":"#REF!"}},{"$f":"#REF!","v":{"$error":"#REF!"}},{"$f":"#REF!","v":{"$error":"#REF!"}},null,{"$f":"#REF!","v":{"$error":"#REF!"}},{"$f":"#REF!","v":{"$error":"#REF!"}},{"$f":"#REF!","v":{"$error":"#REF!"}},{"$f":"#REF!","v":{"$error":"#REF!"}},{"$f":"H242*'Project Summary'!F128","v":{"$error":"#REF!"}},null,null," "]
[0,{"$error":"#REF!"},{"$error":"#REF!"},{"$f":"#REF!","v":{"$error":"#REF!"}},{"$f":"#REF!","v":{"$error":"#REF!"}},{"$f":"#REF!","v":{"$error":"#REF!"}},null,{"$f":"#REF!","v":{"$error":"#REF!"}},{"$f":"#REF!","v":{"$error":"#REF!"}},{"$f":"#REF!","v":{"$error":"#REF!"}},{"$f":"#REF!","v":{"$error":"#REF!"}},{"$f":"H243*'Project Summary'!F128","v":{"$error":"#REF!"}},null,null," "]
[0,{"$error":"#REF!"},{"$error":"#REF!"},{"$f":"#REF!","v":{"$error":"#REF!"}},{"$f":"#REF!","v":{"$error":"#REF!"}},{"$f":"#REF!","v":{"$error":"#REF!"}},null,{"$f":"#REF!","v":{"$error":"#REF!"}},{"$f":"#REF!","v":{"$error":"#REF!"}},{"$f":"#REF!","v":{"$error":"#REF!"}},{"$f":"#REF!","v":{"$error":"#REF!"}},{"$f":"H244*'Project Summary'!F128","v":{"$error":"#REF!"}},null,null," "]
[0,{"$error":"#REF!"},{"$error":"#REF!"},{"$f":"#REF!","v":{"$error":"#REF!"}},{"$f":"#REF!","v":{"$error":"#REF!"}},{"$f":"#REF!","v":{"$error":"#REF!"}},null,{"$f":"#REF!","v":{"$error":"#REF!"}},{"$f":"#REF!","v":{"$error":"#REF!"}},{"$f":"#REF!","v":{"$error":"#REF!"}},{"$f":"#REF!","v":{"$error":"#REF!"}},{"$f":"H245*'Project Summary'!F128","v":{"$error":"#REF!"}},null,null," "]
[{"$f":"'Project Summary'!I129","v":0},{"$f":"#REF!","v":{"$error":"#REF!"}},{"$f":"#REF!","v":{"$error":"#REF!"}},{"$f":"#REF!","v":{"$error":"#REF!"}},{"$f":"#REF!","v":{"$error":"#REF!"}},{"$f":"#REF!","v":{"$error":"#REF!"}},null,{"$f":"#REF!","v":{"$error":"#REF!"}},{"$f":"#REF!","v":{"$error":"#REF!"}},{"$f":"#REF!","v":{"$error":"#REF!"}},{"$f":"#REF!","v":{"$error":"#REF!"}},{"$f":"H246*'Project Summary'!F129","v":{"$error":"#REF!"}},null,null," "]
[{"$f":"$A$246","v":0},{"$f":"#REF!","v":{"$error":"#REF!"}},{"$f":"#REF!","v":{"$error":"#REF!"}},{"$f":"#REF!","v":{"$error":"#REF!"}},{"$f":"#REF!","v":{"$error":"#REF!"}},{"$f":"#REF!","v":{"$error":"#REF!"}},null,{"$f":"#REF!","v":{"$error":"#REF!"}},{"$f":"#REF!","v":{"$error":"#REF!"}},{"$f":"#REF!","v":{"$error":"#REF!"}},{"$f":"#REF!","v":{"$error":"#REF!"}},{"$f":"H247*'Project Summary'!F129","v":{"$error":"#REF!"}},null,null," "]
[{"$f":"$A$246","v":0},{"$f":"#REF!","v":{"$error":"#REF!"}},{"$f":"#REF!","v":{"$error":"#REF!"}},{"$f":"#REF!","v":{"$error":"#REF!"}},{"$f":"#REF!","v":{"$error":"#REF!"}},{"$f":"#REF!","v":{"$error":"#REF!"}},null,{"$f":"#REF!","v":{"$error":"#REF!"}},{"$f":"#REF!","v":{"$error":"#REF!"}},{"$f":"#REF!","v":{"$error":"#REF!"}},{"$f":"#REF!","v":{"$error":"#REF!"}},{"$f":"H248*'Project Summary'!F129","v":{"$error":"#REF!"}},null,null," "]
[0,{"$f":"#REF!","v":{"$error":"#REF!"}},{"$f":"#REF!","v":{"$error":"#REF!"}},{"$f":"#REF!","v":{"$error":"#REF!"}},{"$f":"#REF!","v":{"$error":"#REF!"}},{"$f":"#REF!","v":{"$error":"#REF!"}},null,{"$f":"#REF!","v":{"$error":"#REF!"}},{"$f":"#REF!","v":{"$error":"#REF!"}},{"$f":"#REF!","v":{"$error":"#REF!"}},{"$f":"#REF!","v":{"$error":"#REF!"}},{"$f":"H249*'Project Summary'!F129","v":{"$error":"#REF!"}},null,null," "]
[0,{"$f":"#REF!","v":{"$error":"#REF!"}},{"$f":"#REF!","v":{"$error":"#REF!"}},{"$f":"#REF!","v":{"$error":"#REF!"}},{"$f":"#REF!","v":{"$error":"#REF!"}},{"$f":"#REF!","v":{"$error":"#REF!"}},null,{"$f":"#REF!","v":{"$error":"#REF!"}},{"$f":"#REF!","v":{"$error":"#REF!"}},{"$f":"#REF!","v":{"$error":"#REF!"}},{"$f":"#REF!","v":{"$error":"#REF!"}},{"$f":"H250*'Project Summary'!F129","v":{"$error":"#REF!"}},null,null," "]
[0,{"$f":"#REF!","v":{"$error":"#REF!"}},{"$f":"#REF!","v":{"$error":"#REF!"}},{"$f":"#REF!","v":{"$error":"#REF!"}},{"$f":"#REF!","v":{"$error":"#REF!"}},{"$f":"#REF!","v":{"$error":"#REF!"}},null,{"$f":"#REF!","v":{"$error":"#REF!"}},{"$f":"#REF!","v":{"$error":"#REF!"}},{"$f":"#REF!","v":{"$error":"#REF!"}},{"$f":"#REF!","v":{"$error":"#REF!"}},{"$f":"H251*'Project Summary'!F129","v":{"$error":"#REF!"}},null,null," "]
[0,{"$f":"#REF!","v":{"$error":"#REF!"}},{"$f":"#REF!","v":{"$error":"#REF!"}},{"$f":"#REF!","v":{"$error":"#REF!"}},{"$f":"#REF!","v":{"$error":"#REF!"}},{"$f":"#REF!","v":{"$error":"#REF!"}},null,{"$f":"#REF!","v":{"$error":"#REF!"}},{"$f":"#REF!","v":{"$error":"#REF!"}},{"$f":"#REF!","v":{"$error":"#REF!"}},{"$f":"#REF!","v":{"$error":"#REF!"}},{"$f":"H252*'Project Summary'!F129","v":{"$error":"#REF!"}},null,null," "]
[{"$f":"$A$246","v":0},{"$f":"#REF!","v":{"$error":"#REF!"}},{"$f":"#REF!","v":{"$error":"#REF!"}},{"$f":"#REF!","v":{"$error":"#REF!"}},{"$f":"#REF!","v":{"$error":"#REF!"}},{"$f":"#REF!","v":{"$error":"#REF!"}},null,{"$f":"#REF!","v":{"$error":"#REF!"}},{"$f":"#REF!","v":{"$error":"#REF!"}},{"$f":"#REF!","v":{"$error":"#REF!"}},{"$f":"#REF!","v":{"$error":"#REF!"}},{"$f":"H253*'Project Summary'!F129","v":{"$error":"#REF!"}},null,null," "]
[{"$f":"'Project Summary'!I130","v":0},{"$f":"#REF!","v":{"$error":"#REF!"}},{"$f":"#REF!","v":{"$error":"#REF!"}},{"$f":"#REF!","v":{"$error":"#REF!"}},{"$f":"#REF!","v":{"$error":"#REF!"}},{"$f":"#REF!","v":{"$error":"#REF!"}},null,{"$f":"#REF!","v":{"$error":"#REF!"}},{"$f":"#REF!","v":{"$error":"#REF!"}},{"$f":"#REF!","v":{"$error":"#REF!"}},{"$f":"#REF!","v":{"$error":"#REF!"}},{"$f":"H254*'Project Summary'!F130","v":{"$error":"#REF!"}},null,null," "]
[{"$f":"$A$254","v":0},{"$f":"#REF!","v":{"$error":"#REF!"}},{"$f":"#REF!","v":{"$error":"#REF!"}},{"$f":"#REF!","v":{"$error":"#REF!"}},{"$f":"#REF!","v":{"$error":"#REF!"}},{"$f":"#REF!","v":{"$error":"#REF!"}},null,{"$f":"#REF!","v":{"$error":"#REF!"}},{"$f":"#REF!","v":{"$error":"#REF!"}},{"$f":"#REF!","v":{"$error":"#REF!"}},{"$f":"#REF!","v":{"$error":"#REF!"}},{"$f":"H255*'Project Summary'!F130","v":{"$error":"#REF!"}},null,null," "]
[{"$f":"$A$254","v":0},{"$f":"#REF!","v":{"$error":"#REF!"}},{"$f":"#REF!","v":{"$error":"#REF!"}},{"$f":"#REF!","v":{"$error":"#REF!"}},{"$f":"#REF!","v":{"$error":"#REF!"}},{"$f":"#REF!","v":{"$error":"#REF!"}},null,{"$f":"#REF!","v":{"$error":"#REF!"}},{"$f":"#REF!","v":{"$error":"#REF!"}},{"$f":"#REF!","v":{"$error":"#REF!"}},{"$f":"#REF!","v":{"$error":"#REF!"}},{"$f":"H256*'Project Summary'!F130","v":{"$error":"#REF!"}},null,null," "]
[0,{"$f":"#REF!","v":{"$error":"#REF!"}},{"$f":"#REF!","v":{"$error":"#REF!"}},{"$f":"#REF!","v":{"$error":"#REF!"}},{"$f":"#REF!","v":{"$error":"#REF!"}},{"$f":"#REF!","v":{"$error":"#REF!"}},null,{"$f":"#REF!","v":{"$error":"#REF!"}},{"$f":"#REF!","v":{"$error":"#REF!"}},{"$f":"#REF!","v":{"$error":"#REF!"}},{"$f":"#REF!","v":{"$error":"#REF!"}},{"$f":"H257*'Project Summary'!F130","v":{"$error":"#REF!"}},null,null," "]
[0,{"$f":"#REF!","v":{"$error":"#REF!"}},{"$f":"#REF!","v":{"$error":"#REF!"}},{"$f":"#REF!","v":{"$error":"#REF!"}},{"$f":"#REF!","v":{"$error":"#REF!"}},{"$f":"#REF!","v":{"$error":"#REF!"}},null,{"$f":"#REF!","v":{"$error":"#REF!"}},{"$f":"#REF!","v":{"$error":"#REF!"}},{"$f":"#REF!","v":{"$error":"#REF!"}},{"$f":"#REF!","v":{"$error":"#REF!"}},{"$f":"H258*'Project Summary'!F130","v":{"$error":"#REF!"}},null,null," "]
[{"$f":"$A$254","v":0},{"$f":"#REF!","v":{"$error":"#REF!"}},{"$f":"#REF!","v":{"$error":"#REF!"}},{"$f":"#REF!","v":{"$error":"#REF!"}},{"$f":"#REF!","v":{"$error":"#REF!"}},{"$f":"#REF!","v":{"$error":"#REF!"}},null,{"$f":"#REF!","v":{"$error":"#REF!"}},{"$f":"#REF!","v":{"$error":"#REF!"}},{"$f":"#REF!","v":{"$error":"#REF!"}},{"$f":"#REF!","v":{"$error":"#REF!"}},{"$f":"H259*'Project Summary'!F130","v":{"$error":"#REF!"}},null,null," "]
[0,{"$f":"#REF!","v":{"$error":"#REF!"}},{"$f":"#REF!","v":{"$error":"#REF!"}},{"$f":"#REF!","v":{"$error":"#REF!"}},{"$f":"#REF!","v":{"$error":"#REF!"}},{"$f":"#REF!","v":{"$error":"#REF!"}},null,{"$f":"#REF!","v":{"$error":"#REF!"}},{"$f":"#REF!","v":{"$error":"#REF!"}},{"$f":"#REF!","v":{"$error":"#REF!"}},{"$f":"#REF!","v":{"$error":"#REF!"}},{"$f":"H260*'Project Summary'!F130","v":{"$error":"#REF!"}},null,null," "]
[0,{"$f":"#REF!","v":{"$error":"#REF!"}},{"$f":"#REF!","v":{"$error":"#REF!"}},{"$f":"#REF!","v":{"$error":"#REF!"}},{"$f":"#REF!","v":{"$error":"#REF!"}},{"$f":"#REF!","v":{"$error":"#REF!"}},null,{"$f":"#REF!","v":{"$error":"#REF!"}},{"$f":"#REF!","v":{"$error":"#REF!"}},{"$f":"#REF!","v":{"$error":"#REF!"}},{"$f":"#REF!","v":{"$error":"#REF!"}},{"$f":"H261*'Project Summary'!F130","v":{"$error":"#REF!"}},null,null," "]
[{"$f":"'Project Summary'!I131","v":0},{"$f":"#REF!","v":{"$error":"#REF!"}},{"$f":"#REF!","v":{"$error":"#REF!"}},{"$f":"#REF!","v":{"$error":"#REF!"}},{"$f":"#REF!","v":{"$error":"#REF!"}},{"$f":"#REF!","v":{"$error":"#REF!"}},null,{"$f":"#REF!","v":{"$error":"#REF!"}},{"$f":"#REF!","v":{"$error":"#REF!"}},{"$f":"#REF!","v":{"$error":"#REF!"}},{"$f":"#REF!","v":{"$error":"#REF!"}},{"$f":"H262*'Project Summary'!F131","v":{"$error":"#REF!"}},null,null," "]
[{"$f":"$A$262","v":0},{"$f":"#REF!","v":{"$error":"#REF!"}},{"$f":"#REF!","v":{"$error":"#REF!"}},{"$f":"#REF!","v":{"$error":"#REF!"}},{"$f":"#REF!","v":{"$error":"#REF!"}},{"$f":"#REF!","v":{"$error":"#REF!"}},null,{"$f":"#REF!","v":{"$error":"#REF!"}},{"$f":"#REF!","v":{"$error":"#REF!"}},{"$f":"#REF!","v":{"$error":"#REF!"}},{"$f":"#REF!","v":{"$error":"#REF!"}},{"$f":"H263*'Project Summary'!F131","v":{"$error":"#REF!"}},null,null," "]
[{"$f":"$A$262","v":0},{"$f":"#REF!","v":{"$error":"#REF!"}},{"$f":"#REF!","v":{"$error":"#REF!"}},{"$f":"#REF!","v":{"$error":"#REF!"}},{"$f":"#REF!","v":{"$error":"#REF!"}},{"$f":"#REF!","v":{"$error":"#REF!"}},null,{"$f":"#REF!","v":{"$error":"#REF!"}},{"$f":"#REF!","v":{"$error":"#REF!"}},{"$f":"#REF!","v":{"$error":"#REF!"}},{"$f":"#REF!","v":{"$error":"#REF!"}},{"$f":"H264*'Project Summary'!F131","v":{"$error":"#REF!"}},null,null," "]
[0,{"$f":"#REF!","v":{"$error":"#REF!"}},{"$f":"#REF!","v":{"$error":"#REF!"}},{"$f":"#REF!","v":{"$error":"#REF!"}},{"$f":"#REF!","v":{"$error":"#REF!"}},{"$f":"#REF!","v":{"$error":"#REF!"}},null,{"$f":"#REF!","v":{"$error":"#REF!"}},{"$f":"#REF!","v":{"$error":"#REF!"}},{"$f":"#REF!","v":{"$error":"#REF!"}},{"$f":"#REF!","v":{"$error":"#REF!"}},{"$f":"H265*'Project Summary'!F131","v":{"$error":"#REF!"}},null,null," "]
[0,{"$f":"#REF!","v":{"$error":"#REF!"}},{"$f":"#REF!","v":{"$error":"#REF!"}},{"$f":"#REF!","v":{"$error":"#REF!"}},{"$f":"#REF!","v":{"$error":"#REF!"}},{"$f":"#REF!","v":{"$error":"#REF!"}},null,{"$f":"#REF!","v":{"$error":"#REF!"}},{"$f":"#REF!","v":{"$error":"#REF!"}},{"$f":"#REF!","v":{"$error":"#REF!"}},{"$f":"#REF!","v":{"$error":"#REF!"}},{"$f":"H266*'Project Summary'!F131","v":{"$error":"#REF!"}},null,null," "]
[0,{"$f":"#REF!","v":{"$error":"#REF!"}},{"$f":"#REF!","v":{"$error":"#REF!"}},{"$f":"#REF!","v":{"$error":"#REF!"}},{"$f":"#REF!","v":{"$error":"#REF!"}},{"$f":"#REF!","v":{"$error":"#REF!"}},null,{"$f":"#REF!","v":{"$error":"#REF!"}},{"$f":"#REF!","v":{"$error":"#REF!"}},{"$f":"#REF!","v":{"$error":"#REF!"}},{"$f":"#REF!","v":{"$error":"#REF!"}},{"$f":"H267*'Project Summary'!F131","v":{"$error":"#REF!"}},null,null," "]
[0,{"$f":"#REF!","v":{"$error":"#REF!"}},{"$f":"#REF!","v":{"$error":"#REF!"}},{"$f":"#REF!","v":{"$error":"#REF!"}},{"$f":"#REF!","v":{"$error":"#REF!"}},{"$f":"#REF!","v":{"$error":"#REF!"}},null,{"$f":"#REF!","v":{"$error":"#REF!"}},{"$f":"#REF!","v":{"$error":"#REF!"}},{"$f":"#REF!","v":{"$error":"#REF!"}},{"$f":"#REF!","v":{"$error":"#REF!"}},{"$f":"H268*'Project Summary'!F131","v":{"$error":"#REF!"}},null,null," "]
[0,{"$f":"#REF!","v":{"$error":"#REF!"}},{"$f":"#REF!","v":{"$error":"#REF!"}},{"$f":"#REF!","v":{"$error":"#REF!"}},{"$f":"#REF!","v":{"$error":"#REF!"}},{"$f":"#REF!","v":{"$error":"#REF!"}},null,{"$f":"#REF!","v":{"$error":"#REF!"}},{"$f":"#REF!","v":{"$error":"#REF!"}},{"$f":"#REF!","v":{"$error":"#REF!"}},{"$f":"#REF!","v":{"$error":"#REF!"}},{"$f":"H269*'Project Summary'!F131","v":{"$error":"#REF!"}},null,null," "]
[{"$f":"'Project Summary'!I132","v":0},{"$f":"#REF!","v":{"$error":"#REF!"}},{"$f":"#REF!","v":{"$error":"#REF!"}},{"$f":"#REF!","v":{"$error":"#REF!"}},{"$f":"#REF!","v":{"$error":"#REF!"}},{"$f":"#REF!","v":{"$error":"#REF!"}},null,{"$f":"#REF!","v":{"$error":"#REF!"}},{"$f":"#REF!","v":{"$error":"#REF!"}},{"$f":"#REF!","v":{"$error":"#REF!"}},{"$f":"#REF!","v":{"$error":"#REF!"}},{"$f":"H270*'Project Summary'!F132","v":{"$error":"#REF!"}},null,null," "]
[{"$f":"$A$270","v":0},{"$f":"#REF!","v":{"$error":"#REF!"}},{"$f":"#REF!","v":{"$error":"#REF!"}},{"$f":"#REF!","v":{"$error":"#REF!"}},{"$f":"#REF!","v":{"$error":"#REF!"}},{"$f":"#REF!","v":{"$error":"#REF!"}},null,{"$f":"#REF!","v":{"$error":"#REF!"}},{"$f":"#REF!","v":{"$error":"#REF!"}},{"$f":"#REF!","v":{"$error":"#REF!"}},{"$f":"#REF!","v":{"$error":"#REF!"}},{"$f":"H271*'Project Summary'!F132","v":{"$error":"#REF!"}},null,null," "]
[{"$f":"$A$270","v":0},{"$f":"#REF!","v":{"$error":"#REF!"}},{"$f":"#REF!","v":{"$error":"#REF!"}},{"$f":"#REF!","v":{"$error":"#REF!"}},{"$f":"#REF!","v":{"$error":"#REF!"}},{"$f":"#REF!","v":{"$error":"#REF!"}},null,{"$f":"#REF!","v":{"$error":"#REF!"}},{"$f":"#REF!","v":{"$error":"#REF!"}},{"$f":"#REF!","v":{"$error":"#REF!"}},{"$f":"#REF!","v":{"$error":"#REF!"}},{"$f":"H272*'Project Summary'!F132","v":{"$error":"#REF!"}},null,null," "]
[0,{"$f":"#REF!","v":{"$error":"#REF!"}},{"$f":"#REF!","v":{"$error":"#REF!"}},{"$f":"#REF!","v":{"$error":"#REF!"}},{"$f":"#REF!","v":{"$error":"#REF!"}},{"$f":"#REF!","v":{"$error":"#REF!"}},null,{"$f":"#REF!","v":{"$error":"#REF!"}},{"$f":"#REF!","v":{"$error":"#REF!"}},{"$f":"#REF!","v":{"$error":"#REF!"}},{"$f":"#REF!","v":{"$error":"#REF!"}},{"$f":"H273*'Project Summary'!F132","v":{"$error":"#REF!"}},null,null," "]
[0,{"$f":"#REF!","v":{"$error":"#REF!"}},{"$f":"#REF!","v":{"$error":"#REF!"}},{"$f":"#REF!","v":{"$error":"#REF!"}},{"$f":"#REF!","v":{"$error":"#REF!"}},{"$f":"#REF!","v":{"$error":"#REF!"}},null,{"$f":"#REF!","v":{"$error":"#REF!"}},{"$f":"#REF!","v":{"$error":"#REF!"}},{"$f":"#REF!","v":{"$error":"#REF!"}},{"$f":"#REF!","v":{"$error":"#REF!"}},{"$f":"H274*'Project Summary'!F132","v":{"$error":"#REF!"}},null,null," "]
[0,{"$f":"#REF!","v":{"$error":"#REF!"}},{"$f":"#REF!","v":{"$error":"#REF!"}},{"$f":"#REF!","v":{"$error":"#REF!"}},{"$f":"#REF!","v":{"$error":"#REF!"}},{"$f":"#REF!","v":{"$error":"#REF!"}},null,{"$f":"#REF!","v":{"$error":"#REF!"}},{"$f":"#REF!","v":{"$error":"#REF!"}},{"$f":"#REF!","v":{"$error":"#REF!"}},{"$f":"#REF!","v":{"$error":"#REF!"}},{"$f":"H275*'Project Summary'!F132","v":{"$error":"#REF!"}},null,null," "]
[0,{"$f":"#REF!","v":{"$error":"#REF!"}},{"$f":"#REF!","v":{"$error":"#REF!"}},{"$f":"#REF!","v":{"$error":"#REF!"}},{"$f":"#REF!","v":{"$error":"#REF!"}},{"$f":"#REF!","v":{"$error":"#REF!"}},null,{"$f":"#REF!","v":{"$error":"#REF!"}},{"$f":"#REF!","v":{"$error":"#REF!"}},{"$f":"#REF!","v":{"$error":"#REF!"}},{"$f":"#REF!","v":{"$error":"#REF!"}},{"$f":"H276*'Project Summary'!F132","v":{"$error":"#REF!"}},null,null," "]
[0,{"$f":"#REF!","v":{"$error":"#REF!"}},{"$f":"#REF!","v":{"$error":"#REF!"}},{"$f":"#REF!","v":{"$error":"#REF!"}},{"$f":"#REF!","v":{"$error":"#REF!"}},{"$f":"#REF!","v":{"$error":"#REF!"}},null,{"$f":"#REF!","v":{"$error":"#REF!"}},{"$f":"#REF!","v":{"$error":"#REF!"}},{"$f":"#REF!","v":{"$error":"#REF!"}},{"$f":"#REF!","v":{"$error":"#REF!"}},{"$f":"H277*'Project Summary'!F132","v":{"$error":"#REF!"}},null,null," "]
[{"$f":"'Project Summary'!I133","v":0},{"$f":"#REF!","v":{"$error":"#REF!"}},{"$f":"#REF!","v":{"$error":"#REF!"}},{"$f":"#REF!","v":{"$error":"#REF!"}},{"$f":"#REF!","v":{"$error":"#REF!"}},{"$f":"#REF!","v":{"$error":"#REF!"}},null,{"$f":"#REF!","v":{"$error":"#REF!"}},{"$f":"#REF!","v":{"$error":"#REF!"}},{"$f":"#REF!","v":{"$error":"#REF!"}},{"$f":"#REF!","v":{"$error":"#REF!"}},{"$f":"H278*'Project Summary'!F133","v":{"$error":"#REF!"}},null,null," "]
[{"$f":"$A$278","v":0},{"$f":"#REF!","v":{"$error":"#REF!"}},{"$f":"#REF!","v":{"$error":"#REF!"}},{"$f":"#REF!","v":{"$error":"#REF!"}},{"$f":"#REF!","v":{"$error":"#REF!"}},{"$f":"#REF!","v":{"$error":"#REF!"}},null,{"$f":"#REF!","v":{"$error":"#REF!"}},{"$f":"#REF!","v":{"$error":"#REF!"}},{"$f":"#REF!","v":{"$error":"#REF!"}},{"$f":"#REF!","v":{"$error":"#REF!"}},{"$f":"H279*'Project Summary'!F133","v":{"$error":"#REF!"}},null,null," "]
[{"$f":"$A$278","v":0},{"$f":"#REF!","v":{"$error":"#REF!"}},{"$f":"#REF!","v":{"$error":"#REF!"}},{"$f":"#REF!","v":{"$error":"#REF!"}},{"$f":"#REF!","v":{"$error":"#REF!"}},{"$f":"#REF!","v":{"$error":"#REF!"}},null,{"$f":"#REF!","v":{"$error":"#REF!"}},{"$f":"#REF!","v":{"$error":"#REF!"}},{"$f":"#REF!","v":{"$error":"#REF!"}},{"$f":"#REF!","v":{"$error":"#REF!"}},{"$f":"H280*'Project Summary'!F133","v":{"$error":"#REF!"}},null,null," "]
[0,{"$f":"#REF!","v":{"$error":"#REF!"}},{"$f":"#REF!","v":{"$error":"#REF!"}},{"$f":"#REF!","v":{"$error":"#REF!"}},{"$f":"#REF!","v":{"$error":"#REF!"}},{"$f":"#REF!","v":{"$error":"#REF!"}},null,{"$f":"#REF!","v":{"$error":"#REF!"}},{"$f":"#REF!","v":{"$error":"#REF!"}},{"$f":"#REF!","v":{"$error":"#REF!"}},{"$f":"#REF!","v":{"$error":"#REF!"}},{"$f":"H281*'Project Summary'!F133","v":{"$error":"#REF!"}},null,null," "]
[0,{"$f":"#REF!","v":{"$error":"#REF!"}},{"$f":"#REF!","v":{"$error":"#REF!"}},{"$f":"#REF!","v":{"$error":"#REF!"}},{"$f":"#REF!","v":{"$error":"#REF!"}},{"$f":"#REF!","v":{"$error":"#REF!"}},null,{"$f":"#REF!","v":{"$error":"#REF!"}},{"$f":"#REF!","v":{"$error":"#REF!"}},{"$f":"#REF!","v":{"$error":"#REF!"}},{"$f":"#REF!","v":{"$error":"#REF!"}},{"$f":"H282*'Project Summary'!F133","v":{"$error":"#REF!"}},null,null," "]
[0,{"$f":"#REF!","v":{"$error":"#REF!"}},{"$f":"#REF!","v":{"$error":"#REF!"}},{"$f":"#REF!","v":{"$error":"#REF!"}},{"$f":"#REF!","v":{"$error":"#REF!"}},{"$f":"#REF!","v":{"$error":"#REF!"}},null,{"$f":"#REF!","v":{"$error":"#REF!"}},{"$f":"#REF!","v":{"$error":"#REF!"}},{"$f":"#REF!","v":{"$error":"#REF!"}},{"$f":"#REF!","v":{"$error":"#REF!"}},{"$f":"H283*'Project Summary'!F133","v":{"$error":"#REF!"}},null,null," "]
[0,{"$f":"#REF!","v":{"$error":"#REF!"}},{"$f":"#REF!","v":{"$error":"#REF!"}},{"$f":"#REF!","v":{"$error":"#REF!"}},{"$f":"#REF!","v":{"$error":"#REF!"}},{"$f":"#REF!","v":{"$error":"#REF!"}},null,{"$f":"#REF!","v":{"$error":"#REF!"}},{"$f":"#REF!","v":{"$error":"#REF!"}},{"$f":"#REF!","v":{"$error":"#REF!"}},{"$f":"#REF!","v":{"$error":"#REF!"}},{"$f":"H284*'Project Summary'!F133","v":{"$error":"#REF!"}},null,null," "]
[0,{"$f":"#REF!","v":{"$error":"#REF!"}},{"$f":"#REF!","v":{"$error":"#REF!"}},{"$f":"#REF!","v":{"$error":"#REF!"}},{"$f":"#REF!","v":{"$error":"#REF!"}},{"$f":"#REF!","v":{"$error":"#REF!"}},null,{"$f":"#REF!","v":{"$error":"#REF!"}},{"$f":"#REF!","v":{"$error":"#REF!"}},{"$f":"#REF!","v":{"$error":"#REF!"}},{"$f":"#REF!","v":{"$error":"#REF!"}},{"$f":"H285*'Project Summary'!F133","v":{"$error":"#REF!"}},null,null," "]
[{"$f":"'Project Summary'!I134","v":0},{"$f":"#REF!","v":{"$error":"#REF!"}},{"$f":"#REF!","v":{"$error":"#REF!"}},{"$f":"#REF!","v":{"$error":"#REF!"}},{"$f":"#REF!","v":{"$error":"#REF!"}},{"$f":"#REF!","v":{"$error":"#REF!"}},null,{"$f":"#REF!","v":{"$error":"#REF!"}},{"$f":"#REF!","v":{"$error":"#REF!"}},{"$f":"#REF!","v":{"$error":"#REF!"}},{"$f":"#REF!","v":{"$error":"#REF!"}},{"$f":"H286*'Project Summary'!F134","v":{"$error":"#REF!"}},null,null," "]
[{"$f":"$A$286","v":0},{"$f":"#REF!","v":{"$error":"#REF!"}},{"$f":"#REF!","v":{"$error":"#REF!"}},{"$f":"#REF!","v":{"$error":"#REF!"}},{"$f":"#REF!","v":{"$error":"#REF!"}},{"$f":"#REF!","v":{"$error":"#REF!"}},null,{"$f":"#REF!","v":{"$error":"#REF!"}},{"$f":"#REF!","v":{"$error":"#REF!"}},{"$f":"#REF!","v":{"$error":"#REF!"}},{"$f":"#REF!","v":{"$error":"#REF!"}},{"$f":"H287*'Project Summary'!F134","v":{"$error":"#REF!"}},null,null," "]
[{"$f":"$A$286","v":0},{"$f":"#REF!","v":{"$error":"#REF!"}},{"$f":"#REF!","v":{"$error":"#REF!"}},{"$f":"#REF!","v":{"$error":"#REF!"}},{"$f":"#REF!","v":{"$error":"#REF!"}},{"$f":"#REF!","v":{"$error":"#REF!"}},null,{"$f":"#REF!","v":{"$error":"#REF!"}},{"$f":"#REF!","v":{"$error":"#REF!"}},{"$f":"#REF!","v":{"$error":"#REF!"}},{"$f":"#REF!","v":{"$error":"#REF!"}},{"$f":"H288*'Project Summary'!F134","v":{"$error":"#REF!"}},null,null," "]
[0,{"$f":"#REF!","v":{"$error":"#REF!"}},{"$f":"#REF!","v":{"$error":"#REF!"}},{"$f":"#REF!","v":{"$error":"#REF!"}},{"$f":"#REF!","v":{"$error":"#REF!"}},{"$f":"#REF!","v":{"$error":"#REF!"}},null,{"$f":"#REF!","v":{"$error":"#REF!"}},{"$f":"#REF!","v":{"$error":"#REF!"}},{"$f":"#REF!","v":{"$error":"#REF!"}},{"$f":"#REF!","v":{"$error":"#REF!"}},{"$f":"H289*'Project Summary'!F134","v":{"$error":"#REF!"}},null,null," "]
[0,{"$f":"#REF!","v":{"$error":"#REF!"}},{"$f":"#REF!","v":{"$error":"#REF!"}},{"$f":"#REF!","v":{"$error":"#REF!"}},{"$f":"#REF!","v":{"$error":"#REF!"}},{"$f":"#REF!","v":{"$error":"#REF!"}},null,{"$f":"#REF!","v":{"$error":"#REF!"}},{"$f":"#REF!","v":{"$error":"#REF!"}},{"$f":"#REF!","v":{"$error":"#REF!"}},{"$f":"#REF!","v":{"$error":"#REF!"}},{"$f":"H290*'Project Summary'!F134","v":{"$error":"#REF!"}},null,null," "]
[0,{"$f":"#REF!","v":{"$error":"#REF!"}},{"$f":"#REF!","v":{"$error":"#REF!"}},{"$f":"#REF!","v":{"$error":"#REF!"}},{"$f":"#REF!","v":{"$error":"#REF!"}},{"$f":"#REF!","v":{"$error":"#REF!"}},null,{"$f":"#REF!","v":{"$error":"#REF!"}},{"$f":"#REF!","v":{"$error":"#REF!"}},{"$f":"#REF!","v":{"$error":"#REF!"}},{"$f":"#REF!","v":{"$error":"#REF!"}},{"$f":"H291*'Project Summary'!F134","v":{"$error":"#REF!"}},null,null," "]
[0,{"$f":"#REF!","v":{"$error":"#REF!"}},{"$f":"#REF!","v":{"$error":"#REF!"}},{"$f":"#REF!","v":{"$error":"#REF!"}},{"$f":"#REF!","v":{"$error":"#REF!"}},{"$f":"#REF!","v":{"$error":"#REF!"}},null,{"$f":"#REF!","v":{"$error":"#REF!"}},{"$f":"#REF!","v":{"$error":"#REF!"}},{"$f":"#REF!","v":{"$error":"#REF!"}},{"$f":"#REF!","v":{"$error":"#REF!"}},{"$f":"H292*'Project Summary'!F134","v":{"$error":"#REF!"}},null,null," "]
[0,{"$f":"#REF!","v":{"$error":"#REF!"}},{"$f":"#REF!","v":{"$error":"#REF!"}},{"$f":"#REF!","v":{"$error":"#REF!"}},{"$f":"#REF!","v":{"$error":"#REF!"}},{"$f":"#REF!","v":{"$error":"#REF!"}},null,{"$f":"#REF!","v":{"$error":"#REF!"}},{"$f":"#REF!","v":{"$error":"#REF!"}},{"$f":"#REF!","v":{"$error":"#REF!"}},{"$f":"#REF!","v":{"$error":"#REF!"}},{"$f":"H293*'Project Summary'!F134","v":{"$error":"#REF!"}},null,null," "]
[{"$f":"'Project Summary'!I135","v":0},{"$f":"#REF!","v":{"$error":"#REF!"}},{"$f":"#REF!","v":{"$error":"#REF!"}},{"$f":"#REF!","v":{"$error":"#REF!"}},{"$f":"#REF!","v":{"$error":"#REF!"}},{"$f":"#REF!","v":{"$error":"#REF!"}},null,{"$f":"#REF!","v":{"$error":"#REF!"}},{"$f":"#REF!","v":{"$error":"#REF!"}},{"$f":"#REF!","v":{"$error":"#REF!"}},{"$f":"#REF!","v":{"$error":"#REF!"}},{"$f":"H294*'Project Summary'!F135","v":{"$error":"#REF!"}},null,null," "]
[{"$f":"$A$294","v":0},{"$f":"#REF!","v":{"$error":"#REF!"}},{"$f":"#REF!","v":{"$error":"#REF!"}},{"$f":"#REF!","v":{"$error":"#REF!"}},{"$f":"#REF!","v":{"$error":"#REF!"}},{"$f":"#REF!","v":{"$error":"#REF!"}},null,{"$f":"#REF!","v":{"$error":"#REF!"}},{"$f":"#REF!","v":{"$error":"#REF!"}},{"$f":"#REF!","v":{"$error":"#REF!"}},{"$f":"#REF!","v":{"$error":"#REF!"}},{"$f":"H295*'Project Summary'!F135","v":{"$error":"#REF!"}},null,null," "]
[{"$f":"$A$294","v":0},{"$f":"#REF!","v":{"$error":"#REF!"}},{"$f":"#REF!","v":{"$error":"#REF!"}},{"$f":"#REF!","v":{"$error":"#REF!"}},{"$f":"#REF!","v":{"$error":"#REF!"}},{"$f":"#REF!","v":{"$error":"#REF!"}},null,{"$f":"#REF!","v":{"$error":"#REF!"}},{"$f":"#REF!","v":{"$error":"#REF!"}},{"$f":"#REF!","v":{"$error":"#REF!"}},{"$f":"#REF!","v":{"$error":"#REF!"}},{"$f":"H296*'Project Summary'!F135","v":{"$error":"#REF!"}},null,null," "]
[0,{"$f":"#REF!","v":{"$error":"#REF!"}},{"$f":"#REF!","v":{"$error":"#REF!"}},{"$f":"#REF!","v":{"$error":"#REF!"}},{"$f":"#REF!","v":{"$error":"#REF!"}},{"$f":"#REF!","v":{"$error":"#REF!"}},null,{"$f":"#REF!","v":{"$error":"#REF!"}},{"$f":"#REF!","v":{"$error":"#REF!"}},{"$f":"#REF!","v":{"$error":"#REF!"}},{"$f":"#REF!","v":{"$error":"#REF!"}},{"$f":"H297*'Project Summary'!F135","v":{"$error":"#REF!"}},null,null," "]
[0,{"$f":"#REF!","v":{"$error":"#REF!"}},{"$f":"#REF!","v":{"$error":"#REF!"}},{"$f":"#REF!","v":{"$error":"#REF!"}},{"$f":"#REF!","v":{"$error":"#REF!"}},{"$f":"#REF!","v":{"$error":"#REF!"}},null,{"$f":"#REF!","v":{"$error":"#REF!"}},{"$f":"#REF!","v":{"$error":"#REF!"}},{"$f":"#REF!","v":{"$error":"#REF!"}},{"$f":"#REF!","v":{"$error":"#REF!"}},{"$f":"H298*'Project Summary'!F135","v":{"$error":"#REF!"}},null,null," "]
[0,{"$f":"#REF!","v":{"$error":"#REF!"}},{"$f":"#REF!","v":{"$error":"#REF!"}},{"$f":"#REF!","v":{"$error":"#REF!"}},{"$f":"#REF!","v":{"$error":"#REF!"}},{"$f":"#REF!","v":{"$error":"#REF!"}},null,{"$f":"#REF!","v":{"$error":"#REF!"}},{"$f":"#REF!","v":{"$error":"#REF!"}},{"$f":"#REF!","v":{"$error":"#REF!"}},{"$f":"#REF!","v":{"$error":"#REF!"}},{"$f":"H299*'Project Summary'!F135","v":{"$error":"#REF!"}},null,null," "]
[0,{"$f":"#REF!","v":{"$error":"#REF!"}},{"$f":"#REF!","v":{"$error":"#REF!"}},{"$f":"#REF!","v":{"$error":"#REF!"}},{"$f":"#REF!","v":{"$error":"#REF!"}},{"$f":"#REF!","v":{"$error":"#REF!"}},null,{"$f":"#REF!","v":{"$error":"#REF!"}},{"$f":"#REF!","v":{"$error":"#REF!"}},{"$f":"#REF!","v":{"$error":"#REF!"}},{"$f":"#REF!","v":{"$error":"#REF!"}},{"$f":"H300*'Project Summary'!F135","v":{"$error":"#REF!"}},null,null," "]
[0,{"$f":"#REF!","v":{"$error":"#REF!"}},{"$f":"#REF!","v":{"$error":"#REF!"}},{"$f":"#REF!","v":{"$error":"#REF!"}},{"$f":"#REF!","v":{"$error":"#REF!"}},{"$f":"#REF!","v":{"$error":"#REF!"}},null,{"$f":"#REF!","v":{"$error":"#REF!"}},{"$f":"#REF!","v":{"$error":"#REF!"}},{"$f":"#REF!","v":{"$error":"#REF!"}},{"$f":"#REF!","v":{"$error":"#REF!"}},{"$f":"H301*'Project Summary'!F135","v":{"$error":"#REF!"}},null,null," "]
[{"$f":"'Project Summary'!I136","v":0},{"$f":"#REF!","v":{"$error":"#REF!"}},{"$f":"#REF!","v":{"$error":"#REF!"}},{"$f":"#REF!","v":{"$error":"#REF!"}},{"$f":"#REF!","v":{"$error":"#REF!"}},{"$f":"#REF!","v":{"$error":"#REF!"}},null,{"$f":"#REF!","v":{"$error":"#REF!"}},{"$f":"#REF!","v":{"$error":"#REF!"}},{"$f":"#REF!","v":{"$error":"#REF!"}},{"$f":"#REF!","v":{"$error":"#REF!"}},{"$f":"H302*'Project Summary'!F136","v":{"$error":"#REF!"}},null,null," "]
[{"$f":"$A$302","v":0},{"$f":"#REF!","v":{"$error":"#REF!"}},{"$f":"#REF!","v":{"$error":"#REF!"}},{"$f":"#REF!","v":{"$error":"#REF!"}},{"$f":"#REF!","v":{"$error":"#REF!"}},{"$f":"#REF!","v":{"$error":"#REF!"}},null,{"$f":"#REF!","v":{"$error":"#REF!"}},{"$f":"#REF!","v":{"$error":"#REF!"}},{"$f":"#REF!","v":{"$error":"#REF!"}},{"$f":"#REF!","v":{"$error":"#REF!"}},{"$f":"H303*'Project Summary'!F136","v":{"$error":"#REF!"}},null,null," "]
[{"$f":"$A$302","v":0},{"$f":"#REF!","v":{"$error":"#REF!"}},{"$f":"#REF!","v":{"$error":"#REF!"}},{"$f":"#REF!","v":{"$error":"#REF!"}},{"$f":"#REF!","v":{"$error":"#REF!"}},{"$f":"#REF!","v":{"$error":"#REF!"}},null,{"$f":"#REF!","v":{"$error":"#REF!"}},{"$f":"#REF!","v":{"$error":"#REF!"}},{"$f":"#REF!","v":{"$error":"#REF!"}},{"$f":"#REF!","v":{"$error":"#REF!"}},{"$f":"H304*'Project Summary'!F136","v":{"$error":"#REF!"}},null,null," "]
[0,{"$f":"#REF!","v":{"$error":"#REF!"}},{"$f":"#REF!","v":{"$error":"#REF!"}},{"$f":"#REF!","v":{"$error":"#REF!"}},{"$f":"#REF!","v":{"$error":"#REF!"}},{"$f":"#REF!","v":{"$error":"#REF!"}},null,{"$f":"#REF!","v":{"$error":"#REF!"}},{"$f":"#REF!","v":{"$error":"#REF!"}},{"$f":"#REF!","v":{"$error":"#REF!"}},{"$f":"#REF!","v":{"$error":"#REF!"}},{"$f":"H305*'Project Summary'!F136","v":{"$error":"#REF!"}},null,null," "]
[0,{"$f":"#REF!","v":{"$error":"#REF!"}},{"$f":"#REF!","v":{"$error":"#REF!"}},{"$f":"#REF!","v":{"$error":"#REF!"}},{"$f":"#REF!","v":{"$error":"#REF!"}},{"$f":"#REF!","v":{"$error":"#REF!"}},null,{"$f":"#REF!","v":{"$error":"#REF!"}},{"$f":"#REF!","v":{"$error":"#REF!"}},{"$f":"#REF!","v":{"$error":"#REF!"}},{"$f":"#REF!","v":{"$error":"#REF!"}},{"$f":"H306*'Project Summary'!F136","v":{"$error":"#REF!"}},null,null," "]
[0,{"$f":"#REF!","v":{"$error":"#REF!"}},{"$f":"#REF!","v":{"$error":"#REF!"}},{"$f":"#REF!","v":{"$error":"#REF!"}},{"$f":"#REF!","v":{"$error":"#REF!"}},{"$f":"#REF!","v":{"$error":"#REF!"}},null,{"$f":"#REF!","v":{"$error":"#REF!"}},{"$f":"#REF!","v":{"$error":"#REF!"}},{"$f":"#REF!","v":{"$error":"#REF!"}},{"$f":"#REF!","v":{"$error":"#REF!"}},{"$f":"H307*'Project Summary'!F136","v":{"$error":"#REF!"}},null,null," "]
[0,{"$f":"#REF!","v":{"$error":"#REF!"}},{"$f":"#REF!","v":{"$error":"#REF!"}},{"$f":"#REF!","v":{"$error":"#REF!"}},{"$f":"#REF!","v":{"$error":"#REF!"}},{"$f":"#REF!","v":{"$error":"#REF!"}},null,{"$f":"#REF!","v":{"$error":"#REF!"}},{"$f":"#REF!","v":{"$error":"#REF!"}},{"$f":"#REF!","v":{"$error":"#REF!"}},{"$f":"#REF!","v":{"$error":"#REF!"}},{"$f":"H308*'Project Summary'!F136","v":{"$error":"#REF!"}},null,null," "]
[0,{"$f":"#REF!","v":{"$error":"#REF!"}},{"$f":"#REF!","v":{"$error":"#REF!"}},{"$f":"#REF!","v":{"$error":"#REF!"}},{"$f":"#REF!","v":{"$error":"#REF!"}},{"$f":"#REF!","v":{"$error":"#REF!"}},null,{"$f":"#REF!","v":{"$error":"#REF!"}},{"$f":"#REF!","v":{"$error":"#REF!"}},{"$f":"#REF!","v":{"$error":"#REF!"}},{"$f":"#REF!","v":{"$error":"#REF!"}},{"$f":"H309*'Project Summary'!F136","v":{"$error":"#REF!"}},null,null," "]
[{"$f":"'Project Summary'!I137","v":0},{"$f":"#REF!","v":{"$error":"#REF!"}},{"$f":"#REF!","v":{"$error":"#REF!"}},{"$f":"#REF!","v":{"$error":"#REF!"}},{"$f":"#REF!","v":{"$error":"#REF!"}},{"$f":"#REF!","v":{"$error":"#REF!"}},null,{"$f":"#REF!","v":{"$error":"#REF!"}},{"$f":"#REF!","v":{"$error":"#REF!"}},{"$f":"#REF!","v":{"$error":"#REF!"}},{"$f":"#REF!","v":{"$error":"#REF!"}},{"$f":"H310*'Project Summary'!F137","v":{"$error":"#REF!"}},null,null," "]
[{"$f":"$A$310","v":0},{"$f":"#REF!","v":{"$error":"#REF!"}},{"$f":"#REF!","v":{"$error":"#REF!"}},{"$f":"#REF!","v":{"$error":"#REF!"}},{"$f":"#REF!","v":{"$error":"#REF!"}},{"$f":"#REF!","v":{"$error":"#REF!"}},null,{"$f":"#REF!","v":{"$error":"#REF!"}},{"$f":"#REF!","v":{"$error":"#REF!"}},{"$f":"#REF!","v":{"$error":"#REF!"}},{"$f":"#REF!","v":{"$error":"#REF!"}},{"$f":"H311*'Project Summary'!F137","v":{"$error":"#REF!"}},null,null," "]
[{"$f":"$A$310","v":0},{"$f":"#REF!","v":{"$error":"#REF!"}},{"$f":"#REF!","v":{"$error":"#REF!"}},{"$f":"#REF!","v":{"$error":"#REF!"}},{"$f":"#REF!","v":{"$error":"#REF!"}},{"$f":"#REF!","v":{"$error":"#REF!"}},null,{"$f":"#REF!","v":{"$error":"#REF!"}},{"$f":"#REF!","v":{"$error":"#REF!"}},{"$f":"#REF!","v":{"$error":"#REF!"}},{"$f":"#REF!","v":{"$error":"#REF!"}},{"$f":"H312*'Project Summary'!F137","v":{"$error":"#REF!"}},null,null," "]
[0,{"$f":"#REF!","v":{"$error":"#REF!"}},{"$f":"#REF!","v":{"$error":"#REF!"}},{"$f":"#REF!","v":{"$error":"#REF!"}},{"$f":"#REF!","v":{"$error":"#REF!"}},{"$f":"#REF!","v":{"$error":"#REF!"}},null,{"$f":"#REF!","v":{"$error":"#REF!"}},{"$f":"#REF!","v":{"$error":"#REF!"}},{"$f":"#REF!","v":{"$error":"#REF!"}},{"$f":"#REF!","v":{"$error":"#REF!"}},{"$f":"H313*'Project Summary'!F137","v":{"$error":"#REF!"}},null,null," "]
[0,{"$f":"#REF!","v":{"$error":"#REF!"}},{"$f":"#REF!","v":{"$error":"#REF!"}},{"$f":"#REF!","v":{"$error":"#REF!"}},{"$f":"#REF!","v":{"$error":"#REF!"}},{"$f":"#REF!","v":{"$error":"#REF!"}},null,{"$f":"#REF!","v":{"$error":"#REF!"}},{"$f":"#REF!","v":{"$error":"#REF!"}},{"$f":"#REF!","v":{"$error":"#REF!"}},{"$f":"#REF!","v":{"$error":"#REF!"}},{"$f":"H314*'Project Summary'!F137","v":{"$error":"#REF!"}},null,null," "]
[0,{"$f":"#REF!","v":{"$error":"#REF!"}},{"$f":"#REF!","v":{"$error":"#REF!"}},{"$f":"#REF!","v":{"$error":"#REF!"}},{"$f":"#REF!","v":{"$error":"#REF!"}},{"$f":"#REF!","v":{"$error":"#REF!"}},null,{"$f":"#REF!","v":{"$error":"#REF!"}},{"$f":"#REF!","v":{"$error":"#REF!"}},{"$f":"#REF!","v":{"$error":"#REF!"}},{"$f":"#REF!","v":{"$error":"#REF!"}},{"$f":"H315*'Project Summary'!F137","v":{"$error":"#REF!"}},null,null," "]
[0,{"$f":"#REF!","v":{"$error":"#REF!"}},{"$f":"#REF!","v":{"$error":"#REF!"}},{"$f":"#REF!","v":{"$error":"#REF!"}},{"$f":"#REF!","v":{"$error":"#REF!"}},{"$f":"#REF!","v":{"$error":"#REF!"}},null,{"$f":"#REF!","v":{"$error":"#REF!"}},{"$f":"#REF!","v":{"$error":"#REF!"}},{"$f":"#REF!","v":{"$error":"#REF!"}},{"$f":"#REF!","v":{"$error":"#REF!"}},{"$f":"H316*'Project Summary'!F137","v":{"$error":"#REF!"}},null,null," "]
[0,{"$f":"#REF!","v":{"$error":"#REF!"}},{"$f":"#REF!","v":{"$error":"#REF!"}},{"$f":"#REF!","v":{"$error":"#REF!"}},{"$f":"#REF!","v":{"$error":"#REF!"}},{"$f":"#REF!","v":{"$error":"#REF!"}},null,{"$f":"#REF!","v":{"$error":"#REF!"}},{"$f":"#REF!","v":{"$error":"#REF!"}},{"$f":"#REF!","v":{"$error":"#REF!"}},{"$f":"#REF!","v":{"$error":"#REF!"}},{"$f":"H317*'Project Summary'!F137","v":{"$error":"#REF!"}},null,null," "]
[{"$f":"'Project Summary'!I138","v":0},{"$f":"#REF!","v":{"$error":"#REF!"}},{"$f":"#REF!","v":{"$error":"#REF!"}},{"$f":"#REF!","v":{"$error":"#REF!"}},{"$f":"#REF!","v":{"$error":"#REF!"}},{"$f":"#REF!","v":{"$error":"#REF!"}},null,{"$f":"#REF!","v":{"$error":"#REF!"}},{"$f":"#REF!","v":{"$error":"#REF!"}},{"$f":"#REF!","v":{"$error":"#REF!"}},{"$f":"#REF!","v":{"$error":"#REF!"}},{"$f":"H318*'Project Summary'!F138","v":{"$error":"#REF!"}}]
[{"$f":"$A$318","v":0},{"$f":"#REF!","v":{"$error":"#REF!"}},{"$f":"#REF!","v":{"$error":"#REF!"}},{"$f":"#REF!","v":{"$error":"#REF!"}},{"$f":"#REF!","v":{"$error":"#REF!"}},{"$f":"#REF!","v":{"$error":"#REF!"}},null,{"$f":"#REF!","v":{"$error":"#REF!"}},{"$f":"#REF!","v":{"$error":"#REF!"}},{"$f":"#REF!","v":{"$error":"#REF!"}},{"$f":"#REF!","v":{"$error":"#REF!"}},{"$f":"H319*'Project Summary'!F138","v":{"$error":"#REF!"}}]
[{"$f":"$A$318","v":0},{"$f":"#REF!","v":{"$error":"#REF!"}},{"$f":"#REF!","v":{"$error":"#REF!"}},{"$f":"#REF!","v":{"$error":"#REF!"}},{"$f":"#REF!","v":{"$error":"#REF!"}},{"$f":"#REF!","v":{"$error":"#REF!"}},null,{"$f":"#REF!","v":{"$error":"#REF!"}},{"$f":"#REF!","v":{"$error":"#REF!"}},{"$f":"#REF!","v":{"$error":"#REF!"}},{"$f":"#REF!","v":{"$error":"#REF!"}},{"$f":"H320*'Project Summary'!F138","v":{"$error":"#REF!"}}]
[0,{"$f":"#REF!","v":{"$error":"#REF!"}},{"$f":"#REF!","v":{"$error":"#REF!"}},{"$f":"#REF!","v":{"$error":"#REF!"}},{"$f":"#REF!","v":{"$error":"#REF!"}},{"$f":"#REF!","v":{"$error":"#REF!"}},null,{"$f":"#REF!","v":{"$error":"#REF!"}},{"$f":"#REF!","v":{"$error":"#REF!"}},{"$f":"#REF!","v":{"$error":"#REF!"}},{"$f":"#REF!","v":{"$error":"#REF!"}},{"$f":"H321*'Project Summary'!F138","v":{"$error":"#REF!"}}]
[0,{"$f":"#REF!","v":{"$error":"#REF!"}},{"$f":"#REF!","v":{"$error":"#REF!"}},{"$f":"#REF!","v":{"$error":"#REF!"}},{"$f":"#REF!","v":{"$error":"#REF!"}},{"$f":"#REF!","v":{"$error":"#REF!"}},null,{"$f":"#REF!","v":{"$error":"#REF!"}},{"$f":"#REF!","v":{"$error":"#REF!"}},{"$f":"#REF!","v":{"$error":"#REF!"}},{"$f":"#REF!","v":{"$error":"#REF!"}},{"$f":"H322*'Project Summary'!F138","v":{"$error":"#REF!"}}]
[0,{"$f":"#REF!","v":{"$error":"#REF!"}},{"$f":"#REF!","v":{"$error":"#REF!"}},{"$f":"#REF!","v":{"$error":"#REF!"}},{"$f":"#REF!","v":{"$error":"#REF!"}},{"$f":"#REF!","v":{"$error":"#REF!"}},null,{"$f":"#REF!","v":{"$error":"#REF!"}},{"$f":"#REF!","v":{"$error":"#REF!"}},{"$f":"#REF!","v":{"$error":"#REF!"}},{"$f":"#REF!","v":{"$error":"#REF!"}},{"$f":"H323*'Project Summary'!F138","v":{"$error":"#REF!"}}]
[0,{"$f":"#REF!","v":{"$error":"#REF!"}},{"$f":"#REF!","v":{"$error":"#REF!"}},{"$f":"#REF!","v":{"$error":"#REF!"}},{"$f":"#REF!","v":{"$error":"#REF!"}},{"$f":"#REF!","v":{"$error":"#REF!"}},null,{"$f":"#REF!","v":{"$error":"#REF!"}},{"$f":"#REF!","v":{"$error":"#REF!"}},{"$f":"#REF!","v":{"$error":"#REF!"}},{"$f":"#REF!","v":{"$error":"#REF!"}},{"$f":"H324*'Project Summary'!F138","v":{"$error":"#REF!"}}]
[0,{"$f":"#REF!","v":{"$error":"#REF!"}},{"$f":"#REF!","v":{"$error":"#REF!"}},{"$f":"#REF!","v":{"$error":"#REF!"}},{"$f":"#REF!","v":{"$error":"#REF!"}},{"$f":"#REF!","v":{"$error":"#REF!"}},null,{"$f":"#REF!","v":{"$error":"#REF!"}},{"$f":"#REF!","v":{"$error":"#REF!"}},{"$f":"#REF!","v":{"$error":"#REF!"}},{"$f":"#REF!","v":{"$error":"#REF!"}},{"$f":"H325*'Project Summary'!F138","v":{"$error":"#REF!"}}]
[{"$f":"'Project Summary'!I139","v":0},{"$f":"#REF!","v":{"$error":"#REF!"}},{"$f":"#REF!","v":{"$error":"#REF!"}},{"$f":"#REF!","v":{"$error":"#REF!"}},{"$f":"#REF!","v":{"$error":"#REF!"}},{"$f":"#REF!","v":{"$error":"#REF!"}},null,{"$f":"#REF!","v":{"$error":"#REF!"}},{"$f":"#REF!","v":{"$error":"#REF!"}},{"$f":"#REF!","v":{"$error":"#REF!"}},{"$f":"#REF!","v":{"$error":"#REF!"}},{"$f":"H326*'Project Summary'!F139","v":{"$error":"#REF!"}}]
[{"$f":"$A$326","v":0},{"$f":"#REF!","v":{"$error":"#REF!"}},{"$f":"#REF!","v":{"$error":"#REF!"}},{"$f":"#REF!","v":{"$error":"#REF!"}},{"$f":"#REF!","v":{"$error":"#REF!"}},{"$f":"#REF!","v":{"$error":"#REF!"}},null,{"$f":"#REF!","v":{"$error":"#REF!"}},{"$f":"#REF!","v":{"$error":"#REF!"}},{"$f":"#REF!","v":{"$error":"#REF!"}},{"$f":"#REF!","v":{"$error":"#REF!"}},{"$f":"H327*'Project Summary'!F139","v":{"$error":"#REF!"}}]
[{"$f":"$A$326","v":0},{"$f":"#REF!","v":{"$error":"#REF!"}},{"$f":"#REF!","v":{"$error":"#REF!"}},{"$f":"#REF!","v":{"$error":"#REF!"}},{"$f":"#REF!","v":{"$error":"#REF!"}},{"$f":"#REF!","v":{"$error":"#REF!"}},null,{"$f":"#REF!","v":{"$error":"#REF!"}},{"$f":"#REF!","v":{"$error":"#REF!"}},{"$f":"#REF!","v":{"$error":"#REF!"}},{"$f":"#REF!","v":{"$error":"#REF!"}},{"$f":"H328*'Project Summary'!F139","v":{"$error":"#REF!"}}]
[0,{"$f":"#REF!","v":{"$error":"#REF!"}},{"$f":"#REF!","v":{"$error":"#REF!"}},{"$f":"#REF!","v":{"$error":"#REF!"}},{"$f":"#REF!","v":{"$error":"#REF!"}},{"$f":"#REF!","v":{"$error":"#REF!"}},null,{"$f":"#REF!","v":{"$error":"#REF!"}},{"$f":"#REF!","v":{"$error":"#REF!"}},{"$f":"#REF!","v":{"$error":"#REF!"}},{"$f":"#REF!","v":{"$error":"#REF!"}},{"$f":"H329*'Project Summary'!F139","v":{"$error":"#REF!"}}]
[0,{"$f":"#REF!","v":{"$error":"#REF!"}},{"$f":"#REF!","v":{"$error":"#REF!"}},{"$f":"#REF!","v":{"$error":"#REF!"}},{"$f":"#REF!","v":{"$error":"#REF!"}},{"$f":"#REF!","v":{"$error":"#REF!"}},null,{"$f":"#REF!","v":{"$error":"#REF!"}},{"$f":"#REF!","v":{"$error":"#REF!"}},{"$f":"#REF!","v":{"$error":"#REF!"}},{"$f":"#REF!","v":{"$error":"#REF!"}},{"$f":"H330*'Project Summary'!F139","v":{"$error":"#REF!"}}]
[0,{"$f":"#REF!","v":{"$error":"#REF!"}},{"$f":"#REF!","v":{"$error":"#REF!"}},{"$f":"#REF!","v":{"$error":"#REF!"}},{"$f":"#REF!","v":{"$error":"#REF!"}},{"$f":"#REF!","v":{"$error":"#REF!"}},null,{"$f":"#REF!","v":{"$error":"#REF!"}},{"$f":"#REF!","v":{"$error":"#REF!"}},{"$f":"#REF!","v":{"$error":"#REF!"}},{"$f":"#REF!","v":{"$error":"#REF!"}},{"$f":"H331*'Project Summary'!F139","v":{"$error":"#REF!"}}]
[0,{"$f":"#REF!","v":{"$error":"#REF!"}},{"$f":"#REF!","v":{"$error":"#REF!"}},{"$f":"#REF!","v":{"$error":"#REF!"}},{"$f":"#REF!","v":{"$error":"#REF!"}},{"$f":"#REF!","v":{"$error":"#REF!"}},null,{"$f":"#REF!","v":{"$error":"#REF!"}},{"$f":"#REF!","v":{"$error":"#REF!"}},{"$f":"#REF!","v":{"$error":"#REF!"}},{"$f":"#REF!","v":{"$error":"#REF!"}},{"$f":"H332*'Project Summary'!F139","v":{"$error":"#REF!"}}]
[0,{"$f":"#REF!","v":{"$error":"#REF!"}},{"$f":"#REF!","v":{"$error":"#REF!"}},{"$f":"#REF!","v":{"$error":"#REF!"}},{"$f":"#REF!","v":{"$error":"#REF!"}},{"$f":"#REF!","v":{"$error":"#REF!"}},null,{"$f":"#REF!","v":{"$error":"#REF!"}},{"$f":"#REF!","v":{"$error":"#REF!"}},{"$f":"#REF!","v":{"$error":"#REF!"}},{"$f":"#REF!","v":{"$error":"#REF!"}},{"$f":"H333*'Project Summary'!F139","v":{"$error":"#REF!"}}]
[{"$f":"'Project Summary'!I140","v":0},{"$f":"#REF!","v":{"$error":"#REF!"}},{"$f":"#REF!","v":{"$error":"#REF!"}},{"$f":"#REF!","v":{"$error":"#REF!"}},{"$f":"#REF!","v":{"$error":"#REF!"}},{"$f":"#REF!","v":{"$error":"#REF!"}},null,{"$f":"#REF!","v":{"$error":"#REF!"}},{"$f":"#REF!","v":{"$error":"#REF!"}},{"$f":"#REF!","v":{"$error":"#REF!"}},{"$f":"#REF!","v":{"$error":"#REF!"}},{"$f":"H334*'Project Summary'!F140","v":{"$error":"#REF!"}}]
[{"$f":"$A$334","v":0},{"$f":"#REF!","v":{"$error":"#REF!"}},{"$f":"#REF!","v":{"$error":"#REF!"}},{"$f":"#REF!","v":{"$error":"#REF!"}},{"$f":"#REF!","v":{"$error":"#REF!"}},{"$f":"#REF!","v":{"$error":"#REF!"}},null,{"$f":"#REF!","v":{"$error":"#REF!"}},{"$f":"#REF!","v":{"$error":"#REF!"}},{"$f":"#REF!","v":{"$error":"#REF!"}},{"$f":"#REF!","v":{"$error":"#REF!"}},{"$f":"H335*'Project Summary'!F140","v":{"$error":"#REF!"}}]
[{"$f":"$A$334","v":0},{"$f":"#REF!","v":{"$error":"#REF!"}},{"$f":"#REF!","v":{"$error":"#REF!"}},{"$f":"#REF!","v":{"$error":"#REF!"}},{"$f":"#REF!","v":{"$error":"#REF!"}},{"$f":"#REF!","v":{"$error":"#REF!"}},null,{"$f":"#REF!","v":{"$error":"#REF!"}},{"$f":"#REF!","v":{"$error":"#REF!"}},{"$f":"#REF!","v":{"$error":"#REF!"}},{"$f":"#REF!","v":{"$error":"#REF!"}},{"$f":"H336*'Project Summary'!F140","v":{"$error":"#REF!"}}]
[0,{"$f":"#REF!","v":{"$error":"#REF!"}},{"$f":"#REF!","v":{"$error":"#REF!"}},{"$f":"#REF!","v":{"$error":"#REF!"}},{"$f":"#REF!","v":{"$error":"#REF!"}},{"$f":"#REF!","v":{"$error":"#REF!"}},null,{"$f":"#REF!","v":{"$error":"#REF!"}},{"$f":"#REF!","v":{"$error":"#REF!"}},{"$f":"#REF!","v":{"$error":"#REF!"}},{"$f":"#REF!","v":{"$error":"#REF!"}},{"$f":"H337*'Project Summary'!F140","v":{"$error":"#REF!"}}]
[0,{"$f":"#REF!","v":{"$error":"#REF!"}},{"$f":"#REF!","v":{"$error":"#REF!"}},{"$f":"#REF!","v":{"$error":"#REF!"}},{"$f":"#REF!","v":{"$error":"#REF!"}},{"$f":"#REF!","v":{"$error":"#REF!"}},null,{"$f":"#REF!","v":{"$error":"#REF!"}},{"$f":"#REF!","v":{"$error":"#REF!"}},{"$f":"#REF!","v":{"$error":"#REF!"}},{"$f":"#REF!","v":{"$error":"#REF!"}},{"$f":"H338*'Project Summary'!F140","v":{"$error":"#REF!"}}]
[0,{"$f":"#REF!","v":{"$error":"#REF!"}},{"$f":"#REF!","v":{"$error":"#REF!"}},{"$f":"#REF!","v":{"$error":"#REF!"}},{"$f":"#REF!","v":{"$error":"#REF!"}},{"$f":"#REF!","v":{"$error":"#REF!"}},null,{"$f":"#REF!","v":{"$error":"#REF!"}},{"$f":"#REF!","v":{"$error":"#REF!"}},{"$f":"#REF!","v":{"$error":"#REF!"}},{"$f":"#REF!","v":{"$error":"#REF!"}},{"$f":"H339*'Project Summary'!F140","v":{"$error":"#REF!"}}]
[0,{"$f":"#REF!","v":{"$error":"#REF!"}},{"$f":"#REF!","v":{"$error":"#REF!"}},{"$f":"#REF!","v":{"$error":"#REF!"}},{"$f":"#REF!","v":{"$error":"#REF!"}},{"$f":"#REF!","v":{"$error":"#REF!"}},null,{"$f":"#REF!","v":{"$error":"#REF!"}},{"$f":"#REF!","v":{"$error":"#REF!"}},{"$f":"#REF!","v":{"$error":"#REF!"}},{"$f":"#REF!","v":{"$error":"#REF!"}},{"$f":"H340*'Project Summary'!F140","v":{"$error":"#REF!"}}]
[0,{"$f":"#REF!","v":{"$error":"#REF!"}},{"$f":"#REF!","v":{"$error":"#REF!"}},{"$f":"#REF!","v":{"$error":"#REF!"}},{"$f":"#REF!","v":{"$error":"#REF!"}},{"$f":"#REF!","v":{"$error":"#REF!"}},null,{"$f":"#REF!","v":{"$error":"#REF!"}},{"$f":"#REF!","v":{"$error":"#REF!"}},{"$f":"#REF!","v":{"$error":"#REF!"}},{"$f":"#REF!","v":{"$error":"#REF!"}},{"$f":"H341*'Project Summary'!F140","v":{"$error":"#REF!"}}]
[{"$f":"'Project Summary'!I141","v":0},{"$f":"#REF!","v":{"$error":"#REF!"}},{"$f":"#REF!","v":{"$error":"#REF!"}},{"$f":"#REF!","v":{"$error":"#REF!"}},{"$f":"#REF!","v":{"$error":"#REF!"}},{"$f":"#REF!","v":{"$error":"#REF!"}},null,{"$f":"#REF!","v":{"$error":"#REF!"}},{"$f":"#REF!","v":{"$error":"#REF!"}},{"$f":"#REF!","v":{"$error":"#REF!"}},{"$f":"#REF!","v":{"$error":"#REF!"}},{"$f":"H342*'Project Summary'!F141","v":{"$error":"#REF!"}}]
[{"$f":"$A$342","v":0},{"$f":"#REF!","v":{"$error":"#REF!"}},{"$f":"#REF!","v":{"$error":"#REF!"}},{"$f":"#REF!","v":{"$error":"#REF!"}},{"$f":"#REF!","v":{"$error":"#REF!"}},{"$f":"#REF!","v":{"$error":"#REF!"}},null,{"$f":"#REF!","v":{"$error":"#REF!"}},{"$f":"#REF!","v":{"$error":"#REF!"}},{"$f":"#REF!","v":{"$error":"#REF!"}},{"$f":"#REF!","v":{"$error":"#REF!"}},{"$f":"H343*'Project Summary'!F141","v":{"$error":"#REF!"}}]
[{"$f":"$A$342","v":0},{"$f":"#REF!","v":{"$error":"#REF!"}},{"$f":"#REF!","v":{"$error":"#REF!"}},{"$f":"#REF!","v":{"$error":"#REF!"}},{"$f":"#REF!","v":{"$error":"#REF!"}},{"$f":"#REF!","v":{"$error":"#REF!"}},null,{"$f":"#REF!","v":{"$error":"#REF!"}},{"$f":"#REF!","v":{"$error":"#REF!"}},{"$f":"#REF!","v":{"$error":"#REF!"}},{"$f":"#REF!","v":{"$error":"#REF!"}},{"$f":"H344*'Project Summary'!F141","v":{"$error":"#REF!"}}]
[0,{"$f":"#REF!","v":{"$error":"#REF!"}},{"$f":"#REF!","v":{"$error":"#REF!"}},{"$f":"#REF!","v":{"$error":"#REF!"}},{"$f":"#REF!","v":{"$error":"#REF!"}},{"$f":"#REF!","v":{"$error":"#REF!"}},null,{"$f":"#REF!","v":{"$error":"#REF!"}},{"$f":"#REF!","v":{"$error":"#REF!"}},{"$f":"#REF!","v":{"$error":"#REF!"}},{"$f":"#REF!","v":{"$error":"#REF!"}},{"$f":"H345*'Project Summary'!F141","v":{"$error":"#REF!"}}]
[0,{"$f":"#REF!","v":{"$error":"#REF!"}},{"$f":"#REF!","v":{"$error":"#REF!"}},{"$f":"#REF!","v":{"$error":"#REF!"}},{"$f":"#REF!","v":{"$error":"#REF!"}},{"$f":"#REF!","v":{"$error":"#REF!"}},null,{"$f":"#REF!","v":{"$error":"#REF!"}},{"$f":"#REF!","v":{"$error":"#REF!"}},{"$f":"#REF!","v":{"$error":"#REF!"}},{"$f":"#REF!","v":{"$error":"#REF!"}},{"$f":"H346*'Project Summary'!F141","v":{"$error":"#REF!"}}]
[0,{"$f":"#REF!","v":{"$error":"#REF!"}},{"$f":"#REF!","v":{"$error":"#REF!"}},{"$f":"#REF!","v":{"$error":"#REF!"}},{"$f":"#REF!","v":{"$error":"#REF!"}},{"$f":"#REF!","v":{"$error":"#REF!"}},null,{"$f":"#REF!","v":{"$error":"#REF!"}},{"$f":"#REF!","v":{"$error":"#REF!"}},{"$f":"#REF!","v":{"$error":"#REF!"}},{"$f":"#REF!","v":{"$error":"#REF!"}},{"$f":"H347*'Project Summary'!F141","v":{"$error":"#REF!"}}]
[0,{"$f":"#REF!","v":{"$error":"#REF!"}},{"$f":"#REF!","v":{"$error":"#REF!"}},{"$f":"#REF!","v":{"$error":"#REF!"}},{"$f":"#REF!","v":{"$error":"#REF!"}},{"$f":"#REF!","v":{"$error":"#REF!"}},null,{"$f":"#REF!","v":{"$error":"#REF!"}},{"$f":"#REF!","v":{"$error":"#REF!"}},{"$f":"#REF!","v":{"$error":"#REF!"}},{"$f":"#REF!","v":{"$error":"#REF!"}},{"$f":"H348*'Project Summary'!F141","v":{"$error":"#REF!"}}]
[0,{"$f":"#REF!","v":{"$error":"#REF!"}},{"$f":"#REF!","v":{"$error":"#REF!"}},{"$f":"#REF!","v":{"$error":"#REF!"}},{"$f":"#REF!","v":{"$error":"#REF!"}},{"$f":"#REF!","v":{"$error":"#REF!"}},null,{"$f":"#REF!","v":{"$error":"#REF!"}},{"$f":"#REF!","v":{"$error":"#REF!"}},{"$f":"#REF!","v":{"$error":"#REF!"}},{"$f":"#REF!","v":{"$error":"#REF!"}},{"$f":"H349*'Project Summary'!F141","v":{"$error":"#REF!"}}]
[{"$f":"'Project Summary'!I142","v":0},{"$f":"#REF!","v":{"$error":"#REF!"}},{"$f":"#REF!","v":{"$error":"#REF!"}},{"$f":"#REF!","v":{"$error":"#REF!"}},{"$f":"#REF!","v":{"$error":"#REF!"}},{"$f":"#REF!","v":{"$error":"#REF!"}},null,{"$f":"#REF!","v":{"$error":"#REF!"}},{"$f":"#REF!","v":{"$error":"#REF!"}},{"$f":"#REF!","v":{"$error":"#REF!"}},{"$f":"#REF!","v":{"$error":"#REF!"}},{"$f":"H350*'Project Summary'!F142","v":{"$error":"#REF!"}}]
[{"$f":"$A$350","v":0},{"$f":"#REF!","v":{"$error":"#REF!"}},{"$f":"#REF!","v":{"$error":"#REF!"}},{"$f":"#REF!","v":{"$error":"#REF!"}},{"$f":"#REF!","v":{"$error":"#REF!"}},{"$f":"#REF!","v":{"$error":"#REF!"}},null,{"$f":"#REF!","v":{"$error":"#REF!"}},{"$f":"#REF!","v":{"$error":"#REF!"}},{"$f":"#REF!","v":{"$error":"#REF!"}},{"$f":"#REF!","v":{"$error":"#REF!"}},{"$f":"H351*'Project Summary'!F142","v":{"$error":"#REF!"}}]
[{"$f":"$A$350","v":0},{"$f":"#REF!","v":{"$error":"#REF!"}},{"$f":"#REF!","v":{"$error":"#REF!"}},{"$f":"#REF!","v":{"$error":"#REF!"}},{"$f":"#REF!","v":{"$error":"#REF!"}},{"$f":"#REF!","v":{"$error":"#REF!"}},null,{"$f":"#REF!","v":{"$error":"#REF!"}},{"$f":"#REF!","v":{"$error":"#REF!"}},{"$f":"#REF!","v":{"$error":"#REF!"}},{"$f":"#REF!","v":{"$error":"#REF!"}},{"$f":"H352*'Project Summary'!F142","v":{"$error":"#REF!"}}]
[0,{"$f":"#REF!","v":{"$error":"#REF!"}},{"$f":"#REF!","v":{"$error":"#REF!"}},{"$f":"#REF!","v":{"$error":"#REF!"}},{"$f":"#REF!","v":{"$error":"#REF!"}},{"$f":"#REF!","v":{"$error":"#REF!"}},null,{"$f":"#REF!","v":{"$error":"#REF!"}},{"$f":"#REF!","v":{"$error":"#REF!"}},{"$f":"#REF!","v":{"$error":"#REF!"}},{"$f":"#REF!","v":{"$error":"#REF!"}},{"$f":"H353*'Project Summary'!F142","v":{"$error":"#REF!"}}]
[0,{"$f":"#REF!","v":{"$error":"#REF!"}},{"$f":"#REF!","v":{"$error":"#REF!"}},{"$f":"#REF!","v":{"$error":"#REF!"}},{"$f":"#REF!","v":{"$error":"#REF!"}},{"$f":"#REF!","v":{"$error":"#REF!"}},null,{"$f":"#REF!","v":{"$error":"#REF!"}},{"$f":"#REF!","v":{"$error":"#REF!"}},{"$f":"#REF!","v":{"$error":"#REF!"}},{"$f":"#REF!","v":{"$error":"#REF!"}},{"$f":"H354*'Project Summary'!F142","v":{"$error":"#REF!"}}]
[0,{"$f":"#REF!","v":{"$error":"#REF!"}},{"$f":"#REF!","v":{"$error":"#REF!"}},{"$f":"#REF!","v":{"$error":"#REF!"}},{"$f":"#REF!","v":{"$error":"#REF!"}},{"$f":"#REF!","v":{"$error":"#REF!"}},null,{"$f":"#REF!","v":{"$error":"#REF!"}},{"$f":"#REF!","v":{"$error":"#REF!"}},{"$f":"#REF!","v":{"$error":"#REF!"}},{"$f":"#REF!","v":{"$error":"#REF!"}},{"$f":"H355*'Project Summary'!F142","v":{"$error":"#REF!"}}]
[0,{"$f":"#REF!","v":{"$error":"#REF!"}},{"$f":"#REF!","v":{"$error":"#REF!"}},{"$f":"#REF!","v":{"$error":"#REF!"}},{"$f":"#REF!","v":{"$error":"#REF!"}},{"$f":"#REF!","v":{"$error":"#REF!"}},null,{"$f":"#REF!","v":{"$error":"#REF!"}},{"$f":"#REF!","v":{"$error":"#REF!"}},{"$f":"#REF!","v":{"$error":"#REF!"}},{"$f":"#REF!","v":{"$error":"#REF!"}},{"$f":"H356*'Project Summary'!F142","v":{"$error":"#REF!"}}]
[0,{"$f":"#REF!","v":{"$error":"#REF!"}},{"$f":"#REF!","v":{"$error":"#REF!"}},{"$f":"#REF!","v":{"$error":"#REF!"}},{"$f":"#REF!","v":{"$error":"#REF!"}},{"$f":"#REF!","v":{"$error":"#REF!"}},null,{"$f":"#REF!","v":{"$error":"#REF!"}},{"$f":"#REF!","v":{"$error":"#REF!"}},{"$f":"#REF!","v":{"$error":"#REF!"}},{"$f":"#REF!","v":{"$error":"#REF!"}},{"$f":"H357*'Project Summary'!F142","v":{"$error":"#REF!"}}]
[{"$f":"'Project Summary'!I143","v":0},{"$f":"#REF!","v":{"$error":"#REF!"}},{"$f":"#REF!","v":{"$error":"#REF!"}},{"$f":"#REF!","v":{"$error":"#REF!"}},{"$f":"#REF!","v":{"$error":"#REF!"}},{"$f":"#REF!","v":{"$error":"#REF!"}},null,{"$f":"#REF!","v":{"$error":"#REF!"}},{"$f":"#REF!","v":{"$error":"#REF!"}},{"$f":"#REF!","v":{"$error":"#REF!"}},{"$f":"#REF!","v":{"$error":"#REF!"}},{"$f":"H358*'Project Summary'!F143","v":{"$error":"#REF!"}}]
[{"$f":"$A$358","v":0},{"$f":"#REF!","v":{"$error":"#REF!"}},{"$f":"#REF!","v":{"$error":"#REF!"}},{"$f":"#REF!","v":{"$error":"#REF!"}},{"$f":"#REF!","v":{"$error":"#REF!"}},{"$f":"#REF!","v":{"$error":"#REF!"}},null,{"$f":"#REF!","v":{"$error":"#REF!"}},{"$f":"#REF!","v":{"$error":"#REF!"}},{"$f":"#REF!","v":{"$error":"#REF!"}},{"$f":"#REF!","v":{"$error":"#REF!"}},{"$f":"H359*'Project Summary'!F143","v":{"$error":"#REF!"}}]
[{"$f":"$A$358","v":0},{"$f":"#REF!","v":{"$error":"#REF!"}},{"$f":"#REF!","v":{"$error":"#REF!"}},{"$f":"#REF!","v":{"$error":"#REF!"}},{"$f":"#REF!","v":{"$error":"#REF!"}},{"$f":"#REF!","v":{"$error":"#REF!"}},null,{"$f":"#REF!","v":{"$error":"#REF!"}},{"$f":"#REF!","v":{"$error":"#REF!"}},{"$f":"#REF!","v":{"$error":"#REF!"}},{"$f":"#REF!","v":{"$error":"#REF!"}},{"$f":"H360*'Project Summary'!F143","v":{"$error":"#REF!"}}]
[0,{"$f":"#REF!","v":{"$error":"#REF!"}},{"$f":"#REF!","v":{"$error":"#REF!"}},{"$f":"#REF!","v":{"$error":"#REF!"}},{"$f":"#REF!","v":{"$error":"#REF!"}},{"$f":"#REF!","v":{"$error":"#REF!"}},null,{"$f":"#REF!","v":{"$error":"#REF!"}},{"$f":"#REF!","v":{"$error":"#REF!"}},{"$f":"#REF!","v":{"$error":"#REF!"}},{"$f":"#REF!","v":{"$error":"#REF!"}},{"$f":"H361*'Project Summary'!F143","v":{"$error":"#REF!"}}]
[0,{"$f":"#REF!","v":{"$error":"#REF!"}},{"$f":"#REF!","v":{"$error":"#REF!"}},{"$f":"#REF!","v":{"$error":"#REF!"}},{"$f":"#REF!","v":{"$error":"#REF!"}},{"$f":"#REF!","v":{"$error":"#REF!"}},null,{"$f":"#REF!","v":{"$error":"#REF!"}},{"$f":"#REF!","v":{"$error":"#REF!"}},{"$f":"#REF!","v":{"$error":"#REF!"}},{"$f":"#REF!","v":{"$error":"#REF!"}},{"$f":"H362*'Project Summary'!F143","v":{"$error":"#REF!"}}]
[0,{"$f":"#REF!","v":{"$error":"#REF!"}},{"$f":"#REF!","v":{"$error":"#REF!"}},{"$f":"#REF!","v":{"$error":"#REF!"}},{"$f":"#REF!","v":{"$error":"#REF!"}},{"$f":"#REF!","v":{"$error":"#REF!"}},null,{"$f":"#REF!","v":{"$error":"#REF!"}},{"$f":"#REF!","v":{"$error":"#REF!"}},{"$f":"#REF!","v":{"$error":"#REF!"}},{"$f":"#REF!","v":{"$error":"#REF!"}},{"$f":"H363*'Project Summary'!F143","v":{"$error":"#REF!"}}]
[0,{"$f":"#REF!","v":{"$error":"#REF!"}},{"$f":"#REF!","v":{"$error":"#REF!"}},{"$f":"#REF!","v":{"$error":"#REF!"}},{"$f":"#REF!","v":{"$error":"#REF!"}},{"$f":"#REF!","v":{"$error":"#REF!"}},null,{"$f":"#REF!","v":{"$error":"#REF!"}},{"$f":"#REF!","v":{"$error":"#REF!"}},{"$f":"#REF!","v":{"$error":"#REF!"}},{"$f":"#REF!","v":{"$error":"#REF!"}},{"$f":"H364*'Project Summary'!F143","v":{"$error":"#REF!"}}]
[0,{"$f":"#REF!","v":{"$error":"#REF!"}},{"$f":"#REF!","v":{"$error":"#REF!"}},{"$f":"#REF!","v":{"$error":"#REF!"}},{"$f":"#REF!","v":{"$error":"#REF!"}},{"$f":"#REF!","v":{"$error":"#REF!"}},null,{"$f":"#REF!","v":{"$error":"#REF!"}},{"$f":"#REF!","v":{"$error":"#REF!"}},{"$f":"#REF!","v":{"$error":"#REF!"}},{"$f":"#REF!","v":{"$error":"#REF!"}},{"$f":"H365*'Project Summary'!F143","v":{"$error":"#REF!"}}]
[{"$f":"'Project Summary'!I144","v":0},{"$f":"#REF!","v":{"$error":"#REF!"}},{"$f":"#REF!","v":{"$error":"#REF!"}},{"$f":"#REF!","v":{"$error":"#REF!"}},{"$f":"#REF!","v":{"$error":"#REF!"}},{"$f":"#REF!","v":{"$error":"#REF!"}},null,{"$f":"#REF!","v":{"$error":"#REF!"}},{"$f":"#REF!","v":{"$error":"#REF!"}},{"$f":"#REF!","v":{"$error":"#REF!"}},{"$f":"#REF!","v":{"$error":"#REF!"}},{"$f":"H366*'Project Summary'!F144","v":{"$error":"#REF!"}}]
[{"$f":"$A$366","v":0},{"$f":"#REF!","v":{"$error":"#REF!"}},{"$f":"#REF!","v":{"$error":"#REF!"}},{"$f":"#REF!","v":{"$error":"#REF!"}},{"$f":"#REF!","v":{"$error":"#REF!"}},{"$f":"#REF!","v":{"$error":"#REF!"}},null,{"$f":"#REF!","v":{"$error":"#REF!"}},{"$f":"#REF!","v":{"$error":"#REF!"}},{"$f":"#REF!","v":{"$error":"#REF!"}},{"$f":"#REF!","v":{"$error":"#REF!"}},{"$f":"H367*'Project Summary'!F144","v":{"$error":"#REF!"}}]
[{"$f":"$A$366","v":0},{"$f":"#REF!","v":{"$error":"#REF!"}},{"$f":"#REF!","v":{"$error":"#REF!"}},{"$f":"#REF!","v":{"$error":"#REF!"}},{"$f":"#REF!","v":{"$error":"#REF!"}},{"$f":"#REF!","v":{"$error":"#REF!"}},null,{"$f":"#REF!","v":{"$error":"#REF!"}},{"$f":"#REF!","v":{"$error":"#REF!"}},{"$f":"#REF!","v":{"$error":"#REF!"}},{"$f":"#REF!","v":{"$error":"#REF!"}},{"$f":"H368*'Project Summary'!F144","v":{"$error":"#REF!"}}]
[0,{"$f":"#REF!","v":{"$error":"#REF!"}},{"$f":"#REF!","v":{"$error":"#REF!"}},{"$f":"#REF!","v":{"$error":"#REF!"}},{"$f":"#REF!","v":{"$error":"#REF!"}},{"$f":"#REF!","v":{"$error":"#REF!"}},null,{"$f":"#REF!","v":{"$error":"#REF!"}},{"$f":"#REF!","v":{"$error":"#REF!"}},{"$f":"#REF!","v":{"$error":"#REF!"}},{"$f":"#REF!","v":{"$error":"#REF!"}},{"$f":"H369*'Project Summary'!F144","v":{"$error":"#REF!"}}]
[0,{"$f":"#REF!","v":{"$error":"#REF!"}},{"$f":"#REF!","v":{"$error":"#REF!"}},{"$f":"#REF!","v":{"$error":"#REF!"}},{"$f":"#REF!","v":{"$error":"#REF!"}},{"$f":"#REF!","v":{"$error":"#REF!"}},null,{"$f":"#REF!","v":{"$error":"#REF!"}},{"$f":"#REF!","v":{"$error":"#REF!"}},{"$f":"#REF!","v":{"$error":"#REF!"}},{"$f":"#REF!","v":{"$error":"#REF!"}},{"$f":"H370*'Project Summary'!F144","v":{"$error":"#REF!"}}]
[0,{"$f":"#REF!","v":{"$error":"#REF!"}},{"$f":"#REF!","v":{"$error":"#REF!"}},{"$f":"#REF!","v":{"$error":"#REF!"}},{"$f":"#REF!","v":{"$error":"#REF!"}},{"$f":"#REF!","v":{"$error":"#REF!"}},null,{"$f":"#REF!","v":{"$error":"#REF!"}},{"$f":"#REF!","v":{"$error":"#REF!"}},{"$f":"#REF!","v":{"$error":"#REF!"}},{"$f":"#REF!","v":{"$error":"#REF!"}},{"$f":"H371*'Project Summary'!F144","v":{"$error":"#REF!"}}]
[0,{"$f":"#REF!","v":{"$error":"#REF!"}},{"$f":"#REF!","v":{"$error":"#REF!"}},{"$f":"#REF!","v":{"$error":"#REF!"}},{"$f":"#REF!","v":{"$error":"#REF!"}},{"$f":"#REF!","v":{"$error":"#REF!"}},null,{"$f":"#REF!","v":{"$error":"#REF!"}},{"$f":"#REF!","v":{"$error":"#REF!"}},{"$f":"#REF!","v":{"$error":"#REF!"}},{"$f":"#REF!","v":{"$error":"#REF!"}},{"$f":"H372*'Project Summary'!F144","v":{"$error":"#REF!"}}]
[0,{"$f":"#REF!","v":{"$error":"#REF!"}},{"$f":"#REF!","v":{"$error":"#REF!"}},{"$f":"#REF!","v":{"$error":"#REF!"}},{"$f":"#REF!","v":{"$error":"#REF!"}},{"$f":"#REF!","v":{"$error":"#REF!"}},null,{"$f":"#REF!","v":{"$error":"#REF!"}},{"$f":"#REF!","v":{"$error":"#REF!"}},{"$f":"#REF!","v":{"$error":"#REF!"}},{"$f":"#REF!","v":{"$error":"#REF!"}},{"$f":"H373*'Project Summary'!F144","v":{"$error":"#REF!"}}]
[{"$f":"'Project Summary'!I145","v":0},{"$f":"#REF!","v":{"$error":"#REF!"}},{"$f":"#REF!","v":{"$error":"#REF!"}},{"$f":"#REF!","v":{"$error":"#REF!"}},{"$f":"#REF!","v":{"$error":"#REF!"}},{"$f":"#REF!","v":{"$error":"#REF!"}},null,{"$f":"#REF!","v":{"$error":"#REF!"}},{"$f":"#REF!","v":{"$error":"#REF!"}},{"$f":"#REF!","v":{"$error":"#REF!"}},{"$f":"#REF!","v":{"$error":"#REF!"}},{"$f":"H374*'Project Summary'!F145","v":{"$error":"#REF!"}}]
[{"$f":"$A$374","v":0},{"$f":"#REF!","v":{"$error":"#REF!"}},{"$f":"#REF!","v":{"$error":"#REF!"}},{"$f":"#REF!","v":{"$error":"#REF!"}},{"$f":"#REF!","v":{"$error":"#REF!"}},{"$f":"#REF!","v":{"$error":"#REF!"}},null,{"$f":"#REF!","v":{"$error":"#REF!"}},{"$f":"#REF!","v":{"$error":"#REF!"}},{"$f":"#REF!","v":{"$error":"#REF!"}},{"$f":"#REF!","v":{"$error":"#REF!"}},{"$f":"H375*'Project Summary'!F145","v":{"$error":"#REF!"}}]
[{"$f":"$A$374","v":0},{"$f":"#REF!","v":{"$error":"#REF!"}},{"$f":"#REF!","v":{"$error":"#REF!"}},{"$f":"#REF!","v":{"$error":"#REF!"}},{"$f":"#REF!","v":{"$error":"#REF!"}},{"$f":"#REF!","v":{"$error":"#REF!"}},null,{"$f":"#REF!","v":{"$error":"#REF!"}},{"$f":"#REF!","v":{"$error":"#REF!"}},{"$f":"#REF!","v":{"$error":"#REF!"}},{"$f":"#REF!","v":{"$error":"#REF!"}},{"$f":"H376*'Project Summary'!F145","v":{"$error":"#REF!"}}]
[0,{"$f":"#REF!","v":{"$error":"#REF!"}},{"$f":"#REF!","v":{"$error":"#REF!"}},{"$f":"#REF!","v":{"$error":"#REF!"}},{"$f":"#REF!","v":{"$error":"#REF!"}},{"$f":"#REF!","v":{"$error":"#REF!"}},null,{"$f":"#REF!","v":{"$error":"#REF!"}},{"$f":"#REF!","v":{"$error":"#REF!"}},{"$f":"#REF!","v":{"$error":"#REF!"}},{"$f":"#REF!","v":{"$error":"#REF!"}},{"$f":"H377*'Project Summary'!F145","v":{"$error":"#REF!"}}]
[0,{"$f":"#REF!","v":{"$error":"#REF!"}},{"$f":"#REF!","v":{"$error":"#REF!"}},{"$f":"#REF!","v":{"$error":"#REF!"}},{"$f":"#REF!","v":{"$error":"#REF!"}},{"$f":"#REF!","v":{"$error":"#REF!"}},null,{"$f":"#REF!","v":{"$error":"#REF!"}},{"$f":"#REF!","v":{"$error":"#REF!"}},{"$f":"#REF!","v":{"$error":"#REF!"}},{"$f":"#REF!","v":{"$error":"#REF!"}},{"$f":"H378*'Project Summary'!F145","v":{"$error":"#REF!"}}]
[0,{"$f":"#REF!","v":{"$error":"#REF!"}},{"$f":"#REF!","v":{"$error":"#REF!"}},{"$f":"#REF!","v":{"$error":"#REF!"}},{"$f":"#REF!","v":{"$error":"#REF!"}},{"$f":"#REF!","v":{"$error":"#REF!"}},null,{"$f":"#REF!","v":{"$error":"#REF!"}},{"$f":"#REF!","v":{"$error":"#REF!"}},{"$f":"#REF!","v":{"$error":"#REF!"}},{"$f":"#REF!","v":{"$error":"#REF!"}},{"$f":"H379*'Project Summary'!F145","v":{"$error":"#REF!"}}]
[0,{"$f":"#REF!","v":{"$error":"#REF!"}},{"$f":"#REF!","v":{"$error":"#REF!"}},{"$f":"#REF!","v":{"$error":"#REF!"}},{"$f":"#REF!","v":{"$error":"#REF!"}},{"$f":"#REF!","v":{"$error":"#REF!"}},null,{"$f":"#REF!","v":{"$error":"#REF!"}},{"$f":"#REF!","v":{"$error":"#REF!"}},{"$f":"#REF!","v":{"$error":"#REF!"}},{"$f":"#REF!","v":{"$error":"#REF!"}},{"$f":"H380*'Project Summary'!F145","v":{"$error":"#REF!"}}]
[0,{"$f":"#REF!","v":{"$error":"#REF!"}},{"$f":"#REF!","v":{"$error":"#REF!"}},{"$f":"#REF!","v":{"$error":"#REF!"}},{"$f":"#REF!","v":{"$error":"#REF!"}},{"$f":"#REF!","v":{"$error":"#REF!"}},null,{"$f":"#REF!","v":{"$error":"#REF!"}},{"$f":"#REF!","v":{"$error":"#REF!"}},{"$f":"#REF!","v":{"$error":"#REF!"}},{"$f":"#REF!","v":{"$error":"#REF!"}},{"$f":"H381*'Project Summary'!F145","v":{"$error":"#REF!"}}]
[{"$f":"'Project Summary'!I146","v":0},{"$f":"#REF!","v":{"$error":"#REF!"}},{"$f":"#REF!","v":{"$error":"#REF!"}},{"$f":"#REF!","v":{"$error":"#REF!"}},{"$f":"#REF!","v":{"$error":"#REF!"}},{"$f":"#REF!","v":{"$error":"#REF!"}},null,{"$f":"#REF!","v":{"$error":"#REF!"}},{"$f":"#REF!","v":{"$error":"#REF!"}},{"$f":"#REF!","v":{"$error":"#REF!"}},{"$f":"#REF!","v":{"$error":"#REF!"}},{"$f":"H382*'Project Summary'!F146","v":{"$error":"#REF!"}}]
[{"$f":"$A$382","v":0},{"$f":"#REF!","v":{"$error":"#REF!"}},{"$f":"#REF!","v":{"$error":"#REF!"}},{"$f":"#REF!","v":{"$error":"#REF!"}},{"$f":"#REF!","v":{"$error":"#REF!"}},{"$f":"#REF!","v":{"$error":"#REF!"}},null,{"$f":"#REF!","v":{"$error":"#REF!"}},{"$f":"#REF!","v":{"$error":"#REF!"}},{"$f":"#REF!","v":{"$error":"#REF!"}},{"$f":"#REF!","v":{"$error":"#REF!"}},{"$f":"H383*'Project Summary'!F146","v":{"$error":"#REF!"}}]
[{"$f":"$A$382","v":0},{"$f":"#REF!","v":{"$error":"#REF!"}},{"$f":"#REF!","v":{"$error":"#REF!"}},{"$f":"#REF!","v":{"$error":"#REF!"}},{"$f":"#REF!","v":{"$error":"#REF!"}},{"$f":"#REF!","v":{"$error":"#REF!"}},null,{"$f":"#REF!","v":{"$error":"#REF!"}},{"$f":"#REF!","v":{"$error":"#REF!"}},{"$f":"#REF!","v":{"$error":"#REF!"}},{"$f":"#REF!","v":{"$error":"#REF!"}},{"$f":"H384*'Project Summary'!F146","v":{"$error":"#REF!"}}]
[0,{"$f":"#REF!","v":{"$error":"#REF!"}},{"$f":"#REF!","v":{"$error":"#REF!"}},{"$f":"#REF!","v":{"$error":"#REF!"}},{"$f":"#REF!","v":{"$error":"#REF!"}},{"$f":"#REF!","v":{"$error":"#REF!"}},null,{"$f":"#REF!","v":{"$error":"#REF!"}},{"$f":"#REF!","v":{"$error":"#REF!"}},{"$f":"#REF!","v":{"$error":"#REF!"}},{"$f":"#REF!","v":{"$error":"#REF!"}},{"$f":"H385*'Project Summary'!F146","v":{"$error":"#REF!"}}]
[0,{"$f":"#REF!","v":{"$error":"#REF!"}},{"$f":"#REF!","v":{"$error":"#REF!"}},{"$f":"#REF!","v":{"$error":"#REF!"}},{"$f":"#REF!","v":{"$error":"#REF!"}},{"$f":"#REF!","v":{"$error":"#REF!"}},null,{"$f":"#REF!","v":{"$error":"#REF!"}},{"$f":"#REF!","v":{"$error":"#REF!"}},{"$f":"#REF!","v":{"$error":"#REF!"}},{"$f":"#REF!","v":{"$error":"#REF!"}},{"$f":"H386*'Project Summary'!F146","v":{"$error":"#REF!"}}]
[0,{"$f":"#REF!","v":{"$error":"#REF!"}},{"$f":"#REF!","v":{"$error":"#REF!"}},{"$f":"#REF!","v":{"$error":"#REF!"}},{"$f":"#REF!","v":{"$error":"#REF!"}},{"$f":"#REF!","v":{"$error":"#REF!"}},null,{"$f":"#REF!","v":{"$error":"#REF!"}},{"$f":"#REF!","v":{"$error":"#REF!"}},{"$f":"#REF!","v":{"$error":"#REF!"}},{"$f":"#REF!","v":{"$error":"#REF!"}},{"$f":"H387*'Project Summary'!F146","v":{"$error":"#REF!"}}]
[0,{"$f":"#REF!","v":{"$error":"#REF!"}},{"$f":"#REF!","v":{"$error":"#REF!"}},{"$f":"#REF!","v":{"$error":"#REF!"}},{"$f":"#REF!","v":{"$error":"#REF!"}},{"$f":"#REF!","v":{"$error":"#REF!"}},null,{"$f":"#REF!","v":{"$error":"#REF!"}},{"$f":"#REF!","v":{"$error":"#REF!"}},{"$f":"#REF!","v":{"$error":"#REF!"}},{"$f":"#REF!","v":{"$error":"#REF!"}},{"$f":"H388*'Project Summary'!F146","v":{"$error":"#REF!"}}]
[0,{"$f":"#REF!","v":{"$error":"#REF!"}},{"$f":"#REF!","v":{"$error":"#REF!"}},{"$f":"#REF!","v":{"$error":"#REF!"}},{"$f":"#REF!","v":{"$error":"#REF!"}},{"$f":"#REF!","v":{"$error":"#REF!"}},null,{"$f":"#REF!","v":{"$error":"#REF!"}},{"$f":"#REF!","v":{"$error":"#REF!"}},{"$f":"#REF!","v":{"$error":"#REF!"}},{"$f":"#REF!","v":{"$error":"#REF!"}},{"$f":"H389*'Project Summary'!F146","v":{"$error":"#REF!"}}]
[{"$f":"'Project Summary'!I147","v":0},{"$f":"#REF!","v":{"$error":"#REF!"}},{"$f":"#REF!","v":{"$error":"#REF!"}},{"$f":"#REF!","v":{"$error":"#REF!"}},{"$f":"#REF!","v":{"$error":"#REF!"}},{"$f":"#REF!","v":{"$error":"#REF!"}},null,{"$f":"#REF!","v":{"$error":"#REF!"}},{"$f":"#REF!","v":{"$error":"#REF!"}},{"$f":"#REF!","v":{"$error":"#REF!"}},{"$f":"#REF!","v":{"$error":"#REF!"}},{"$f":"H390*'Project Summary'!F147","v":{"$error":"#REF!"}}]
[{"$f":"$A$390","v":0},{"$f":"#REF!","v":{"$error":"#REF!"}},{"$f":"#REF!","v":{"$error":"#REF!"}},{"$f":"#REF!","v":{"$error":"#REF!"}},{"$f":"#REF!","v":{"$error":"#REF!"}},{"$f":"#REF!","v":{"$error":"#REF!"}},null,{"$f":"#REF!","v":{"$error":"#REF!"}},{"$f":"#REF!","v":{"$error":"#REF!"}},{"$f":"#REF!","v":{"$error":"#REF!"}},{"$f":"#REF!","v":{"$error":"#REF!"}},{"$f":"H391*'Project Summary'!F147","v":{"$error":"#REF!"}}]
[{"$f":"$A$390","v":0},{"$f":"#REF!","v":{"$error":"#REF!"}},{"$f":"#REF!","v":{"$error":"#REF!"}},{"$f":"#REF!","v":{"$error":"#REF!"}},{"$f":"#REF!","v":{"$error":"#REF!"}},{"$f":"#REF!","v":{"$error":"#REF!"}},null,{"$f":"#REF!","v":{"$error":"#REF!"}},{"$f":"#REF!","v":{"$error":"#REF!"}},{"$f":"#REF!","v":{"$error":"#REF!"}},{"$f":"#REF!","v":{"$error":"#REF!"}},{"$f":"H392*'Project Summary'!F147","v":{"$error":"#REF!"}}]
[0,{"$f":"#REF!","v":{"$error":"#REF!"}},{"$f":"#REF!","v":{"$error":"#REF!"}},{"$f":"#REF!","v":{"$error":"#REF!"}},{"$f":"#REF!","v":{"$error":"#REF!"}},{"$f":"#REF!","v":{"$error":"#REF!"}},null,{"$f":"#REF!","v":{"$error":"#REF!"}},{"$f":"#REF!","v":{"$error":"#REF!"}},{"$f":"#REF!","v":{"$error":"#REF!"}},{"$f":"#REF!","v":{"$error":"#REF!"}},{"$f":"H393*'Project Summary'!F147","v":{"$error":"#REF!"}}]
[0,{"$f":"#REF!","v":{"$error":"#REF!"}},{"$f":"#REF!","v":{"$error":"#REF!"}},{"$f":"#REF!","v":{"$error":"#REF!"}},{"$f":"#REF!","v":{"$error":"#REF!"}},{"$f":"#REF!","v":{"$error":"#REF!"}},null,{"$f":"#REF!","v":{"$error":"#REF!"}},{"$f":"#REF!","v":{"$error":"#REF!"}},{"$f":"#REF!","v":{"$error":"#REF!"}},{"$f":"#REF!","v":{"$error":"#REF!"}},{"$f":"H394*'Project Summary'!F147","v":{"$error":"#REF!"}}]
[0,{"$f":"#REF!","v":{"$error":"#REF!"}},{"$f":"#REF!","v":{"$error":"#REF!"}},{"$f":"#REF!","v":{"$error":"#REF!"}},{"$f":"#REF!","v":{"$error":"#REF!"}},{"$f":"#REF!","v":{"$error":"#REF!"}},null,{"$f":"#REF!","v":{"$error":"#REF!"}},{"$f":"#REF!","v":{"$error":"#REF!"}},{"$f":"#REF!","v":{"$error":"#REF!"}},{"$f":"#REF!","v":{"$error":"#REF!"}},{"$f":"H395*'Project Summary'!F147","v":{"$error":"#REF!"}}]
[0,{"$f":"#REF!","v":{"$error":"#REF!"}},{"$f":"#REF!","v":{"$error":"#REF!"}},{"$f":"#REF!","v":{"$error":"#REF!"}},{"$f":"#REF!","v":{"$error":"#REF!"}},{"$f":"#REF!","v":{"$error":"#REF!"}},null,{"$f":"#REF!","v":{"$error":"#REF!"}},{"$f":"#REF!","v":{"$error":"#REF!"}},{"$f":"#REF!","v":{"$error":"#REF!"}},{"$f":"#REF!","v":{"$error":"#REF!"}},{"$f":"H396*'Project Summary'!F147","v":{"$error":"#REF!"}}]
[0,{"$f":"#REF!","v":{"$error":"#REF!"}},{"$f":"#REF!","v":{"$error":"#REF!"}},{"$f":"#REF!","v":{"$error":"#REF!"}},{"$f":"#REF!","v":{"$error":"#REF!"}},{"$f":"#REF!","v":{"$error":"#REF!"}},null,{"$f":"#REF!","v":{"$error":"#REF!"}},{"$f":"#REF!","v":{"$error":"#REF!"}},{"$f":"#REF!","v":{"$error":"#REF!"}},{"$f":"#REF!","v":{"$error":"#REF!"}},{"$f":"H397*'Project Summary'!F147","v":{"$error":"#REF!"}}]
[{"$f":"'Project Summary'!I148","v":0},{"$f":"#REF!","v":{"$error":"#REF!"}},{"$f":"#REF!","v":{"$error":"#REF!"}},{"$f":"#REF!","v":{"$error":"#REF!"}},{"$f":"#REF!","v":{"$error":"#REF!"}},{"$f":"#REF!","v":{"$error":"#REF!"}},null,{"$f":"#REF!","v":{"$error":"#REF!"}},{"$f":"#REF!","v":{"$error":"#REF!"}},{"$f":"#REF!","v":{"$error":"#REF!"}},{"$f":"#REF!","v":{"$error":"#REF!"}},{"$f":"H398*'Project Summary'!F148","v":{"$error":"#REF!"}}]
[{"$f":"$A$398","v":0},{"$f":"#REF!","v":{"$error":"#REF!"}},{"$f":"#REF!","v":{"$error":"#REF!"}},{"$f":"#REF!","v":{"$error":"#REF!"}},{"$f":"#REF!","v":{"$error":"#REF!"}},{"$f":"#REF!","v":{"$error":"#REF!"}},null,{"$f":"#REF!","v":{"$error":"#REF!"}},{"$f":"#REF!","v":{"$error":"#REF!"}},{"$f":"#REF!","v":{"$error":"#REF!"}},{"$f":"#REF!","v":{"$error":"#REF!"}},{"$f":"H399*'Project Summary'!F148","v":{"$error":"#REF!"}}]
[{"$f":"$A$398","v":0},{"$f":"#REF!","v":{"$error":"#REF!"}},{"$f":"#REF!","v":{"$error":"#REF!"}},{"$f":"#REF!","v":{"$error":"#REF!"}},{"$f":"#REF!","v":{"$error":"#REF!"}},{"$f":"#REF!","v":{"$error":"#REF!"}},null,{"$f":"#REF!","v":{"$error":"#REF!"}},{"$f":"#REF!","v":{"$error":"#REF!"}},{"$f":"#REF!","v":{"$error":"#REF!"}},{"$f":"#REF!","v":{"$error":"#REF!"}},{"$f":"H400*'Project Summary'!F148","v":{"$error":"#REF!"}}]
[0,{"$f":"#REF!","v":{"$error":"#REF!"}},{"$f":"#REF!","v":{"$error":"#REF!"}},{"$f":"#REF!","v":{"$error":"#REF!"}},{"$f":"#REF!","v":{"$error":"#REF!"}},{"$f":"#REF!","v":{"$error":"#REF!"}},null,{"$f":"#REF!","v":{"$error":"#REF!"}},{"$f":"#REF!","v":{"$error":"#REF!"}},{"$f":"#REF!","v":{"$error":"#REF!"}},{"$f":"#REF!","v":{"$error":"#REF!"}},{"$f":"H401*'Project Summary'!F148","v":{"$error":"#REF!"}}]
[0,{"$f":"#REF!","v":{"$error":"#REF!"}},{"$f":"#REF!","v":{"$error":"#REF!"}},{"$f":"#REF!","v":{"$error":"#REF!"}},{"$f":"#REF!","v":{"$error":"#REF!"}},{"$f":"#REF!","v":{"$error":"#REF!"}},null,{"$f":"#REF!","v":{"$error":"#REF!"}},{"$f":"#REF!","v":{"$error":"#REF!"}},{"$f":"#REF!","v":{"$error":"#REF!"}},{"$f":"#REF!","v":{"$error":"#REF!"}},{"$f":"H402*'Project Summary'!F148","v":{"$error":"#REF!"}}]
[0,{"$f":"#REF!","v":{"$error":"#REF!"}},{"$f":"#REF!","v":{"$error":"#REF!"}},{"$f":"#REF!","v":{"$error":"#REF!"}},{"$f":"#REF!","v":{"$error":"#REF!"}},{"$f":"#REF!","v":{"$error":"#REF!"}},null,{"$f":"#REF!","v":{"$error":"#REF!"}},{"$f":"#REF!","v":{"$error":"#REF!"}},{"$f":"#REF!","v":{"$error":"#REF!"}},{"$f":"#REF!","v":{"$error":"#REF!"}},{"$f":"H403*'Project Summary'!F148","v":{"$error":"#REF!"}}]
[0,{"$f":"#REF!","v":{"$error":"#REF!"}},{"$f":"#REF!","v":{"$error":"#REF!"}},{"$f":"#REF!","v":{"$error":"#REF!"}},{"$f":"#REF!","v":{"$error":"#REF!"}},{"$f":"#REF!","v":{"$error":"#REF!"}},null,{"$f":"#REF!","v":{"$error":"#REF!"}},{"$f":"#REF!","v":{"$error":"#REF!"}},{"$f":"#REF!","v":{"$error":"#REF!"}},{"$f":"#REF!","v":{"$error":"#REF!"}},{"$f":"H404*'Project Summary'!F148","v":{"$error":"#REF!"}}]
[0,{"$f":"#REF!","v":{"$error":"#REF!"}},{"$f":"#REF!","v":{"$error":"#REF!"}},{"$f":"#REF!","v":{"$error":"#REF!"}},{"$f":"#REF!","v":{"$error":"#REF!"}},{"$f":"#REF!","v":{"$error":"#REF!"}},null,{"$f":"#REF!","v":{"$error":"#REF!"}},{"$f":"#REF!","v":{"$error":"#REF!"}},{"$f":"#REF!","v":{"$error":"#REF!"}},{"$f":"#REF!","v":{"$error":"#REF!"}},{"$f":"H405*'Project Summary'!F148","v":{"$error":"#REF!"}}]
[{"$f":"'Project Summary'!I149","v":0},{"$f":"#REF!","v":{"$error":"#REF!"}},{"$f":"#REF!","v":{"$error":"#REF!"}},{"$f":"#REF!","v":{"$error":"#REF!"}},{"$f":"#REF!","v":{"$error":"#REF!"}},{"$f":"#REF!","v":{"$error":"#REF!"}},null,{"$f":"#REF!","v":{"$error":"#REF!"}},{"$f":"#REF!","v":{"$error":"#REF!"}},{"$f":"#REF!","v":{"$error":"#REF!"}},{"$f":"#REF!","v":{"$error":"#REF!"}},{"$f":"H406*'Project Summary'!F149","v":{"$error":"#REF!"}}]
[{"$f":"$A$406","v":0},{"$f":"#REF!","v":{"$error":"#REF!"}},{"$f":"#REF!","v":{"$error":"#REF!"}},{"$f":"#REF!","v":{"$error":"#REF!"}},{"$f":"#REF!","v":{"$error":"#REF!"}},{"$f":"#REF!","v":{"$error":"#REF!"}},null,{"$f":"#REF!","v":{"$error":"#REF!"}},{"$f":"#REF!","v":{"$error":"#REF!"}},{"$f":"#REF!","v":{"$error":"#REF!"}},{"$f":"#REF!","v":{"$error":"#REF!"}},{"$f":"H407*'Project Summary'!F149","v":{"$error":"#REF!"}}]
[{"$f":"$A$406","v":0},{"$f":"#REF!","v":{"$error":"#REF!"}},{"$f":"#REF!","v":{"$error":"#REF!"}},{"$f":"#REF!","v":{"$error":"#REF!"}},{"$f":"#REF!","v":{"$error":"#REF!"}},{"$f":"#REF!","v":{"$error":"#REF!"}},null,{"$f":"#REF!","v":{"$error":"#REF!"}},{"$f":"#REF!","v":{"$error":"#REF!"}},{"$f":"#REF!","v":{"$error":"#REF!"}},{"$f":"#REF!","v":{"$error":"#REF!"}},{"$f":"H408*'Project Summary'!F149","v":{"$error":"#REF!"}}]
[0,{"$f":"#REF!","v":{"$error":"#REF!"}},{"$f":"#REF!","v":{"$error":"#REF!"}},{"$f":"#REF!","v":{"$error":"#REF!"}},{"$f":"#REF!","v":{"$error":"#REF!"}},{"$f":"#REF!","v":{"$error":"#REF!"}},null,{"$f":"#REF!","v":{"$error":"#REF!"}},{"$f":"#REF!","v":{"$error":"#REF!"}},{"$f":"#REF!","v":{"$error":"#REF!"}},{"$f":"#REF!","v":{"$error":"#REF!"}},{"$f":"H409*'Project Summary'!F149","v":{"$error":"#REF!"}}]
[0,{"$f":"#REF!","v":{"$error":"#REF!"}},{"$f":"#REF!","v":{"$error":"#REF!"}},{"$f":"#REF!","v":{"$error":"#REF!"}},{"$f":"#REF!","v":{"$error":"#REF!"}},{"$f":"#REF!","v":{"$error":"#REF!"}},null,{"$f":"#REF!","v":{"$error":"#REF!"}},{"$f":"#REF!","v":{"$error":"#REF!"}},{"$f":"#REF!","v":{"$error":"#REF!"}},{"$f":"#REF!","v":{"$error":"#REF!"}},{"$f":"H410*'Project Summary'!F149","v":{"$error":"#REF!"}}]
[0,{"$f":"#REF!","v":{"$error":"#REF!"}},{"$f":"#REF!","v":{"$error":"#REF!"}},{"$f":"#REF!","v":{"$error":"#REF!"}},{"$f":"#REF!","v":{"$error":"#REF!"}},{"$f":"#REF!","v":{"$error":"#REF!"}},null,{"$f":"#REF!","v":{"$error":"#REF!"}},{"$f":"#REF!","v":{"$error":"#REF!"}},{"$f":"#REF!","v":{"$error":"#REF!"}},{"$f":"#REF!","v":{"$error":"#REF!"}},{"$f":"H411*'Project Summary'!F149","v":{"$error":"#REF!"}}]
[0,{"$f":"#REF!","v":{"$error":"#REF!"}},{"$f":"#REF!","v":{"$error":"#REF!"}},{"$f":"#REF!","v":{"$error":"#REF!"}},{"$f":"#REF!","v":{"$error":"#REF!"}},{"$f":"#REF!","v":{"$error":"#REF!"}},null,{"$f":"#REF!","v":{"$error":"#REF!"}},{"$f":"#REF!","v":{"$error":"#REF!"}},{"$f":"#REF!","v":{"$error":"#REF!"}},{"$f":"#REF!","v":{"$error":"#REF!"}},{"$f":"H412*'Project Summary'!F149","v":{"$error":"#REF!"}}]
[0,{"$f":"#REF!","v":{"$error":"#REF!"}},{"$f":"#REF!","v":{"$error":"#REF!"}},{"$f":"#REF!","v":{"$error":"#REF!"}},{"$f":"#REF!","v":{"$error":"#REF!"}},{"$f":"#REF!","v":{"$error":"#REF!"}},null,{"$f":"#REF!","v":{"$error":"#REF!"}},{"$f":"#REF!","v":{"$error":"#REF!"}},{"$f":"#REF!","v":{"$error":"#REF!"}},{"$f":"#REF!","v":{"$error":"#REF!"}},{"$f":"H413*'Project Summary'!F149","v":{"$error":"#REF!"}}]

{"sheet":"Application Form","index":9,"n_rows":84,"n_cols":15,"rows_kept":84,"cut":false,"hidden":false,"merged":[[2,0,2,7],[41,5,42,5],[41,6,42,6],[36,1,37,1],[26,0,26,4],[36,3,37,3],[36,5,37,5],[7,6,7,7],[14,6,14,7],[22,6,22,7],[36,8,37,8],[38,8,40,8],[33,0,33,7],[32,0,32,7],[36,6,37,6],[38,6,40,6],[38,5,40,5],[45,0,45,4],[46,0,46,3],[27,0,27,3],[64,0,65,0],[63,0,63,2],[47,0,47,3],[49,0,49,4],[58,0,58,4],[51,0,51,3],[52,1,52,3],[53,1,53,3],[54,1,54,3],[55,1,55,3],[29,0,29,4]]}
["Communities Programme 2024",null,null,null,null,null,"Version","V9","Date","2024-05-22"]
[]
["SECTION A – Administration"]
["Table Non - Domestic  (Scoring Section For VFM) "]
["Summary of Project Finances","Project Costs Euro (€)","Per kWh Saved Euro (€)"]
["Total Eligible Costs",{"$f":"'Project Summary'!S151+'Project Summary'!T151","v":0},{"$f":"IFERROR(B6/B9,0)","v":0},null,null,"Scoring Section For VFM"]
["Total SEAI Grant",{"$f":"'Project Summary'!U151","v":0},{"$f":"IFERROR(B7/B9,0)","v":0}]
["Grant %",{"$f":"IFERROR(B7/B6,0)","v":0},null,null,null,{"$f":"IFERROR(B6/F39,0)","v":0},"Total Cost (€)/Carbon Savings CO2"]
["Total kWh Saved",{"$f":"'Application Form'!D39+D40+D41","v":0}]
["Energy Savings %",{"$f":"IFERROR(G39,0)","v":0}]
["Table Domestic (Non Scoring Section For VFM) "]
["Summary of Project Finances","Project Costs Euro (€)","Per kWh Saved Euro (€)"]
["Total Eligible Costs",{"$f":"'Project Summary'!J170","v":0},{"$f":"IFERROR(B13/B16,0)","v":0},null,null,"Non Scoring Section For VFM"]
["Total SEAI Grant",{"$f":"'Project Summary'!K170","v":0},{"$f":"IFERROR(B14/B16,0)","v":0}]
["Grant %",{"$f":"IFERROR(B14/B13,0)","v":0},null,null,null,{"$f":"IFERROR(B13/F42,0)","v":0},"Total Cost (€)/Carbon Savings CO2"]
["Total kWh Saved",{"$f":"'Application Form'!D42+D43","v":0}]
["Energy Savings %",{"$f":"IFERROR(G42,0)","v":0}]
[]
["Table Combined (Non Scoring Section For VFM) "]
["Summary of Project Finances","Project Costs Euro (€)","Per kWh Saved Euro (€)"]
["Total Eligible Costs",{"$f":"'Project Summary'!L253","v":0},{"$f":"IFERROR(B21/B24,0)","v":0},null,null,"Non Scoring Section For VFM "]
["Total SEAI Grant",{"$f":"'Project Summary'!L255","v":{"$error":"#DIV/0!"}},{"$f":"IFERROR(B22/B24,0)","v":0}]
["Grant %",{"$f":"IFERROR(B22/B21,0)","v":0},null,null,null,{"$f":"IFERROR(B21/F44,0)","v":0},"Total Cost (€)/Carbon Savings CO2"]
["Total kWh Saved",{"$f":"'Application Form'!D44","v":0},null,null,null,null," "]
["Energy Savings %",{"$f":"IFERROR(G44,0)","v":0}]
[]
["A. Eligible VAT expenditure:"]
["VAT Costs Associated with Project",null,null,null,"Euro (€)"]
["Please indicate the estimated cost of eligible VAT",null,null,null,{"$f":"+'Project Summary'!T151+'Project Summary'!N170","v":0}]
["A. Total Eligible Costs:"]
["Total Eligible Project Costs VAT Inclusive (where applicable)",null,null,null,{"$f":"'Project Summary'!C261+'Project Summary'!D261+'Project Summary'!E261+'Project Summary'!F261+'Project Summary'!G261+'Application Form'!E29","v":0}]
[]
["SECTION C – Energy Savings and Credits"]
["C.1 Estimated Annual Energy Savings from Proposed Project"]
["Data to be transferred to corresponding table in SECTION C of PEP application form",null,null,null,null,null,null,null,null,null,null,null,null,null," "]
["Energy Form","Aggregate Current Annual Energy",null,"Projected Aggregate Annual Energy Savings Directly Attributable to the Project",null,null,null,null,"CO2 Savings \nexcluding Electrical"]
[null,"kWh","Euro","kWh","Euro","CO2","% Savings",null,"CO2"]
[null,null,"(excl. VAT)",null,"(excl. VAT)"]
["Electricity",{"$f":"+'Project Summary'!D76","v":{"$error":"#REF!"}},{"$f":"'Project Summary'!G76","v":{"$error":"#REF!"}},{"$f":"'Project Summary'!D228*1","v":0},{"$f":"'Project Summary'!J228","v":0},{"$f":"'Project Summary'!H228","v":0},{"$f":"IFERROR('Project Summary'!D237,0)","v":0},null,{"$f":"F44-('Project Summary'!D228*Electrical_Savings)","v":0}]
["Thermal ",{"$f":"+'Project Summary'!E76","v":{"$error":"#REF!"}},{"$f":"'Project Summary'!H76","v":{"$error":"#REF!"}},{"$f":"'Project Summary'!E228","v":0},{"$f":"'Project Summary'!K228-SUM(E42:E43)","v":0}]
["Fleet (vehicles) + Renewables",{"$f":"+'Project Summary'!F76","v":{"$error":"#REF!"}},{"$f":"'Project Summary'!I76","v":{"$error":"#REF!"}},{"$f":"'Project Summary'!F228+'Project Summary'!G228","v":0},{"$f":"'Project Summary'!L228+'Project Summary'!M228","v":0}]
["Residential - Non Energy Poor",{"$f":"'Project Summary'!D82+'Project Summary'!Z94-'Project Summary'!AE94","v":0},{"$f":"'Project Summary'!E82+'Project Summary'!Z95-'Project Summary'!AE95","v":0},{"$f":"'Project Summary'!N226","v":0},{"$f":"'Project Summary'!K226","v":0},{"$f":"(D42+D43)*0.225","v":0},{"$f":"IFERROR('Project Summary'!D238,0)","v":0}]
["Residential - Energy Poor",{"$f":"'Project Summary'!D81+'Project Summary'!AE94","v":0},{"$f":"'Project Summary'!E81+'Project Summary'!AE95","v":0},{"$f":"'Project Summary'!N227","v":0},{"$f":"'Project Summary'!K227","v":0}]
["Total",{"$f":"B42+B43","v":0},{"$f":"C42+C43","v":0},{"$f":"SUM(D39:D43)","v":0},{"$f":"SUM(E39:E43)","v":0},{"$f":"SUM(F39:F43)","v":0},{"$f":"IFERROR(D44/B44,0)","v":0}]
[]
["C.2.2 - Anticipated energy efficiency improvement to home "]
["What is the current average BER of the homes proposed for this project?",null,null,null,{"$f":"'Project Summary'!C91","v":0},"kWh/m2/yr"]
["What is the proposed average BER of the homes proposed for this project?",null,null,null,{"$f":"'Project Summary'!C93","v":0},"kWh/m2/yr"]
[]
["D.2 - Grant Milestone - Payments & Progress Reports"]
[]
["Project Payment Milestones - Project Progress to be achieved (i.e. % of project complete, deposit paid, measures installed)",null,null,null,"Date","Amount of Grant Requested (€)","Percentage"]
["Milestone 1 ","Milestone 1 - Claim 1",null,null,"2022-07-03",{"$f":"$F$57*G53","v":{"$error":"#DIV/0!"}},0]
["Milestone 2","Milestone 2 - Claim 2",null,null,"2022-09-04",{"$f":"$F$57*G54","v":{"$error":"#DIV/0!"}},0]
["Project Completion","Milestone 3 - Final Claim",null,null,"2022-10-15",{"$error":"#DIV/0!"},0]
["10% M&V for non-domestic projects","M&V Report - Retention",null,null,"2023-09-08",{"$f":"'Project Summary'!AR151","v":0},0.1]
["TOTAL",null,null,null,null,{"$f":"'Project Summary'!L255","v":{"$error":"#DIV/0!"}}]
[]
[" "]
[]
[]
[]
["TABLE D4:                              ","Please ensure all beneficiaries listed below are also listed on the Application form section D.4"]
["Grant Beneficiary"]
["Beneficiary","Grant","% of Total Grant","Total Eligible Costs","% grant",null,"Beneficiary Ref:","Beneficiary Name","Domestic","Non Domestic"]
[null,"Euro (€)"," "," "," ",null,null,null,"Cost","Cost"]
[{"$f":"'Project Summary'!D8","v":0},{"$f":"'Project Summary'!AF153","v":0},{"$f":"'Project Summary'!AG153","v":{"$error":"#DIV/0!"}},{"$f":"SUM(I67:J67)","v":0},{"$f":"B67/D67","v":{"$error":"#DIV/0!"}},null,1,{"$f":"'Project Summary'!D8","v":0},{"$f":"'Project Summary'!AI153","v":0},0]
[{"$f":"'Project Summary'!D9","v":"Enter Name of Beneficiary"},{"$f":"'Project Summary'!AF154","v":0},{"$f":"'Project Summary'!AG154","v":{"$error":"#DIV/0!"}},{"$f":"SUM(I68:J68)","v":0},{"$f":"B68/D68","v":{"$error":"#DIV/0!"}},null,2,{"$f":"'Project Summary'!D9","v":"Enter Name of Beneficiary"},{"$f":"'Project Summary'!AI154","v":0},{"$f":"'Project Summary'!AJ154","v":0}]
[{"$f":"'Project Summary'!D10","v":"Enter Name of Beneficiary"},{"$f":"'Project Summary'!AF155","v":0},{"$f":"'Project Summary'!AG155","v":{"$error":"#DIV/0!"}},0,{"$error":"#DIV/0!"},null,3,{"$f":"'Project Summary'!D10","v":"Enter Name of Beneficiary"},{"$f":"'Project Summary'!AI155","v":0},{"$f":"'Project Summary'!AJ155","v":0}]
[{"$f":"'Project Summary'!D11","v":"Enter Name of Beneficiary"},{"$f":"'Project Summary'!AF156","v":0},{"$f":"'Project Summary'!AG156","v":{"$error":"#DIV/0!"}},0,{"$error":"#DIV/0!"},null,4,{"$f":"'Project Summary'!D11","v":"Enter Name of Beneficiary"},{"$f":"'Project Summary'!AI156","v":0},{"$f":"'Project Summary'!AJ156","v":0}]
[{"$f":"'Project Summary'!D12","v":"Enter Name of Beneficiary"},{"$f":"'Project Summary'!AF157","v":0},{"$f":"'Project Summary'!AG157","v":{"$error":"#DIV/0!"}},0,{"$error":"#DIV/0!"},null,5,{"$f":"'Project Summary'!D12","v":"Enter Name of Beneficiary"},{"$f":"'Project Summary'!AI157","v":0},{"$f":"'Project Summary'!AJ157","v":0}]
[{"$f":"'Project Summary'!G8","v":"Enter Name of Beneficiary"},{"$f":"'Project Summary'!AF158","v":0},{"$f":"'Project Summary'!AG158","v":{"$error":"#DIV/0!"}},0,{"$error":"#DIV/0!"},null,6,{"$f":"'Project Summary'!G8","v":"Enter Name of Beneficiary"},{"$f":"'Project Summary'!AI158","v":0},{"$f":"'Project Summary'!AJ158","v":0}]
[{"$f":"'Project Summary'!G9","v":"Enter Name of Beneficiary"},{"$f":"'Project Summary'!AF159","v":0},{"$f":"'Project Summary'!AG159","v":{"$error":"#DIV/0!"}},0,{"$error":"#DIV/0!"},null,7,{"$f":"'Project Summary'!G9","v":"Enter Name of Beneficiary"},{"$f":"'Project Summary'!AI159","v":0},{"$f":"'Project Summary'!AJ159","v":0}]
[{"$f":"'Project Summary'!G10","v":"Enter Name of Beneficiary"},{"$f":"'Project Summary'!AF160","v":0},{"$f":"'Project Summary'!AG160","v":{"$error":"#DIV/0!"}},0,{"$error":"#DIV/0!"},null,8,{"$f":"'Project Summary'!G10","v":"Enter Name of Beneficiary"},{"$f":"'Project Summary'!AI160","v":0},{"$f":"'Project Summary'!AJ160","v":0}]
[{"$f":"'Project Summary'!G11","v":"Enter Name of Beneficiary"},{"$f":"'Project Summary'!AF161","v":0},{"$f":"'Project Summary'!AG161","v":{"$error":"#DIV/0!"}},0,{"$error":"#DIV/0!"},null,9,{"$f":"'Project Summary'!G11","v":"Enter Name of Beneficiary"},{"$f":"'Project Summary'!AI161","v":0},{"$f":"'Project Summary'!AJ161","v":0}]
[{"$f":"'Project Summary'!G12","v":"Enter Name of Beneficiary"},{"$f":"'Project Summary'!AF162","v":0},{"$f":"'Project Summary'!AG162","v":{"$error":"#DIV/0!"}},{"$f":"SUM(I76:J76)","v":0},{"$error":"#DIV/0!"},null,10,{"$f":"'Project Summary'!G12","v":"Enter Name of Beneficiary"},{"$f":"'Project Summary'!AI162","v":0},{"$f":"'Project Summary'!AJ162","v":0}]
[{"$f":"'Project Summary'!J8","v":"Enter Name of Beneficiary"},{"$f":"'Project Summary'!AF163","v":0},{"$f":"'Project Summary'!AG163","v":{"$error":"#DIV/0!"}},{"$f":"SUM(I77:J77)","v":0},{"$error":"#DIV/0!"},null,11,{"$f":"'Project Summary'!J8","v":"Enter Name of Beneficiary"},{"$f":"'Project Summary'!AI163","v":0},{"$f":"'Project Summary'!AJ163","v":0}]
[{"$f":"'Project Summary'!J9","v":"Enter Name of Beneficiary"},{"$f":"'Project Summary'!AF164","v":0},{"$f":"'Project Summary'!AG164","v":{"$error":"#DIV/0!"}},0,{"$error":"#DIV/0!"},null,12,{"$f":"'Project Summary'!J9","v":"Enter Name of Beneficiary"},{"$f":"'Project Summary'!AI164","v":0},{"$f":"'Project Summary'!AJ164","v":0}]
[{"$f":"'Project Summary'!J10","v":"Enter Name of Beneficiary"},{"$f":"'Project Summary'!AF165","v":0},{"$f":"'Project Summary'!AG165","v":{"$error":"#DIV/0!"}},0,{"$error":"#DIV/0!"},null,13,{"$f":"'Project Summary'!J10","v":"Enter Name of Beneficiary"},{"$f":"'Project Summary'!AI165","v":0},{"$f":"'Project Summary'!AJ165","v":0}]
[{"$f":"'Project Summary'!J11","v":"Enter Name of Beneficiary"},{"$f":"'Project Summary'!AF166","v":0},{"$f":"'Project Summary'!AG166","v":{"$error":"#DIV/0!"}},0,{"$error":"#DIV/0!"},null,14,{"$f":"'Project Summary'!J11","v":"Enter Name of Beneficiary"},{"$f":"'Project Summary'!AI166","v":0},{"$f":"'Project Summary'!AJ166","v":0}]
[{"$f":"'Project Summary'!J12","v":"Enter Name of Beneficiary"},{"$f":"'Project Summary'!AF167","v":0},{"$f":"'Project Summary'!AG167","v":{"$error":"#DIV/0!"}},0,{"$error":"#DIV/0!"},null,15,{"$f":"'Project Summary'!J12","v":"Enter Name of Beneficiary"},{"$f":"'Project Summary'!AI167","v":0},{"$f":"'Project Summary'!AJ167","v":0}]
[]
["TOTAL",{"$f":"B67","v":0},null,{"$f":"SUM(D67:D81)","v":0},{"$f":"B83/D83","v":{"$error":"#DIV/0!"}},null,null,null,{"$f":"SUM(I67:I82)","v":0},{"$f":"SUM(J67:J82)","v":0}]
[null,null,null,{"$f":"SUM(D67:D82)","v":0}]

{"sheet":"Project Summary","index":10,"n_rows":262,"n_cols":540,"rows_kept":262,"cut":false,"hidden":false,"merged":[[253,10,253,11],[96,16,97,16],[172,0,173,0],[172,1,172,2],[172,3,173,3],[172,8,173,8],[244,10,244,11],[246,1,247,1],[103,2,103,3],[245,13,245,14],[123,2,123,3],[124,2,124,3],[125,2,125,3],[126,2,126,3],[172,14,173,14],[172,9,173,9],[172,4,173,4],[172,5,173,5],[115,2,115,3],[142,2,142,3],[143,2,143,3],[172,6,173,6],[96,12,97,12],[96,13,97,13],[96,15,97,15],[107,2,107,3],[108,2,108,3],[109,2,109,3],[110,2,110,3],[97,2,97,3],[98,2,98,3],[99,2,99,3],[100,2,100,3],[102,2,102,3],[101,2,101,3],[96,1,96,6],[96,0,97,0],[139,2,139,3],[136,2,136,3],[172,10,173,10],[96,10,97,10],[105,2,105,3],[244,13,244,14],[147,2,147,3],[116,2,116,3],[117,2,117,3],[172,13,173,13],[172,12,173,12],[172,11,173,11],[152,5,152,6],[172,7,173,7],[149,2,149,3],[148,2,148,3],[144,2,144,3],[145,2,145,3],[146,2,146,3],[153,0,154,0],[140,2,140,3],[141,2,141,3],[113,2,113,3],[150,2,150,3],[104,2,104,3],[106,2,106,3],[111,2,111,3],[112,2,112,3],[170,0,170,2],[118,2,118,3],[119,2,119,3],[120,2,120,3],[122,2,122,3],[127,2,127,3],[128,2,128,3],[135,2,135,3],[121,2,121,3],[137,2,137,3],[138,2,138,3],[129,2,129,3],[130,2,130,3],[131,2,131,3],[132,2,132,3],[133,2,133,3],[134,2,134,3],[21,18,22,18],[79,1,79,2],[78,4,79,4],[14,0,14,1],[10,6,10,7],[14,2,14,9],[18,3,18,5],[18,0,18,1],[15,0,15,1],[15,2,15,9],[16,0,16,1],[13,2,13,9],[21,15,22,15],[21,17,22,17],[21,0,22,0],[78,1,78,2],[96,17,97,17],[96,14,97,14],[114,2,114,3],[78,3,79,3],[2,0,2,1],[4,2,4,9],[9,6,9,7],[13,0,13,1],[4,0,4,1],[2,2,2,9],[5,0,5,1],[5,2,5,9],[3,2,3,10],[12,3,12,10],[7,9,7,10],[8,9,8,10],[9,9,9,10],[10,9,10,10],[11,9,11,10],[7,3,7,4],[9,3,9,4],[7,6,7,7],[8,6,8,7],[80,1,80,2],[81,1,81,2],[257,10,257,11],[152,0,152,2],[152,3,152,4],[2,11,2,14],[20,3,20,5],[16,2,16,9],[21,8,22,8],[21,4,22,4],[20,6,20,8],[21,6,22,6],[21,5,22,5],[21,3,22,3],[21,7,22,7],[21,1,21,2],[6,2,6,9],[11,6,11,7],[8,3,8,4],[10,3,10,4],[11,3,11,4],[6,0,6,1],[3,0,3,1],[78,0,79,0],[245,1,245,6]]}
["Communities Programme 2024",null,null,null,null,null,"Version","V9","Date","2024-05-22"]
[null,null,null,null,null,null,null,null,null,null,null,null,null,null,null,null,null,null,null,null,null,null,null,null,null,null,null,null,null,null,null,null,null,null,"A2","C3"]
["Project Summary (e.g. partners, buildings, key measures, innovation, delivery, etc. (Sect 1)",null,21,null,null,null,null,null,null,null,null,null,null,null,null,null,null,null,null,null,null,null,null,0,null,null,null,null,null,null,null,null,null,null,"A3","D1"]
["Project Name",null,null,null,null,null,null,null,null,null,null,null,null,null,null,null,null,null,null,null,null,null,null,1,null,null,null,null,null,null,null,null,null,null,"B1","D2"]
["Lead Applicant Company Name",null," ",null,null,null,null,null,null,null,null,null,null,null,null,null,null,null,null,null,null,null,null,2,null,null,null,null,null,null,null,null,null,null,"B2","E1"]
["Public/Private/Voluntary/Commercial",null,null,null,null,null,null,null,null,null,null,null,null,null,null,null,null,null,null,null,null,null,null,3,null,null,null,null,null,null,null,null,null,null,null,"E2 "]
["No of Partners",null," ",null,null,null,null,null,null,null,null,null,null,null,null,null,null,null,null,null,null,null,null,4,null,null,null,null,null,null,null,null,null,null,null,"F"]
["Grant Beneficiaries",null,1,null,null,6,"Enter Name of Beneficiary",null,11,"Enter Name of Beneficiary",null,null,"Enter Name of Beneficiary",null,null,null,null,null,null,null,null,null,null,5,null,null,null,null,null,null,null,null,null,null,null,"G"]
[null,null,2,"Enter Name of Beneficiary",null,7,"Enter Name of Beneficiary",null,12,"Enter Name of Beneficiary",null,null,"Enter Name of Beneficiary",null,null,null,null,null,null,null,null,null,null,6]
[null,null,3,"Enter Name of Beneficiary",null,8,"Enter Name of Beneficiary",null,13,"Enter Name of Beneficiary",null,null,"Enter Name of Beneficiary",null,null,null,null,null,null,null,null,null,null,7]
[null,null,4,"Enter Name of Beneficiary",null,9,"Enter Name of Beneficiary",null,14,"Enter Name of Beneficiary",null,null,"Enter Name of Beneficiary",null,null,null," ",null,null,null,null,null,null,8]
[null,null,5,"Enter Name of Beneficiary",null,10,"Enter Name of Beneficiary",null,15,"Enter Name of Beneficiary",null,null,"Enter Name of Beneficiary",null,null,null,null,null,null,null,null,null,null,9]
[null,null,null,"Where there is more that 15 Beneficiaries please contact SEAI",null,null,null,null,null,null,null,null,"No of Beneficiaries limited to:",10,null,null,null,null,null,null,null,null,null,10]
["Summary of Project Team and Management",null," ",null,null,null,null,null,null,null,null," ",null,null,null,null,null,null,null,null,null,null,null,11]
["Time Commitment from Project Coordinator",null," ",null,null,null,null,null,null,null,null," ",null,null,null,null,null,null,null,null,null,null,null,12]
["Summary of Project Coordinator Experience",null," ",null,null,null,null,null,null,null,null,null,null,null,null,null,null,null,null,null,null,null,null,13]
["Completion Date",null,null,null,null,null,null,null,null,null,null," ",null,null,null,null,null,null,null,null,null,null,null,14]
[null,null,null,null,null,null,null,null,null,null,null,null,null,null,null,null,null,null,null,null,null,null,null,15]
["Select No of Non Domestic Projects \n(1 to 50)",null,50,"Where there is more that 50 Non Domestic projects please contact SEAI",null,null,null,null,null,null,null,null,null,null,null,null,null,null,null,null,null,null,null,16]
[null,null,null,null,null,null,null,null,null,null,null," ",null,null,null,null,null,null,null,null,null,null,null,17]
[null,"Non Domestic Project Location",null,"Current Annual Energy Use",null,null,"Current Cost of Energy Use",null,null,null,null,null,null,null,null,null,null,null,null,null,null,null,null,18]
[null,"Values automatically brought in from \"Non Domestic \" sheets",null,"Current Electrical Use kWh","Current Thermal Use kWh","Current Fleet Use kWh","Current Electrical Use - Euro","Current Thermal - Euro","Current Fleet Use - Euro",null,null,null,null,null,null,null,null,null,null,null,null,null,null,19]
[null,"Facility Name","Beneficiary Type/Project Category",null,null,null,null,null,null,null,null,null,null,null,null,null,null,null,null,null,null,null,null,20]
[1,{"$f":"#REF!","v":{"$error":"#REF!"}},{"$f":"#REF!","v":{"$error":"#REF!"}},{"$f":"#REF!","v":{"$error":"#REF!"}},{"$f":"#REF!","v":{"$error":"#REF!"}},{"$f":"#REF!","v":{"$error":"#REF!"}},{"$f":"#REF!*#REF!","v":{"$error":"#REF!"}},{"$f":"#REF!*#REF!","v":{"$error":"#REF!"}},{"$f":"#REF!*#REF!","v":{"$error":"#REF!"}},null,null,null,null,null,null,null,null,null,null,null,null,null,null,21]
[{"$f":"A24+1","v":2},{"$f":"#REF!","v":{"$error":"#REF!"}},{"$f":"#REF!","v":{"$error":"#REF!"}},{"$f":"#REF!","v":{"$error":"#REF!"}},{"$f":"#REF!","v":{"$error":"#REF!"}},{"$f":"#REF!","v":{"$error":"#REF!"}},{"$f":"#REF!*#REF!","v":{"$error":"#REF!"}},{"$f":"#REF!*#REF!","v":{"$error":"#REF!"}},{"$f":"#REF!*#REF!","v":{"$error":"#REF!"}},null,null,null,null,null,null,null,null,null,null,null,null,null,null,22]
[{"$f":"A25+1","v":3},{"$f":"#REF!","v":{"$error":"#REF!"}},{"$f":"#REF!","v":{"$error":"#REF!"}},{"$f":"#REF!","v":{"$error":"#REF!"}},{"$f":"#REF!","v":{"$error":"#REF!"}},{"$f":"#REF!","v":{"$error":"#REF!"}},{"$f":"#REF!*#REF!","v":{"$error":"#REF!"}},{"$f":"#REF!*#REF!","v":{"$error":"#REF!"}},{"$f":"#REF!*#REF!","v":{"$error":"#REF!"}},null,null,null,null,null,null,null,null,null,null,null,null,null,null,23]
[4,{"$f":"#REF!","v":{"$error":"#REF!"}},{"$f":"#REF!","v":{"$error":"#REF!"}},{"$f":"#REF!","v":{"$error":"#REF!"}},{"$f":"#REF!","v":{"$error":"#REF!"}},{"$f":"#REF!","v":{"$error":"#REF!"}},{"$f":"#REF!*#REF!","v":{"$error":"#REF!"}},{"$f":"#REF!*#REF!","v":{"$error":"#REF!"}},{"$f":"#REF!*#REF!","v":{"$error":"#REF!"}},null,null,null,null,null,null,null,null,null,null,null,null,null,null,24]
[5,{"$f":"#REF!","v":{"$error":"#REF!"}},{"$f":"#REF!","v":{"$error":"#REF!"}},{"$f":"#REF!","v":{"$error":"#REF!"}},{"$f":"#REF!","v":{"$error":"#REF!"}},{"$f":"#REF!","v":{"$error":"#REF!"}},{"$f":"#REF!*#REF!","v":{"$error":"#REF!"}},{"$f":"#REF!*#REF!","v":{"$error":"#REF!"}},{"$f":"#REF!*#REF!","v":{"$error":"#REF!"}},null,null,null,null,null,null,null,null,null,null,null,null,null,null,25]
[6,{"$f":"#REF!","v":{"$error":"#REF!"}},{"$f":"#REF!","v":{"$error":"#REF!"}},{"$f":"#REF!","v":{"$error":"#REF!"}},{"$f":"#REF!","v":{"$error":"#REF!"}},{"$f":"#REF!","v":{"$error":"#REF!"}},{"$f":"#REF!*#REF!","v":{"$error":"#REF!"}},{"$f":"#REF!*#REF!","v":{"$error":"#REF!"}},{"$f":"#REF!*#REF!","v":{"$error":"#REF!"}},null,null,null,null,null,null,null,null,null,null,null,null,null,null,26]
[7,{"$f":"#REF!","v":{"$error":"#REF!"}},{"$f":"#REF!","v":{"$error":"#REF!"}},{"$f":"#REF!","v":{"$error":"#REF!"}},{"$f":"#REF!","v":{"$error":"#REF!"}},{"$f":"#REF!","v":{"$error":"#REF!"}},{"$f":"#REF!*#REF!","v":{"$error":"#REF!"}},{"$f":"#REF!*#REF!","v":{"$error":"#REF!"}},{"$f":"#REF!*#REF!","v":{"$error":"#REF!"}},null,null,null,null,null,null,null,null,null,null,null,null,null,null,27]
[8,{"$f":"#REF!","v":{"$error":"#REF!"}},{"$f":"#REF!","v":{"$error":"#REF!"}},{"$f":"#REF!","v":{"$error":"#REF!"}},{"$f":"#REF!","v":{"$error":"#REF!"}},{"$f":"#REF!","v":{"$error":"#REF!"}},{"$f":"#REF!*#REF!","v":{"$error":"#REF!"}},{"$f":"#REF!*#REF!","v":{"$error":"#REF!"}},{"$f":"#REF!*#REF!","v":{"$error":"#REF!"}},null,null,null,null,null,null,null,null,null,null,null,null,null,null,28]
[9,{"$f":"#REF!","v":{"$error":"#REF!"}},{"$f":"#REF!","v":{"$error":"#REF!"}},{"$f":"#REF!","v":{"$error":"#REF!"}},{"$f":"#REF!","v":{"$error":"#REF!"}},{"$f":"#REF!","v":{"$error":"#REF!"}},{"$f":"#REF!*#REF!","v":{"$error":"#REF!"}},{"$f":"#REF!*#REF!","v":{"$error":"#REF!"}},{"$f":"#REF!*#REF!","v":{"$error":"#REF!"}},null,null,null,null,null,null,null,null,null,null,null,null,null,null,29]
[10,{"$f":"#REF!","v":{"$error":"#REF!"}},{"$f":"#REF!","v":{"$error":"#REF!"}},{"$f":"#REF!","v":{"$error":"#REF!"}},{"$f":"#REF!","v":{"$error":"#REF!"}},{"$f":"#REF!","v":{"$error":"#REF!"}},{"$f":"#REF!*#REF!","v":{"$error":"#REF!"}},{"$f":"#REF!*#REF!","v":{"$error":"#REF!"}},{"$f":"#REF!*#REF!","v":{"$error":"#REF!"}},null,null,null,null,null,null,null,null,null,null,null,null,null,null,30]
[11,{"$f":"#REF!","v":{"$error":"#REF!"}},{"$f":"#REF!","v":{"$error":"#REF!"}},{"$f":"#REF!","v":{"$error":"#REF!"}},{"$f":"#REF!","v":{"$error":"#REF!"}},{"$f":"#REF!","v":{"$error":"#REF!"}},{"$f":"#REF!*#REF!","v":{"$error":"#REF!"}},{"$f":"#REF!*#REF!","v":{"$error":"#REF!"}},{"$f":"#REF!*#REF!","v":{"$error":"#REF!"}},null,null,null,null,null,null,null,null,null,null,null,null,null,null,31]
[12,{"$f":"#REF!","v":{"$error":"#REF!"}},{"$f":"#REF!","v":{"$error":"#REF!"}},{"$f":"#REF!","v":{"$error":"#REF!"}},{"$f":"#REF!","v":{"$error":"#REF!"}},{"$f":"#REF!","v":{"$error":"#REF!"}},{"$f":"#REF!*#REF!","v":{"$error":"#REF!"}},{"$f":"#REF!*#REF!","v":{"$error":"#REF!"}},{"$f":"#REF!*#REF!","v":{"$error":"#REF!"}},null,null,null,null,null,null,null,null,null,null,null,null,null,null,32]
[13,{"$f":"#REF!","v":{"$error":"#REF!"}},{"$f":"#REF!","v":{"$error":"#REF!"}},{"$f":"#REF!","v":{"$error":"#REF!"}},{"$f":"#REF!","v":{"$error":"#REF!"}},{"$f":"#REF!","v":{"$error":"#REF!"}},{"$f":"#REF!*#REF!","v":{"$error":"#REF!"}},{"$f":"#REF!*#REF!","v":{"$error":"#REF!"}},{"$f":"#REF!*#REF!","v":{"$error":"#REF!"}},null,null,null,null,null,null,null,null,null,null,null,null,null,null,33]
[14,{"$f":"#REF!","v":{"$error":"#REF!"}},{"$f":"#REF!","v":{"$error":"#REF!"}},{"$f":"#REF!","v":{"$error":"#REF!"}},{"$f":"#REF!","v":{"$error":"#REF!"}},{"$f":"#REF!","v":{"$error":"#REF!"}},{"$f":"#REF!*#REF!","v":{"$error":"#REF!"}},{"$f":"#REF!*#REF!","v":{"$error":"#REF!"}},{"$f":"#REF!*#REF!","v":{"$error":"#REF!"}},null,null,null,null,null,null,null,null,null,null,null,null,null,null,34]
[15,{"$f":"#REF!","v":{"$error":"#REF!"}},{"$f":"#REF!","v":{"$error":"#REF!"}},{"$f":"#REF!","v":{"$error":"#REF!"}},{"$f":"#REF!","v":{"$error":"#REF!"}},{"$f":"#REF!","v":{"$error":"#REF!"}},{"$f":"#REF!*#REF!","v":{"$error":"#REF!"}},{"$f":"#REF!*#REF!","v":{"$error":"#REF!"}},{"$f":"#REF!*#REF!","v":{"$error":"#REF!"}},null,null,null,null,null,null,null,null,null,null,null,null,null,null,35]
[16,{"$f":"#REF!","v":{"$error":"#REF!"}},{"$f":"#REF!","v":{"$error":"#REF!"}},{"$f":"#REF!","v":{"$error":"#REF!"}},{"$f":"#REF!","v":{"$error":"#REF!"}},{"$f":"#REF!","v":{"$error":"#REF!"}},{"$f":"#REF!*#REF!","v":{"$error":"#REF!"}},{"$f":"#REF!*#REF!","v":{"$error":"#REF!"}},{"$f":"#REF!*#REF!","v":{"$error":"#REF!"}},null,null,null,null,null,null,null,null,null,null,null,null,null,null,36]
[17,{"$f":"#REF!","v":{"$error":"#REF!"}},{"$f":"#REF!","v":{"$error":"#REF!"}},{"$f":"#REF!","v":{"$error":"#REF!"}},{"$f":"#REF!","v":{"$error":"#REF!"}},{"$f":"#REF!","v":{"$error":"#REF!"}},{"$f":"#REF!*#REF!","v":{"$error":"#REF!"}},{"$f":"#REF!*#REF!","v":{"$error":"#REF!"}},{"$f":"#REF!*#REF!","v":{"$error":"#REF!"}},null,null,null,null,null,null,null,null,null,null,null,null,null,null,37]
[18,{"$f":"#REF!","v":{"$error":"#REF!"}},{"$f":"#REF!","v":{"$error":"#REF!"}},{"$f":"#REF!","v":{"$error":"#REF!"}},{"$f":"#REF!","v":{"$error":"#REF!"}},{"$f":"#REF!","v":{"$error":"#REF!"}},{"$f":"#REF!*#REF!","v":{"$error":"#REF!"}},{"$f":"#REF!*#REF!","v":{"$error":"#REF!"}},{"$f":"#REF!*#REF!","v":{"$error":"#REF!"}},null,null,null,null,null,null,null,null,null,null,null,null,null,null,38]
[19,{"$f":"#REF!","v":{"$error":"#REF!"}},{"$f":"#REF!","v":{"$error":"#REF!"}},{"$f":"#REF!","v":{"$error":"#REF!"}},{"$f":"#REF!","v":{"$error":"#REF!"}},{"$f":"#REF!","v":{"$error":"#REF!"}},{"$f":"#REF!*#REF!","v":{"$error":"#REF!"}},{"$f":"#REF!*#REF!","v":{"$error":"#REF!"}},{"$f":"#REF!*#REF!","v":{"$error":"#REF!"}},null,null,null,null,null,null,null,null,null,null,null,null,null,null,39]
[20,{"$f":"#REF!","v":{"$error":"#REF!"}},{"$f":"#REF!","v":{"$error":"#REF!"}},{"$f":"#REF!","v":{"$error":"#REF!"}},{"$f":"#REF!","v":{"$error":"#REF!"}},{"$f":"#REF!","v":{"$error":"#REF!"}},{"$f":"#REF!*#REF!","v":{"$error":"#REF!"}},{"$f":"#REF!*#REF!","v":{"$error":"#REF!"}},{"$f":"#REF!*#REF!","v":{"$error":"#REF!"}},null,null,null,null,null,null,null,null,null,null,null,null,null,null,40]
[21,{"$f":"#REF!","v":{"$error":"#REF!"}},{"$f":"#REF!","v":{"$error":"#REF!"}},{"$f":"#REF!","v":{"$error":"#REF!"}},{"$f":"#REF!","v":{"$error":"#REF!"}},{"$f":"#REF!","v":{"$error":"#REF!"}},{"$f":"#REF!*#REF!","v":{"$error":"#REF!"}},{"$f":"#REF!*#REF!","v":{"$error":"#REF!"}},{"$f":"#REF!*#REF!","v":{"$error":"#REF!"}},null,null,null,null,null,null,null,null,null,null,null,null,null,null,41]
[22,{"$f":"#REF!","v":{"$error":"#REF!"}},{"$f":"#REF!","v":{"$error":"#REF!"}},{"$f":"#REF!","v":{"$error":"#REF!"}},{"$f":"#REF!","v":{"$error":"#REF!"}},{"$f":"#REF!","v":{"$error":"#REF!"}},{"$f":"#REF!*#REF!","v":{"$error":"#REF!"}},{"$f":"#REF!*#REF!","v":{"$error":"#REF!"}},{"$f":"#REF!*#REF!","v":{"$error":"#REF!"}},null,null,null,null,null,null,null,null,null,null,null,null,null,null,42]
[23,{"$f":"#REF!","v":{"$error":"#REF!"}},{"$f":"#REF!","v":{"$error":"#REF!"}},{"$f":"#REF!","v":{"$error":"#REF!"}},{"$f":"#REF!","v":{"$error":"#REF!"}},{"$f":"#REF!","v":{"$error":"#REF!"}},{"$f":"#REF!*#REF!","v":{"$error":"#REF!"}},{"$f":"#REF!*#REF!","v":{"$error":"#REF!"}},{"$f":"#REF!*#REF!","v":{"$error":"#REF!"}},null,null,null,null,null,null,null,null,null,null,null,null,null,null,43]
[24,{"$f":"#REF!","v":{"$error":"#REF!"}},{"$f":"#REF!","v":{"$error":"#REF!"}},{"$f":"#REF!","v":{"$error":"#REF!"}},{"$f":"#REF!","v":{"$error":"#REF!"}},{"$f":"#REF!","v":{"$error":"#REF!"}},{"$f":"#REF!*#REF!","v":{"$error":"#REF!"}},{"$f":"#REF!*#REF!","v":{"$error":"#REF!"}},{"$f":"#REF!*#REF!","v":{"$error":"#REF!"}},null,null,null,null,null,null,null,null,null,null,null,null,null,null,44]
[25,{"$f":"#REF!","v":{"$error":"#REF!"}},{"$f":"#REF!","v":{"$error":"#REF!"}},{"$f":"#REF!","v":{"$error":"#REF!"}},{"$f":"#REF!","v":{"$error":"#REF!"}},{"$f":"#REF!","v":{"$error":"#REF!"}},{"$f":"#REF!*#REF!","v":{"$error":"#REF!"}},{"$f":"#REF!*#REF!","v":{"$error":"#REF!"}},{"$f":"#REF!*#REF!","v":{"$error":"#REF!"}},null,null,null,null,null,null,null,null,null,null,null,null,null,null,45]
[26,{"$f":"#REF!","v":{"$error":"#REF!"}},{"$f":"#REF!","v":{"$error":"#REF!"}},{"$f":"#REF!","v":{"$error":"#REF!"}},{"$f":"#REF!","v":{"$error":"#REF!"}},{"$f":"#REF!","v":{"$error":"#REF!"}},{"$f":"#REF!*#REF!","v":{"$error":"#REF!"}},{"$f":"#REF!*#REF!","v":{"$error":"#REF!"}},{"$f":"#REF!*#REF!","v":{"$error":"#REF!"}},null,null,null,null,null,null,null,null,null,null,null,null,null,null,46]
[27,{"$f":"#REF!","v":{"$error":"#REF!"}},{"$f":"#REF!","v":{"$error":"#REF!"}},{"$f":"#REF!","v":{"$error":"#REF!"}},{"$f":"#REF!","v":{"$error":"#REF!"}},{"$f":"#REF!","v":{"$error":"#REF!"}},{"$f":"#REF!*#REF!","v":{"$error":"#REF!"}},{"$f":"#REF!*#REF!","v":{"$error":"#REF!"}},{"$f":"#REF!*#REF!","v":{"$error":"#REF!"}},null,null,null,null,null,null,null,null,null,null,null,null,null,null,47]
[28,{"$f":"#REF!","v":{"$error":"#REF!"}},{"$f":"#REF!","v":{"$error":"#REF!"}},{"$f":"#REF!","v":{"$error":"#REF!"}},{"$f":"#REF!","v":{"$error":"#REF!"}},{"$f":"#REF!","v":{"$error":"#REF!"}},{"$f":"#REF!*#REF!","v":{"$error":"#REF!"}},{"$f":"#REF!*#REF!","v":{"$error":"#REF!"}},{"$f":"#REF!*#REF!","v":{"$error":"#REF!"}},null,null,null,null,null,null,null,null,null,null,null,null,null,null,48]
[29,{"$f":"#REF!","v":{"$error":"#REF!"}},{"$f":"#REF!","v":{"$error":"#REF!"}},{"$f":"#REF!","v":{"$error":"#REF!"}},{"$f":"#REF!","v":{"$error":"#REF!"}},{"$f":"#REF!","v":{"$error":"#REF!"}},{"$f":"#REF!*#REF!","v":{"$error":"#REF!"}},{"$f":"#REF!*#REF!","v":{"$error":"#REF!"}},{"$f":"#REF!*#REF!","v":{"$error":"#REF!"}},null,null,null,null,null,null,null,null,null,null,null,null,null,null,49]
[30,{"$f":"#REF!","v":{"$error":"#REF!"}},{"$f":"#REF!","v":{"$error":"#REF!"}},{"$f":"#REF!","v":{"$error":"#REF!"}},{"$f":"#REF!","v":{"$error":"#REF!"}},{"$f":"#REF!","v":{"$error":"#REF!"}},{"$f":"#REF!*#REF!","v":{"$error":"#REF!"}},{"$f":"#REF!*#REF!","v":{"$error":"#REF!"}},{"$f":"#REF!*#REF!","v":{"$error":"#REF!"}},null,null,null,null,null,null,null,null,null,null,null,null,null,null,50]
[31,{"$f":"#REF!","v":{"$error":"#REF!"}},{"$f":"#REF!","v":{"$error":"#REF!"}},{"$f":"#REF!","v":{"$error":"#REF!"}},{"$f":"#REF!","v":{"$error":"#REF!"}},{"$f":"#REF!","v":{"$error":"#REF!"}},{"$f":"#REF!*#REF!","v":{"$error":"#REF!"}},{"$f":"#REF!*#REF!","v":{"$error":"#REF!"}},{"$f":"#REF!*#REF!","v":{"$error":"#REF!"}}]
[32,{"$f":"#REF!","v":{"$error":"#REF!"}},{"$f":"#REF!","v":{"$error":"#REF!"}},{"$f":"#REF!","v":{"$error":"#REF!"}},{"$f":"#REF!","v":{"$error":"#REF!"}},{"$f":"#REF!","v":{"$error":"#REF!"}},{"$f":"#REF!*#REF!","v":{"$error":"#REF!"}},{"$f":"#REF!*#REF!","v":{"$error":"#REF!"}},{"$f":"#REF!*#REF!","v":{"$error":"#REF!"}}]
[33,{"$f":"#REF!","v":{"$error":"#REF!"}},{"$f":"#REF!","v":{"$error":"#REF!"}},{"$f":"#REF!","v":{"$error":"#REF!"}},{"$f":"#REF!","v":{"$error":"#REF!"}},{"$f":"#REF!","v":{"$error":"#REF!"}},{"$f":"#REF!*#REF!","v":{"$error":"#REF!"}},{"$f":"#REF!*#REF!","v":{"$error":"#REF!"}},{"$f":"#REF!*#REF!","v":{"$error":"#REF!"}}]
[34,{"$f":"#REF!","v":{"$error":"#REF!"}},{"$f":"#REF!","v":{"$error":"#REF!"}},{"$f":"#REF!","v":{"$error":"#REF!"}},{"$f":"#REF!","v":{"$error":"#REF!"}},{"$f":"#REF!","v":{"$error":"#REF!"}},{"$f":"#REF!*#REF!","v":{"$error":"#REF!"}},{"$f":"#REF!*#REF!","v":{"$error":"#REF!"}},{"$f":"#REF!*#REF!","v":{"$error":"#REF!"}}]
[35,{"$f":"#REF!","v":{"$error":"#REF!"}},{"$f":"#REF!","v":{"$error":"#REF!"}},{"$f":"#REF!","v":{"$error":"#REF!"}},{"$f":"#REF!","v":{"$error":"#REF!"}},{"$f":"#REF!","v":{"$error":"#REF!"}},{"$f":"#REF!*#REF!","v":{"$error":"#REF!"}},{"$f":"#REF!*#REF!","v":{"$error":"#REF!"}},{"$f":"#REF!*#REF!","v":{"$error":"#REF!"}}]
[36,{"$f":"#REF!","v":{"$error":"#REF!"}},{"$f":"#REF!","v":{"$error":"#REF!"}},{"$f":"#REF!","v":{"$error":"#REF!"}},{"$f":"#REF!","v":{"$error":"#REF!"}},{"$f":"#REF!","v":{"$error":"#REF!"}},{"$f":"#REF!*#REF!","v":{"$error":"#REF!"}},{"$f":"#REF!*#REF!","v":{"$error":"#REF!"}},{"$f":"#REF!*#REF!","v":{"$error":"#REF!"}}]
[37,{"$f":"#REF!","v":{"$error":"#REF!"}},{"$f":"#REF!","v":{"$error":"#REF!"}},{"$f":"#REF!","v":{"$error":"#REF!"}},{"$f":"#REF!","v":{"$error":"#REF!"}},{"$f":"#REF!","v":{"$error":"#REF!"}},{"$f":"#REF!*#REF!","v":{"$error":"#REF!"}},{"$f":"#REF!*#REF!","v":{"$error":"#REF!"}},{"$f":"#REF!*#REF!","v":{"$error":"#REF!"}}]
[38,{"$f":"#REF!","v":{"$error":"#REF!"}},{"$f":"#REF!","v":{"$error":"#REF!"}},{"$f":"#REF!","v":{"$error":"#REF!"}},{"$f":"#REF!","v":{"$error":"#REF!"}},{"$f":"#REF!","v":{"$error":"#REF!"}},{"$f":"#REF!*#REF!","v":{"$error":"#REF!"}},{"$f":"#REF!*#REF!","v":{"$error":"#REF!"}},{"$f":"#REF!*#REF!","v":{"$error":"#REF!"}}]
[39,{"$f":"#REF!","v":{"$error":"#REF!"}},{"$f":"#REF!","v":{"$error":"#REF!"}},{"$f":"#REF!","v":{"$error":"#REF!"}},{"$f":"#REF!","v":{"$error":"#REF!"}},{"$f":"#REF!","v":{"$error":"#REF!"}},{"$f":"#REF!*#REF!","v":{"$error":"#REF!"}},{"$f":"#REF!*#REF!","v":{"$error":"#REF!"}},{"$f":"#REF!*#REF!","v":{"$error":"#REF!"}}]
[40,{"$f":"#REF!","v":{"$error":"#REF!"}},{"$f":"#REF!","v":{"$error":"#REF!"}},{"$f":"#REF!","v":{"$error":"#REF!"}},{"$f":"#REF!","v":{"$error":"#REF!"}},{"$f":"#REF!","v":{"$error":"#REF!"}},{"$f":"#REF!*#REF!","v":{"$error":"#REF!"}},{"$f":"#REF!*#REF!","v":{"$error":"#REF!"}},{"$f":"#REF!*#REF!","v":{"$error":"#REF!"}}]
[41,{"$f":"#REF!","v":{"$error":"#REF!"}},{"$f":"#REF!","v":{"$error":"#REF!"}},{"$f":"#REF!","v":{"$error":"#REF!"}},{"$f":"#REF!","v":{"$error":"#REF!"}},{"$f":"#REF!","v":{"$error":"#REF!"}},{"$f":"#REF!*#REF!","v":{"$error":"#REF!"}},{"$f":"#REF!*#REF!","v":{"$error":"#REF!"}},{"$f":"#REF!*#REF!","v":{"$error":"#REF!"}}]
[42,{"$f":"#REF!","v":{"$error":"#REF!"}},{"$f":"#REF!","v":{"$error":"#REF!"}},{"$f":"#REF!","v":{"$error":"#REF!"}},{"$f":"#REF!","v":{"$error":"#REF!"}},{"$f":"#REF!","v":{"$error":"#REF!"}},{"$f":"#REF!*#REF!","v":{"$error":"#REF!"}},{"$f":"#REF!*#REF!","v":{"$error":"#REF!"}},{"$f":"#REF!*#REF!","v":{"$error":"#REF!"}}]
[43,{"$f":"#REF!","v":{"$error":"#REF!"}},{"$f":"#REF!","v":{"$error":"#REF!"}},{"$f":"#REF!","v":{"$error":"#REF!"}},{"$f":"#REF!","v":{"$error":"#REF!"}},{"$f":"#REF!","v":{"$error":"#REF!"}},{"$f":"#REF!*#REF!","v":{"$error":"#REF!"}},{"$f":"#REF!*#REF!","v":{"$error":"#REF!"}},{"$f":"#REF!*#REF!","v":{"$error":"#REF!"}}]
[44,{"$f":"#REF!","v":{"$error":"#REF!"}},{"$f":"#REF!","v":{"$error":"#REF!"}},{"$f":"#REF!","v":{"$error":"#REF!"}},{"$f":"#REF!","v":{"$error":"#REF!"}},{"$f":"#REF!","v":{"$error":"#REF!"}},{"$f":"#REF!*#REF!","v":{"$error":"#REF!"}},{"$f":"#REF!*#REF!","v":{"$error":"#REF!"}},{"$f":"#REF!*#REF!","v":{"$error":"#REF!"}}]
[45,{"$f":"#REF!","v":{"$error":"#REF!"}},{"$f":"#REF!","v":{"$error":"#REF!"}},{"$f":"#REF!","v":{"$error":"#REF!"}},{"$f":"#REF!","v":{"$error":"#REF!"}},{"$f":"#REF!","v":{"$error":"#REF!"}},{"$f":"#REF!*#REF!","v":{"$error":"#REF!"}},{"$f":"#REF!*#REF!","v":{"$error":"#REF!"}},{"$f":"#REF!*#REF!","v":{"$error":"#REF!"}}]
[46,{"$f":"#REF!","v":{"$error":"#REF!"}},{"$f":"#REF!","v":{"$error":"#REF!"}},{"$f":"#REF!","v":{"$error":"#REF!"}},{"$f":"#REF!","v":{"$error":"#REF!"}},{"$f":"#REF!","v":{"$error":"#REF!"}},{"$f":"#REF!*#REF!","v":{"$error":"#REF!"}},{"$f":"#REF!*#REF!","v":{"$error":"#REF!"}},{"$f":"#REF!*#REF!","v":{"$error":"#REF!"}}]
[47,{"$f":"#REF!","v":{"$error":"#REF!"}},{"$f":"#REF!","v":{"$error":"#REF!"}},{"$f":"#REF!","v":{"$error":"#REF!"}},{"$f":"#REF!","v":{"$error":"#REF!"}},{"$f":"#REF!","v":{"$error":"#REF!"}},{"$f":"#REF!*#REF!","v":{"$error":"#REF!"}},{"$f":"#REF!*#REF!","v":{"$error":"#REF!"}},{"$f":"#REF!*#REF!","v":{"$error":"#REF!"}}]
[48,{"$f":"#REF!","v":{"$error":"#REF!"}},{"$f":"#REF!","v":{"$error":"#REF!"}},{"$f":"#REF!","v":{"$error":"#REF!"}},{"$f":"#REF!","v":{"$error":"#REF!"}},{"$f":"#REF!","v":{"$error":"#REF!"}},{"$f":"#REF!*#REF!","v":{"$error":"#REF!"}},{"$f":"#REF!*#REF!","v":{"$error":"#REF!"}},{"$f":"#REF!*#REF!","v":{"$error":"#REF!"}}]
[49,{"$f":"#REF!","v":{"$error":"#REF!"}},{"$f":"#REF!","v":{"$error":"#REF!"}},{"$f":"#REF!","v":{"$error":"#REF!"}},{"$f":"#REF!","v":{"$error":"#REF!"}},{"$f":"#REF!","v":{"$error":"#REF!"}},{"$f":"#REF!*#REF!","v":{"$error":"#REF!"}},{"$f":"#REF!*#REF!","v":{"$error":"#REF!"}},{"$f":"#REF!*#REF!","v":{"$error":"#REF!"}}]
[50,{"$f":"#REF!","v":{"$error":"#REF!"}},{"$f":"#REF!","v":{"$error":"#REF!"}},{"$f":"#REF!","v":{"$error":"#REF!"}},{"$f":"#REF!","v":{"$error":"#REF!"}},{"$f":"#REF!","v":{"$error":"#REF!"}},{"$f":"#REF!*#REF!","v":{"$error":"#REF!"}},{"$f":"#REF!*#REF!","v":{"$error":"#REF!"}},{"$f":"#REF!*#REF!","v":{"$error":"#REF!"}}]
[" ","EV Charger",{"$f":"#REF!","v":{"$error":"#REF!"}},{"$f":"#REF!","v":{"$error":"#REF!"}},{"$f":"#REF!","v":{"$error":"#REF!"}},{"$f":"#REF!","v":{"$error":"#REF!"}},{"$f":"#REF!*#REF!","v":{"$error":"#REF!"}},{"$f":"#REF!*#REF!","v":{"$error":"#REF!"}},{"$f":"#REF!*#REF!","v":{"$error":"#REF!"}}]
[" "," ",null,null," ",null,null," "]
[null,"TOTALS",null,{"$f":"SUM(D24:D74)","v":{"$error":"#REF!"}},{"$f":"SUM(E24:E74)","v":{"$error":"#REF!"}},{"$error":"#REF!"},{"$error":"#REF!"},{"$error":"#REF!"},{"$error":"#REF!"}]
[]
[null,"Domestic Project Location",null,"Current Annual Energy Use","Current Cost of Energy Use"]
[null,"Values automatically brought in from \"Domestic Energy Credits\" ",null,"Current Energy Use kWh","Current Energy Use Euro"]
[null,"Type"]
[1,"Energy Poor Dwellings",null,{"$f":"'FP Domestic Measures & costs'!N5","v":0},{"$f":"D81*0.0715","v":0}]
[2,"Non Energy Poor Dwellings",null,{"$f":"'NFP Domestic Measures & costs'!N5","v":0},{"$f":"D82*0.0715","v":0}]
["Total",null,null,{"$f":"SUM(D81:D82)","v":0},{"$f":"SUM(E81:E82)","v":0}]
[null,null,null,null,null,null," ",null,null,null,null,null,null,null,null,null,null,null,null,null,null,null,null,null,"Hide cell"]
[null,null,null,null,null,null," "]
[null,null,null,null,null,null," "]
[null,null,null,null,null,null," ",null,null,null,null,null,null,null,null,null,null,null,null,null,null,null,null,null,"Deep Retro Costs","Existing Energy Use","kWh/m2","Proposed Renewable",null,"Energy Poor Savings","Energy Poor Existing"]
[null,null,null,null,null,null," ",null,null,null,null,null,null,null,null,null,null,null,null,null,null,null,null,null,{"$f":"#REF!","v":{"$error":"#REF!"}},{"$f":"IFERROR(I88*P88,0)","v":0},{"$f":"N88*D88","v":0},{"$f":"O88*P88","v":0},null,{"$f":"IFERROR((C88/D88)*Q88,0)","v":0},{"$f":"IFERROR((C88/D88)*Z88,0)","v":0}]
[null,"m2 of Homes ",0,null,null,null," ",null,null,null,null,null,null,null,null,null,null,null,null,null,null,null,null,null,{"$f":"#REF!","v":{"$error":"#REF!"}},{"$f":"IFERROR(I89*P89,0)","v":0},{"$f":"N89*D89","v":0},0,null,0,0]
[null,"Pre Works BER Grade",null,null,null,null," ",null,null,null,null,null,null,null,null,null,null,null,null,null,null,null,null,null,{"$f":"#REF!","v":{"$error":"#REF!"}},0,0,0,null,{"$f":"IFERROR((#REF!/D90)*Q90,0)","v":0},{"$f":"IFERROR((#REF!/D90)*Z90,0)","v":0}]
[null,"Pre Works BER kWh/m2/yr",0,null,null,null," ",null,null,null,null,null,null,null,null,null,null,null,null,null," ",null,null,null,{"$f":"#REF!","v":{"$error":"#REF!"}},0,0,0,null,{"$f":"IFERROR((#REF!/D91)*Q91,0)","v":0},{"$f":"IFERROR((#REF!/D91)*Z91,0)","v":0}]
[null,"Proposed Post Works BER Grade",null,"Proposed Value that Applicant is commiting to achieving",null,"Difference KWH/m2/yr"," ",null,null,null,null,null,null,null,null,null,null,null,null,null," ",null,null,null,{"$f":"#REF!","v":{"$error":"#REF!"}},0,{"$error":"#VALUE!"},0,null,0,0]
[null,"Proposed Post Works BER kWh/m2/yr",0,"Proposed Value that Applicant is commiting to achieving",null,{"$f":"C91-C93","v":0}," ",null,null,null,null,null,null,null,null,null,null,null,null,null," ",null,null,null,{"$f":"#REF!","v":{"$error":"#REF!"}},0,{"$error":"#VALUE!"},0,null,0,0]
[null,null,null,null,null,null," ",null,null,null,null,null,null,null,null,null,null,null,null,null,null,null,null,null,{"$f":"SUM(Y88:Y93)","v":{"$error":"#REF!"}},{"$f":"SUM(Z88:Z93)","v":0},{"$f":"SUM(AA88:AA93)/D94","v":{"$error":"#VALUE!"}},{"$f":"SUM(AB88:AB93)/P94","v":{"$error":"#DIV/0!"}},null,{"$f":"SUM(AD88:AD93)","v":0},{"$f":"SUM(AE88:AE93)","v":0}]
[null,null,null,null,null,null,null,null,null,null,null,null,null,null,null,null,null,null,null,null,null,null,null,null,null,{"$f":"Z94*'NFP Domestic Measures & costs'!AC3","v":0}," ",null,null,{"$f":"AD94*'NFP Domestic Measures & costs'!AC3","v":0},{"$f":"AE94*'NFP Domestic Measures & costs'!AC3","v":0}]
["Communities Programme - Non Domestic Costs \nTransfer costs to table A3 in application form",null,null,null,null,null,null,"Beneficiary",null,"Project Cost","Fraction of Eligible VAT","Sub Total","Project Management","Fraction of Eligible VAT","Design Fees","Fraction of Eligible VAT","M&V Fees","Fraction of Eligible VAT","Total Project Cost","Eligible VAT","SEAI Funding","Invoices",null,null,null,null,null,null,null,null,null,null,null,null,null,null,null,null,null,null,null,null,null,null,null,null,null,null,null,null,null,null,null,null,null,null,null,null,null,null,null,null,null,null,null,null,null,null,null,null,null,null,null,null,null,null,null,null,null,null,null,null,null,null,null,null,null,null,null,null,null,null,null,null,null,null,null,null,null,null,null,null,null,null,null,null,null,null,null,null,null,null,null,null,null,null,null,null,null,null,null,null,null,null,null,null,null,null,null,null,null,null,null,null,null,null,null,null,null,null,null,null,null,null,null,null,null,null,null,null,null,null,null,null,null,null,null,null,null,null,null,null,null,null,null,null,null,null,null,null,null,null,null,null,null,null,null,null,null,null,null,null,null,null,null,null,null,null,null,null,null,null,null,null,null,null,null,null,null,null,null,null,null,null,null,null,null,null,null,null,null,null,null,null,null,null,null,null,null,null,null,null,null,null,null,null,null,null,null,null,null,null,null,null,null,null,null,null,null,null,null,null,null,null,null,null,null,null,null,null,null,null,null,null,null,null,null,null,null,null,null,null,null,null,null,null,null,null,null,null,null,null,null,null,null,null,null,null,null,null,null,null,null,null,null,null,null,null,null,null,null,null,null,null,null,null,null,null,null,null,null,null,null,null,null,null,null,null,null,null,null,null,null,null,null,null,null,null,null,null,null,null,null,null,null,null,null,null,null,null,null,null,null,null,null,null,null,null,null,null,null,null,null,null,null,null,null,null,null,null,null,null,null,null,null,null,null,null,null,null,null,null,null,null,null,null,null,null,null,null,null,null,null,null,null,null,null,null,null,null,null,null,null,null,null,null,null,null,null,null,null,null,null,null,null,null,null,null,null,null,null,null,null,null,null,null,null,null,null,null,null,null,null,null,null,null,null,null,null,null,null,null,null,null,null,null,null,null,null,null,null,null,null,null,null,null,null,null,null,null,null,null,null,null,null,null,null,null,null,null,null,null,null,null,null,null,null,null,null,null,null,null,null,null,null,null,null,null,null,null,null,null,null,null,null,null,null,null,null,null,null,null,null,null,null,null,null,null,null,null,null,null,null,null,null,null,null,null,null,null,null,null,null,null,null,null,null,null,null,null,null,null,null,null,null,null,null,null,null,null,null,null,null,null,null,null,null,null,null,null,null,null,null,null,null,null,null,null,"Invoices"]
[null,"Values automatically brought in from \"Non Domestic \" sheets",null,null,null,null,null,null,null,null,"0.135\nonly eligible if Revenue exemption letter submitted",null,"Total % eligible = 8%\n ","0.23\nonly eligible if Revenue exemption letter submitted","VAT on PV","only eligible if Revenue exemption letter submitted"," Total maximum % eligible = 1% ","only eligible if Revenue exemption letter submitted"]
[null,"Facility Name","Beneficiary Type/Project Category",null,"Maximum % funding possible","% funding requested","Project Management Included",null,"Name of Beneficiary",null,null,null,null,null,null,null,null,null,null,null,null,null,null,null,null,"Project Cost",null,null,"PM",null,"Design Fees",null,"M&V Fees"]
[1,0,0,null,0,0.3,"Yes",1,{"$f":"VLOOKUP(H99,$AB$153:$AC$172,2,FALSE)","v":0},0,0.13500000000000001,{"$f":"(K99*J99)+J99","v":0},{"$f":"IF(G99=\"Yes\",J99*0.08,0)","v":0},0.23,0,0,0,0,{"$f":"J99+M99+Q99","v":0},0,0,{"$f":"#REF!","v":{"$error":"#REF!"}},null,null,"Other Community buildings & services",{"$f":"IF($C$99=$Y$99,J99,0)+IF($C$100=$Y99,J100,0)+IF($C101=$Y99,J101,0)+IF($C102=$Y99,J102,0)+IF($C103=$Y99,J103,0)+IF($C104=$Y99,J104,0)+IF($C105=$Y99,J105,0)+IF($C106=$Y99,J106,0)+IF($C107=$Y99,J107,0)+IF($C108=$Y99,J108,0)+IF($C109=$Y99,J109,0)+IF($C110=$Y99,J110,0)+IF($C111=$Y99,J111,0)+IF($C112=$Y99,J112,0)+IF($C113=$Y99,J113,0)+IF($C114=$Y99,J114,0)+IF($C115=$Y99,J115,0)+IF($C116=$Y99,J116,0)+IF($C117=$Y99,J117,0)+IF($C118=$Y99,J118,0)+IF($C119=$Y99,J119,0)+IF($C120=$Y99,J120,0)+IF($C121=$Y99,J121,0)+IF($C122=$Y99,J122,0)+IF($C123=$Y99,J123,0)+IF($C124=$Y99,J124,0)+IF($C125=$Y99,J125,0)+IF($C126=$Y99,J126,0)+IF($C127=$Y99,J127,0)+IF($C128=$Y99,J128,0)+IF($C129=$Y99,J129,0)+IF($C130=$Y99,J130,0)+IF($C131=$Y99,J131,0)+IF($C132=$Y99,J132,0)+IF($C133=$Y99,J133,0)+IF($C134=$Y99,J134,0)+IF($C135=$Y99,J135,0)+IF($C136=$Y99,J136,0)+IF($C137=$Y99,J137,0)+IF($C138=$Y99,J138,0)+IF($C139=$Y99,J139,0) +IF($C140=$Y99,J140,0) +IF($C141=$Y99,J141,0) +IF($C142=$Y99,J142,0) +IF($C143=$Y99,J143,0) +IF($C144=$Y99,J144,0) +IF($C145=$Y99,J145,0) +IF($C146=$Y99,J146,0) +IF($C147=$Y99,J147,0) +IF($C148=$Y99,J148,0)+IF($C149=$Y99,J149,0)","v":0}," "," ",{"$f":"IF($C$99=$Y$99,M99,0)+IF($C$100=$Y99,M100,0)+IF($C101=$Y99,M101,0)+IF($C102=$Y99,M102,0)+IF($C103=$Y99,M103,0)+IF($C104=$Y99,M104,0)+IF($C105=$Y99,M105,0)+IF($C106=$Y99,M106,0)+IF($C107=$Y99,M107,0)+IF($C108=$Y99,M108,0)+IF($C109=$Y99,M109,0)+IF($C110=$Y99,M110,0)+IF($C111=$Y99,M111,0)+IF($C112=$Y99,M112,0)+IF($C113=$Y99,M113,0)+IF($C114=$Y99,M114,0)+IF($C115=$Y99,M115,0)+IF($C116=$Y99,M116,0)+IF($C117=$Y99,M117,0)+IF($C118=$Y99,M118,0)+IF($C119=$Y99,M119,0)+IF($C120=$Y99,M120,0)+IF($C121=$Y99,M121,0)+IF($C122=$Y99,M122,0)+IF($C123=$Y99,M123,0)+IF($C124=$Y99,M124,0)+IF($C125=$Y99,M125,0)+IF($C126=$Y99,M126,0)+IF($C127=$Y99,M127,0)+IF($C128=$Y99,M128,0)+IF($C129=$Y99,M129,0)+IF($C130=$Y99,M130,0)+IF($C131=$Y99,M131,0)+IF($C132=$Y99,M132,0)+IF($C133=$Y99,M133,0)+IF($C134=$Y99,M134,0)+IF($C135=$Y99,M135,0)+IF($C136=$Y99,M136,0)+IF($C137=$Y99,M137,0)+IF($C138=$Y99,M138,0) +IF($C139=$Y99,M139,0) +IF($C140=$Y99,M140,0) +IF($C141=$Y99,M141,0) +IF($C142=$Y99,M142,0) +IF($C143=$Y99,M143,0) +IF($C144=$Y99,M144,0) +IF($C145=$Y99,M145,0) +IF($C146=$Y99,M146,0) +IF($C147=$Y99,M147,0) +IF($C148=$Y99,M148,0)+IF($C149=$Y99,M149,0)","v":0}," ",{"$f":"IF($C$99=$Y$99,O99,0)+IF($C$100=$Y99,O100,0)+IF($C101=$Y99,O101,0)+IF($C102=$Y99,O102,0)+IF($C103=$Y99,O103,0)+IF($C104=$Y99,O104,0)+IF($C105=$Y99,O105,0)+IF($C106=$Y99,O106,0)+IF($C107=$Y99,O107,0)+IF($C108=$Y99,O108,0)+IF($C109=$Y99,O109,0)+IF($C110=$Y99,O110,0)+IF($C111=$Y99,O111,0)+IF($C112=$Y99,O112,0)+IF($C113=$Y99,O113,0)+IF($C114=$Y99,O114,0)+IF($C115=$Y99,O115,0)+IF($C116=$Y99,O116,0)+IF($C117=$Y99,O117,0)+IF($C118=$Y99,O118,0)+IF($C119=$Y99,O119,0)+IF($C120=$Y99,O120,0)+IF($C121=$Y99,O121,0)+IF($C122=$Y99,O122,0)+IF($C123=$Y99,O123,0)+IF($C124=$Y99,O124,0)+IF($C125=$Y99,O125,0)+IF($C126=$Y99,O126,0)+IF($C127=$Y99,O127,0)+IF($C128=$Y99,O128,0)+IF($C129=$Y99,O129,0)+IF($C130=$Y99,O130,0)+IF($C131=$Y99,O131,0)+IF($C132=$Y99,O132,0)+IF($C133=$Y99,O133,0)+IF($C134=$Y99,O134,0)+IF($C135=$Y99,O135,0)+IF($C136=$Y99,O136,0)+IF($C137=$Y99,O137,0)+IF($C138=$Y99,O138,0) +IF($C139=$Y99,O139,0) +IF($C140=$Y99,O140,0) +IF($C141=$Y99,O141,0) +IF($C142=$Y99,O142,0) +IF($C143=$Y99,O143,0) +IF($C144=$Y99,O144,0) +IF($C145=$Y99,O145,0) +IF($C146=$Y99,O146,0) +IF($C147=$Y99,O147,0) +IF($C148=$Y99,O148,0)+IF($C149=$Y99,O149,0)","v":0},null,{"$f":"IF($C$99=$Y$99,Q99,0)+IF($C$100=$Y99,Q100,0)+IF($C101=$Y99,Q101,0)+IF($C102=$Y99,Q102,0)+IF($C103=$Y99,Q103,0)+IF($C104=$Y99,Q104,0)+IF($C105=$Y99,Q105,0)+IF($C106=$Y99,Q106,0)+IF($C107=$Y99,Q107,0)+IF($C108=$Y99,Q108,0)+IF($C109=$Y99,Q109,0)+IF($C110=$Y99,Q110,0)+IF($C111=$Y99,Q111,0)+IF($C112=$Y99,Q112,0)+IF($C113=$Y99,Q113,0)+IF($C114=$Y99,Q114,0)+IF($C115=$Y99,Q115,0)+IF($C116=$Y99,Q116,0)+IF($C117=$Y99,Q117,0)+IF($C118=$Y99,Q118,0)+IF($C119=$Y99,Q119,0)+IF($C120=$Y99,Q120,0)+IF($C121=$Y99,Q121,0)+IF($C122=$Y99,Q122,0)+IF($C123=$Y99,Q123,0)+IF($C124=$Y99,Q124,0)+IF($C125=$Y99,Q125,0)+IF($C126=$Y99,Q126,0)+IF($C127=$Y99,Q127,0)+IF($C128=$Y99,Q128,0)+IF($C129=$Y99,Q129,0)+IF($C130=$Y99,Q130,0)+IF($C131=$Y99,Q131,0)+IF($C132=$Y99,Q132,0)+IF($C133=$Y99,Q133,0)+IF($C134=$Y99,Q134,0)+IF($C135=$Y99,Q135,0)+IF($C136=$Y99,Q136,0)+IF($C137=$Y99,Q137,0)+IF($C138=$Y99,Q138,0) +IF($C139=$Y99,Q139,0) +IF($C140=$Y99,Q140,0) +IF($C141=$Y99,Q141,0) +IF($C142=$Y99,Q142,0) +IF($C143=$Y99,Q143,0) +IF($C144=$Y99,Q144,0) +IF($C145=$Y99,Q145,0) +IF($C146=$Y99,Q146,0) +IF($C147=$Y99,Q147,0) +IF($C148=$Y99,Q148,0)+IF($C149=$Y99,Q149,0)","v":0},null,null,null,null,null,null,null,null,null,null,null,null,null,null,null,null,null,null,null,null,null,null,null,null,null,null,null,null,null,null,null,null,null,null,null,null,null,null,null,null,null,null,null,null,null,null,null,null,null,null,null,null,null,null,null,null,null,null,null,null,null,null,null,null,null,null,null,null,null,null,null,null,null,null,null,null,null,null,null,null,null,null,null,null,null,null,null,null,null,null,null,null,null,null,null,null,null,null,null,null,null,null,null,null,null,null,null,null,null,null,null,null,null,null,null,null,null,null,null,null,null,null,null,null,null,null,null,null,null,null,null,null,null,null,null,null,null,null,null,null,null,null,null,null,null,null,null,null,null,null,null,null,null,null,null,null,null,null,null,null,null,null,null,null,null,null,null,null,null,null,null,null,null,null,null,null,null,null,null,null,null,null,null,null,null,null,null,null,null,null,null,null,null,null,null,null,null,null,null,null,null,null,null,null,null,null,null,null,null,null,null,null,null,null,null,null,null,null,null,null,null,null,null,null,null,null,null,null,null,null,null,null,null,null,null,null,null,null,null,null,null,null,null,null,null,null,null,null,null,null,null,null,null,null,null,null,null,null,null,null,null,null,null,null,null,null,null,null,null,null,null,null,null,null,null,null,null,null,null,null,null,null,null,null,null,null,null,null,null,null,null,null,null,null,null,null,null,null,null,null,null,null,null,null,null,null,null,null,null,null,null,null,null,null,null,null,null,null,null,null,null,null,null,null,null,null,null,null,null,null,null,null,null,null,null,null,null,null,null,null,null,null,null,null,null,null,null,null,null,null,null,null,null,null,null,null,null,null,null,null,null,null,null,null,null,null,null,null,null,null,null,null,null,null,null,null,null,null,null,null,null,null,null,null,null,null,null,null,null,null,null,null,null,null,null,null,null,null,null,null,null,null,null,null,null,null,null,null,null,null,null,null,null,null,null,null,null,null,null,null,null,null,null,null,null,null,null,null,null,null,null,null,null,null,null,null,null,null,null,null,null,null,null,null,null,null,null,null,null,null,null,null,null,null,null,null,null,null,null,null,null,null,null,null,null,null,null,null,null,null,null,null,null,null,null,null,null,null,null,null,null,null,null,null,null,null,null,null,null,null,null,null,null,null,null,null,null,null,null,null,null,null,null,null,null,{"$f":"#REF!","v":{"$error":"#REF!"}}]
[{"$f":"A99+1","v":2},0,1,null,0,0.3,"Yes",1,{"$f":"VLOOKUP(H100,$AB$153:$AC$172,2,FALSE)","v":0},0,0,{"$f":"(K100*J100)+J100","v":0},{"$f":"IF(G100=\"Yes\",J100*0.08,0)","v":0},0,0,0,0,0,{"$f":"J100+M100+Q100","v":0},0,0,{"$f":"#REF!","v":{"$error":"#REF!"}},null,null,"Educational / Library / Cultural",{"$f":"IF($C$99=$Y100,J$99,0)+IF($C$100=$Y100,J$100,0)+IF($C$101=$Y100,J$101,0)+IF($C$102=$Y100,J$102,0)+IF($C$103=$Y100,J$103,0)+IF($C$104=$Y100,J$104,0)+IF($C$105=$Y100,J$105,0)+IF($C$106=$Y100,J$106,0)+IF($C$107=$Y100,J$107,0)+IF($C$108=$Y100,J$108,0)+IF($C$109=$Y100,J$109,0)+IF($C$110=$Y100,J$110,0)+IF($C$111=$Y100,J$111,0)+IF($C$112=$Y100,J$112,0)+IF($C$113=$Y100,J$113,0)+IF($C$114=$Y100,J$114,0)+IF($C$115=$Y100,J$115,0)+IF($C$116=$Y100,J$116,0)+IF($C$117=$Y100,J$117,0)+IF($C$118=$Y100,J$118,0)+IF($C$119=$Y100,J$119,0)+IF($C$120=$Y100,J$120,0)+IF($C$121=$Y100,J$121,0)+IF($C$122=$Y100,J$122,0)+IF($C$123=$Y100,J$123,0)+IF($C$124=$Y100,J$124,0)+IF($C$125=$Y100,J$125,0)+IF($C$126=$Y100,J$126,0)+IF($C$127=$Y100,J$127,0)+IF($C$128=$Y100,J$128,0)+IF($C129=$Y100,J129,0)+IF($C130=$Y100,J130,0)+IF($C131=$Y100,J131,0)+IF($C132=$Y100,J132,0)+IF($C133=$Y100,J133,0)+IF($C134=$Y100,J134,0)+IF($C135=$Y100,J135,0)+IF($C136=$Y100,J136,0)+IF($C137=$Y100,J137,0)+IF($C138=$Y100,J138,0) +IF($C139=$Y100,J139,0) +IF($C140=$Y100,J140,0) +IF($C141=$Y100,J141,0) +IF($C142=$Y100,J142,0) +IF($C143=$Y100,J143,0) +IF($C144=$Y100,J144,0) +IF($C145=$Y100,J145,0) +IF($C146=$Y100,J146,0) +IF($C147=$Y100,J147,0) +IF($C148=$Y100,J148,0)+IF($C149=$Y100,J149,0)","v":0}," "," ",{"$f":"IF($C$99=$Y100,M$99,0)+IF($C$100=$Y100,M$100,0)+IF($C$101=$Y100,M$101,0)+IF($C$102=$Y100,M$102,0)+IF($C$103=$Y100,M$103,0)+IF($C$104=$Y100,M$104,0)+IF($C$105=$Y100,M$105,0)+IF($C$106=$Y100,M$106,0)+IF($C$107=$Y100,M$107,0)+IF($C$108=$Y100,M$108,0)+IF($C$109=$Y100,M$109,0)+IF($C$110=$Y100,M$110,0)+IF($C$111=$Y100,M$111,0)+IF($C$112=$Y100,M$112,0)+IF($C$113=$Y100,M$113,0)+IF($C$114=$Y100,M$114,0)+IF($C$115=$Y100,M$115,0)+IF($C$116=$Y100,M$116,0)+IF($C$117=$Y100,M$117,0)+IF($C$118=$Y100,M$118,0)+IF($C$119=$Y100,M$119,0)+IF($C$120=$Y100,M$120,0)+IF($C$121=$Y100,M$121,0)+IF($C$122=$Y100,M$122,0)+IF($C$123=$Y100,M$123,0)+IF($C$124=$Y100,M$124,0)+IF($C$125=$Y100,M$125,0)+IF($C$126=$Y100,M$126,0)+IF($C$127=$Y100,M$127,0)+IF($C$128=$Y100,M$128,0)+IF($C129=$Y100,M129,0)+IF($C130=$Y100,M130,0)+IF($C131=$Y100,M131,0)+IF($C132=$Y100,M132,0)+IF($C133=$Y100,M133,0)+IF($C134=$Y100,M134,0)+IF($C135=$Y100,M135,0)+IF($C136=$Y100,M136,0)+IF($C137=$Y100,M137,0)+IF($C138=$Y100,M138,0) +IF($C139=$Y100,M139,0) +IF($C140=$Y100,M140,0) +IF($C141=$Y100,M141,0) +IF($C142=$Y100,M142,0) +IF($C143=$Y100,M143,0) +IF($C144=$Y100,M144,0) +IF($C145=$Y100,M145,0) +IF($C146=$Y100,M146,0) +IF($C147=$Y100,M147,0) +IF($C148=$Y100,M148,0)+IF($C149=$Y100,M149,0)","v":0}," ",{"$f":"IF($C$99=$Y100,O$99,0)+IF($C$100=$Y100,O$100,0)+IF($C$101=$Y100,O$101,0)+IF($C$102=$Y100,O$102,0)+IF($C$103=$Y100,O$103,0)+IF($C$104=$Y100,O$104,0)+IF($C$105=$Y100,O$105,0)+IF($C$106=$Y100,O$106,0)+IF($C$107=$Y100,O$107,0)+IF($C$108=$Y100,O$108,0)+IF($C$109=$Y100,O$109,0)+IF($C$110=$Y100,O$110,0)+IF($C$111=$Y100,O$111,0)+IF($C$112=$Y100,O$112,0)+IF($C$113=$Y100,O$113,0)+IF($C$114=$Y100,O$114,0)+IF($C$115=$Y100,O$115,0)+IF($C$116=$Y100,O$116,0)+IF($C$117=$Y100,O$117,0)+IF($C$118=$Y100,O$118,0)+IF($C$119=$Y100,O$119,0)+IF($C$120=$Y100,O$120,0)+IF($C$121=$Y100,O$121,0)+IF($C$122=$Y100,O$122,0)+IF($C$123=$Y100,O$123,0)+IF($C$124=$Y100,O$124,0)+IF($C$125=$Y100,O$125,0)+IF($C$126=$Y100,O$126,0)+IF($C$127=$Y100,O$127,0)+IF($C$128=$Y100,O$128,0)+IF($C129=$Y100,O129,0)+IF($C130=$Y100,O130,0)+IF($C131=$Y100,O131,0)+IF($C132=$Y100,O132,0)+IF($C133=$Y100,O133,0)+IF($C134=$Y100,O134,0)+IF($C135=$Y100,O135,0)+IF($C136=$Y100,O136,0)+IF($C137=$Y100,O137,0)+IF($C138=$Y100,O138,0) +IF($C139=$Y100,O139,0) +IF($C140=$Y100,O140,0) +IF($C141=$Y100,O141,0) +IF($C142=$Y100,O142,0) +IF($C143=$Y100,O143,0) +IF($C144=$Y100,O144,0) +IF($C145=$Y100,O145,0) +IF($C146=$Y100,O146,0) +IF($C147=$Y100,O147,0) +IF($C148=$Y100,O148,0)+IF($C149=$Y100,O149,0)","v":0},null,{"$f":"IF($C$99=$Y100,Q$99,0)+IF($C$100=$Y100,Q$100,0)+IF($C$101=$Y100,Q$101,0)+IF($C$102=$Y100,Q$102,0)+IF($C$103=$Y100,Q$103,0)+IF($C$104=$Y100,Q$104,0)+IF($C$105=$Y100,Q$105,0)+IF($C$106=$Y100,Q$106,0)+IF($C$107=$Y100,Q$107,0)+IF($C$108=$Y100,Q$108,0)+IF($C$109=$Y100,Q$109,0)+IF($C$110=$Y100,Q$110,0)+IF($C$111=$Y100,Q$111,0)+IF($C$112=$Y100,Q$112,0)+IF($C$113=$Y100,Q$113,0)+IF($C$114=$Y100,Q$114,0)+IF($C$115=$Y100,Q$115,0)+IF($C$116=$Y100,Q$116,0)+IF($C$117=$Y100,Q$117,0)+IF($C$118=$Y100,Q$118,0)+IF($C$119=$Y100,Q$119,0)+IF($C$120=$Y100,Q$120,0)+IF($C$121=$Y100,Q$121,0)+IF($C$122=$Y100,Q$122,0)+IF($C$123=$Y100,Q$123,0)+IF($C$124=$Y100,Q$124,0)+IF($C$125=$Y100,Q$125,0)+IF($C$126=$Y100,Q$126,0)+IF($C$127=$Y100,Q$127,0)+IF($C$128=$Y100,Q$128,0)+IF($C129=$Y100,Q129,0)+IF($C130=$Y100,Q130,0)+IF($C131=$Y100,Q131,0)+IF($C132=$Y100,Q132,0)+IF($C133=$Y100,Q133,0)+IF($C134=$Y100,Q134,0)+IF($C135=$Y100,Q135,0)+IF($C136=$Y100,Q136,0)+IF($C137=$Y100,Q137,0)+IF($C138=$Y100,Q138,0) +IF($C139=$Y100,Q139,0) +IF($C140=$Y100,Q140,0) +IF($C141=$Y100,Q141,0) +IF($C142=$Y100,Q142,0) +IF($C143=$Y100,Q143,0) +IF($C144=$Y100,Q144,0) +IF($C145=$Y100,Q145,0) +IF($C146=$Y100,Q146,0) +IF($C147=$Y100,Q147,0) +IF($C148=$Y100,Q148,0)+IF($C149=$Y100,Q149,0)","v":0},null,null,null,null,null,null,null,null,null,null,null,null,null,null,null,null,null,null,null,null,null,null,null,null,null,null,null,null,null,null,null,null,null,null,null,null,null,null,null,null,null,null,null,null,null,null,null,null,null,null,null,null,null,null,null,null,null,null,null,null,null,null,null,null,null,null,null,null,null,null,null,null,null,null,null,null,null,null,null,null,null,null,null,null,null,null,null,null,null,null,null,null,null,null,null,null,null,null,null,null,null,null,null,null,null,null,null,null,null,null,null,null,null,null,null,null,null,null,null,null,null,null,null,null,null,null,null,null,null,null,null,null,null,null,null,null,null,null,null,null,null,null,null,null,null,null,null,null,null,null,null,null,null,null,null,null,null,null,null,null,null,null,null,null,null,null,null,null,null,null,null,null,null,null,null,null,null,null,null,null,null,null,null,null,null,null,null,null,null,null,null,null,null,null,null,null,null,null,null,null,null,null,null,null,null,null,null,null,null,null,null,null,null,null,null,null,null,null,null,null,null,null,null,null,null,null,null,null,null,null,null,null,null,null,null,null,null,null,null,null,null,null,null,null,null,null,null,null,null,null,null,null,null,null,null,null,null,null,null,null,null,null,null,null,null,null,null,null,null,null,null,null,null,null,null,null,null,null,null,null,null,null,null,null,null,null,null,null,null,null,null,null,null,null,null,null,null,null,null,null,null,null,null,null,null,null,null,null,null,null,null,null,null,null,null,null,null,null,null,null,null,null,null,null,null,null,null,null,null,null,null,null,null,null,null,null,null,null,null,null,null,null,null,null,null,null,null,null,null,null,null,null,null,null,null,null,null,null,null,null,null,null,null,null,null,null,null,null,null,null,null,null,null,null,null,null,null,null,null,null,null,null,null,null,null,null,null,null,null,null,null,null,null,null,null,null,null,null,null,null,null,null,null,null,null,null,null,null,null,null,null,null,null,null,null,null,null,null,null,null,null,null,null,null,null,null,null,null,null,null,null,null,null,null,null,null,null,null,null,null,null,null,null,null,null,null,null,null,null,null,null,null,null,null,null,null,null,null,null,null,null,null,null,null,null,null,null,null,null,null,null,null,null,null,null,null,null,null,null,null,null,null,null,null,null,null,null,null,null,null,null,null,null,null,null,null,null,null,null,null,null,null,null,null,null,{"$f":"#REF!","v":{"$error":"#REF!"}}]
[{"$f":"A100+1","v":3},0,2,null,0,0.3,"Yes",1,0,0,0,0,{"$f":"IF(G101=\"Yes\",J101*0.08,0)","v":0},0.23,0,0,0,0,0,0,0,{"$f":"#REF!","v":{"$error":"#REF!"}},null,null,"Public Sector Buildings & Services",{"$f":"IF($C$99=$Y101,J$99,0)+IF($C$100=$Y101,J$100,0)+IF($C$101=$Y101,J$101,0)+IF($C$102=$Y101,J$102,0)+IF($C$103=$Y101,J$103,0)+IF($C$104=$Y101,J$104,0)+IF($C$105=$Y101,J$105,0)+IF($C$106=$Y101,J$106,0)+IF($C$107=$Y101,J$107,0)+IF($C$108=$Y101,J$108,0)+IF($C$109=$Y101,J$109,0)+IF($C$110=$Y101,J$110,0)+IF($C$111=$Y101,J$111,0)+IF($C$112=$Y101,J$112,0)+IF($C$113=$Y101,J$113,0)+IF($C$114=$Y101,J$114,0)+IF($C$115=$Y101,J$115,0)+IF($C$116=$Y101,J$116,0)+IF($C$117=$Y101,J$117,0)+IF($C$118=$Y101,J$118,0)+IF($C$119=$Y101,J$119,0)+IF($C$120=$Y101,J$120,0)+IF($C$121=$Y101,J$121,0)+IF($C$122=$Y101,J$122,0)+IF($C$123=$Y101,J$123,0)+IF($C$124=$Y101,J$124,0)+IF($C$125=$Y101,J$125,0)+IF($C$126=$Y101,J$126,0)+IF($C$127=$Y101,J$127,0)+IF($C$128=$Y101,J$128,0)+IF($C129=$Y101,J129,0)+IF($C130=$Y101,J130,0)+IF($C131=$Y101,J131,0)+IF($C132=$Y101,J132,0)+IF($C133=$Y101,J133,0)+IF($C134=$Y101,J134,0)+IF($C135=$Y101,J135,0)+IF($C136=$Y101,J136,0)+IF($C137=$Y101,J137,0)+IF($C138=$Y101,J138,0) +IF($C139=$Y101,J139,0) +IF($C140=$Y101,J140,0) +IF($C141=$Y101,J141,0) +IF($C142=$Y101,J142,0) +IF($C143=$Y101,J143,0) +IF($C144=$Y101,J144,0) +IF($C145=$Y101,J145,0) +IF($C146=$Y101,J146,0) +IF($C147=$Y101,J147,0) +IF($C148=$Y101,J148,0)+IF($C149=$Y101,J149,0)","v":0}," "," ",{"$f":"IF($C$99=$Y101,M$99,0)+IF($C$100=$Y101,M$100,0)+IF($C$101=$Y101,M$101,0)+IF($C$102=$Y101,M$102,0)+IF($C$103=$Y101,M$103,0)+IF($C$104=$Y101,M$104,0)+IF($C$105=$Y101,M$105,0)+IF($C$106=$Y101,M$106,0)+IF($C$107=$Y101,M$107,0)+IF($C$108=$Y101,M$108,0)+IF($C$109=$Y101,M$109,0)+IF($C$110=$Y101,M$110,0)+IF($C$111=$Y101,M$111,0)+IF($C$112=$Y101,M$112,0)+IF($C$113=$Y101,M$113,0)+IF($C$114=$Y101,M$114,0)+IF($C$115=$Y101,M$115,0)+IF($C$116=$Y101,M$116,0)+IF($C$117=$Y101,M$117,0)+IF($C$118=$Y101,M$118,0)+IF($C$119=$Y101,M$119,0)+IF($C$120=$Y101,M$120,0)+IF($C$121=$Y101,M$121,0)+IF($C$122=$Y101,M$122,0)+IF($C$123=$Y101,M$123,0)+IF($C$124=$Y101,M$124,0)+IF($C$125=$Y101,M$125,0)+IF($C$126=$Y101,M$126,0)+IF($C$127=$Y101,M$127,0)+IF($C$128=$Y101,M$128,0)+IF($C129=$Y101,M129,0)+IF($C130=$Y101,M130,0)+IF($C131=$Y101,M131,0)+IF($C132=$Y101,M132,0)+IF($C133=$Y101,M133,0)+IF($C134=$Y101,M134,0)+IF($C135=$Y101,M135,0)+IF($C136=$Y101,M136,0)+IF($C137=$Y101,M137,0)+IF($C138=$Y101,M138,0) +IF($C139=$Y101,M139,0) +IF($C140=$Y101,M140,0) +IF($C141=$Y101,M141,0) +IF($C142=$Y101,M142,0) +IF($C143=$Y101,M143,0) +IF($C144=$Y101,M144,0) +IF($C145=$Y101,M145,0) +IF($C146=$Y101,M146,0) +IF($C147=$Y101,M147,0) +IF($C148=$Y101,M148,0)+IF($C149=$Y101,M149,0)","v":0}," ",{"$f":"IF($C$99=$Y101,O$99,0)+IF($C$100=$Y101,O$100,0)+IF($C$101=$Y101,O$101,0)+IF($C$102=$Y101,O$102,0)+IF($C$103=$Y101,O$103,0)+IF($C$104=$Y101,O$104,0)+IF($C$105=$Y101,O$105,0)+IF($C$106=$Y101,O$106,0)+IF($C$107=$Y101,O$107,0)+IF($C$108=$Y101,O$108,0)+IF($C$109=$Y101,O$109,0)+IF($C$110=$Y101,O$110,0)+IF($C$111=$Y101,O$111,0)+IF($C$112=$Y101,O$112,0)+IF($C$113=$Y101,O$113,0)+IF($C$114=$Y101,O$114,0)+IF($C$115=$Y101,O$115,0)+IF($C$116=$Y101,O$116,0)+IF($C$117=$Y101,O$117,0)+IF($C$118=$Y101,O$118,0)+IF($C$119=$Y101,O$119,0)+IF($C$120=$Y101,O$120,0)+IF($C$121=$Y101,O$121,0)+IF($C$122=$Y101,O$122,0)+IF($C$123=$Y101,O$123,0)+IF($C$124=$Y101,O$124,0)+IF($C$125=$Y101,O$125,0)+IF($C$126=$Y101,O$126,0)+IF($C$127=$Y101,O$127,0)+IF($C$128=$Y101,O$128,0)+IF($C129=$Y101,O129,0)+IF($C130=$Y101,O130,0)+IF($C131=$Y101,O131,0)+IF($C132=$Y101,O132,0)+IF($C133=$Y101,O133,0)+IF($C134=$Y101,O134,0)+IF($C135=$Y101,O135,0)+IF($C136=$Y101,O136,0)+IF($C137=$Y101,O137,0)+IF($C138=$Y101,O138,0) +IF($C139=$Y101,O139,0) +IF($C140=$Y101,O140,0) +IF($C141=$Y101,O141,0) +IF($C142=$Y101,O142,0) +IF($C143=$Y101,O143,0) +IF($C144=$Y101,O144,0) +IF($C145=$Y101,O145,0) +IF($C146=$Y101,O146,0) +IF($C147=$Y101,O147,0) +IF($C148=$Y101,O148,0)+IF($C149=$Y101,O149,0)","v":0},null,{"$f":"IF($C$99=$Y101,Q$99,0)+IF($C$100=$Y101,Q$100,0)+IF($C$101=$Y101,Q$101,0)+IF($C$102=$Y101,Q$102,0)+IF($C$103=$Y101,Q$103,0)+IF($C$104=$Y101,Q$104,0)+IF($C$105=$Y101,Q$105,0)+IF($C$106=$Y101,Q$106,0)+IF($C$107=$Y101,Q$107,0)+IF($C$108=$Y101,Q$108,0)+IF($C$109=$Y101,Q$109,0)+IF($C$110=$Y101,Q$110,0)+IF($C$111=$Y101,Q$111,0)+IF($C$112=$Y101,Q$112,0)+IF($C$113=$Y101,Q$113,0)+IF($C$114=$Y101,Q$114,0)+IF($C$115=$Y101,Q$115,0)+IF($C$116=$Y101,Q$116,0)+IF($C$117=$Y101,Q$117,0)+IF($C$118=$Y101,Q$118,0)+IF($C$119=$Y101,Q$119,0)+IF($C$120=$Y101,Q$120,0)+IF($C$121=$Y101,Q$121,0)+IF($C$122=$Y101,Q$122,0)+IF($C$123=$Y101,Q$123,0)+IF($C$124=$Y101,Q$124,0)+IF($C$125=$Y101,Q$125,0)+IF($C$126=$Y101,Q$126,0)+IF($C$127=$Y101,Q$127,0)+IF($C$128=$Y101,Q$128,0)+IF($C129=$Y101,Q129,0)+IF($C130=$Y101,Q130,0)+IF($C131=$Y101,Q131,0)+IF($C132=$Y101,Q132,0)+IF($C133=$Y101,Q133,0)+IF($C134=$Y101,Q134,0)+IF($C135=$Y101,Q135,0)+IF($C136=$Y101,Q136,0)+IF($C137=$Y101,Q137,0)+IF($C138=$Y101,Q138,0) +IF($C139=$Y101,Q139,0) +IF($C140=$Y101,Q140,0) +IF($C141=$Y101,Q141,0) +IF($C142=$Y101,Q142,0) +IF($C143=$Y101,Q143,0) +IF($C144=$Y101,Q144,0) +IF($C145=$Y101,Q145,0) +IF($C146=$Y101,Q146,0) +IF($C147=$Y101,Q147,0) +IF($C148=$Y101,Q148,0)+IF($C149=$Y101,Q149,0)","v":0},null,null,null,null,null,null,null,null,null,null,null,null,null,null,null,null,null,null,null,null,null,null,null,null,null,null,null,null,null,null,null,null,null,null,null,null,null,null,null,null,null,null,null,null,null,null,null,null,null,null,null,null,null,null,null,null,null,null,null,null,null,null,null,null,null,null,null,null,null,null,null,null,null,null,null,null,null,null,null,null,null,null,null,null,null,null,null,null,null,null,null,null,null,null,null,null,null,null,null,null,null,null,null,null,null,null,null,null,null,null,null,null,null,null,null,null,null,null,null,null,null,null,null,null,null,null,null,null,null,null,null,null,null,null,null,null,null,null,null,null,null,null,null,null,null,null,null,null,null,null,null,null,null,null,null,null,null,null,null,null,null,null,null,null,null,null,null,null,null,null,null,null,null,null,null,null,null,null,null,null,null,null,null,null,null,null,null,null,null,null,null,null,null,null,null,null,null,null,null,null,null,null,null,null,null,null,null,null,null,null,null,null,null,null,null,null,null,null,null,null,null,null,null,null,null,null,null,null,null,null,null,null,null,null,null,null,null,null,null,null,null,null,null,null,null,null,null,null,null,null,null,null,null,null,null,null,null,null,null,null,null,null,null,null,null,null,null,null,null,null,null,null,null,null,null,null,null,null,null,null,null,null,null,null,null,null,null,null,null,null,null,null,null,null,null,null,null,null,null,null,null,null,null,null,null,null,null,null,null,null,null,null,null,null,null,null,null,null,null,null,null,null,null,null,null,null,null,null,null,null,null,null,null,null,null,null,null,null,null,null,null,null,null,null,null,null,null,null,null,null,null,null,null,null,null,null,null,null,null,null,null,null,null,null,null,null,null,null,null,null,null,null,null,null,null,null,null,null,null,null,null,null,null,null,null,null,null,null,null,null,null,null,null,null,null,null,null,null,null,null,null,null,null,null,null,null,null,null,null,null,null,null,null,null,null,null,null,null,null,null,null,null,null,null,null,null,null,null,null,null,null,null,null,null,null,null,null,null,null,null,null,null,null,null,null,null,null,null,null,null,null,null,null,null,null,null,null,null,null,null,null,null,null,null,null,null,null,null,null,null,null,null,null,null,null,null,null,null,null,null,null,null,null,null,null,null,null,null,null,null,null,null,null,null,null,null,null,null,null,null,null,null,null,null,null,{"$f":"#REF!","v":{"$error":"#REF!"}}]
[4,0,3,null,0,0,"No",1,0,0,0,0,0,0,0,0,0,0,0,0,0,{"$f":"#REF!","v":{"$error":"#REF!"}},null,null,"Sports & Leisure Centres",{"$f":"IF($C$99=$Y102,J$99,0)+IF($C$100=$Y102,J$100,0)+IF($C$101=$Y102,J$101,0)+IF($C$102=$Y102,J$102,0)+IF($C$103=$Y102,J$103,0)+IF($C$104=$Y102,J$104,0)+IF($C$105=$Y102,J$105,0)+IF($C$106=$Y102,J$106,0)+IF($C$107=$Y102,J$107,0)+IF($C$108=$Y102,J$108,0)+IF($C$109=$Y102,J$109,0)+IF($C$110=$Y102,J$110,0)+IF($C$111=$Y102,J$111,0)+IF($C$112=$Y102,J$112,0)+IF($C$113=$Y102,J$113,0)+IF($C$114=$Y102,J$114,0)+IF($C$115=$Y102,J$115,0)+IF($C$116=$Y102,J$116,0)+IF($C$117=$Y102,J$117,0)+IF($C$118=$Y102,J$118,0)+IF($C$119=$Y102,J$119,0)+IF($C$120=$Y102,J$120,0)+IF($C$121=$Y102,J$121,0)+IF($C$122=$Y102,J$122,0)+IF($C$123=$Y102,J$123,0)+IF($C$124=$Y102,J$124,0)+IF($C$125=$Y102,J$125,0)+IF($C$126=$Y102,J$126,0)+IF($C$127=$Y102,J$127,0)+IF($C$128=$Y102,J$128,0)+IF($C129=$Y102,J129,0)+IF($C130=$Y102,J130,0)+IF($C131=$Y102,J131,0)+IF($C132=$Y102,J132,0)+IF($C133=$Y102,J133,0)+IF($C134=$Y102,J134,0)+IF($C135=$Y102,J135,0)+IF($C136=$Y102,J136,0)+IF($C137=$Y102,J137,0)+IF($C138=$Y102,J138,0) +IF($C139=$Y102,J139,0) +IF($C140=$Y102,J140,0) +IF($C141=$Y102,J141,0) +IF($C142=$Y102,J142,0) +IF($C143=$Y102,J143,0) +IF($C144=$Y102,J144,0) +IF($C145=$Y102,J145,0) +IF($C146=$Y102,J146,0) +IF($C147=$Y102,J147,0) +IF($C148=$Y102,J148,0)+IF($C149=$Y102,J149,0)","v":0}," "," ",{"$f":"IF($C$99=$Y102,M$99,0)+IF($C$100=$Y102,M$100,0)+IF($C$101=$Y102,M$101,0)+IF($C$102=$Y102,M$102,0)+IF($C$103=$Y102,M$103,0)+IF($C$104=$Y102,M$104,0)+IF($C$105=$Y102,M$105,0)+IF($C$106=$Y102,M$106,0)+IF($C$107=$Y102,M$107,0)+IF($C$108=$Y102,M$108,0)+IF($C$109=$Y102,M$109,0)+IF($C$110=$Y102,M$110,0)+IF($C$111=$Y102,M$111,0)+IF($C$112=$Y102,M$112,0)+IF($C$113=$Y102,M$113,0)+IF($C$114=$Y102,M$114,0)+IF($C$115=$Y102,M$115,0)+IF($C$116=$Y102,M$116,0)+IF($C$117=$Y102,M$117,0)+IF($C$118=$Y102,M$118,0)+IF($C$119=$Y102,M$119,0)+IF($C$120=$Y102,M$120,0)+IF($C$121=$Y102,M$121,0)+IF($C$122=$Y102,M$122,0)+IF($C$123=$Y102,M$123,0)+IF($C$124=$Y102,M$124,0)+IF($C$125=$Y102,M$125,0)+IF($C$126=$Y102,M$126,0)+IF($C$127=$Y102,M$127,0)+IF($C$128=$Y102,M$128,0)+IF($C129=$Y102,M129,0)+IF($C130=$Y102,M130,0)+IF($C131=$Y102,M131,0)+IF($C132=$Y102,M132,0)+IF($C133=$Y102,M133,0)+IF($C134=$Y102,M134,0)+IF($C135=$Y102,M135,0)+IF($C136=$Y102,M136,0)+IF($C137=$Y102,M137,0)+IF($C138=$Y102,M138,0) +IF($C139=$Y102,M139,0) +IF($C140=$Y102,M140,0) +IF($C141=$Y102,M141,0) +IF($C142=$Y102,M142,0) +IF($C143=$Y102,M143,0) +IF($C144=$Y102,M144,0) +IF($C145=$Y102,M145,0) +IF($C146=$Y102,M146,0) +IF($C147=$Y102,M147,0) +IF($C148=$Y102,M148,0)+IF($C149=$Y102,M149,0)","v":0}," ",{"$f":"IF($C$99=$Y102,O$99,0)+IF($C$100=$Y102,O$100,0)+IF($C$101=$Y102,O$101,0)+IF($C$102=$Y102,O$102,0)+IF($C$103=$Y102,O$103,0)+IF($C$104=$Y102,O$104,0)+IF($C$105=$Y102,O$105,0)+IF($C$106=$Y102,O$106,0)+IF($C$107=$Y102,O$107,0)+IF($C$108=$Y102,O$108,0)+IF($C$109=$Y102,O$109,0)+IF($C$110=$Y102,O$110,0)+IF($C$111=$Y102,O$111,0)+IF($C$112=$Y102,O$112,0)+IF($C$113=$Y102,O$113,0)+IF($C$114=$Y102,O$114,0)+IF($C$115=$Y102,O$115,0)+IF($C$116=$Y102,O$116,0)+IF($C$117=$Y102,O$117,0)+IF($C$118=$Y102,O$118,0)+IF($C$119=$Y102,O$119,0)+IF($C$120=$Y102,O$120,0)+IF($C$121=$Y102,O$121,0)+IF($C$122=$Y102,O$122,0)+IF($C$123=$Y102,O$123,0)+IF($C$124=$Y102,O$124,0)+IF($C$125=$Y102,O$125,0)+IF($C$126=$Y102,O$126,0)+IF($C$127=$Y102,O$127,0)+IF($C$128=$Y102,O$128,0)+IF($C129=$Y102,O129,0)+IF($C130=$Y102,O130,0)+IF($C131=$Y102,O131,0)+IF($C132=$Y102,O132,0)+IF($C133=$Y102,O133,0)+IF($C134=$Y102,O134,0)+IF($C135=$Y102,O135,0)+IF($C136=$Y102,O136,0)+IF($C137=$Y102,O137,0)+IF($C138=$Y102,O138,0) +IF($C139=$Y102,O139,0) +IF($C140=$Y102,O140,0) +IF($C141=$Y102,O141,0) +IF($C142=$Y102,O142,0) +IF($C143=$Y102,O143,0) +IF($C144=$Y102,O144,0) +IF($C145=$Y102,O145,0) +IF($C146=$Y102,O146,0) +IF($C147=$Y102,O147,0) +IF($C148=$Y102,O148,0)+IF($C149=$Y102,O149,0)","v":0},null,{"$f":"IF($C$99=$Y102,Q$99,0)+IF($C$100=$Y102,Q$100,0)+IF($C$101=$Y102,Q$101,0)+IF($C$102=$Y102,Q$102,0)+IF($C$103=$Y102,Q$103,0)+IF($C$104=$Y102,Q$104,0)+IF($C$105=$Y102,Q$105,0)+IF($C$106=$Y102,Q$106,0)+IF($C$107=$Y102,Q$107,0)+IF($C$108=$Y102,Q$108,0)+IF($C$109=$Y102,Q$109,0)+IF($C$110=$Y102,Q$110,0)+IF($C$111=$Y102,Q$111,0)+IF($C$112=$Y102,Q$112,0)+IF($C$113=$Y102,Q$113,0)+IF($C$114=$Y102,Q$114,0)+IF($C$115=$Y102,Q$115,0)+IF($C$116=$Y102,Q$116,0)+IF($C$117=$Y102,Q$117,0)+IF($C$118=$Y102,Q$118,0)+IF($C$119=$Y102,Q$119,0)+IF($C$120=$Y102,Q$120,0)+IF($C$121=$Y102,Q$121,0)+IF($C$122=$Y102,Q$122,0)+IF($C$123=$Y102,Q$123,0)+IF($C$124=$Y102,Q$124,0)+IF($C$125=$Y102,Q$125,0)+IF($C$126=$Y102,Q$126,0)+IF($C$127=$Y102,Q$127,0)+IF($C$128=$Y102,Q$128,0)+IF($C129=$Y102,Q129,0)+IF($C130=$Y102,Q130,0)+IF($C131=$Y102,Q131,0)+IF($C132=$Y102,Q132,0)+IF($C133=$Y102,Q133,0)+IF($C134=$Y102,Q134,0)+IF($C135=$Y102,Q135,0)+IF($C136=$Y102,Q136,0)+IF($C137=$Y102,Q137,0)+IF($C138=$Y102,Q138,0) +IF($C139=$Y102,Q139,0) +IF($C140=$Y102,Q140,0) +IF($C141=$Y102,Q141,0) +IF($C142=$Y102,Q142,0) +IF($C143=$Y102,Q143,0) +IF($C144=$Y102,Q144,0) +IF($C145=$Y102,Q145,0) +IF($C146=$Y102,Q146,0) +IF($C147=$Y102,Q147,0) +IF($C148=$Y102,Q148,0)+IF($C149=$Y102,Q149,0)","v":0},null,null,null,null,null,null,null,null,null,null,null,null,null,null,null,null,null,null,null,null,null,null,null,null,null,null,null,null,null,null,null,null,null,null,null,null,null,null,null,null,null,null,null,null,null,null,null,null,null,null,null,null,null,null,null,null,null,null,null,null,null,null,null,null,null,null,null,null,null,null,null,null,null,null,null,null,null,null,null,null,null,null,null,null,null,null,null,null,null,null,null,null,null,null,null,null,null,null,null,null,null,null,null,null,null,null,null,null,null,null,null,null,null,null,null,null,null,null,null,null,null,null,null,null,null,null,null,null,null,null,null,null,null,null,null,null,null,null,null,null,null,null,null,null,null,null,null,null,null,null,null,null,null,null,null,null,null,null,null,null,null,null,null,null,null,null,null,null,null,null,null,null,null,null,null,null,null,null,null,null,null,null,null,null,null,null,null,null,null,null,null,null,null,null,null,null,null,null,null,null,null,null,null,null,null,null,null,null,null,null,null,null,null,null,null,null,null,null,null,null,null,null,null,null,null,null,null,null,null,null,null,null,null,null,null,null,null,null,null,null,null,null,null,null,null,null,null,null,null,null,null,null,null,null,null,null,null,null,null,null,null,null,null,null,null,null,null,null,null,null,null,null,null,null,null,null,null,null,null,null,null,null,null,null,null,null,null,null,null,null,null,null,null,null,null,null,null,null,null,null,null,null,null,null,null,null,null,null,null,null,null,null,null,null,null,null,null,null,null,null,null,null,null,null,null,null,null,null,null,null,null,null,null,null,null,null,null,null,null,null,null,null,null,null,null,null,null,null,null,null,null,null,null,null,null,null,null,null,null,null,null,null,null,null,null,null,null,null,null,null,null,null,null,null,null,null,null,null,null,null,null,null,null,null,null,null,null,null,null,null,null,null,null,null,null,null,null,null,null,null,null,null,null,null,null,null,null,null,null,null,null,null,null,null,null,null,null,null,null,null,null,null,null,null,null,null,null,null,null,null,null,null,null,null,null,null,null,null,null,null,null,null,null,null,null,null,null,null,null,null,null,null,null,null,null,null,null,null,null,null,null,null,null,null,null,null,null,null,null,null,null,null,null,null,null,null,null,null,null,null,null,null,null,null,null,null,null,null,null,null,null,null,null,null,null,null,null,null,null,null,null,null,null,null,null,{"$f":"#REF!","v":{"$error":"#REF!"}}]
[5,0,4,null,0,0,"No",1,0,0,0,0,0,0,0,0,0,0,0,0,0,{"$f":"#REF!","v":{"$error":"#REF!"}},null,null,"Private Sector Buildings",{"$f":"IF($C$99=$Y103,J$99,0)+IF($C$100=$Y103,J$100,0)+IF($C$101=$Y103,J$101,0)+IF($C$102=$Y103,J$102,0)+IF($C$103=$Y103,J$103,0)+IF($C$104=$Y103,J$104,0)+IF($C$105=$Y103,J$105,0)+IF($C$106=$Y103,J$106,0)+IF($C$107=$Y103,J$107,0)+IF($C$108=$Y103,J$108,0)+IF($C$109=$Y103,J$109,0)+IF($C$110=$Y103,J$110,0)+IF($C$111=$Y103,J$111,0)+IF($C$112=$Y103,J$112,0)+IF($C$113=$Y103,J$113,0)+IF($C$114=$Y103,J$114,0)+IF($C$115=$Y103,J$115,0)+IF($C$116=$Y103,J$116,0)+IF($C$117=$Y103,J$117,0)+IF($C$118=$Y103,J$118,0)+IF($C$119=$Y103,J$119,0)+IF($C$120=$Y103,J$120,0)+IF($C$121=$Y103,J$121,0)+IF($C$122=$Y103,J$122,0)+IF($C$123=$Y103,J$123,0)+IF($C$124=$Y103,J$124,0)+IF($C$125=$Y103,J$125,0)+IF($C$126=$Y103,J$126,0)+IF($C$127=$Y103,J$127,0)+IF($C$128=$Y103,J$128,0)+IF($C129=$Y103,J129,0)+IF($C130=$Y103,J130,0)+IF($C131=$Y103,J131,0)+IF($C132=$Y103,J132,0)+IF($C133=$Y103,J133,0)+IF($C134=$Y103,J134,0)+IF($C135=$Y103,J135,0)+IF($C136=$Y103,J136,0)+IF($C137=$Y103,J137,0)+IF($C138=$Y103,J138,0) +IF($C139=$Y103,J139,0) +IF($C140=$Y103,J140,0) +IF($C141=$Y103,J141,0) +IF($C142=$Y103,J142,0) +IF($C143=$Y103,J143,0) +IF($C144=$Y103,J144,0) +IF($C145=$Y103,J145,0) +IF($C146=$Y103,J146,0) +IF($C147=$Y103,J147,0) +IF($C148=$Y103,J148,0)+IF($C149=$Y103,J149,0)","v":0}," "," ",{"$f":"IF($C$99=$Y103,M$99,0)+IF($C$100=$Y103,M$100,0)+IF($C$101=$Y103,M$101,0)+IF($C$102=$Y103,M$102,0)+IF($C$103=$Y103,M$103,0)+IF($C$104=$Y103,M$104,0)+IF($C$105=$Y103,M$105,0)+IF($C$106=$Y103,M$106,0)+IF($C$107=$Y103,M$107,0)+IF($C$108=$Y103,M$108,0)+IF($C$109=$Y103,M$109,0)+IF($C$110=$Y103,M$110,0)+IF($C$111=$Y103,M$111,0)+IF($C$112=$Y103,M$112,0)+IF($C$113=$Y103,M$113,0)+IF($C$114=$Y103,M$114,0)+IF($C$115=$Y103,M$115,0)+IF($C$116=$Y103,M$116,0)+IF($C$117=$Y103,M$117,0)+IF($C$118=$Y103,M$118,0)+IF($C$119=$Y103,M$119,0)+IF($C$120=$Y103,M$120,0)+IF($C$121=$Y103,M$121,0)+IF($C$122=$Y103,M$122,0)+IF($C$123=$Y103,M$123,0)+IF($C$124=$Y103,M$124,0)+IF($C$125=$Y103,M$125,0)+IF($C$126=$Y103,M$126,0)+IF($C$127=$Y103,M$127,0)+IF($C$128=$Y103,M$128,0)+IF($C129=$Y103,M129,0)+IF($C130=$Y103,M130,0)+IF($C131=$Y103,M131,0)+IF($C132=$Y103,M132,0)+IF($C133=$Y103,M133,0)+IF($C134=$Y103,M134,0)+IF($C135=$Y103,M135,0)+IF($C136=$Y103,M136,0)+IF($C137=$Y103,M137,0)+IF($C138=$Y103,M138,0) +IF($C139=$Y103,M139,0) +IF($C140=$Y103,M140,0) +IF($C141=$Y103,M141,0) +IF($C142=$Y103,M142,0) +IF($C143=$Y103,M143,0) +IF($C144=$Y103,M144,0) +IF($C145=$Y103,M145,0) +IF($C146=$Y103,M146,0) +IF($C147=$Y103,M147,0) +IF($C148=$Y103,M148,0)+IF($C149=$Y103,M149,0)","v":0}," ",{"$f":"IF($C$99=$Y103,O$99,0)+IF($C$100=$Y103,O$100,0)+IF($C$101=$Y103,O$101,0)+IF($C$102=$Y103,O$102,0)+IF($C$103=$Y103,O$103,0)+IF($C$104=$Y103,O$104,0)+IF($C$105=$Y103,O$105,0)+IF($C$106=$Y103,O$106,0)+IF($C$107=$Y103,O$107,0)+IF($C$108=$Y103,O$108,0)+IF($C$109=$Y103,O$109,0)+IF($C$110=$Y103,O$110,0)+IF($C$111=$Y103,O$111,0)+IF($C$112=$Y103,O$112,0)+IF($C$113=$Y103,O$113,0)+IF($C$114=$Y103,O$114,0)+IF($C$115=$Y103,O$115,0)+IF($C$116=$Y103,O$116,0)+IF($C$117=$Y103,O$117,0)+IF($C$118=$Y103,O$118,0)+IF($C$119=$Y103,O$119,0)+IF($C$120=$Y103,O$120,0)+IF($C$121=$Y103,O$121,0)+IF($C$122=$Y103,O$122,0)+IF($C$123=$Y103,O$123,0)+IF($C$124=$Y103,O$124,0)+IF($C$125=$Y103,O$125,0)+IF($C$126=$Y103,O$126,0)+IF($C$127=$Y103,O$127,0)+IF($C$128=$Y103,O$128,0)+IF($C129=$Y103,O129,0)+IF($C130=$Y103,O130,0)+IF($C131=$Y103,O131,0)+IF($C132=$Y103,O132,0)+IF($C133=$Y103,O133,0)+IF($C134=$Y103,O134,0)+IF($C135=$Y103,O135,0)+IF($C136=$Y103,O136,0)+IF($C137=$Y103,O137,0)+IF($C138=$Y103,O138,0) +IF($C139=$Y103,O139,0) +IF($C140=$Y103,O140,0) +IF($C141=$Y103,O141,0) +IF($C142=$Y103,O142,0) +IF($C143=$Y103,O143,0) +IF($C144=$Y103,O144,0) +IF($C145=$Y103,O145,0) +IF($C146=$Y103,O146,0) +IF($C147=$Y103,O147,0) +IF($C148=$Y103,O148,0)+IF($C149=$Y103,O149,0)","v":0},null,{"$f":"IF($C$99=$Y103,Q$99,0)+IF($C$100=$Y103,Q$100,0)+IF($C$101=$Y103,Q$101,0)+IF($C$102=$Y103,Q$102,0)+IF($C$103=$Y103,Q$103,0)+IF($C$104=$Y103,Q$104,0)+IF($C$105=$Y103,Q$105,0)+IF($C$106=$Y103,Q$106,0)+IF($C$107=$Y103,Q$107,0)+IF($C$108=$Y103,Q$108,0)+IF($C$109=$Y103,Q$109,0)+IF($C$110=$Y103,Q$110,0)+IF($C$111=$Y103,Q$111,0)+IF($C$112=$Y103,Q$112,0)+IF($C$113=$Y103,Q$113,0)+IF($C$114=$Y103,Q$114,0)+IF($C$115=$Y103,Q$115,0)+IF($C$116=$Y103,Q$116,0)+IF($C$117=$Y103,Q$117,0)+IF($C$118=$Y103,Q$118,0)+IF($C$119=$Y103,Q$119,0)+IF($C$120=$Y103,Q$120,0)+IF($C$121=$Y103,Q$121,0)+IF($C$122=$Y103,Q$122,0)+IF($C$123=$Y103,Q$123,0)+IF($C$124=$Y103,Q$124,0)+IF($C$125=$Y103,Q$125,0)+IF($C$126=$Y103,Q$126,0)+IF($C$127=$Y103,Q$127,0)+IF($C$128=$Y103,Q$128,0)+IF($C129=$Y103,Q129,0)+IF($C130=$Y103,Q130,0)+IF($C131=$Y103,Q131,0)+IF($C132=$Y103,Q132,0)+IF($C133=$Y103,Q133,0)+IF($C134=$Y103,Q134,0)+IF($C135=$Y103,Q135,0)+IF($C136=$Y103,Q136,0)+IF($C137=$Y103,Q137,0)+IF($C138=$Y103,Q138,0) +IF($C139=$Y103,Q139,0) +IF($C140=$Y103,Q140,0) +IF($C141=$Y103,Q141,0) +IF($C142=$Y103,Q142,0) +IF($C143=$Y103,Q143,0) +IF($C144=$Y103,Q144,0) +IF($C145=$Y103,Q145,0) +IF($C146=$Y103,Q146,0) +IF($C147=$Y103,Q147,0) +IF($C148=$Y103,Q148,0)+IF($C149=$Y103,Q149,0)","v":0},null,null,null,null,null,null,null,null,null,null,null,null,null,null,null,null,null,null,null,null,null,null,null,null,null,null,null,null,null,null,null,null,null,null,null,null,null,null,null,null,null,null,null,null,null,null,null,null,null,null,null,null,null,null,null,null,null,null,null,null,null,null,null,null,null,null,null,null,null,null,null,null,null,null,null,null,null,null,null,null,null,null,null,null,null,null,null,null,null,null,null,null,null,null,null,null,null,null,null,null,null,null,null,null,null,null,null,null,null,null,null,null,null,null,null,null,null,null,null,null,null,null,null,null,null,null,null,null,null,null,null,null,null,null,null,null,null,null,null,null,null,null,null,null,null,null,null,null,null,null,null,null,null,null,null,null,null,null,null,null,null,null,null,null,null,null,null,null,null,null,null,null,null,null,null,null,null,null,null,null,null,null,null,null,null,null,null,null,null,null,null,null,null,null,null,null,null,null,null,null,null,null,null,null,null,null,null,null,null,null,null,null,null,null,null,null,null,null,null,null,null,null,null,null,null,null,null,null,null,null,null,null,null,null,null,null,null,null,null,null,null,null,null,null,null,null,null,null,null,null,null,null,null,null,null,null,null,null,null,null,null,null,null,null,null,null,null,null,null,null,null,null,null,null,null,null,null,null,null,null,null,null,null,null,null,null,null,null,null,null,null,null,null,null,null,null,null,null,null,null,null,null,null,null,null,null,null,null,null,null,null,null,null,null,null,null,null,null,null,null,null,null,null,null,null,null,null,null,null,null,null,null,null,null,null,null,null,null,null,null,null,null,null,null,null,null,null,null,null,null,null,null,null,null,null,null,null,null,null,null,null,null,null,null,null,null,null,null,null,null,null,null,null,null,null,null,null,null,null,null,null,null,null,null,null,null,null,null,null,null,null,null,null,null,null,null,null,null,null,null,null,null,null,null,null,null,null,null,null,null,null,null,null,null,null,null,null,null,null,null,null,null,null,null,null,null,null,null,null,null,null,null,null,null,null,null,null,null,null,null,null,null,null,null,null,null,null,null,null,null,null,null,null,null,null,null,null,null,null,null,null,null,null,null,null,null,null,null,null,null,null,null,null,null,null,null,null,null,null,null,null,null,null,null,null,null,null,null,null,null,null,null,null,null,null,null,null,null,null,null,null,null,null,null,null,{"$f":"#REF!","v":{"$error":"#REF!"}}]
[6,0,5,null,0,0,"No",1,0,0,0,0,0,0,0,0,0,0,0,0,0,{"$f":"#REF!","v":{"$error":"#REF!"}},null,null,"Not for Profit/ Community Buildings & Services",{"$f":"IF($C$99=$Y104,J$99,0)+IF($C$100=$Y104,J$100,0)+IF($C$101=$Y104,J$101,0)+IF($C$102=$Y104,J$102,0)+IF($C$103=$Y104,J$103,0)+IF($C$104=$Y104,J$104,0)+IF($C$105=$Y104,J$105,0)+IF($C$106=$Y104,J$106,0)+IF($C$107=$Y104,J$107,0)+IF($C$108=$Y104,J$108,0)+IF($C$109=$Y104,J$109,0)+IF($C$110=$Y104,J$110,0)+IF($C$111=$Y104,J$111,0)+IF($C$112=$Y104,J$112,0)+IF($C$113=$Y104,J$113,0)+IF($C$114=$Y104,J$114,0)+IF($C$115=$Y104,J$115,0)+IF($C$116=$Y104,J$116,0)+IF($C$117=$Y104,J$117,0)+IF($C$118=$Y104,J$118,0)+IF($C$119=$Y104,J$119,0)+IF($C$120=$Y104,J$120,0)+IF($C$121=$Y104,J$121,0)+IF($C$122=$Y104,J$122,0)+IF($C$123=$Y104,J$123,0)+IF($C$124=$Y104,J$124,0)+IF($C$125=$Y104,J$125,0)+IF($C$126=$Y104,J$126,0)+IF($C$127=$Y104,J$127,0)+IF($C$128=$Y104,J$128,0)+IF($C129=$Y104,J129,0)+IF($C130=$Y104,J130,0)+IF($C131=$Y104,J131,0)+IF($C132=$Y104,J132,0)+IF($C133=$Y104,J133,0)+IF($C134=$Y104,J134,0)+IF($C135=$Y104,J135,0)+IF($C136=$Y104,J136,0)+IF($C137=$Y104,J137,0)+IF($C138=$Y104,J138,0) +IF($C139=$Y104,J139,0) +IF($C140=$Y104,J140,0) +IF($C141=$Y104,J141,0) +IF($C142=$Y104,J142,0) +IF($C143=$Y104,J143,0) +IF($C144=$Y104,J144,0) +IF($C145=$Y104,J145,0) +IF($C146=$Y104,J146,0) +IF($C147=$Y104,J147,0) +IF($C148=$Y104,J148,0)+IF($C149=$Y104,J149,0)","v":0},null,null,{"$f":"IF($C$99=$Y104,M$99,0)+IF($C$100=$Y104,M$100,0)+IF($C$101=$Y104,M$101,0)+IF($C$102=$Y104,M$102,0)+IF($C$103=$Y104,M$103,0)+IF($C$104=$Y104,M$104,0)+IF($C$105=$Y104,M$105,0)+IF($C$106=$Y104,M$106,0)+IF($C$107=$Y104,M$107,0)+IF($C$108=$Y104,M$108,0)+IF($C$109=$Y104,M$109,0)+IF($C$110=$Y104,M$110,0)+IF($C$111=$Y104,M$111,0)+IF($C$112=$Y104,M$112,0)+IF($C$113=$Y104,M$113,0)+IF($C$114=$Y104,M$114,0)+IF($C$115=$Y104,M$115,0)+IF($C$116=$Y104,M$116,0)+IF($C$117=$Y104,M$117,0)+IF($C$118=$Y104,M$118,0)+IF($C$119=$Y104,M$119,0)+IF($C$120=$Y104,M$120,0)+IF($C$121=$Y104,M$121,0)+IF($C$122=$Y104,M$122,0)+IF($C$123=$Y104,M$123,0)+IF($C$124=$Y104,M$124,0)+IF($C$125=$Y104,M$125,0)+IF($C$126=$Y104,M$126,0)+IF($C$127=$Y104,M$127,0)+IF($C$128=$Y104,M$128,0)+IF($C129=$Y104,M129,0)+IF($C130=$Y104,M130,0)+IF($C131=$Y104,M131,0)+IF($C132=$Y104,M132,0)+IF($C133=$Y104,M133,0)+IF($C134=$Y104,M134,0)+IF($C135=$Y104,M135,0)+IF($C136=$Y104,M136,0)+IF($C137=$Y104,M137,0)+IF($C138=$Y104,M138,0) +IF($C139=$Y104,M139,0) +IF($C140=$Y104,M140,0) +IF($C141=$Y104,M141,0) +IF($C142=$Y104,M142,0) +IF($C143=$Y104,M143,0) +IF($C144=$Y104,M144,0) +IF($C145=$Y104,M145,0) +IF($C146=$Y104,M146,0) +IF($C147=$Y104,M147,0) +IF($C148=$Y104,M148,0)+IF($C149=$Y104,M149,0)","v":0},null,{"$f":"IF($C$99=$Y104,O$99,0)+IF($C$100=$Y104,O$100,0)+IF($C$101=$Y104,O$101,0)+IF($C$102=$Y104,O$102,0)+IF($C$103=$Y104,O$103,0)+IF($C$104=$Y104,O$104,0)+IF($C$105=$Y104,O$105,0)+IF($C$106=$Y104,O$106,0)+IF($C$107=$Y104,O$107,0)+IF($C$108=$Y104,O$108,0)+IF($C$109=$Y104,O$109,0)+IF($C$110=$Y104,O$110,0)+IF($C$111=$Y104,O$111,0)+IF($C$112=$Y104,O$112,0)+IF($C$113=$Y104,O$113,0)+IF($C$114=$Y104,O$114,0)+IF($C$115=$Y104,O$115,0)+IF($C$116=$Y104,O$116,0)+IF($C$117=$Y104,O$117,0)+IF($C$118=$Y104,O$118,0)+IF($C$119=$Y104,O$119,0)+IF($C$120=$Y104,O$120,0)+IF($C$121=$Y104,O$121,0)+IF($C$122=$Y104,O$122,0)+IF($C$123=$Y104,O$123,0)+IF($C$124=$Y104,O$124,0)+IF($C$125=$Y104,O$125,0)+IF($C$126=$Y104,O$126,0)+IF($C$127=$Y104,O$127,0)+IF($C$128=$Y104,O$128,0)+IF($C129=$Y104,O129,0)+IF($C130=$Y104,O130,0)+IF($C131=$Y104,O131,0)+IF($C132=$Y104,O132,0)+IF($C133=$Y104,O133,0)+IF($C134=$Y104,O134,0)+IF($C135=$Y104,O135,0)+IF($C136=$Y104,O136,0)+IF($C137=$Y104,O137,0)+IF($C138=$Y104,O138,0) +IF($C139=$Y104,O139,0) +IF($C140=$Y104,O140,0) +IF($C141=$Y104,O141,0) +IF($C142=$Y104,O142,0) +IF($C143=$Y104,O143,0) +IF($C144=$Y104,O144,0) +IF($C145=$Y104,O145,0) +IF($C146=$Y104,O146,0) +IF($C147=$Y104,O147,0) +IF($C148=$Y104,O148,0)+IF($C149=$Y104,O149,0)","v":0},null,{"$f":"IF($C$99=$Y104,Q$99,0)+IF($C$100=$Y104,Q$100,0)+IF($C$101=$Y104,Q$101,0)+IF($C$102=$Y104,Q$102,0)+IF($C$103=$Y104,Q$103,0)+IF($C$104=$Y104,Q$104,0)+IF($C$105=$Y104,Q$105,0)+IF($C$106=$Y104,Q$106,0)+IF($C$107=$Y104,Q$107,0)+IF($C$108=$Y104,Q$108,0)+IF($C$109=$Y104,Q$109,0)+IF($C$110=$Y104,Q$110,0)+IF($C$111=$Y104,Q$111,0)+IF($C$112=$Y104,Q$112,0)+IF($C$113=$Y104,Q$113,0)+IF($C$114=$Y104,Q$114,0)+IF($C$115=$Y104,Q$115,0)+IF($C$116=$Y104,Q$116,0)+IF($C$117=$Y104,Q$117,0)+IF($C$118=$Y104,Q$118,0)+IF($C$119=$Y104,Q$119,0)+IF($C$120=$Y104,Q$120,0)+IF($C$121=$Y104,Q$121,0)+IF($C$122=$Y104,Q$122,0)+IF($C$123=$Y104,Q$123,0)+IF($C$124=$Y104,Q$124,0)+IF($C$125=$Y104,Q$125,0)+IF($C$126=$Y104,Q$126,0)+IF($C$127=$Y104,Q$127,0)+IF($C$128=$Y104,Q$128,0)+IF($C129=$Y104,Q129,0)+IF($C130=$Y104,Q130,0)+IF($C131=$Y104,Q131,0)+IF($C132=$Y104,Q132,0)+IF($C133=$Y104,Q133,0)+IF($C134=$Y104,Q134,0)+IF($C135=$Y104,Q135,0)+IF($C136=$Y104,Q136,0)+IF($C137=$Y104,Q137,0)+IF($C138=$Y104,Q138,0) +IF($C139=$Y104,Q139,0) +IF($C140=$Y104,Q140,0) +IF($C141=$Y104,Q141,0) +IF($C142=$Y104,Q142,0) +IF($C143=$Y104,Q143,0) +IF($C144=$Y104,Q144,0) +IF($C145=$Y104,Q145,0) +IF($C146=$Y104,Q146,0) +IF($C147=$Y104,Q147,0) +IF($C148=$Y104,Q148,0)+IF($C149=$Y104,Q149,0)","v":0},null,null,null,null,null,null,null,null,null,null,null,null,null,null,null,null,null,null,null,null,null,null,null,null,null,null,null,null,null,null,null,null,null,null,null,null,null,null,null,null,null,null,null,null,null,null,null,null,null,null,null,null,null,null,null,null,null,null,null,null,null,null,null,null,null,null,null,null,null,null,null,null,null,null,null,null,null,null,null,null,null,null,null,null,null,null,null,null,null,null,null,null,null,null,null,null,null,null,null,null,null,null,null,null,null,null,null,null,null,null,null,null,null,null,null,null,null,null,null,null,null,null,null,null,null,null,null,null,null,null,null,null,null,null,null,null,null,null,null,null,null,null,null,null,null,null,null,null,null,null,null,null,null,null,null,null,null,null,null,null,null,null,null,null,null,null,null,null,null,null,null,null,null,null,null,null,null,null,null,null,null,null,null,null,null,null,null,null,null,null,null,null,null,null,null,null,null,null,null,null,null,null,null,null,null,null,null,null,null,null,null,null,null,null,null,null,null,null,null,null,null,null,null,null,null,null,null,null,null,null,null,null,null,null,null,null,null,null,null,null,null,null,null,null,null,null,null,null,null,null,null,null,null,null,null,null,null,null,null,null,null,null,null,null,null,null,null,null,null,null,null,null,null,null,null,null,null,null,null,null,null,null,null,null,null,null,null,null,null,null,null,null,null,null,null,null,null,null,null,null,null,null,null,null,null,null,null,null,null,null,null,null,null,null,null,null,null,null,null,null,null,null,null,null,null,null,null,null,null,null,null,null,null,null,null,null,null,null,null,null,null,null,null,null,null,null,null,null,null,null,null,null,null,null,null,null,null,null,null,null,null,null,null,null,null,null,null,null,null,null,null,null,null,null,null,null,null,null,null,null,null,null,null,null,null,null,null,null,null,null,null,null,null,null,null,null,null,null,null,null,null,null,null,null,null,null,null,null,null,null,null,null,null,null,null,null,null,null,null,null,null,null,null,null,null,null,null,null,null,null,null,null,null,null,null,null,null,null,null,null,null,null,null,null,null,null,null,null,null,null,null,null,null,null,null,null,null,null,null,null,null,null,null,null,null,null,null,null,null,null,null,null,null,null,null,null,null,null,null,null,null,null,null,null,null,null,null,null,null,null,null,null,null,null,null,null,null,null,null,null,null,null,null,null,null,{"$f":"#REF!","v":{"$error":"#REF!"}}]
[7,0,6,null,0,0,"No",1,0,0,0,0,0,0,0,0,0,0,0,0,0,{"$f":"#REF!","v":{"$error":"#REF!"}},null,null,"Exemplar - Public Sector Buildings & Services",{"$f":"IF($C$99=$Y105,J$99,0)+IF($C$100=$Y105,J$100,0)+IF($C$101=$Y105,J$101,0)+IF($C$102=$Y105,J$102,0)+IF($C$103=$Y105,J$103,0)+IF($C$104=$Y105,J$104,0)+IF($C$105=$Y105,J$105,0)+IF($C$106=$Y105,J$106,0)+IF($C$107=$Y105,J$107,0)+IF($C$108=$Y105,J$108,0)+IF($C$109=$Y105,J$109,0)+IF($C$110=$Y105,J$110,0)+IF($C$111=$Y105,J$111,0)+IF($C$112=$Y105,J$112,0)+IF($C$113=$Y105,J$113,0)+IF($C$114=$Y105,J$114,0)+IF($C$115=$Y105,J$115,0)+IF($C$116=$Y105,J$116,0)+IF($C$117=$Y105,J$117,0)+IF($C$118=$Y105,J$118,0)+IF($C$119=$Y105,J$119,0)+IF($C$120=$Y105,J$120,0)+IF($C$121=$Y105,J$121,0)+IF($C$122=$Y105,J$122,0)+IF($C$123=$Y105,J$123,0)+IF($C$124=$Y105,J$124,0)+IF($C$125=$Y105,J$125,0)+IF($C$126=$Y105,J$126,0)+IF($C$127=$Y105,J$127,0)+IF($C$128=$Y105,J$128,0)+IF($C129=$Y105,J129,0)+IF($C130=$Y105,J130,0)+IF($C131=$Y105,J131,0)+IF($C132=$Y105,J132,0)+IF($C133=$Y105,J133,0)+IF($C134=$Y105,J134,0)+IF($C135=$Y105,J135,0)+IF($C136=$Y105,J136,0)+IF($C137=$Y105,J137,0)+IF($C138=$Y105,J138,0) +IF($C139=$Y105,J139,0) +IF($C140=$Y105,J140,0) +IF($C141=$Y105,J141,0) +IF($C142=$Y105,J142,0) +IF($C143=$Y105,J143,0) +IF($C144=$Y105,J144,0) +IF($C145=$Y105,J145,0) +IF($C146=$Y105,J146,0) +IF($C147=$Y105,J147,0) +IF($C148=$Y105,J148,0)+IF($C149=$Y105,J149,0)","v":0},null,null,{"$f":"IF($C$99=$Y105,M$99,0)+IF($C$100=$Y105,M$100,0)+IF($C$101=$Y105,M$101,0)+IF($C$102=$Y105,M$102,0)+IF($C$103=$Y105,M$103,0)+IF($C$104=$Y105,M$104,0)+IF($C$105=$Y105,M$105,0)+IF($C$106=$Y105,M$106,0)+IF($C$107=$Y105,M$107,0)+IF($C$108=$Y105,M$108,0)+IF($C$109=$Y105,M$109,0)+IF($C$110=$Y105,M$110,0)+IF($C$111=$Y105,M$111,0)+IF($C$112=$Y105,M$112,0)+IF($C$113=$Y105,M$113,0)+IF($C$114=$Y105,M$114,0)+IF($C$115=$Y105,M$115,0)+IF($C$116=$Y105,M$116,0)+IF($C$117=$Y105,M$117,0)+IF($C$118=$Y105,M$118,0)+IF($C$119=$Y105,M$119,0)+IF($C$120=$Y105,M$120,0)+IF($C$121=$Y105,M$121,0)+IF($C$122=$Y105,M$122,0)+IF($C$123=$Y105,M$123,0)+IF($C$124=$Y105,M$124,0)+IF($C$125=$Y105,M$125,0)+IF($C$126=$Y105,M$126,0)+IF($C$127=$Y105,M$127,0)+IF($C$128=$Y105,M$128,0)+IF($C129=$Y105,M129,0)+IF($C130=$Y105,M130,0)+IF($C131=$Y105,M131,0)+IF($C132=$Y105,M132,0)+IF($C133=$Y105,M133,0)+IF($C134=$Y105,M134,0)+IF($C135=$Y105,M135,0)+IF($C136=$Y105,M136,0)+IF($C137=$Y105,M137,0)+IF($C138=$Y105,M138,0) +IF($C139=$Y105,M139,0) +IF($C140=$Y105,M140,0) +IF($C141=$Y105,M141,0) +IF($C142=$Y105,M142,0) +IF($C143=$Y105,M143,0) +IF($C144=$Y105,M144,0) +IF($C145=$Y105,M145,0) +IF($C146=$Y105,M146,0) +IF($C147=$Y105,M147,0) +IF($C148=$Y105,M148,0)+IF($C149=$Y105,M149,0)","v":0},null,{"$f":"IF($C$99=$Y105,O$99,0)+IF($C$100=$Y105,O$100,0)+IF($C$101=$Y105,O$101,0)+IF($C$102=$Y105,O$102,0)+IF($C$103=$Y105,O$103,0)+IF($C$104=$Y105,O$104,0)+IF($C$105=$Y105,O$105,0)+IF($C$106=$Y105,O$106,0)+IF($C$107=$Y105,O$107,0)+IF($C$108=$Y105,O$108,0)+IF($C$109=$Y105,O$109,0)+IF($C$110=$Y105,O$110,0)+IF($C$111=$Y105,O$111,0)+IF($C$112=$Y105,O$112,0)+IF($C$113=$Y105,O$113,0)+IF($C$114=$Y105,O$114,0)+IF($C$115=$Y105,O$115,0)+IF($C$116=$Y105,O$116,0)+IF($C$117=$Y105,O$117,0)+IF($C$118=$Y105,O$118,0)+IF($C$119=$Y105,O$119,0)+IF($C$120=$Y105,O$120,0)+IF($C$121=$Y105,O$121,0)+IF($C$122=$Y105,O$122,0)+IF($C$123=$Y105,O$123,0)+IF($C$124=$Y105,O$124,0)+IF($C$125=$Y105,O$125,0)+IF($C$126=$Y105,O$126,0)+IF($C$127=$Y105,O$127,0)+IF($C$128=$Y105,O$128,0)+IF($C129=$Y105,O129,0)+IF($C130=$Y105,O130,0)+IF($C131=$Y105,O131,0)+IF($C132=$Y105,O132,0)+IF($C133=$Y105,O133,0)+IF($C134=$Y105,O134,0)+IF($C135=$Y105,O135,0)+IF($C136=$Y105,O136,0)+IF($C137=$Y105,O137,0)+IF($C138=$Y105,O138,0) +IF($C139=$Y105,O139,0) +IF($C140=$Y105,O140,0) +IF($C141=$Y105,O141,0) +IF($C142=$Y105,O142,0) +IF($C143=$Y105,O143,0) +IF($C144=$Y105,O144,0) +IF($C145=$Y105,O145,0) +IF($C146=$Y105,O146,0) +IF($C147=$Y105,O147,0) +IF($C148=$Y105,O148,0)+IF($C149=$Y105,O149,0)","v":0},null,{"$f":"IF($C$99=$Y105,Q$99,0)+IF($C$100=$Y105,Q$100,0)+IF($C$101=$Y105,Q$101,0)+IF($C$102=$Y105,Q$102,0)+IF($C$103=$Y105,Q$103,0)+IF($C$104=$Y105,Q$104,0)+IF($C$105=$Y105,Q$105,0)+IF($C$106=$Y105,Q$106,0)+IF($C$107=$Y105,Q$107,0)+IF($C$108=$Y105,Q$108,0)+IF($C$109=$Y105,Q$109,0)+IF($C$110=$Y105,Q$110,0)+IF($C$111=$Y105,Q$111,0)+IF($C$112=$Y105,Q$112,0)+IF($C$113=$Y105,Q$113,0)+IF($C$114=$Y105,Q$114,0)+IF($C$115=$Y105,Q$115,0)+IF($C$116=$Y105,Q$116,0)+IF($C$117=$Y105,Q$117,0)+IF($C$118=$Y105,Q$118,0)+IF($C$119=$Y105,Q$119,0)+IF($C$120=$Y105,Q$120,0)+IF($C$121=$Y105,Q$121,0)+IF($C$122=$Y105,Q$122,0)+IF($C$123=$Y105,Q$123,0)+IF($C$124=$Y105,Q$124,0)+IF($C$125=$Y105,Q$125,0)+IF($C$126=$Y105,Q$126,0)+IF($C$127=$Y105,Q$127,0)+IF($C$128=$Y105,Q$128,0)+IF($C129=$Y105,Q129,0)+IF($C130=$Y105,Q130,0)+IF($C131=$Y105,Q131,0)+IF($C132=$Y105,Q132,0)+IF($C133=$Y105,Q133,0)+IF($C134=$Y105,Q134,0)+IF($C135=$Y105,Q135,0)+IF($C136=$Y105,Q136,0)+IF($C137=$Y105,Q137,0)+IF($C138=$Y105,Q138,0) +IF($C139=$Y105,Q139,0) +IF($C140=$Y105,Q140,0) +IF($C141=$Y105,Q141,0) +IF($C142=$Y105,Q142,0) +IF($C143=$Y105,Q143,0) +IF($C144=$Y105,Q144,0) +IF($C145=$Y105,Q145,0) +IF($C146=$Y105,Q146,0) +IF($C147=$Y105,Q147,0) +IF($C148=$Y105,Q148,0)+IF($C149=$Y105,Q149,0)","v":0},"not used",null,null,null,null,null,null,null,null,null,null,null,null,null,null,null,null,null,null,null,null,null,null,null,null,null,null,null,null,null,null,null,null,null,null,null,null,null,null,null,null,null,null,null,null,null,null,null,null,null,null,null,null,null,null,null,null,null,null,null,null,null,null,null,null,null,null,null,null,null,null,null,null,null,null,null,null,null,null,null,null,null,null,null,null,null,null,null,null,null,null,null,null,null,null,null,null,null,null,null,null,null,null,null,null,null,null,null,null,null,null,null,null,null,null,null,null,null,null,null,null,null,null,null,null,null,null,null,null,null,null,null,null,null,null,null,null,null,null,null,null,null,null,null,null,null,null,null,null,null,null,null,null,null,null,null,null,null,null,null,null,null,null,null,null,null,null,null,null,null,null,null,null,null,null,null,null,null,null,null,null,null,null,null,null,null,null,null,null,null,null,null,null,null,null,null,null,null,null,null,null,null,null,null,null,null,null,null,null,null,null,null,null,null,null,null,null,null,null,null,null,null,null,null,null,null,null,null,null,null,null,null,null,null,null,null,null,null,null,null,null,null,null,null,null,null,null,null,null,null,null,null,null,null,null,null,null,null,null,null,null,null,null,null,null,null,null,null,null,null,null,null,null,null,null,null,null,null,null,null,null,null,null,null,null,null,null,null,null,null,null,null,null,null,null,null,null,null,null,null,null,null,null,null,null,null,null,null,null,null,null,null,null,null,null,null,null,null,null,null,null,null,null,null,null,null,null,null,null,null,null,null,null,null,null,null,null,null,null,null,null,null,null,null,null,null,null,null,null,null,null,null,null,null,null,null,null,null,null,null,null,null,null,null,null,null,null,null,null,null,null,null,null,null,null,null,null,null,null,null,null,null,null,null,null,null,null,null,null,null,null,null,null,null,null,null,null,null,null,null,null,null,null,null,null,null,null,null,null,null,null,null,null,null,null,null,null,null,null,null,null,null,null,null,null,null,null,null,null,null,null,null,null,null,null,null,null,null,null,null,null,null,null,null,null,null,null,null,null,null,null,null,null,null,null,null,null,null,null,null,null,null,null,null,null,null,null,null,null,null,null,null,null,null,null,null,null,null,null,null,null,null,null,null,null,null,null,null,null,null,null,null,null,null,null,null,null,null,null,null,null,null,null,null,null,{"$f":"#REF!","v":{"$error":"#REF!"}}]
[8,0,7,null,0,0,"No",1,0,0,0,0,0,0,0,0,0,0,0,0,0,{"$f":"#REF!","v":{"$error":"#REF!"}},null,null,null,null,null,null,null,null,null,null,null,null,null,null,null,null,null,null,null,null,null,null,null,null,null,null,null,null,null,null,null,null,null,null,null,null,null,null,null,null,null,null,null,null,null,null,null,null,null,null,null,null,null,null,null,null,null,null,null,null,null,null,null,null,null,null,null,null,null,null,null,null,null,null,null,null,null,null,null,null,null,null,null,null,null,null,null,null,null,null,null,null,null,null,null,null,null,null,null,null,null,null,null,null,null,null,null,null,null,null,null,null,null,null,null,null,null,null,null,null,null,null,null,null,null,null,null,null,null,null,null,null,null,null,null,null,null,null,null,null,null,null,null,null,null,null,null,null,null,null,null,null,null,null,null,null,null,null,null,null,null,null,null,null,null,null,null,null,null,null,null,null,null,null,null,null,null,null,null,null,null,null,null,null,null,null,null,null,null,null,null,null,null,null,null,null,null,null,null,null,null,null,null,null,null,null,null,null,null,null,null,null,null,null,null,null,null,null,null,null,null,null,null,null,null,null,null,null,null,null,null,null,null,null,null,null,null,null,null,null,null,null,null,null,null,null,null,null,null,null,null,null,null,null,null,null,null,null,null,null,null,null,null,null,null,null,null,null,null,null,null,null,null,null,null,null,null,null,null,null,null,null,null,null,null,null,null,null,null,null,null,null,null,null,null,null,null,null,null,null,null,null,null,null,null,null,null,null,null,null,null,null,null,null,null,null,null,null,null,null,null,null,null,null,null,null,null,null,null,null,null,null,null,null,null,null,null,null,null,null,null,null,null,null,null,null,null,null,null,null,null,null,null,null,null,null,null,null,null,null,null,null,null,null,null,null,null,null,null,null,null,null,null,null,null,null,null,null,null,null,null,null,null,null,null,null,null,null,null,null,null,null,null,null,null,null,null,null,null,null,null,null,null,null,null,null,null,null,null,null,null,null,null,null,null,null,null,null,null,null,null,null,null,null,null,null,null,null,null,null,null,null,null,null,null,null,null,null,null,null,null,null,null,null,null,null,null,null,null,null,null,null,null,null,null,null,null,null,null,null,null,null,null,null,null,null,null,null,null,null,null,null,null,null,null,null,null,null,null,null,null,null,null,null,null,null,null,null,null,null,null,null,null,null,null,null,null,null,null,null,null,null,null,null,null,null,null,null,null,null,null,null,null,null,null,null,{"$f":"#REF!","v":{"$error":"#REF!"}}]
[9,0,8,null,0,0,"No",1,0,0,0,0,0,0,0,0,0,0,0,0,0,{"$f":"#REF!","v":{"$error":"#REF!"}},null,null,null,"Project Cost",null,null,null,null,null,null,null,null,"Total Project Cost","Eligible VAT","Grant","total cost",null,null,"Deep Retro",null,null,null,null,null,null,null,null,null,null,null,null,null,null,null,null,null,null,null,null,null,null,null,null,null,null,null,null,null,null,null,null,null,null,null,null,null,null,null,null,null,null,null,null,null,null,null,null,null,null,null,null,null,null,null,null,null,null,null,null,null,null,null,null,null,null,null,null,null,null,null,null,null,null,null,null,null,null,null,null,null,null,null,null,null,null,null,null,null,null,null,null,null,null,null,null,null,null,null,null,null,null,null,null,null,null,null,null,null,null,null,null,null,null,null,null,null,null,null,null,null,null,null,null,null,null,null,null,null,null,null,null,null,null,null,null,null,null,null,null,null,null,null,null,null,null,null,null,null,null,null,null,null,null,null,null,null,null,null,null,null,null,null,null,null,null,null,null,null,null,null,null,null,null,null,null,null,null,null,null,null,null,null,null,null,null,null,null,null,null,null,null,null,null,null,null,null,null,null,null,null,null,null,null,null,null,null,null,null,null,null,null,null,null,null,null,null,null,null,null,null,null,null,null,null,null,null,null,null,null,null,null,null,null,null,null,null,null,null,null,null,null,null,null,null,null,null,null,null,null,null,null,null,null,null,null,null,null,null,null,null,null,null,null,null,null,null,null,null,null,null,null,null,null,null,null,null,null,null,null,null,null,null,null,null,null,null,null,null,null,null,null,null,null,null,null,null,null,null,null,null,null,null,null,null,null,null,null,null,null,null,null,null,null,null,null,null,null,null,null,null,null,null,null,null,null,null,null,null,null,null,null,null,null,null,null,null,null,null,null,null,null,null,null,null,null,null,null,null,null,null,null,null,null,null,null,null,null,null,null,null,null,null,null,null,null,null,null,null,null,null,null,null,null,null,null,null,null,null,null,null,null,null,null,null,null,null,null,null,null,null,null,null,null,null,null,null,null,null,null,null,null,null,null,null,null,null,null,null,null,null,null,null,null,null,null,null,null,null,null,null,null,null,null,null,null,null,null,null,null,null,null,null,null,null,null,null,null,null,null,null,null,null,null,null,null,null,null,null,null,null,null,null,null,null,null,null,null,null,null,null,null,null,null,null,null,null,null,null,null,null,null,null,null,null,null,null,null,null,null,null,null,null,null,null,null,null,null,null,null,null,null,null,null,null,null,null,{"$f":"#REF!","v":{"$error":"#REF!"}}]
[10,0,9,null,0,0,"No",1,0,0,0,0,0,0,0,0,0,0,0,0,0,{"$f":"#REF!","v":{"$error":"#REF!"}},null,null,"Energy Poor Homes : Local Authority",{"$f":"IF(($C$156=$Y$108),J$156,0)+IF(($C$157=$Y$108),J$157,0)+IF(($C$158=$Y$108),J$158,0)+IF(($C$159=$Y$108),J$159,0)+IF(($C$160=$Y$108),J$160,0)+IF(($C$161=$Y$108),J$161,0)+IF(($C$162=$Y$108),J$162,0)+IF(($C$163=$Y$108),J$163,0)+IF(($C$164=$Y$108),J$164,0)+IF(($C$165=$Y$108),J$165,0)+IF(($C$166=$Y$108),J$166,0)+IF(($C$167=$Y$108),J$167,0)+IF(($C$168=$Y$108),J$168,0)+IF(($C$169=$Y$108),J$169,0)","v":0}," "," ",null," ",null," ",null," ",{"$f":"IF(($C$156=$Y$108),J$156,0)+IF(($C$157=$Y$108),J$157,0)+IF(($C$158=$Y$108),J$158,0)+IF(($C$159=$Y$108),J$160,0)+IF(($C$160=$Y$108),J$159,0)+IF(($C$161=$Y$108),J$161,0)+IF(($C$162=$Y$108),J$162,0)+IF(($C$163=$Y$108),J$163,0)+IF(($C$164=$Y$108),J$164,0)+IF(($C$165=$Y$108),J$165,0)+IF(($C$166=$Y$108),J$166,0)+IF(($C$167=$Y$108),J$167,0)+IF(($C$168=$Y$108),J$168,0)+IF(($C$169=$Y$108),J$169,0)","v":0},0,{"$f":"IF(($C$156=$Y$108),K$156,0)+IF(($C$157=$Y$108),K$157,0)+IF(($C$158=$Y$108),K$158,0)+IF(($C$159=$Y$108),K$159,0)+IF(($C$160=$Y$108),K$160,0)+IF(($C$161=$Y$108),K$161,0)+IF(($C$162=$Y$108),K$162,0)+IF(($C$163=$Y$108),K$163,0)+IF(($C$164=$Y$108),K$164,0)+IF(($C$165=$Y$108),K$165,0)+IF(($C$166=$Y$108),K$166,0)+IF(($C$167=$Y$108),K$167,0)+IF(($C$168=$Y$108),K$168,0)+IF(($C$169=$Y$108),K$169,0)","v":0},null,null,null,{"$f":"IF(AND($C$156=$Y$108,$D$156=\"Yes\"),U$156,0)+IF(AND($C$157=$Y$108,$D$157=\"Yes\"),U$157,0)+IF(AND($C$158=$Y$108,$D$158=\"Yes\"),U$158,0)+IF(AND($C$159=$Y$108,$D$159=\"Yes\"),U$159,0)+IF(AND($C$160=$Y$108,$D$160=\"Yes\"),U$160,0)+IF(AND($C$161=$Y$108,$D$161=\"Yes\"),U$161,0)+IF(AND($C$162=$Y$108,$D$162=\"Yes\"),U$162,0)+IF(AND($C$163=$Y$108,$D$163=\"Yes\"),U$163,0)+IF(AND($C$164=$Y$108,$D$164=\"Yes\"),U$164,0)+IF(AND($C$165=$Y$108,$D$165=\"Yes\"),U$165,0)+IF(AND($C$166=$Y$108,$D$166=\"Yes\"),U$166,0)+IF(AND($C$167=$Y$108,$D$167=\"Yes\"),U$167,0)+IF(AND($C$168=$Y$108,$D$168=\"Yes\"),U$168,0)+IF(AND($C$169=$Y$108,$D$169=\"Yes\"),U$169,0)","v":0},null,null,null,null,null,null,null,null,null,null,null,null,null,null,null,null,null,null,null,null,null,null,null,null,null,null,null,null,null,null,null,null,null,null,null,null,null,null,null,null,null,null,null,null,null,null,null,null,null,null,null,null,null,null,null,null,null,null,null,null,null,null,null,null,null,null,null,null,null,null,null,null,null,null,null,null,null,null,null,null,null,null,null,null,null,null,null,null,null,null,null,null,null,null,null,null,null,null,null,null,null,null,null,null,null,null,null,null,null,null,null,null,null,null,null,null,null,null,null,null,null,null,null,null,null,null,null,null,null,null,null,null,null,null,null,null,null,null,null,null,null,null,null,null,null,null,null,null,null,null,null,null,null,null,null,null,null,null,null,null,null,null,null,null,null,null,null,null,null,null,null,null,null,null,null,null,null,null,null,null,null,null,null,null,null,null,null,null,null,null,null,null,null,null,null,null,null,null,null,null,null,null,null,null,null,null,null,null,null,null,null,null,null,null,null,null,null,null,null,null,null,null,null,null,null,null,null,null,null,null,null,null,null,null,null,null,null,null,null,null,null,null,null,null,null,null,null,null,null,null,null,null,null,null,null,null,null,null,null,null,null,null,null,null,null,null,null,null,null,null,null,null,null,null,null,null,null,null,null,null,null,null,null,null,null,null,null,null,null,null,null,null,null,null,null,null,null,null,null,null,null,null,null,null,null,null,null,null,null,null,null,null,null,null,null,null,null,null,null,null,null,null,null,null,null,null,null,null,null,null,null,null,null,null,null,null,null,null,null,null,null,null,null,null,null,null,null,null,null,null,null,null,null,null,null,null,null,null,null,null,null,null,null,null,null,null,null,null,null,null,null,null,null,null,null,null,null,null,null,null,null,null,null,null,null,null,null,null,null,null,null,null,null,null,null,null,null,null,null,null,null,null,null,null,null,null,null,null,null,null,null,null,null,null,null,null,null,null,null,null,null,null,null,null,null,null,null,null,null,null,null,null,null,null,null,null,null,null,null,null,null,null,null,null,null,null,null,null,null,null,null,null,null,null,null,null,null,null,null,null,null,null,null,null,null,null,null,null,null,null,null,null,null,null,null,null,null,null,null,null,null,null,null,null,null,null,null,null,null,null,null,null,null,null,null,null,null,{"$f":"#REF!","v":{"$error":"#REF!"}}]
[11,0,10,null,0,0,"No",1,0,0,0,0,0,0,0,0,0,0,0,0,0,{"$f":"#REF!","v":{"$error":"#REF!"}},null,null,"Energy Poor Homes : Housing Association",{"$f":"IF(($C$156=$Y$109),J$156,0)+IF(($C$157=$Y$109),J$157,0)+IF(($C$158=$Y$109),J$158,0)+IF(($C$159=$Y$109),J$159,0)+IF(($C$160=$Y$109),J$160,0)+IF(($C$161=$Y$109),J$161,0)+IF(($C$162=$Y$109),J$162,0)+IF(($C$163=$Y$109),J$163,0)+IF(($C$164=$Y$109),J$164,0)+IF(($C$165=$Y$109),J$165,0)+IF(($C$166=$Y$109),J$166,0)+IF(($C$167=$Y$109),J$167,0)+IF(($C$168=$Y$109),J$168,0)+IF(($C$169=$Y$109),J$169,0)","v":0}," "," ",null," ",null," ",null," ",{"$f":"IF(($C$156=$Y$109),J$156,0)+IF(($C$157=$Y$109),J$157,0)+IF(($C$158=$Y$109),J$158,0)+IF(($C$159=$Y$109),J$159,0)+IF(($C$160=$Y$109),J$160,0)+IF(($C$161=$Y$109),J$161,0)+IF(($C$162=$Y$109),J$162,0)+IF(($C$163=$Y$109),J$163,0)+IF(($C$164=$Y$109),J$164,0)+IF(($C$165=$Y$109),J$165,0)+IF(($C$166=$Y$109),J$166,0)+IF(($C$167=$Y$109),J$167,0)+IF(($C$168=$Y$109),J$168,0)+IF(($C$169=$Y$109),J$169,0)","v":0},0,{"$f":"IF(($C$156=$Y$109),K$156,0)+IF(($C$157=$Y$109),K$157,0)+IF(($C$158=$Y$109),K$158,0)+IF(($C$159=$Y$109),K$159,0)+IF(($C$160=$Y$109),K$160,0)+IF(($C$161=$Y$109),K$161,0)+IF(($C$162=$Y$109),K$162,0)+IF(($C$163=$Y$109),K$163,0)+IF(($C$164=$Y$109),K$164,0)+IF(($C$165=$Y$109),K$165,0)+IF(($C$166=$Y$109),K$166,0)+IF(($C$167=$Y$109),K$167,0)+IF(($C$168=$Y$109),K$168,0)+IF(($C$169=$Y$109),K$169,0)","v":0},null,null,null,{"$f":"IF(AND($C$156=$Y$109,$D$156=\"Yes\"),U$156,0)+IF(AND($C$157=$Y$109,$D$157=\"Yes\"),U$157,0)+IF(AND($C$158=$Y$109,$D$158=\"Yes\"),U$158,0)+IF(AND($C$159=$Y$109,$D$159=\"Yes\"),U$159,0)+IF(AND($C$160=$Y$109,$D$160=\"Yes\"),U$160,0)+IF(AND($C$161=$Y$109,$D$161=\"Yes\"),U$161,0)+IF(AND($C$162=$Y$109,$D$162=\"Yes\"),U$162,0)+IF(AND($C$163=$Y$109,$D$163=\"Yes\"),U$163,0)+IF(AND($C$164=$Y$109,$D$164=\"Yes\"),U$164,0)+IF(AND($C$165=$Y$109,$D$165=\"Yes\"),U$165,0)+IF(AND($C$166=$Y$109,$D$166=\"Yes\"),U$166,0)+IF(AND($C$167=$Y$109,$D$167=\"Yes\"),U$167,0)+IF(AND($C$168=$Y$109,$D$168=\"Yes\"),U$168,0)+IF(AND($C$169=$Y$109,$D$169=\"Yes\"),U$169,0)","v":0},null,null,null,null,null,null,null,null,null,null,null,null,null,null,null,null,null,null,null,null,null,null,null,null,null,null,null,null,null,null,null,null,null,null,null,null,null,null,null,null,null,null,null,null,null,null,null,null,null,null,null,null,null,null,null,null,null,null,null,null,null,null,null,null,null,null,null,null,null,null,null,null,null,null,null,null,null,null,null,null,null,null,null,null,null,null,null,null,null,null,null,null,null,null,null,null,null,null,null,null,null,null,null,null,null,null,null,null,null,null,null,null,null,null,null,null,null,null,null,null,null,null,null,null,null,null,null,null,null,null,null,null,null,null,null,null,null,null,null,null,null,null,null,null,null,null,null,null,null,null,null,null,null,null,null,null,null,null,null,null,null,null,null,null,null,null,null,null,null,null,null,null,null,null,null,null,null,null,null,null,null,null,null,null,null,null,null,null,null,null,null,null,null,null,null,null,null,null,null,null,null,null,null,null,null,null,null,null,null,null,null,null,null,null,null,null,null,null,null,null,null,null,null,null,null,null,null,null,null,null,null,null,null,null,null,null,null,null,null,null,null,null,null,null,null,null,null,null,null,null,null,null,null,null,null,null,null,null,null,null,null,null,null,null,null,null,null,null,null,null,null,null,null,null,null,null,null,null,null,null,null,null,null,null,null,null,null,null,null,null,null,null,null,null,null,null,null,null,null,null,null,null,null,null,null,null,null,null,null,null,null,null,null,null,null,null,null,null,null,null,null,null,null,null,null,null,null,null,null,null,null,null,null,null,null,null,null,null,null,null,null,null,null,null,null,null,null,null,null,null,null,null,null,null,null,null,null,null,null,null,null,null,null,null,null,null,null,null,null,null,null,null,null,null,null,null,null,null,null,null,null,null,null,null,null,null,null,null,null,null,null,null,null,null,null,null,null,null,null,null,null,null,null,null,null,null,null,null,null,null,null,null,null,null,null,null,null,null,null,null,null,null,null,null,null,null,null,null,null,null,null,null,null,null,null,null,null,null,null,null,null,null,null,null,null,null,null,null,null,null,null,null,null,null,null,null,null,null,null,null,null,null,null,null,null,null,null,null,null,null,null,null,null,null,null,null,null,null,null,null,null,null,null,null,null,null,null,null,null,null,null,null,null,null,null,null,null,{"$f":"#REF!","v":{"$error":"#REF!"}}]
[12,0,11,null,0,0,"No",1,0,0,0,0,0,0,0,0,0,0,0,0,0,{"$f":"#REF!","v":{"$error":"#REF!"}},null,null,"Energy Poor Homes : Private",{"$f":"IF(($C$156=$Y$110),J$156,0)+IF(($C$157=$Y$110),J$157,0)+IF(($C$158=$Y$110),J$158,0)+IF(($C$159=$Y$110),J$159,0)+IF(($C$160=$Y$110),J$160,0)+IF(($C$161=$Y$110),J$161,0)+IF(($C$162=$Y$110),J$162,0)+IF(($C$163=$Y$110),J$163,0)+IF(($C$164=$Y$110),J$164,0)+IF(($C$165=$Y$110),J$165,0)+IF(($C$166=$Y$110),J$166,0)+IF(($C$167=$Y$110),J$167,0)+IF(($C$168=$Y$110),J$168,0)+IF(($C$169=$Y$110),J$169,0)","v":0}," "," ",null," ",null," ",null," ",{"$f":"IF(($C$156=$Y$110),J$156,0)+IF(($C$157=$Y$110),J$157,0)+IF(($C$158=$Y$110),J$158,0)+IF(($C$159=$Y$110),J$159,0)+IF(($C$160=$Y$110),J$160,0)+IF(($C$161=$Y$110),J$161,0)+IF(($C$162=$Y$110),J$162,0)+IF(($C$163=$Y$110),J$163,0)+IF(($C$164=$Y$110),J$164,0)+IF(($C$165=$Y$110),J$165,0)+IF(($C$166=$Y$110),J$166,0)+IF(($C$167=$Y$110),J$167,0)+IF(($C$168=$Y$110),J$168,0)+IF(($C$169=$Y$110),J$169,0)","v":0},0,{"$f":"IF(($C$156=$Y$110),K$156,0)+IF(($C$157=$Y$110),K$157,0)+IF(($C$158=$Y$110),K$158,0)+IF(($C$159=$Y$110),K$159,0)+IF(($C$160=$Y$110),K$160,0)+IF(($C$161=$Y$110),K$161,0)+IF(($C$162=$Y$110),K$162,0)+IF(($C$163=$Y$110),K$163,0)+IF(($C$164=$Y$110),K$164,0)+IF(($C$165=$Y$110),K$165,0)+IF(($C$166=$Y$110),K$166,0)+IF(($C$167=$Y$110),K$167,0)+IF(($C$168=$Y$110),K$168,0)+IF(($C$169=$Y$110),K$169,0)","v":0},{"$f":"SUM(AI108:AJ110)","v":0},{"$f":"SUM(AK108:AK110)","v":0},null,{"$f":"IF(AND($C$156=$Y$110,$D$156=\"Yes\"),U$156,0)+IF(AND($C$157=$Y$110,$D$157=\"Yes\"),U$157,0)+IF(AND($C$158=$Y$110,$D$158=\"Yes\"),U$158,0)+IF(AND($C$159=$Y$110,$D$159=\"Yes\"),U$159,0)+IF(AND($C$160=$Y$110,$D$160=\"Yes\"),U$160,0)+IF(AND($C$161=$Y$110,$D$161=\"Yes\"),U$161,0)+IF(AND($C$162=$Y$110,$D$162=\"Yes\"),U$162,0)+IF(AND($C$163=$Y$110,$D$163=\"Yes\"),U$163,0)+IF(AND($C$164=$Y$110,$D$164=\"Yes\"),U$164,0)+IF(AND($C$165=$Y$110,$D$165=\"Yes\"),U$165,0)+IF(AND($C$166=$Y$110,$D$166=\"Yes\"),U$166,0)+IF(AND($C$167=$Y$110,$D$167=\"Yes\"),U$167,0)+IF(AND($C$168=$Y$110,$D$168=\"Yes\"),U$168,0)+IF(AND($C$169=$Y$110,$D$169=\"Yes\"),U$169,0)","v":0},{"$f":"SUM(AO108:AO110)","v":0},null,null,null,null,null,null,null,null,null,null,null,null,null,null,null,null,null,null,null,null,null,null,null,null,null,null,null,null,null,null,null,null,null,null,null,null,null,null,null,null,null,null,null,null,null,null,null,null,null,null,null,null,null,null,null,null,null,null,null,null,null,null,null,null,null,null,null,null,null,null,null,null,null,null,null,null,null,null,null,null,null,null,null,null,null,null,null,null,null,null,null,null,null,null,null,null,null,null,null,null,null,null,null,null,null,null,null,null,null,null,null,null,null,null,null,null,null,null,null,null,null,null,null,null,null,null,null,null,null,null,null,null,null,null,null,null,null,null,null,null,null,null,null,null,null,null,null,null,null,null,null,null,null,null,null,null,null,null,null,null,null,null,null,null,null,null,null,null,null,null,null,null,null,null,null,null,null,null,null,null,null,null,null,null,null,null,null,null,null,null,null,null,null,null,null,null,null,null,null,null,null,null,null,null,null,null,null,null,null,null,null,null,null,null,null,null,null,null,null,null,null,null,null,null,null,null,null,null,null,null,null,null,null,null,null,null,null,null,null,null,null,null,null,null,null,null,null,null,null,null,null,null,null,null,null,null,null,null,null,null,null,null,null,null,null,null,null,null,null,null,null,null,null,null,null,null,null,null,null,null,null,null,null,null,null,null,null,null,null,null,null,null,null,null,null,null,null,null,null,null,null,null,null,null,null,null,null,null,null,null,null,null,null,null,null,null,null,null,null,null,null,null,null,null,null,null,null,null,null,null,null,null,null,null,null,null,null,null,null,null,null,null,null,null,null,null,null,null,null,null,null,null,null,null,null,null,null,null,null,null,null,null,null,null,null,null,null,null,null,null,null,null,null,null,null,null,null,null,null,null,null,null,null,null,null,null,null,null,null,null,null,null,null,null,null,null,null,null,null,null,null,null,null,null,null,null,null,null,null,null,null,null,null,null,null,null,null,null,null,null,null,null,null,null,null,null,null,null,null,null,null,null,null,null,null,null,null,null,null,null,null,null,null,null,null,null,null,null,null,null,null,null,null,null,null,null,null,null,null,null,null,null,null,null,null,null,null,null,null,null,null,null,null,null,null,null,null,null,null,null,null,null,null,null,null,null,null,null,null,null,null,null,null,null,null,null,{"$f":"#REF!","v":{"$error":"#REF!"}}]
[13,0,12,null,0,0,"No",1,0,0,0,0,0,0,0,0,0,0,0,0,0,{"$f":"#REF!","v":{"$error":"#REF!"}},null,null,"Non-Energy Poor Homes : Local Authority",{"$f":"IF(($C$156=$Y$111),J$156,0)+IF(($C$157=$Y$111),J$157,0)+IF(($C$158=$Y$111),J$158,0)+IF(($C$159=$Y$111),J$159,0)+IF(($C$160=$Y$111),J$160,0)+IF(($C$161=$Y$111),J$161,0)+IF(($C$162=$Y$111),J$162,0)+IF(($C$163=$Y$111),J$163,0)+IF(($C$164=$Y$111),J$164,0)+IF(($C$165=$Y$111),J$165,0)+IF(($C$166=$Y$111),J$166,0)+IF(($C$167=$Y$111),J$167,0)+IF(($C$168=$Y$111),J$168,0)+IF(($C$169=$Y$111),J$169,0)","v":0}," "," ",null," ",null," ",null," ",{"$f":"IF(($C$156=$Y$111),J$156,0)+IF(($C$157=$Y$111),J$157,0)+IF(($C$158=$Y$111),J$158,0)+IF(($C$159=$Y$111),J$159,0)+IF(($C$160=$Y$111),J$160,0)+IF(($C$161=$Y$111),J$161,0)+IF(($C$162=$Y$111),J$162,0)+IF(($C$163=$Y$111),J$163,0)+IF(($C$164=$Y$111),J$164,0)+IF(($C$165=$Y$111),J$165,0)+IF(($C$166=$Y$111),J$166,0)+IF(($C$167=$Y$111),J$167,0)+IF(($C$168=$Y$111),J$168,0)+IF(($C$169=$Y$111),J$169,0)","v":0},0,{"$f":"IF(($C$156=$Y$111),K$156,0)+IF(($C$157=$Y$111),K$157,0)+IF(($C$158=$Y$111),K$158,0)+IF(($C$159=$Y$111),K$159,0)+IF(($C$160=$Y$111),K$160,0)+IF(($C$161=$Y$111),K$161,0)+IF(($C$162=$Y$111),K$162,0)+IF(($C$163=$Y$111),K$163,0)+IF(($C$164=$Y$111),K$164,0)+IF(($C$165=$Y$111),K$165,0)+IF(($C$166=$Y$111),K$166,0)+IF(($C$167=$Y$111),K$167,0)+IF(($C$168=$Y$111),K$168,0)+IF(($C$169=$Y$111),K$169,0)","v":0},null,null,null,{"$f":"IF(AND($C$156=$Y$111,$D$156=\"Yes\"),U$156,0)+IF(AND($C$157=$Y$111,$D$157=\"Yes\"),U$157,0)+IF(AND($C$158=$Y$111,$D$158=\"Yes\"),U$158,0)+IF(AND($C$159=$Y$111,$D$159=\"Yes\"),U$159,0)+IF(AND($C$160=$Y$111,$D$160=\"Yes\"),U$160,0)+IF(AND($C$161=$Y$111,$D$161=\"Yes\"),U$161,0)+IF(AND($C$162=$Y$111,$D$162=\"Yes\"),U$162,0)+IF(AND($C$163=$Y$111,$D$163=\"Yes\"),U$163,0)+IF(AND($C$164=$Y$111,$D$164=\"Yes\"),U$164,0)+IF(AND($C$165=$Y$111,$D$165=\"Yes\"),U$165,0)+IF(AND($C$166=$Y$111,$D$166=\"Yes\"),U$166,0)+IF(AND($C$167=$Y$111,$D$167=\"Yes\"),U$167,0)+IF(AND($C$168=$Y$111,$D$168=\"Yes\"),U$168,0)+IF(AND($C$169=$Y$111,$D$169=\"Yes\"),U$169,0)","v":0},null,null,null,null,null,null,null,null,null,null,null,null,null,null,null,null,null,null,null,null,null,null,null,null,null,null,null,null,null,null,null,null,null,null,null,null,null,null,null,null,null,null,null,null,null,null,null,null,null,null,null,null,null,null,null,null,null,null,null,null,null,null,null,null,null,null,null,null,null,null,null,null,null,null,null,null,null,null,null,null,null,null,null,null,null,null,null,null,null,null,null,null,null,null,null,null,null,null,null,null,null,null,null,null,null,null,null,null,null,null,null,null,null,null,null,null,null,null,null,null,null,null,null,null,null,null,null,null,null,null,null,null,null,null,null,null,null,null,null,null,null,null,null,null,null,null,null,null,null,null,null,null,null,null,null,null,null,null,null,null,null,null,null,null,null,null,null,null,null,null,null,null,null,null,null,null,null,null,null,null,null,null,null,null,null,null,null,null,null,null,null,null,null,null,null,null,null,null,null,null,null,null,null,null,null,null,null,null,null,null,null,null,null,null,null,null,null,null,null,null,null,null,null,null,null,null,null,null,null,null,null,null,null,null,null,null,null,null,null,null,null,null,null,null,null,null,null,null,null,null,null,null,null,null,null,null,null,null,null,null,null,null,null,null,null,null,null,null,null,null,null,null,null,null,null,null,null,null,null,null,null,null,null,null,null,null,null,null,null,null,null,null,null,null,null,null,null,null,null,null,null,null,null,null,null,null,null,null,null,null,null,null,null,null,null,null,null,null,null,null,null,null,null,null,null,null,null,null,null,null,null,null,null,null,null,null,null,null,null,null,null,null,null,null,null,null,null,null,null,null,null,null,null,null,null,null,null,null,null,null,null,null,null,null,null,null,null,null,null,null,null,null,null,null,null,null,null,null,null,null,null,null,null,null,null,null,null,null,null,null,null,null,null,null,null,null,null,null,null,null,null,null,null,null,null,null,null,null,null,null,null,null,null,null,null,null,null,null,null,null,null,null,null,null,null,null,null,null,null,null,null,null,null,null,null,null,null,null,null,null,null,null,null,null,null,null,null,null,null,null,null,null,null,null,null,null,null,null,null,null,null,null,null,null,null,null,null,null,null,null,null,null,null,null,null,null,null,null,null,null,null,null,null,null,null,null,null,null,null,null,null,null,null,null,null,null,null,{"$f":"#REF!","v":{"$error":"#REF!"}}]
[14,0,13,null,0,0,"No",1,0,0,0,0,0,0,0,0,0,0,0,0,0,{"$f":"#REF!","v":{"$error":"#REF!"}},null,null,"Non-Energy Poor Homes : Housing Association",{"$f":"IF(($C$156=$Y$112),J$156,0)+IF(($C$157=$Y$112),J$157,0)+IF(($C$158=$Y$112),J$158,0)+IF(($C$159=$Y$112),J$159,0)+IF(($C$160=$Y$112),J$160,0)+IF(($C$161=$Y$112),J$161,0)+IF(($C$162=$Y$112),J$162,0)+IF(($C$163=$Y$112),J$163,0)+IF(($C$164=$Y$112),J$164,0)+IF(($C$165=$Y$112),J$165,0)+IF(($C$166=$Y$112),J$166,0)+IF(($C$167=$Y$112),J$167,0)+IF(($C$168=$Y$112),J$168,0)+IF(($C$169=$Y$112),J$169,0)","v":0}," "," ",null," ",null," ",null," ",{"$f":"IF(($C$156=$Y$112),J$156,0)+IF(($C$157=$Y$112),J$157,0)+IF(($C$158=$Y$112),J$158,0)+IF(($C$159=$Y$112),J$159,0)+IF(($C$160=$Y$112),J$160,0)+IF(($C$161=$Y$112),J$161,0)+IF(($C$162=$Y$112),J$162,0)+IF(($C$163=$Y$112),J$163,0)+IF(($C$164=$Y$112),J$164,0)+IF(($C$165=$Y$112),J$165,0)+IF(($C$166=$Y$112),J$166,0)+IF(($C$167=$Y$112),J$167,0)+IF(($C$168=$Y$112),J$168,0)+IF(($C$169=$Y$112),J$169,0)","v":0},0,{"$f":"IF(($C$156=$Y$112),K$156,0)+IF(($C$157=$Y$112),K$157,0)+IF(($C$158=$Y$112),K$158,0)+IF(($C$159=$Y$112),K$159,0)+IF(($C$160=$Y$112),K$160,0)+IF(($C$161=$Y$112),K$161,0)+IF(($C$162=$Y$112),K$162,0)+IF(($C$163=$Y$112),K$163,0)+IF(($C$164=$Y$112),K$164,0)+IF(($C$165=$Y$112),K$165,0)+IF(($C$166=$Y$112),K$166,0)+IF(($C$167=$Y$112),K$167,0)+IF(($C$168=$Y$112),K$168,0)+IF(($C$169=$Y$112),K$169,0)","v":0},null,null,null,{"$f":"IF(AND($C$156=$Y$112,$D$156=\"Yes\"),U$156,0)+IF(AND($C$157=$Y$112,$D$157=\"Yes\"),U$157,0)+IF(AND($C$158=$Y$112,$D$158=\"Yes\"),U$158,0)+IF(AND($C$159=$Y$112,$D$159=\"Yes\"),U$159,0)+IF(AND($C$160=$Y$112,$D$160=\"Yes\"),U$160,0)+IF(AND($C$161=$Y$112,$D$161=\"Yes\"),U$161,0)+IF(AND($C$162=$Y$112,$D$162=\"Yes\"),U$162,0)+IF(AND($C$163=$Y$112,$D$163=\"Yes\"),U$163,0)+IF(AND($C$164=$Y$112,$D$164=\"Yes\"),U$164,0)+IF(AND($C$165=$Y$112,$D$165=\"Yes\"),U$165,0)+IF(AND($C$166=$Y$112,$D$166=\"Yes\"),U$166,0)+IF(AND($C$167=$Y$112,$D$167=\"Yes\"),U$167,0)+IF(AND($C$168=$Y$112,$D$168=\"Yes\"),U$168,0)+IF(AND($C$169=$Y$112,$D$169=\"Yes\"),U$169,0)","v":0},null,null,null,null,null,null,null,null,null,null,null,null,null,null,null,null,null,null,null,null,null,null,null,null,null,null,null,null,null,null,null,null,null,null,null,null,null,null,null,null,null,null,null,null,null,null,null,null,null,null,null,null,null,null,null,null,null,null,null,null,null,null,null,null,null,null,null,null,null,null,null,null,null,null,null,null,null,null,null,null,null,null,null,null,null,null,null,null,null,null,null,null,null,null,null,null,null,null,null,null,null,null,null,null,null,null,null,null,null,null,null,null,null,null,null,null,null,null,null,null,null,null,null,null,null,null,null,null,null,null,null,null,null,null,null,null,null,null,null,null,null,null,null,null,null,null,null,null,null,null,null,null,null,null,null,null,null,null,null,null,null,null,null,null,null,null,null,null,null,null,null,null,null,null,null,null,null,null,null,null,null,null,null,null,null,null,null,null,null,null,null,null,null,null,null,null,null,null,null,null,null,null,null,null,null,null,null,null,null,null,null,null,null,null,null,null,null,null,null,null,null,null,null,null,null,null,null,null,null,null,null,null,null,null,null,null,null,null,null,null,null,null,null,null,null,null,null,null,null,null,null,null,null,null,null,null,null,null,null,null,null,null,null,null,null,null,null,null,null,null,null,null,null,null,null,null,null,null,null,null,null,null,null,null,null,null,null,null,null,null,null,null,null,null,null,null,null,null,null,null,null,null,null,null,null,null,null,null,null,null,null,null,null,null,null,null,null,null,null,null,null,null,null,null,null,null,null,null,null,null,null,null,null,null,null,null,null,null,null,null,null,null,null,null,null,null,null,null,null,null,null,null,null,null,null,null,null,null,null,null,null,null,null,null,null,null,null,null,null,null,null,null,null,null,null,null,null,null,null,null,null,null,null,null,null,null,null,null,null,null,null,null,null,null,null,null,null,null,null,null,null,null,null,null,null,null,null,null,null,null,null,null,null,null,null,null,null,null,null,null,null,null,null,null,null,null,null,null,null,null,null,null,null,null,null,null,null,null,null,null,null,null,null,null,null,null,null,null,null,null,null,null,null,null,null,null,null,null,null,null,null,null,null,null,null,null,null,null,null,null,null,null,null,null,null,null,null,null,null,null,null,null,null,null,null,null,null,null,null,null,null,null,null,null,null,null,null,{"$f":"#REF!","v":{"$error":"#REF!"}}]
[15,0,14,null,0,0,"No",1,0,0,0,0,0,0,0,0,0,0,0,0,0,{"$f":"#REF!","v":{"$error":"#REF!"}},null,null,"Non-Energy Poor Homes : Private",{"$f":"IF(($C$156=$Y$113),J$156,0)+IF(($C$157=$Y$113),J$157,0)+IF(($C$158=$Y$113),J$158,0)+IF(($C$159=$Y$113),J$159,0)+IF(($C$160=$Y$113),J$160,0)+IF(($C$161=$Y$113),J$161,0)+IF(($C$162=$Y$113),J$162,0)+IF(($C$163=$Y$113),J$163,0)+IF(($C$164=$Y$113),J$164,0)+IF(($C$165=$Y$113),J$165,0)+IF(($C$166=$Y$113),J$166,0)+IF(($C$167=$Y$113),J$167,0)+IF(($C$168=$Y$113),J$168,0)+IF(($C$169=$Y$113),J$169,0)","v":0}," "," ",null," ",null," ",null," ",{"$f":"IF(($C$156=$Y$113),J$156,0)+IF(($C$157=$Y$113),J$157,0)+IF(($C$158=$Y$113),J$158,0)+IF(($C$159=$Y$113),J$159,0)+IF(($C$160=$Y$113),J$160,0)+IF(($C$161=$Y$113),J$161,0)+IF(($C$162=$Y$113),J$162,0)+IF(($C$163=$Y$113),J$163,0)+IF(($C$164=$Y$113),J$164,0)+IF(($C$165=$Y$113),J$165,0)+IF(($C$166=$Y$113),J$166,0)+IF(($C$167=$Y$113),J$167,0)+IF(($C$168=$Y$113),J$168,0)+IF(($C$169=$Y$113),J$169,0)","v":0},0,{"$f":"IF(($C$156=$Y$113),K$156,0)+IF(($C$157=$Y$113),K$157,0)+IF(($C$158=$Y$113),K$158,0)+IF(($C$159=$Y$113),K$159,0)+IF(($C$160=$Y$113),K$160,0)+IF(($C$161=$Y$113),K$161,0)+IF(($C$162=$Y$113),K$162,0)+IF(($C$163=$Y$113),K$163,0)+IF(($C$164=$Y$113),K$164,0)+IF(($C$165=$Y$113),K$165,0)+IF(($C$166=$Y$113),K$166,0)+IF(($C$167=$Y$113),K$167,0)+IF(($C$168=$Y$113),K$168,0)+IF(($C$169=$Y$113),K$169,0)","v":0},{"$f":"SUM(AI111:AJ113)","v":0},{"$f":"SUM(AK111:AK113)","v":0},null,{"$f":"IF(AND($C$156=$Y$113,$D$156=\"Yes\"),U$156,0)+IF(AND($C$157=$Y$113,$D$157=\"Yes\"),U$157,0)+IF(AND($C$158=$Y$113,$D$158=\"Yes\"),U$158,0)+IF(AND($C$159=$Y$113,$D$159=\"Yes\"),U$159,0)+IF(AND($C$160=$Y$113,$D$160=\"Yes\"),U$160,0)+IF(AND($C$161=$Y$113,$D$161=\"Yes\"),U$161,0)+IF(AND($C$162=$Y$113,$D$162=\"Yes\"),U$162,0)+IF(AND($C$163=$Y$113,$D$163=\"Yes\"),U$163,0)+IF(AND($C$164=$Y$113,$D$164=\"Yes\"),U$164,0)+IF(AND($C$165=$Y$113,$D$165=\"Yes\"),U$165,0)+IF(AND($C$166=$Y$113,$D$166=\"Yes\"),U$166,0)+IF(AND($C$167=$Y$113,$D$167=\"Yes\"),U$167,0)+IF(AND($C$168=$Y$113,$D$168=\"Yes\"),U$168,0)+IF(AND($C$169=$Y$113,$D$169=\"Yes\"),U$169,0)","v":0},{"$f":"SUM(AO111:AO113)","v":0},null,null,null,null,null,null,null,null,null,null,null,null,null,null,null,null,null,null,null,null,null,null,null,null,null,null,null,null,null,null,null,null,null,null,null,null,null,null,null,null,null,null,null,null,null,null,null,null,null,null,null,null,null,null,null,null,null,null,null,null,null,null,null,null,null,null,null,null,null,null,null,null,null,null,null,null,null,null,null,null,null,null,null,null,null,null,null,null,null,null,null,null,null,null,null,null,null,null,null,null,null,null,null,null,null,null,null,null,null,null,null,null,null,null,null,null,null,null,null,null,null,null,null,null,null,null,null,null,null,null,null,null,null,null,null,null,null,null,null,null,null,null,null,null,null,null,null,null,null,null,null,null,null,null,null,null,null,null,null,null,null,null,null,null,null,null,null,null,null,null,null,null,null,null,null,null,null,null,null,null,null,null,null,null,null,null,null,null,null,null,null,null,null,null,null,null,null,null,null,null,null,null,null,null,null,null,null,null,null,null,null,null,null,null,null,null,null,null,null,null,null,null,null,null,null,null,null,null,null,null,null,null,null,null,null,null,null,null,null,null,null,null,null,null,null,null,null,null,null,null,null,null,null,null,null,null,null,null,null,null,null,null,null,null,null,null,null,null,null,null,null,null,null,null,null,null,null,null,null,null,null,null,null,null,null,null,null,null,null,null,null,null,null,null,null,null,null,null,null,null,null,null,null,null,null,null,null,null,null,null,null,null,null,null,null,null,null,null,null,null,null,null,null,null,null,null,null,null,null,null,null,null,null,null,null,null,null,null,null,null,null,null,null,null,null,null,null,null,null,null,null,null,null,null,null,null,null,null,null,null,null,null,null,null,null,null,null,null,null,null,null,null,null,null,null,null,null,null,null,null,null,null,null,null,null,null,null,null,null,null,null,null,null,null,null,null,null,null,null,null,null,null,null,null,null,null,null,null,null,null,null,null,null,null,null,null,null,null,null,null,null,null,null,null,null,null,null,null,null,null,null,null,null,null,null,null,null,null,null,null,null,null,null,null,null,null,null,null,null,null,null,null,null,null,null,null,null,null,null,null,null,null,null,null,null,null,null,null,null,null,null,null,null,null,null,null,null,null,null,null,null,null,null,null,null,null,null,null,null,null,null,null,null,null,null,null,{"$f":"#REF!","v":{"$error":"#REF!"}}]
[16,0,15,null,0,0,"No",1,0,0,0,0,0,0,0,0,0,0,0,0,0,{"$f":"#REF!","v":{"$error":"#REF!"}},null,null,"Combined Fabric Upgrade",null,null,null,null,null,null,null,null,null,null,null,null,null,null,null,null,null,null,null,null,null,null,null,null,null,null,null,null,null,null,null,null,null,null,null,null,null,null,null,null,null,null,null,null,null,null,null,null,null,null,null,null,null,null,null,null,null,null,null,null,null,null,null,null,null,null,null,null,null,null,null,null,null,null,null,null,null,null,null,null,null,null,null,null,null,null,null,null,null,null,null,null,null,null,null,null,null,null,null,null,null,null,null,null,null,null,null,null,null,null,null,null,null,null,null,null,null,null,null,null,null,null,null,null,null,null,null,null,null,null,null,null,null,null,null,null,null,null,null,null,null,null,null,null,null,null,null,null,null,null,null,null,null,null,null,null,null,null,null,null,null,null,null,null,null,null,null,null,null,null,null,null,null,null,null,null,null,null,null,null,null,null,null,null,null,null,null,null,null,null,null,null,null,null,null,null,null,null,null,null,null,null,null,null,null,null,null,null,null,null,null,null,null,null,null,null,null,null,null,null,null,null,null,null,null,null,null,null,null,null,null,null,null,null,null,null,null,null,null,null,null,null,null,null,null,null,null,null,null,null,null,null,null,null,null,null,null,null,null,null,null,null,null,null,null,null,null,null,null,null,null,null,null,null,null,null,null,null,null,null,null,null,null,null,null,null,null,null,null,null,null,null,null,null,null,null,null,null,null,null,null,null,null,null,null,null,null,null,null,null,null,null,null,null,null,null,null,null,null,null,null,null,null,null,null,null,null,null,null,null,null,null,null,null,null,null,null,null,null,null,null,null,null,null,null,null,null,null,null,null,null,null,null,null,null,null,null,null,null,null,null,null,null,null,null,null,null,null,null,null,null,null,null,null,null,null,null,null,null,null,null,null,null,null,null,null,null,null,null,null,null,null,null,null,null,null,null,null,null,null,null,null,null,null,null,null,null,null,null,null,null,null,null,null,null,null,null,null,null,null,null,null,null,null,null,null,null,null,null,null,null,null,null,null,null,null,null,null,null,null,null,null,null,null,null,null,null,null,null,null,null,null,null,null,null,null,null,null,null,null,null,null,null,null,null,null,null,null,null,null,null,null,null,null,null,null,null,null,null,null,null,null,null,null,null,null,null,null,null,null,null,null,null,null,null,null,null,null,null,null,null,null,null,null,null,null,null,null,null,null,null,null,null,{"$f":"#REF!","v":{"$error":"#REF!"}}]
[17,0,16,null,0,0,"No",1,0,0,0,0,0,0,0,0,0,0,0,0,0,{"$f":"#REF!","v":{"$error":"#REF!"}},null,null,null,null,null,null,null,null,null,null,null,null,null,null,null,null,null,null,null,null,null,null,null,null,null,null,null,null,null,null,null,null,null,null,null,null,null,null,null,null,null,null,null,null,null,null,null,null,null,null,null,null,null,null,null,null,null,null,null,null,null,null,null,null,null,null,null,null,null,null,null,null,null,null,null,null,null,null,null,null,null,null,null,null,null,null,null,null,null,null,null,null,null,null,null,null,null,null,null,null,null,null,null,null,null,null,null,null,null,null,null,null,null,null,null,null,null,null,null,null,null,null,null,null,null,null,null,null,null,null,null,null,null,null,null,null,null,null,null,null,null,null,null,null,null,null,null,null,null,null,null,null,null,null,null,null,null,null,null,null,null,null,null,null,null,null,null,null,null,null,null,null,null,null,null,null,null,null,null,null,null,null,null,null,null,null,null,null,null,null,null,null,null,null,null,null,null,null,null,null,null,null,null,null,null,null,null,null,null,null,null,null,null,null,null,null,null,null,null,null,null,null,null,null,null,null,null,null,null,null,null,null,null,null,null,null,null,null,null,null,null,null,null,null,null,null,null,null,null,null,null,null,null,null,null,null,null,null,null,null,null,null,null,null,null,null,null,null,null,null,null,null,null,null,null,null,null,null,null,null,null,null,null,null,null,null,null,null,null,null,null,null,null,null,null,null,null,null,null,null,null,null,null,null,null,null,null,null,null,null,null,null,null,null,null,null,null,null,null,null,null,null,null,null,null,null,null,null,null,null,null,null,null,null,null,null,null,null,null,null,null,null,null,null,null,null,null,null,null,null,null,null,null,null,null,null,null,null,null,null,null,null,null,null,null,null,null,null,null,null,null,null,null,null,null,null,null,null,null,null,null,null,null,null,null,null,null,null,null,null,null,null,null,null,null,null,null,null,null,null,null,null,null,null,null,null,null,null,null,null,null,null,null,null,null,null,null,null,null,null,null,null,null,null,null,null,null,null,null,null,null,null,null,null,null,null,null,null,null,null,null,null,null,null,null,null,null,null,null,null,null,null,null,null,null,null,null,null,null,null,null,null,null,null,null,null,null,null,null,null,null,null,null,null,null,null,null,null,null,null,null,null,null,null,null,null,null,null,null,null,null,null,null,null,null,null,null,null,null,null,null,null,null,null,null,null,null,null,null,null,null,null,null,null,null,null,{"$f":"#REF!","v":{"$error":"#REF!"}}]
[{"$f":"A115+1","v":18},0,17,null,0,0,"No",1,0,0,0,0,0,0,0,0,0,0,0,0,0,{"$f":"#REF!","v":{"$error":"#REF!"}},null,null,null,null,null,null,null,null,null,null,null,null,null,null,null,null,null,null,null,null,null,null,null,null,null,null,null,null,null,null,null,null,null,null,null,null,null,null,null,null,null,null,null,null,null,null,null,null,null,null,null,null,null,null,null,null,null,null,null,null,null,null,null,null,null,null,null,null,null,null,null,null,null,null,null,null,null,null,null,null,null,null,null,null,null,null,null,null,null,null,null,null,null,null,null,null,null,null,null,null,null,null,null,null,null,null,null,null,null,null,null,null,null,null,null,null,null,null,null,null,null,null,null,null,null,null,null,null,null,null,null,null,null,null,null,null,null,null,null,null,null,null,null,null,null,null,null,null,null,null,null,null,null,null,null,null,null,null,null,null,null,null,null,null,null,null,null,null,null,null,null,null,null,null,null,null,null,null,null,null,null,null,null,null,null,null,null,null,null,null,null,null,null,null,null,null,null,null,null,null,null,null,null,null,null,null,null,null,null,null,null,null,null,null,null,null,null,null,null,null,null,null,null,null,null,null,null,null,null,null,null,null,null,null,null,null,null,null,null,null,null,null,null,null,null,null,null,null,null,null,null,null,null,null,null,null,null,null,null,null,null,null,null,null,null,null,null,null,null,null,null,null,null,null,null,null,null,null,null,null,null,null,null,null,null,null,null,null,null,null,null,null,null,null,null,null,null,null,null,null,null,null,null,null,null,null,null,null,null,null,null,null,null,null,null,null,null,null,null,null,null,null,null,null,null,null,null,null,null,null,null,null,null,null,null,null,null,null,null,null,null,null,null,null,null,null,null,null,null,null,null,null,null,null,null,null,null,null,null,null,null,null,null,null,null,null,null,null,null,null,null,null,null,null,null,null,null,null,null,null,null,null,null,null,null,null,null,null,null,null,null,null,null,null,null,null,null,null,null,null,null,null,null,null,null,null,null,null,null,null,null,null,null,null,null,null,null,null,null,null,null,null,null,null,null,null,null,null,null,null,null,null,null,null,null,null,null,null,null,null,null,null,null,null,null,null,null,null,null,null,null,null,null,null,null,null,null,null,null,null,null,null,null,null,null,null,null,null,null,null,null,null,null,null,null,null,null,null,null,null,null,null,null,null,null,null,null,null,null,null,null,null,null,null,null,null,null,null,null,null,null,null,null,null,null,null,null,null,null,null,null,null,null,null,null,null,{"$f":"#REF!","v":{"$error":"#REF!"}}]
[{"$f":"A116+1","v":19},0,18,null,0,0,"No",1,0,0,0,0,0,0,0,0,0,0,0,0,0,{"$f":"#REF!","v":{"$error":"#REF!"}},null,null,null,null,null,null,null,null,null,null,null,null,null,null,null,null,null,null,null,null,null,null,null,null,null,null,null,null,null,null,null,null,null,null,null,null,null,null,null,null,null,null,null,null,null,null,null,null,null,null,null,null,null,null,null,null,null,null,null,null,null,null,null,null,null,null,null,null,null,null,null,null,null,null,null,null,null,null,null,null,null,null,null,null,null,null,null,null,null,null,null,null,null,null,null,null,null,null,null,null,null,null,null,null,null,null,null,null,null,null,null,null,null,null,null,null,null,null,null,null,null,null,null,null,null,null,null,null,null,null,null,null,null,null,null,null,null,null,null,null,null,null,null,null,null,null,null,null,null,null,null,null,null,null,null,null,null,null,null,null,null,null,null,null,null,null,null,null,null,null,null,null,null,null,null,null,null,null,null,null,null,null,null,null,null,null,null,null,null,null,null,null,null,null,null,null,null,null,null,null,null,null,null,null,null,null,null,null,null,null,null,null,null,null,null,null,null,null,null,null,null,null,null,null,null,null,null,null,null,null,null,null,null,null,null,null,null,null,null,null,null,null,null,null,null,null,null,null,null,null,null,null,null,null,null,null,null,null,null,null,null,null,null,null,null,null,null,null,null,null,null,null,null,null,null,null,null,null,null,null,null,null,null,null,null,null,null,null,null,null,null,null,null,null,null,null,null,null,null,null,null,null,null,null,null,null,null,null,null,null,null,null,null,null,null,null,null,null,null,null,null,null,null,null,null,null,null,null,null,null,null,null,null,null,null,null,null,null,null,null,null,null,null,null,null,null,null,null,null,null,null,null,null,null,null,null,null,null,null,null,null,null,null,null,null,null,null,null,null,null,null,null,null,null,null,null,null,null,null,null,null,null,null,null,null,null,null,null,null,null,null,null,null,null,null,null,null,null,null,null,null,null,null,null,null,null,null,null,null,null,null,null,null,null,null,null,null,null,null,null,null,null,null,null,null,null,null,null,null,null,null,null,null,null,null,null,null,null,null,null,null,null,null,null,null,null,null,null,null,null,null,null,null,null,null,null,null,null,null,null,null,null,null,null,null,null,null,null,null,null,null,null,null,null,null,null,null,null,null,null,null,null,null,null,null,null,null,null,null,null,null,null,null,null,null,null,null,null,null,null,null,null,null,null,null,null,null,null,null,null,null,null,null,null,null,null,{"$f":"#REF!","v":{"$error":"#REF!"}}]
[{"$f":"A117+1","v":20},0,19,null,0,0,"No",1,0,0,0,0,0,0,0,0,0,0,0,0,0,{"$f":"#REF!","v":{"$error":"#REF!"}},null,null,null,null,null,null,null,null,null,null,null,null,null,null,null,null,null,null,null,null,null,null,null,null,null,null,null,null,null,null,null,null,null,null,null,null,null,null,null,null,null,null,null,null,null,null,null,null,null,null,null,null,null,null,null,null,null,null,null,null,null,null,null,null,null,null,null,null,null,null,null,null,null,null,null,null,null,null,null,null,null,null,null,null,null,null,null,null,null,null,null,null,null,null,null,null,null,null,null,null,null,null,null,null,null,null,null,null,null,null,null,null,null,null,null,null,null,null,null,null,null,null,null,null,null,null,null,null,null,null,null,null,null,null,null,null,null,null,null,null,null,null,null,null,null,null,null,null,null,null,null,null,null,null,null,null,null,null,null,null,null,null,null,null,null,null,null,null,null,null,null,null,null,null,null,null,null,null,null,null,null,null,null,null,null,null,null,null,null,null,null,null,null,null,null,null,null,null,null,null,null,null,null,null,null,null,null,null,null,null,null,null,null,null,null,null,null,null,null,null,null,null,null,null,null,null,null,null,null,null,null,null,null,null,null,null,null,null,null,null,null,null,null,null,null,null,null,null,null,null,null,null,null,null,null,null,null,null,null,null,null,null,null,null,null,null,null,null,null,null,null,null,null,null,null,null,null,null,null,null,null,null,null,null,null,null,null,null,null,null,null,null,null,null,null,null,null,null,null,null,null,null,null,null,null,null,null,null,null,null,null,null,null,null,null,null,null,null,null,null,null,null,null,null,null,null,null,null,null,null,null,null,null,null,null,null,null,null,null,null,null,null,null,null,null,null,null,null,null,null,null,null,null,null,null,null,null,null,null,null,null,null,null,null,null,null,null,null,null,null,null,null,null,null,null,null,null,null,null,null,null,null,null,null,null,null,null,null,null,null,null,null,null,null,null,null,null,null,null,null,null,null,null,null,null,null,null,null,null,null,null,null,null,null,null,null,null,null,null,null,null,null,null,null,null,null,null,null,null,null,null,null,null,null,null,null,null,null,null,null,null,null,null,null,null,null,null,null,null,null,null,null,null,null,null,null,null,null,null,null,null,null,null,null,null,null,null,null,null,null,null,null,null,null,null,null,null,null,null,null,null,null,null,null,null,null,null,null,null,null,null,null,null,null,null,null,null,null,null,null,null,null,null,null,null,null,null,null,null,null,null,null,null,null,null,null,{"$f":"#REF!","v":{"$error":"#REF!"}}]
[{"$f":"A118+1","v":21},0,20,null,0,0,"No",1,0,0,0,0,0,0,0,0,0,0,0,0,0,{"$f":"#REF!","v":{"$error":"#REF!"}},null,null,null,null,null,null,null,null,null,null,null,null,null,null,null,null,null,null,null,null,null,null,null,null,null,null,null,null,null,null,null,null,null,null,null,null,null,null,null,null,null,null,null,null,null,null,null,null,null,null,null,null,null,null,null,null,null,null,null,null,null,null,null,null,null,null,null,null,null,null,null,null,null,null,null,null,null,null,null,null,null,null,null,null,null,null,null,null,null,null,null,null,null,null,null,null,null,null,null,null,null,null,null,null,null,null,null,null,null,null,null,null,null,null,null,null,null,null,null,null,null,null,null,null,null,null,null,null,null,null,null,null,null,null,null,null,null,null,null,null,null,null,null,null,null,null,null,null,null,null,null,null,null,null,null,null,null,null,null,null,null,null,null,null,null,null,null,null,null,null,null,null,null,null,null,null,null,null,null,null,null,null,null,null,null,null,null,null,null,null,null,null,null,null,null,null,null,null,null,null,null,null,null,null,null,null,null,null,null,null,null,null,null,null,null,null,null,null,null,null,null,null,null,null,null,null,null,null,null,null,null,null,null,null,null,null,null,null,null,null,null,null,null,null,null,null,null,null,null,null,null,null,null,null,null,null,null,null,null,null,null,null,null,null,null,null,null,null,null,null,null,null,null,null,null,null,null,null,null,null,null,null,null,null,null,null,null,null,null,null,null,null,null,null,null,null,null,null,null,null,null,null,null,null,null,null,null,null,null,null,null,null,null,null,null,null,null,null,null,null,null,null,null,null,null,null,null,null,null,null,null,null,null,null,null,null,null,null,null,null,null,null,null,null,null,null,null,null,null,null,null,null,null,null,null,null,null,null,null,null,null,null,null,null,null,null,null,null,null,null,null,null,null,null,null,null,null,null,null,null,null,null,null,null,null,null,null,null,null,null,null,null,null,null,null,null,null,null,null,null,null,null,null,null,null,null,null,null,null,null,null,null,null,null,null,null,null,null,null,null,null,null,null,null,null,null,null,null,null,null,null,null,null,null,null,null,null,null,null,null,null,null,null,null,null,null,null,null,null,null,null,null,null,null,null,null,null,null,null,null,null,null,null,null,null,null,null,null,null,null,null,null,null,null,null,null,null,null,null,null,null,null,null,null,null,null,null,null,null,null,null,null,null,null,null,null,null,null,null,null,null,null,null,null,null,null,null,null,null,null,null,null,null,null,null,null,{"$f":"#REF!","v":{"$error":"#REF!"}}]
[22,0,21,null,0,0,"No",1,0,0,0,0,0,0,0,0,0,0,0,0,0,{"$f":"#REF!","v":{"$error":"#REF!"}},null,null,null,null,null,null,null,null,null,null,null,null,null,null,null,null,null,null,null,null,null,null,null,null,null,null,null,null,null,null,null,null,null,null,null,null,null,null,null,null,null,null,null,null,null,null,null,null,null,null,null,null,null,null,null,null,null,null,null,null,null,null,null,null,null,null,null,null,null,null,null,null,null,null,null,null,null,null,null,null,null,null,null,null,null,null,null,null,null,null,null,null,null,null,null,null,null,null,null,null,null,null,null,null,null,null,null,null,null,null,null,null,null,null,null,null,null,null,null,null,null,null,null,null,null,null,null,null,null,null,null,null,null,null,null,null,null,null,null,null,null,null,null,null,null,null,null,null,null,null,null,null,null,null,null,null,null,null,null,null,null,null,null,null,null,null,null,null,null,null,null,null,null,null,null,null,null,null,null,null,null,null,null,null,null,null,null,null,null,null,null,null,null,null,null,null,null,null,null,null,null,null,null,null,null,null,null,null,null,null,null,null,null,null,null,null,null,null,null,null,null,null,null,null,null,null,null,null,null,null,null,null,null,null,null,null,null,null,null,null,null,null,null,null,null,null,null,null,null,null,null,null,null,null,null,null,null,null,null,null,null,null,null,null,null,null,null,null,null,null,null,null,null,null,null,null,null,null,null,null,null,null,null,null,null,null,null,null,null,null,null,null,null,null,null,null,null,null,null,null,null,null,null,null,null,null,null,null,null,null,null,null,null,null,null,null,null,null,null,null,null,null,null,null,null,null,null,null,null,null,null,null,null,null,null,null,null,null,null,null,null,null,null,null,null,null,null,null,null,null,null,null,null,null,null,null,null,null,null,null,null,null,null,null,null,null,null,null,null,null,null,null,null,null,null,null,null,null,null,null,null,null,null,null,null,null,null,null,null,null,null,null,null,null,null,null,null,null,null,null,null,null,null,null,null,null,null,null,null,null,null,null,null,null,null,null,null,null,null,null,null,null,null,null,null,null,null,null,null,null,null,null,null,null,null,null,null,null,null,null,null,null,null,null,null,null,null,null,null,null,null,null,null,null,null,null,null,null,null,null,null,null,null,null,null,null,null,null,null,null,null,null,null,null,null,null,null,null,null,null,null,null,null,null,null,null,null,null,null,null,null,null,null,null,null,null,null,null,null,null,null,null,null,null,null,null,null,null,null,null,null,null,null,null,null,null,{"$f":"#REF!","v":{"$error":"#REF!"}}]
[23,0,22,null,0,0,"No",1,0,0,0,0,0,0,0,0,0,0,0,0,0,{"$f":"#REF!","v":{"$error":"#REF!"}},null,null,null,null,null,null,null,null,null,null,null,null,null,null,null,null,null,null,null,null,null,null,null,null,null,null,null,null,null,null,null,null,null,null,null,null,null,null,null,null,null,null,null,null,null,null,null,null,null,null,null,null,null,null,null,null,null,null,null,null,null,null,null,null,null,null,null,null,null,null,null,null,null,null,null,null,null,null,null,null,null,null,null,null,null,null,null,null,null,null,null,null,null,null,null,null,null,null,null,null,null,null,null,null,null,null,null,null,null,null,null,null,null,null,null,null,null,null,null,null,null,null,null,null,null,null,null,null,null,null,null,null,null,null,null,null,null,null,null,null,null,null,null,null,null,null,null,null,null,null,null,null,null,null,null,null,null,null,null,null,null,null,null,null,null,null,null,null,null,null,null,null,null,null,null,null,null,null,null,null,null,null,null,null,null,null,null,null,null,null,null,null,null,null,null,null,null,null,null,null,null,null,null,null,null,null,null,null,null,null,null,null,null,null,null,null,null,null,null,null,null,null,null,null,null,null,null,null,null,null,null,null,null,null,null,null,null,null,null,null,null,null,null,null,null,null,null,null,null,null,null,null,null,null,null,null,null,null,null,null,null,null,null,null,null,null,null,null,null,null,null,null,null,null,null,null,null,null,null,null,null,null,null,null,null,null,null,null,null,null,null,null,null,null,null,null,null,null,null,null,null,null,null,null,null,null,null,null,null,null,null,null,null,null,null,null,null,null,null,null,null,null,null,null,null,null,null,null,null,null,null,null,null,null,null,null,null,null,null,null,null,null,null,null,null,null,null,null,null,null,null,null,null,null,null,null,null,null,null,null,null,null,null,null,null,null,null,null,null,null,null,null,null,null,null,null,null,null,null,null,null,null,null,null,null,null,null,null,null,null,null,null,null,null,null,null,null,null,null,null,null,null,null,null,null,null,null,null,null,null,null,null,null,null,null,null,null,null,null,null,null,null,null,null,null,null,null,null,null,null,null,null,null,null,null,null,null,null,null,null,null,null,null,null,null,null,null,null,null,null,null,null,null,null,null,null,null,null,null,null,null,null,null,null,null,null,null,null,null,null,null,null,null,null,null,null,null,null,null,null,null,null,null,null,null,null,null,null,null,null,null,null,null,null,null,null,null,null,null,null,null,null,null,null,null,null,null,null,null,null,null,null,null,null,null,null,{"$f":"#REF!","v":{"$error":"#REF!"}}]
[24,0,23,null,0,0,"No",1,0,0,0,0,0,0,0,0,0,0,0,0,0,{"$f":"#REF!","v":{"$error":"#REF!"}},null,null,null,null,null,null,null,null,null,null,null,null,null,null,null,null,null,null,null,null,null,null,null,null,null,null,null,null,null,null,null,null,null,null,null,null,null,null,null,null,null,null,null,null,null,null,null,null,null,null,null,null,null,null,null,null,null,null,null,null,null,null,null,null,null,null,null,null,null,null,null,null,null,null,null,null,null,null,null,null,null,null,null,null,null,null,null,null,null,null,null,null,null,null,null,null,null,null,null,null,null,null,null,null,null,null,null,null,null,null,null,null,null,null,null,null,null,null,null,null,null,null,null,null,null,null,null,null,null,null,null,null,null,null,null,null,null,null,null,null,null,null,null,null,null,null,null,null,null,null,null,null,null,null,null,null,null,null,null,null,null,null,null,null,null,null,null,null,null,null,null,null,null,null,null,null,null,null,null,null,null,null,null,null,null,null,null,null,null,null,null,null,null,null,null,null,null,null,null,null,null,null,null,null,null,null,null,null,null,null,null,null,null,null,null,null,null,null,null,null,null,null,null,null,null,null,null,null,null,null,null,null,null,null,null,null,null,null,null,null,null,null,null,null,null,null,null,null,null,null,null,null,null,null,null,null,null,null,null,null,null,null,null,null,null,null,null,null,null,null,null,null,null,null,null,null,null,null,null,null,null,null,null,null,null,null,null,null,null,null,null,null,null,null,null,null,null,null,null,null,null,null,null,null,null,null,null,null,null,null,null,null,null,null,null,null,null,null,null,null,null,null,null,null,null,null,null,null,null,null,null,null,null,null,null,null,null,null,null,null,null,null,null,null,null,null,null,null,null,null,null,null,null,null,null,null,null,null,null,null,null,null,null,null,null,null,null,null,null,null,null,null,null,null,null,null,null,null,null,null,null,null,null,null,null,null,null,null,null,null,null,null,null,null,null,null,null,null,null,null,null,null,null,null,null,null,null,null,null,null,null,null,null,null,null,null,null,null,null,null,null,null,null,null,null,null,null,null,null,null,null,null,null,null,null,null,null,null,null,null,null,null,null,null,null,null,null,null,null,null,null,null,null,null,null,null,null,null,null,null,null,null,null,null,null,null,null,null,null,null,null,null,null,null,null,null,null,null,null,null,null,null,null,null,null,null,null,null,null,null,null,null,null,null,null,null,null,null,null,null,null,null,null,null,null,null,null,null,null,null,null,null,null,null,null,null,{"$f":"#REF!","v":{"$error":"#REF!"}}]
[25,0,24,null,0,0,"No",1,0,0,0,0,0,0,0,0,0,0,0,0,0,{"$f":"#REF!","v":{"$error":"#REF!"}},null,null,null,null,null,null,null,null,null,null,null,null,null,null,null,null,null,null,null,null,null,null,null,null,null,null,null,null,null,null,null,null,null,null,null,null,null,null,null,null,null,null,null,null,null,null,null,null,null,null,null,null,null,null,null,null,null,null,null,null,null,null,null,null,null,null,null,null,null,null,null,null,null,null,null,null,null,null,null,null,null,null,null,null,null,null,null,null,null,null,null,null,null,null,null,null,null,null,null,null,null,null,null,null,null,null,null,null,null,null,null,null,null,null,null,null,null,null,null,null,null,null,null,null,null,null,null,null,null,null,null,null,null,null,null,null,null,null,null,null,null,null,null,null,null,null,null,null,null,null,null,null,null,null,null,null,null,null,null,null,null,null,null,null,null,null,null,null,null,null,null,null,null,null,null,null,null,null,null,null,null,null,null,null,null,null,null,null,null,null,null,null,null,null,null,null,null,null,null,null,null,null,null,null,null,null,null,null,null,null,null,null,null,null,null,null,null,null,null,null,null,null,null,null,null,null,null,null,null,null,null,null,null,null,null,null,null,null,null,null,null,null,null,null,null,null,null,null,null,null,null,null,null,null,null,null,null,null,null,null,null,null,null,null,null,null,null,null,null,null,null,null,null,null,null,null,null,null,null,null,null,null,null,null,null,null,null,null,null,null,null,null,null,null,null,null,null,null,null,null,null,null,null,null,null,null,null,null,null,null,null,null,null,null,null,null,null,null,null,null,null,null,null,null,null,null,null,null,null,null,null,null,null,null,null,null,null,null,null,null,null,null,null,null,null,null,null,null,null,null,null,null,null,null,null,null,null,null,null,null,null,null,null,null,null,null,null,null,null,null,null,null,null,null,null,null,null,null,null,null,null,null,null,null,null,null,null,null,null,null,null,null,null,null,null,null,null,null,null,null,null,null,null,null,null,null,null,null,null,null,null,null,null,null,null,null,null,null,null,null,null,null,null,null,null,null,null,null,null,null,null,null,null,null,null,null,null,null,null,null,null,null,null,null,null,null,null,null,null,null,null,null,null,null,null,null,null,null,null,null,null,null,null,null,null,null,null,null,null,null,null,null,null,null,null,null,null,null,null,null,null,null,null,null,null,null,null,null,null,null,null,null,null,null,null,null,null,null,null,null,null,null,null,null,null,null,null,null,null,null,null,null,null,null,null,null,{"$f":"#REF!","v":{"$error":"#REF!"}}]
[26,0,25,null,0,0,"No",1,0,0,0,0,0,0,0,0,0,0,0,0,0,{"$f":"#REF!","v":{"$error":"#REF!"}},null,null,null,null,null,null,null,null,null,null,null,null,null,null,null,null,null,null,null,null,null,null,null,null,null,null,null,null,null,null,null,null,null,null,null,null,null,null,null,null,null,null,null,null,null,null,null,null,null,null,null,null,null,null,null,null,null,null,null,null,null,null,null,null,null,null,null,null,null,null,null,null,null,null,null,null,null,null,null,null,null,null,null,null,null,null,null,null,null,null,null,null,null,null,null,null,null,null,null,null,null,null,null,null,null,null,null,null,null,null,null,null,null,null,null,null,null,null,null,null,null,null,null,null,null,null,null,null,null,null,null,null,null,null,null,null,null,null,null,null,null,null,null,null,null,null,null,null,null,null,null,null,null,null,null,null,null,null,null,null,null,null,null,null,null,null,null,null,null,null,null,null,null,null,null,null,null,null,null,null,null,null,null,null,null,null,null,null,null,null,null,null,null,null,null,null,null,null,null,null,null,null,null,null,null,null,null,null,null,null,null,null,null,null,null,null,null,null,null,null,null,null,null,null,null,null,null,null,null,null,null,null,null,null,null,null,null,null,null,null,null,null,null,null,null,null,null,null,null,null,null,null,null,null,null,null,null,null,null,null,null,null,null,null,null,null,null,null,null,null,null,null,null,null,null,null,null,null,null,null,null,null,null,null,null,null,null,null,null,null,null,null,null,null,null,null,null,null,null,null,null,null,null,null,null,null,null,null,null,null,null,null,null,null,null,null,null,null,null,null,null,null,null,null,null,null,null,null,null,null,null,null,null,null,null,null,null,null,null,null,null,null,null,null,null,null,null,null,null,null,null,null,null,null,null,null,null,null,null,null,null,null,null,null,null,null,null,null,null,null,null,null,null,null,null,null,null,null,null,null,null,null,null,null,null,null,null,null,null,null,null,null,null,null,null,null,null,null,null,null,null,null,null,null,null,null,null,null,null,null,null,null,null,null,null,null,null,null,null,null,null,null,null,null,null,null,null,null,null,null,null,null,null,null,null,null,null,null,null,null,null,null,null,null,null,null,null,null,null,null,null,null,null,null,null,null,null,null,null,null,null,null,null,null,null,null,null,null,null,null,null,null,null,null,null,null,null,null,null,null,null,null,null,null,null,null,null,null,null,null,null,null,null,null,null,null,null,null,null,null,null,null,null,null,null,null,null,null,null,null,null,null,null,null,null,null,{"$f":"#REF!","v":{"$error":"#REF!"}}]
[27,0,26,null,0,0,"No",1,0,0,0,0,0,0,0,0,0,0,0,0,0,{"$f":"#REF!","v":{"$error":"#REF!"}},null,null,null,null,null,null,null,null,null,null,null,null,null,null,null,null,null,null,null,null,null,null,null,null,null,null,null,null,null,null,null,null,null,null,null,null,null,null,null,null,null,null,null,null,null,null,null,null,null,null,null,null,null,null,null,null,null,null,null,null,null,null,null,null,null,null,null,null,null,null,null,null,null,null,null,null,null,null,null,null,null,null,null,null,null,null,null,null,null,null,null,null,null,null,null,null,null,null,null,null,null,null,null,null,null,null,null,null,null,null,null,null,null,null,null,null,null,null,null,null,null,null,null,null,null,null,null,null,null,null,null,null,null,null,null,null,null,null,null,null,null,null,null,null,null,null,null,null,null,null,null,null,null,null,null,null,null,null,null,null,null,null,null,null,null,null,null,null,null,null,null,null,null,null,null,null,null,null,null,null,null,null,null,null,null,null,null,null,null,null,null,null,null,null,null,null,null,null,null,null,null,null,null,null,null,null,null,null,null,null,null,null,null,null,null,null,null,null,null,null,null,null,null,null,null,null,null,null,null,null,null,null,null,null,null,null,null,null,null,null,null,null,null,null,null,null,null,null,null,null,null,null,null,null,null,null,null,null,null,null,null,null,null,null,null,null,null,null,null,null,null,null,null,null,null,null,null,null,null,null,null,null,null,null,null,null,null,null,null,null,null,null,null,null,null,null,null,null,null,null,null,null,null,null,null,null,null,null,null,null,null,null,null,null,null,null,null,null,null,null,null,null,null,null,null,null,null,null,null,null,null,null,null,null,null,null,null,null,null,null,null,null,null,null,null,null,null,null,null,null,null,null,null,null,null,null,null,null,null,null,null,null,null,null,null,null,null,null,null,null,null,null,null,null,null,null,null,null,null,null,null,null,null,null,null,null,null,null,null,null,null,null,null,null,null,null,null,null,null,null,null,null,null,null,null,null,null,null,null,null,null,null,null,null,null,null,null,null,null,null,null,null,null,null,null,null,null,null,null,null,null,null,null,null,null,null,null,null,null,null,null,null,null,null,null,null,null,null,null,null,null,null,null,null,null,null,null,null,null,null,null,null,null,null,null,null,null,null,null,null,null,null,null,null,null,null,null,null,null,null,null,null,null,null,null,null,null,null,null,null,null,null,null,null,null,null,null,null,null,null,null,null,null,null,null,null,null,null,null,null,null,null,null,null,null,null,{"$f":"#REF!","v":{"$error":"#REF!"}}]
[28,0,27,null,0,0,"No",1,0,0,0,0,0,0,0,0,0,0,0,0,0,{"$f":"#REF!","v":{"$error":"#REF!"}},null,null,null,null,null,null,null,null,null,null,null,null,null,null,null,null,null,null,null,null,null,null,null,null,null,null,null,null,null,null,null,null,null,null,null,null,null,null,null,null,null,null,null,null,null,null,null,null,null,null,null,null,null,null,null,null,null,null,null,null,null,null,null,null,null,null,null,null,null,null,null,null,null,null,null,null,null,null,null,null,null,null,null,null,null,null,null,null,null,null,null,null,null,null,null,null,null,null,null,null,null,null,null,null,null,null,null,null,null,null,null,null,null,null,null,null,null,null,null,null,null,null,null,null,null,null,null,null,null,null,null,null,null,null,null,null,null,null,null,null,null,null,null,null,null,null,null,null,null,null,null,null,null,null,null,null,null,null,null,null,null,null,null,null,null,null,null,null,null,null,null,null,null,null,null,null,null,null,null,null,null,null,null,null,null,null,null,null,null,null,null,null,null,null,null,null,null,null,null,null,null,null,null,null,null,null,null,null,null,null,null,null,null,null,null,null,null,null,null,null,null,null,null,null,null,null,null,null,null,null,null,null,null,null,null,null,null,null,null,null,null,null,null,null,null,null,null,null,null,null,null,null,null,null,null,null,null,null,null,null,null,null,null,null,null,null,null,null,null,null,null,null,null,null,null,null,null,null,null,null,null,null,null,null,null,null,null,null,null,null,null,null,null,null,null,null,null,null,null,null,null,null,null,null,null,null,null,null,null,null,null,null,null,null,null,null,null,null,null,null,null,null,null,null,null,null,null,null,null,null,null,null,null,null,null,null,null,null,null,null,null,null,null,null,null,null,null,null,null,null,null,null,null,null,null,null,null,null,null,null,null,null,null,null,null,null,null,null,null,null,null,null,null,null,null,null,null,null,null,null,null,null,null,null,null,null,null,null,null,null,null,null,null,null,null,null,null,null,null,null,null,null,null,null,null,null,null,null,null,null,null,null,null,null,null,null,null,null,null,null,null,null,null,null,null,null,null,null,null,null,null,null,null,null,null,null,null,null,null,null,null,null,null,null,null,null,null,null,null,null,null,null,null,null,null,null,null,null,null,null,null,null,null,null,null,null,null,null,null,null,null,null,null,null,null,null,null,null,null,null,null,null,null,null,null,null,null,null,null,null,null,null,null,null,null,null,null,null,null,null,null,null,null,null,null,null,null,null,null,null,null,null,null,null,null,null,{"$f":"#REF!","v":{"$error":"#REF!"}}]
[29,0,28,null,0,0,"No",1,0,0,0,0,0,0,0,0,0,0,0,0,0,{"$f":"#REF!","v":{"$error":"#REF!"}},null,null,null,null,null,null,null,null,null,null,null,null,null,null,null,null,null,null,null,null,null,null,null,null,null,null,null,null,null,null,null,null,null,null,null,null,null,null,null,null,null,null,null,null,null,null,null,null,null,null,null,null,null,null,null,null,null,null,null,null,null,null,null,null,null,null,null,null,null,null,null,null,null,null,null,null,null,null,null,null,null,null,null,null,null,null,null,null,null,null,null,null,null,null,null,null,null,null,null,null,null,null,null,null,null,null,null,null,null,null,null,null,null,null,null,null,null,null,null,null,null,null,null,null,null,null,null,null,null,null,null,null,null,null,null,null,null,null,null,null,null,null,null,null,null,null,null,null,null,null,null,null,null,null,null,null,null,null,null,null,null,null,null,null,null,null,null,null,null,null,null,null,null,null,null,null,null,null,null,null,null,null,null,null,null,null,null,null,null,null,null,null,null,null,null,null,null,null,null,null,null,null,null,null,null,null,null,null,null,null,null,null,null,null,null,null,null,null,null,null,null,null,null,null,null,null,null,null,null,null,null,null,null,null,null,null,null,null,null,null,null,null,null,null,null,null,null,null,null,null,null,null,null,null,null,null,null,null,null,null,null,null,null,null,null,null,null,null,null,null,null,null,null,null,null,null,null,null,null,null,null,null,null,null,null,null,null,null,null,null,null,null,null,null,null,null,null,null,null,null,null,null,null,null,null,null,null,null,null,null,null,null,null,null,null,null,null,null,null,null,null,null,null,null,null,null,null,null,null,null,null,null,null,null,null,null,null,null,null,null,null,null,null,null,null,null,null,null,null,null,null,null,null,null,null,null,null,null,null,null,null,null,null,null,null,null,null,null,null,null,null,null,null,null,null,null,null,null,null,null,null,null,null,null,null,null,null,null,null,null,null,null,null,null,null,null,null,null,null,null,null,null,null,null,null,null,null,null,null,null,null,null,null,null,null,null,null,null,null,null,null,null,null,null,null,null,null,null,null,null,null,null,null,null,null,null,null,null,null,null,null,null,null,null,null,null,null,null,null,null,null,null,null,null,null,null,null,null,null,null,null,null,null,null,null,null,null,null,null,null,null,null,null,null,null,null,null,null,null,null,null,null,null,null,null,null,null,null,null,null,null,null,null,null,null,null,null,null,null,null,null,null,null,null,null,null,null,null,null,null,null,null,null,null,null,null,{"$f":"#REF!","v":{"$error":"#REF!"}}]
[30,0,29,null,0,0,"No",1,0,0,0,{"$f":"(K128*J128)+J128","v":0},0,0,0,0,0,0,0,0,0,{"$f":"#REF!","v":{"$error":"#REF!"}},null,null,null,null,null,null,null,null,null,null,null,null,null,null,null,null,null,null,null,null,null,null,null,null,null,null,null,null,null,null,null,null,null,null,null,null,null,null,null,null,null,null,null,null,null,null,null,null,null,null,null,null,null,null,null,null,null,null,null,null,null,null,null,null,null,null,null,null,null,null,null,null,null,null,null,null,null,null,null,null,null,null,null,null,null,null,null,null,null,null,null,null,null,null,null,null,null,null,null,null,null,null,null,null,null,null,null,null,null,null,null,null,null,null,null,null,null,null,null,null,null,null,null,null,null,null,null,null,null,null,null,null,null,null,null,null,null,null,null,null,null,null,null,null,null,null,null,null,null,null,null,null,null,null,null,null,null,null,null,null,null,null,null,null,null,null,null,null,null,null,null,null,null,null,null,null,null,null,null,null,null,null,null,null,null,null,null,null,null,null,null,null,null,null,null,null,null,null,null,null,null,null,null,null,null,null,null,null,null,null,null,null,null,null,null,null,null,null,null,null,null,null,null,null,null,null,null,null,null,null,null,null,null,null,null,null,null,null,null,null,null,null,null,null,null,null,null,null,null,null,null,null,null,null,null,null,null,null,null,null,null,null,null,null,null,null,null,null,null,null,null,null,null,null,null,null,null,null,null,null,null,null,null,null,null,null,null,null,null,null,null,null,null,null,null,null,null,null,null,null,null,null,null,null,null,null,null,null,null,null,null,null,null,null,null,null,null,null,null,null,null,null,null,null,null,null,null,null,null,null,null,null,null,null,null,null,null,null,null,null,null,null,null,null,null,null,null,null,null,null,null,null,null,null,null,null,null,null,null,null,null,null,null,null,null,null,null,null,null,null,null,null,null,null,null,null,null,null,null,null,null,null,null,null,null,null,null,null,null,null,null,null,null,null,null,null,null,null,null,null,null,null,null,null,null,null,null,null,null,null,null,null,null,null,null,null,null,null,null,null,null,null,null,null,null,null,null,null,null,null,null,null,null,null,null,null,null,null,null,null,null,null,null,null,null,null,null,null,null,null,null,null,null,null,null,null,null,null,null,null,null,null,null,null,null,null,null,null,null,null,null,null,null,null,null,null,null,null,null,null,null,null,null,null,null,null,null,null,null,null,null,null,null,null,null,null,null,null,null,null,null,null,null,null,null,null,null,null,null,null,null,null,null,null,null,null,{"$f":"#REF!","v":{"$error":"#REF!"}}]
[31,0,30,null,0,0,"No",1,0,0,0,{"$f":"(K129*J129)+J129","v":0},0,0,0,0,0,0,0,0,0,{"$f":"#REF!","v":{"$error":"#REF!"}},null,null,null,null,null,null,null,null,null,null,null,null,null,null,null,null,null,null,null,null,null,null,null,null,null,null,null,null,null,null,null,null,null,null,null,null,null,null,null,null,null,null,null,null,null,null,null,null,null,null,null,null,null,null,null,null,null,null,null,null,null,null,null,null,null,null,null,null,null,null,null,null,null,null,null,null,null,null,null,null,null,null,null,null,null,null,null,null,null,null,null,null,null,null,null,null,null,null,null,null,null,null,null,null,null,null,null,null,null,null,null,null,null,null,null,null,null,null,null,null,null,null,null,null,null,null,null,null,null,null,null,null,null,null,null,null,null,null,null,null,null,null,null,null,null,null,null,null,null,null,null,null,null,null,null,null,null,null,null,null,null,null,null,null,null,null,null,null,null,null,null,null,null,null,null,null,null,null,null,null,null,null,null,null,null,null,null,null,null,null,null,null,null,null,null,null,null,null,null,null,null,null,null,null,null,null,null,null,null,null,null,null,null,null,null,null,null,null,null,null,null,null,null,null,null,null,null,null,null,null,null,null,null,null,null,null,null,null,null,null,null,null,null,null,null,null,null,null,null,null,null,null,null,null,null,null,null,null,null,null,null,null,null,null,null,null,null,null,null,null,null,null,null,null,null,null,null,null,null,null,null,null,null,null,null,null,null,null,null,null,null,null,null,null,null,null,null,null,null,null,null,null,null,null,null,null,null,null,null,null,null,null,null,null,null,null,null,null,null,null,null,null,null,null,null,null,null,null,null,null,null,null,null,null,null,null,null,null,null,null,null,null,null,null,null,null,null,null,null,null,null,null,null,null,null,null,null,null,null,null,null,null,null,null,null,null,null,null,null,null,null,null,null,null,null,null,null,null,null,null,null,null,null,null,null,null,null,null,null,null,null,null,null,null,null,null,null,null,null,null,null,null,null,null,null,null,null,null,null,null,null,null,null,null,null,null,null,null,null,null,null,null,null,null,null,null,null,null,null,null,null,null,null,null,null,null,null,null,null,null,null,null,null,null,null,null,null,null,null,null,null,null,null,null,null,null,null,null,null,null,null,null,null,null,null,null,null,null,null,null,null,null,null,null,null,null,null,null,null,null,null,null,null,null,null,null,null,null,null,null,null,null,null,null,null,null,null,null,null,null,null,null,null,null,null,null,null,null,null,null,null,null,null,null,null,null,{"$f":"#REF!","v":{"$error":"#REF!"}}]
[32,0,31,null,0,0,"No",1,0,0,0,0,0,0,0,0,0,0,0,0,0,{"$f":"#REF!","v":{"$error":"#REF!"}},null,null,null,null,null,null,null,null,null,null,null,null,null,null,null,null,null,null,null,null,null,null,null,null,null,null,null,null,null,null,null,null,null,null,null,null,null,null,null,null,null,null,null,null,null,null,null,null,null,null,null,null,null,null,null,null,null,null,null,null,null,null,null,null,null,null,null,null,null,null,null,null,null,null,null,null,null,null,null,null,null,null,null,null,null,null,null,null,null,null,null,null,null,null,null,null,null,null,null,null,null,null,null,null,null,null,null,null,null,null,null,null,null,null,null,null,null,null,null,null,null,null,null,null,null,null,null,null,null,null,null,null,null,null,null,null,null,null,null,null,null,null,null,null,null,null,null,null,null,null,null,null,null,null,null,null,null,null,null,null,null,null,null,null,null,null,null,null,null,null,null,null,null,null,null,null,null,null,null,null,null,null,null,null,null,null,null,null,null,null,null,null,null,null,null,null,null,null,null,null,null,null,null,null,null,null,null,null,null,null,null,null,null,null,null,null,null,null,null,null,null,null,null,null,null,null,null,null,null,null,null,null,null,null,null,null,null,null,null,null,null,null,null,null,null,null,null,null,null,null,null,null,null,null,null,null,null,null,null,null,null,null,null,null,null,null,null,null,null,null,null,null,null,null,null,null,null,null,null,null,null,null,null,null,null,null,null,null,null,null,null,null,null,null,null,null,null,null,null,null,null,null,null,null,null,null,null,null,null,null,null,null,null,null,null,null,null,null,null,null,null,null,null,null,null,null,null,null,null,null,null,null,null,null,null,null,null,null,null,null,null,null,null,null,null,null,null,null,null,null,null,null,null,null,null,null,null,null,null,null,null,null,null,null,null,null,null,null,null,null,null,null,null,null,null,null,null,null,null,null,null,null,null,null,null,null,null,null,null,null,null,null,null,null,null,null,null,null,null,null,null,null,null,null,null,null,null,null,null,null,null,null,null,null,null,null,null,null,null,null,null,null,null,null,null,null,null,null,null,null,null,null,null,null,null,null,null,null,null,null,null,null,null,null,null,null,null,null,null,null,null,null,null,null,null,null,null,null,null,null,null,null,null,null,null,null,null,null,null,null,null,null,null,null,null,null,null,null,null,null,null,null,null,null,null,null,null,null,null,null,null,null,null,null,null,null,null,null,null,null,null,null,null,null,null,null,null,null,null,null,null,null,null,null,null,null,{"$f":"#REF!","v":{"$error":"#REF!"}}]
[33,0,32,null,0,0,"No",1,0,0,0,0,0,0,0,0,0,0,0,0,0,{"$f":"#REF!","v":{"$error":"#REF!"}},null,null,null,null,null,null,null,null,null,null,null,null,null,null,null,null,null,null,null,null,null,null,null,null,null,null,null,null,null,null,null,null,null,null,null,null,null,null,null,null,null,null,null,null,null,null,null,null,null,null,null,null,null,null,null,null,null,null,null,null,null,null,null,null,null,null,null,null,null,null,null,null,null,null,null,null,null,null,null,null,null,null,null,null,null,null,null,null,null,null,null,null,null,null,null,null,null,null,null,null,null,null,null,null,null,null,null,null,null,null,null,null,null,null,null,null,null,null,null,null,null,null,null,null,null,null,null,null,null,null,null,null,null,null,null,null,null,null,null,null,null,null,null,null,null,null,null,null,null,null,null,null,null,null,null,null,null,null,null,null,null,null,null,null,null,null,null,null,null,null,null,null,null,null,null,null,null,null,null,null,null,null,null,null,null,null,null,null,null,null,null,null,null,null,null,null,null,null,null,null,null,null,null,null,null,null,null,null,null,null,null,null,null,null,null,null,null,null,null,null,null,null,null,null,null,null,null,null,null,null,null,null,null,null,null,null,null,null,null,null,null,null,null,null,null,null,null,null,null,null,null,null,null,null,null,null,null,null,null,null,null,null,null,null,null,null,null,null,null,null,null,null,null,null,null,null,null,null,null,null,null,null,null,null,null,null,null,null,null,null,null,null,null,null,null,null,null,null,null,null,null,null,null,null,null,null,null,null,null,null,null,null,null,null,null,null,null,null,null,null,null,null,null,null,null,null,null,null,null,null,null,null,null,null,null,null,null,null,null,null,null,null,null,null,null,null,null,null,null,null,null,null,null,null,null,null,null,null,null,null,null,null,null,null,null,null,null,null,null,null,null,null,null,null,null,null,null,null,null,null,null,null,null,null,null,null,null,null,null,null,null,null,null,null,null,null,null,null,null,null,null,null,null,null,null,null,null,null,null,null,null,null,null,null,null,null,null,null,null,null,null,null,null,null,null,null,null,null,null,null,null,null,null,null,null,null,null,null,null,null,null,null,null,null,null,null,null,null,null,null,null,null,null,null,null,null,null,null,null,null,null,null,null,null,null,null,null,null,null,null,null,null,null,null,null,null,null,null,null,null,null,null,null,null,null,null,null,null,null,null,null,null,null,null,null,null,null,null,null,null,null,null,null,null,null,null,null,null,null,null,null,null,null,null,null,null,{"$f":"#REF!","v":{"$error":"#REF!"}}]
[34,0,33,null,0,0,"No",1,0,0,0,0,0,0,0,0,0,0,0,0,0,{"$f":"#REF!","v":{"$error":"#REF!"}},null,null,null,null,null,null,null,null,null,null,null,null,null,null,null,null,null,null,null,null,null,null,null,null,null,null,null,null,null,null,null,null,null,null,null,null,null,null,null,null,null,null,null,null,null,null,null,null,null,null,null,null,null,null,null,null,null,null,null,null,null,null,null,null,null,null,null,null,null,null,null,null,null,null,null,null,null,null,null,null,null,null,null,null,null,null,null,null,null,null,null,null,null,null,null,null,null,null,null,null,null,null,null,null,null,null,null,null,null,null,null,null,null,null,null,null,null,null,null,null,null,null,null,null,null,null,null,null,null,null,null,null,null,null,null,null,null,null,null,null,null,null,null,null,null,null,null,null,null,null,null,null,null,null,null,null,null,null,null,null,null,null,null,null,null,null,null,null,null,null,null,null,null,null,null,null,null,null,null,null,null,null,null,null,null,null,null,null,null,null,null,null,null,null,null,null,null,null,null,null,null,null,null,null,null,null,null,null,null,null,null,null,null,null,null,null,null,null,null,null,null,null,null,null,null,null,null,null,null,null,null,null,null,null,null,null,null,null,null,null,null,null,null,null,null,null,null,null,null,null,null,null,null,null,null,null,null,null,null,null,null,null,null,null,null,null,null,null,null,null,null,null,null,null,null,null,null,null,null,null,null,null,null,null,null,null,null,null,null,null,null,null,null,null,null,null,null,null,null,null,null,null,null,null,null,null,null,null,null,null,null,null,null,null,null,null,null,null,null,null,null,null,null,null,null,null,null,null,null,null,null,null,null,null,null,null,null,null,null,null,null,null,null,null,null,null,null,null,null,null,null,null,null,null,null,null,null,null,null,null,null,null,null,null,null,null,null,null,null,null,null,null,null,null,null,null,null,null,null,null,null,null,null,null,null,null,null,null,null,null,null,null,null,null,null,null,null,null,null,null,null,null,null,null,null,null,null,null,null,null,null,null,null,null,null,null,null,null,null,null,null,null,null,null,null,null,null,null,null,null,null,null,null,null,null,null,null,null,null,null,null,null,null,null,null,null,null,null,null,null,null,null,null,null,null,null,null,null,null,null,null,null,null,null,null,null,null,null,null,null,null,null,null,null,null,null,null,null,null,null,null,null,null,null,null,null,null,null,null,null,null,null,null,null,null,null,null,null,null,null,null,null,null,null,null,null,null,null,null,null,null,null,null,null,null,null,{"$f":"#REF!","v":{"$error":"#REF!"}}]
[35,0,34,null,0,0,"No",1,0,0,0,{"$f":"(K133*J133)+J133","v":0},0,0,0,0,0,0,0,0,0,{"$f":"#REF!","v":{"$error":"#REF!"}},null,null,null,null,null,null,null,null,null,null,null,null,null,null,null,null,null,null,null,null,null,null,null,null,null,null,null,null,null,null,null,null,null,null,null,null,null,null,null,null,null,null,null,null,null,null,null,null,null,null,null,null,null,null,null,null,null,null,null,null,null,null,null,null,null,null,null,null,null,null,null,null,null,null,null,null,null,null,null,null,null,null,null,null,null,null,null,null,null,null,null,null,null,null,null,null,null,null,null,null,null,null,null,null,null,null,null,null,null,null,null,null,null,null,null,null,null,null,null,null,null,null,null,null,null,null,null,null,null,null,null,null,null,null,null,null,null,null,null,null,null,null,null,null,null,null,null,null,null,null,null,null,null,null,null,null,null,null,null,null,null,null,null,null,null,null,null,null,null,null,null,null,null,null,null,null,null,null,null,null,null,null,null,null,null,null,null,null,null,null,null,null,null,null,null,null,null,null,null,null,null,null,null,null,null,null,null,null,null,null,null,null,null,null,null,null,null,null,null,null,null,null,null,null,null,null,null,null,null,null,null,null,null,null,null,null,null,null,null,null,null,null,null,null,null,null,null,null,null,null,null,null,null,null,null,null,null,null,null,null,null,null,null,null,null,null,null,null,null,null,null,null,null,null,null,null,null,null,null,null,null,null,null,null,null,null,null,null,null,null,null,null,null,null,null,null,null,null,null,null,null,null,null,null,null,null,null,null,null,null,null,null,null,null,null,null,null,null,null,null,null,null,null,null,null,null,null,null,null,null,null,null,null,null,null,null,null,null,null,null,null,null,null,null,null,null,null,null,null,null,null,null,null,null,null,null,null,null,null,null,null,null,null,null,null,null,null,null,null,null,null,null,null,null,null,null,null,null,null,null,null,null,null,null,null,null,null,null,null,null,null,null,null,null,null,null,null,null,null,null,null,null,null,null,null,null,null,null,null,null,null,null,null,null,null,null,null,null,null,null,null,null,null,null,null,null,null,null,null,null,null,null,null,null,null,null,null,null,null,null,null,null,null,null,null,null,null,null,null,null,null,null,null,null,null,null,null,null,null,null,null,null,null,null,null,null,null,null,null,null,null,null,null,null,null,null,null,null,null,null,null,null,null,null,null,null,null,null,null,null,null,null,null,null,null,null,null,null,null,null,null,null,null,null,null,null,null,null,null,null,null,null,null,null,null,null,{"$f":"#REF!","v":{"$error":"#REF!"}}]
[36,0,35,null,0,0,"No",1,0,0,0,0,0,0,0,0,0,0,0,0,0,{"$f":"#REF!","v":{"$error":"#REF!"}},null,null,null,null,null,null,null,null,null,null,null,null,null,null,null,null,null,null,null,null,null,null,null,null,null,null,null,null,null,null,null,null,null,null,null,null,null,null,null,null,null,null,null,null,null,null,null,null,null,null,null,null,null,null,null,null,null,null,null,null,null,null,null,null,null,null,null,null,null,null,null,null,null,null,null,null,null,null,null,null,null,null,null,null,null,null,null,null,null,null,null,null,null,null,null,null,null,null,null,null,null,null,null,null,null,null,null,null,null,null,null,null,null,null,null,null,null,null,null,null,null,null,null,null,null,null,null,null,null,null,null,null,null,null,null,null,null,null,null,null,null,null,null,null,null,null,null,null,null,null,null,null,null,null,null,null,null,null,null,null,null,null,null,null,null,null,null,null,null,null,null,null,null,null,null,null,null,null,null,null,null,null,null,null,null,null,null,null,null,null,null,null,null,null,null,null,null,null,null,null,null,null,null,null,null,null,null,null,null,null,null,null,null,null,null,null,null,null,null,null,null,null,null,null,null,null,null,null,null,null,null,null,null,null,null,null,null,null,null,null,null,null,null,null,null,null,null,null,null,null,null,null,null,null,null,null,null,null,null,null,null,null,null,null,null,null,null,null,null,null,null,null,null,null,null,null,null,null,null,null,null,null,null,null,null,null,null,null,null,null,null,null,null,null,null,null,null,null,null,null,null,null,null,null,null,null,null,null,null,null,null,null,null,null,null,null,null,null,null,null,null,null,null,null,null,null,null,null,null,null,null,null,null,null,null,null,null,null,null,null,null,null,null,null,null,null,null,null,null,null,null,null,null,null,null,null,null,null,null,null,null,null,null,null,null,null,null,null,null,null,null,null,null,null,null,null,null,null,null,null,null,null,null,null,null,null,null,null,null,null,null,null,null,null,null,null,null,null,null,null,null,null,null,null,null,null,null,null,null,null,null,null,null,null,null,null,null,null,null,null,null,null,null,null,null,null,null,null,null,null,null,null,null,null,null,null,null,null,null,null,null,null,null,null,null,null,null,null,null,null,null,null,null,null,null,null,null,null,null,null,null,null,null,null,null,null,null,null,null,null,null,null,null,null,null,null,null,null,null,null,null,null,null,null,null,null,null,null,null,null,null,null,null,null,null,null,null,null,null,null,null,null,null,null,null,null,null,null,null,null,null,null,null,null,null,null,{"$f":"#REF!","v":{"$error":"#REF!"}}]
[37,0,36,null,0,0,"No",1,0,0,0,0,0,0,0,0,0,0,0,0,0,{"$f":"#REF!","v":{"$error":"#REF!"}},null,null,null,null,null,null,null,null,null,null,null,null,null,null,null,null,null,null,null,null,null,null,null,null,null,null,null,null,null,null,null,null,null,null,null,null,null,null,null,null,null,null,null,null,null,null,null,null,null,null,null,null,null,null,null,null,null,null,null,null,null,null,null,null,null,null,null,null,null,null,null,null,null,null,null,null,null,null,null,null,null,null,null,null,null,null,null,null,null,null,null,null,null,null,null,null,null,null,null,null,null,null,null,null,null,null,null,null,null,null,null,null,null,null,null,null,null,null,null,null,null,null,null,null,null,null,null,null,null,null,null,null,null,null,null,null,null,null,null,null,null,null,null,null,null,null,null,null,null,null,null,null,null,null,null,null,null,null,null,null,null,null,null,null,null,null,null,null,null,null,null,null,null,null,null,null,null,null,null,null,null,null,null,null,null,null,null,null,null,null,null,null,null,null,null,null,null,null,null,null,null,null,null,null,null,null,null,null,null,null,null,null,null,null,null,null,null,null,null,null,null,null,null,null,null,null,null,null,null,null,null,null,null,null,null,null,null,null,null,null,null,null,null,null,null,null,null,null,null,null,null,null,null,null,null,null,null,null,null,null,null,null,null,null,null,null,null,null,null,null,null,null,null,null,null,null,null,null,null,null,null,null,null,null,null,null,null,null,null,null,null,null,null,null,null,null,null,null,null,null,null,null,null,null,null,null,null,null,null,null,null,null,null,null,null,null,null,null,null,null,null,null,null,null,null,null,null,null,null,null,null,null,null,null,null,null,null,null,null,null,null,null,null,null,null,null,null,null,null,null,null,null,null,null,null,null,null,null,null,null,null,null,null,null,null,null,null,null,null,null,null,null,null,null,null,null,null,null,null,null,null,null,null,null,null,null,null,null,null,null,null,null,null,null,null,null,null,null,null,null,null,null,null,null,null,null,null,null,null,null,null,null,null,null,null,null,null,null,null,null,null,null,null,null,null,null,null,null,null,null,null,null,null,null,null,null,null,null,null,null,null,null,null,null,null,null,null,null,null,null,null,null,null,null,null,null,null,null,null,null,null,null,null,null,null,null,null,null,null,null,null,null,null,null,null,null,null,null,null,null,null,null,null,null,null,null,null,null,null,null,null,null,null,null,null,null,null,null,null,null,null,null,null,null,null,null,null,null,null,null,null,null,null,null,null,null,{"$f":"#REF!","v":{"$error":"#REF!"}}]
[38,0,37,null,0,0,"No",1,0,0,0,0,0,0,0,0,0,0,0,0,0,{"$f":"#REF!","v":{"$error":"#REF!"}},null,null,null,null,null,null,null,null,null,null,null,null,null,null,null,null,null,null,null,null,null,null,null,null,null,null,null,null,null,null,null,null,null,null,null,null,null,null,null,null,null,null,null,null,null,null,null,null,null,null,null,null,null,null,null,null,null,null,null,null,null,null,null,null,null,null,null,null,null,null,null,null,null,null,null,null,null,null,null,null,null,null,null,null,null,null,null,null,null,null,null,null,null,null,null,null,null,null,null,null,null,null,null,null,null,null,null,null,null,null,null,null,null,null,null,null,null,null,null,null,null,null,null,null,null,null,null,null,null,null,null,null,null,null,null,null,null,null,null,null,null,null,null,null,null,null,null,null,null,null,null,null,null,null,null,null,null,null,null,null,null,null,null,null,null,null,null,null,null,null,null,null,null,null,null,null,null,null,null,null,null,null,null,null,null,null,null,null,null,null,null,null,null,null,null,null,null,null,null,null,null,null,null,null,null,null,null,null,null,null,null,null,null,null,null,null,null,null,null,null,null,null,null,null,null,null,null,null,null,null,null,null,null,null,null,null,null,null,null,null,null,null,null,null,null,null,null,null,null,null,null,null,null,null,null,null,null,null,null,null,null,null,null,null,null,null,null,null,null,null,null,null,null,null,null,null,null,null,null,null,null,null,null,null,null,null,null,null,null,null,null,null,null,null,null,null,null,null,null,null,null,null,null,null,null,null,null,null,null,null,null,null,null,null,null,null,null,null,null,null,null,null,null,null,null,null,null,null,null,null,null,null,null,null,null,null,null,null,null,null,null,null,null,null,null,null,null,null,null,null,null,null,null,null,null,null,null,null,null,null,null,null,null,null,null,null,null,null,null,null,null,null,null,null,null,null,null,null,null,null,null,null,null,null,null,null,null,null,null,null,null,null,null,null,null,null,null,null,null,null,null,null,null,null,null,null,null,null,null,null,null,null,null,null,null,null,null,null,null,null,null,null,null,null,null,null,null,null,null,null,null,null,null,null,null,null,null,null,null,null,null,null,null,null,null,null,null,null,null,null,null,null,null,null,null,null,null,null,null,null,null,null,null,null,null,null,null,null,null,null,null,null,null,null,null,null,null,null,null,null,null,null,null,null,null,null,null,null,null,null,null,null,null,null,null,null,null,null,null,null,null,null,null,null,null,null,null,null,null,null,null,null,null,null,null,null,{"$f":"#REF!","v":{"$error":"#REF!"}}]
[39,0,38,null,0,0,"No",1,0,0,0,0,0,0,0,0,0,0,0,0,0,{"$f":"#REF!","v":{"$error":"#REF!"}},null,null,null,null,null,null,null,null,null,null,null,null,null,null,null,null,null,null,null,null,null,null,null,null,null,null,null,null,null,null,null,null,null,null,null,null,null,null,null,null,null,null,null,null,null,null,null,null,null,null,null,null,null,null,null,null,null,null,null,null,null,null,null,null,null,null,null,null,null,null,null,null,null,null,null,null,null,null,null,null,null,null,null,null,null,null,null,null,null,null,null,null,null,null,null,null,null,null,null,null,null,null,null,null,null,null,null,null,null,null,null,null,null,null,null,null,null,null,null,null,null,null,null,null,null,null,null,null,null,null,null,null,null,null,null,null,null,null,null,null,null,null,null,null,null,null,null,null,null,null,null,null,null,null,null,null,null,null,null,null,null,null,null,null,null,null,null,null,null,null,null,null,null,null,null,null,null,null,null,null,null,null,null,null,null,null,null,null,null,null,null,null,null,null,null,null,null,null,null,null,null,null,null,null,null,null,null,null,null,null,null,null,null,null,null,null,null,null,null,null,null,null,null,null,null,null,null,null,null,null,null,null,null,null,null,null,null,null,null,null,null,null,null,null,null,null,null,null,null,null,null,null,null,null,null,null,null,null,null,null,null,null,null,null,null,null,null,null,null,null,null,null,null,null,null,null,null,null,null,null,null,null,null,null,null,null,null,null,null,null,null,null,null,null,null,null,null,null,null,null,null,null,null,null,null,null,null,null,null,null,null,null,null,null,null,null,null,null,null,null,null,null,null,null,null,null,null,null,null,null,null,null,null,null,null,null,null,null,null,null,null,null,null,null,null,null,null,null,null,null,null,null,null,null,null,null,null,null,null,null,null,null,null,null,null,null,null,null,null,null,null,null,null,null,null,null,null,null,null,null,null,null,null,null,null,null,null,null,null,null,null,null,null,null,null,null,null,null,null,null,null,null,null,null,null,null,null,null,null,null,null,null,null,null,null,null,null,null,null,null,null,null,null,null,null,null,null,null,null,null,null,null,null,null,null,null,null,null,null,null,null,null,null,null,null,null,null,null,null,null,null,null,null,null,null,null,null,null,null,null,null,null,null,null,null,null,null,null,null,null,null,null,null,null,null,null,null,null,null,null,null,null,null,null,null,null,null,null,null,null,null,null,null,null,null,null,null,null,null,null,null,null,null,null,null,null,null,null,null,null,null,null,null,null,null,null,{"$f":"#REF!","v":{"$error":"#REF!"}}]
[40,0,39,null,0,0,"No",1,{"$f":"VLOOKUP(H138,$AB$153:$AC$172,2,FALSE)","v":0},0,0,0,0,0,0,0,0,0,0,0,0,{"$f":"#REF!","v":{"$error":"#REF!"}},null,null,null,null,null,null,null,null,null,null,null,null,null,null,null,null,null,null,null,null,null,null,null,null,null,null,null,null,null,null,null,null,null,null,null,null,null,null,null,null,null,null,null,null,null,null,null,null,null,null,null,null,null,null,null,null,null,null,null,null,null,null,null,null,null,null,null,null,null,null,null,null,null,null,null,null,null,null,null,null,null,null,null,null,null,null,null,null,null,null,null,null,null,null,null,null,null,null,null,null,null,null,null,null,null,null,null,null,null,null,null,null,null,null,null,null,null,null,null,null,null,null,null,null,null,null,null,null,null,null,null,null,null,null,null,null,null,null,null,null,null,null,null,null,null,null,null,null,null,null,null,null,null,null,null,null,null,null,null,null,null,null,null,null,null,null,null,null,null,null,null,null,null,null,null,null,null,null,null,null,null,null,null,null,null,null,null,null,null,null,null,null,null,null,null,null,null,null,null,null,null,null,null,null,null,null,null,null,null,null,null,null,null,null,null,null,null,null,null,null,null,null,null,null,null,null,null,null,null,null,null,null,null,null,null,null,null,null,null,null,null,null,null,null,null,null,null,null,null,null,null,null,null,null,null,null,null,null,null,null,null,null,null,null,null,null,null,null,null,null,null,null,null,null,null,null,null,null,null,null,null,null,null,null,null,null,null,null,null,null,null,null,null,null,null,null,null,null,null,null,null,null,null,null,null,null,null,null,null,null,null,null,null,null,null,null,null,null,null,null,null,null,null,null,null,null,null,null,null,null,null,null,null,null,null,null,null,null,null,null,null,null,null,null,null,null,null,null,null,null,null,null,null,null,null,null,null,null,null,null,null,null,null,null,null,null,null,null,null,null,null,null,null,null,null,null,null,null,null,null,null,null,null,null,null,null,null,null,null,null,null,null,null,null,null,null,null,null,null,null,null,null,null,null,null,null,null,null,null,null,null,null,null,null,null,null,null,null,null,null,null,null,null,null,null,null,null,null,null,null,null,null,null,null,null,null,null,null,null,null,null,null,null,null,null,null,null,null,null,null,null,null,null,null,null,null,null,null,null,null,null,null,null,null,null,null,null,null,null,null,null,null,null,null,null,null,null,null,null,null,null,null,null,null,null,null,null,null,null,null,null,null,null,null,null,null,null,null,null,null,null,null,null,null,null,null,null,null,null,null,null,null,null,null,null,null,{"$f":"#REF!","v":{"$error":"#REF!"}}]
[41,0,40,null,0,0,"No",1,0,0,0,0,0,0,0,0,0,0,0,0,0,{"$f":"#REF!","v":{"$error":"#REF!"}},null,null,null,null,null,null,null,null,null,null,null,null,null,null,null,null,null,null,null,null,null,null,null,null,null,null,null,null,null,null,null,null,null,null,null,null,null,null,null,null,null,null,null,null,null,null,null,null,null,null,null,null,null,null,null,null,null,null,null,null,null,null,null,null,null,null,null,null,null,null,null,null,null,null,null,null,null,null,null,null,null,null,null,null,null,null,null,null,null,null,null,null,null,null,null,null,null,null,null,null,null,null,null,null,null,null,null,null,null,null,null,null,null,null,null,null,null,null,null,null,null,null,null,null,null,null,null,null,null,null,null,null,null,null,null,null,null,null,null,null,null,null,null,null,null,null,null,null,null,null,null,null,null,null,null,null,null,null,null,null,null,null,null,null,null,null,null,null,null,null,null,null,null,null,null,null,null,null,null,null,null,null,null,null,null,null,null,null,null,null,null,null,null,null,null,null,null,null,null,null,null,null,null,null,null,null,null,null,null,null,null,null,null,null,null,null,null,null,null,null,null,null,null,null,null,null,null,null,null,null,null,null,null,null,null,null,null,null,null,null,null,null,null,null,null,null,null,null,null,null,null,null,null,null,null,null,null,null,null,null,null,null,null,null,null,null,null,null,null,null,null,null,null,null,null,null,null,null,null,null,null,null,null,null,null,null,null,null,null,null,null,null,null,null,null,null,null,null,null,null,null,null,null,null,null,null,null,null,null,null,null,null,null,null,null,null,null,null,null,null,null,null,null,null,null,null,null,null,null,null,null,null,null,null,null,null,null,null,null,null,null,null,null,null,null,null,null,null,null,null,null,null,null,null,null,null,null,null,null,null,null,null,null,null,null,null,null,null,null,null,null,null,null,null,null,null,null,null,null,null,null,null,null,null,null,null,null,null,null,null,null,null,null,null,null,null,null,null,null,null,null,null,null,null,null,null,null,null,null,null,null,null,null,null,null,null,null,null,null,null,null,null,null,null,null,null,null,null,null,null,null,null,null,null,null,null,null,null,null,null,null,null,null,null,null,null,null,null,null,null,null,null,null,null,null,null,null,null,null,null,null,null,null,null,null,null,null,null,null,null,null,null,null,null,null,null,null,null,null,null,null,null,null,null,null,null,null,null,null,null,null,null,null,null,null,null,null,null,null,null,null,null,null,null,null,null,null,null,null,null,null,null,null,null,null,null,{"$f":"#REF!","v":{"$error":"#REF!"}}]
[42,0,41,null,0,0,"No",1,0,0,0,0,0,0,0,0,0,0,0,0,0,{"$f":"#REF!","v":{"$error":"#REF!"}},null,null,null,null,null,null,null,null,null,null,null,null,null,null,null,null,null,null,null,null,null,null,null,null,null,null,null,null,null,null,null,null,null,null,null,null,null,null,null,null,null,null,null,null,null,null,null,null,null,null,null,null,null,null,null,null,null,null,null,null,null,null,null,null,null,null,null,null,null,null,null,null,null,null,null,null,null,null,null,null,null,null,null,null,null,null,null,null,null,null,null,null,null,null,null,null,null,null,null,null,null,null,null,null,null,null,null,null,null,null,null,null,null,null,null,null,null,null,null,null,null,null,null,null,null,null,null,null,null,null,null,null,null,null,null,null,null,null,null,null,null,null,null,null,null,null,null,null,null,null,null,null,null,null,null,null,null,null,null,null,null,null,null,null,null,null,null,null,null,null,null,null,null,null,null,null,null,null,null,null,null,null,null,null,null,null,null,null,null,null,null,null,null,null,null,null,null,null,null,null,null,null,null,null,null,null,null,null,null,null,null,null,null,null,null,null,null,null,null,null,null,null,null,null,null,null,null,null,null,null,null,null,null,null,null,null,null,null,null,null,null,null,null,null,null,null,null,null,null,null,null,null,null,null,null,null,null,null,null,null,null,null,null,null,null,null,null,null,null,null,null,null,null,null,null,null,null,null,null,null,null,null,null,null,null,null,null,null,null,null,null,null,null,null,null,null,null,null,null,null,null,null,null,null,null,null,null,null,null,null,null,null,null,null,null,null,null,null,null,null,null,null,null,null,null,null,null,null,null,null,null,null,null,null,null,null,null,null,null,null,null,null,null,null,null,null,null,null,null,null,null,null,null,null,null,null,null,null,null,null,null,null,null,null,null,null,null,null,null,null,null,null,null,null,null,null,null,null,null,null,null,null,null,null,null,null,null,null,null,null,null,null,null,null,null,null,null,null,null,null,null,null,null,null,null,null,null,null,null,null,null,null,null,null,null,null,null,null,null,null,null,null,null,null,null,null,null,null,null,null,null,null,null,null,null,null,null,null,null,null,null,null,null,null,null,null,null,null,null,null,null,null,null,null,null,null,null,null,null,null,null,null,null,null,null,null,null,null,null,null,null,null,null,null,null,null,null,null,null,null,null,null,null,null,null,null,null,null,null,null,null,null,null,null,null,null,null,null,null,null,null,null,null,null,null,null,null,null,null,null,null,null,null,null,null,null,{"$f":"#REF!","v":{"$error":"#REF!"}}]
[43,0,42,null,0,0,"No",1,0,0,0,0,0,0,0,0,0,0,0,0,0,{"$f":"#REF!","v":{"$error":"#REF!"}},null,null,null,null,null,null,null,null,null,null,null,null,null,null,null,null,null,null,null,null,null,null,null,null,null,null,null,null,null,null,null,null,null,null,null,null,null,null,null,null,null,null,null,null,null,null,null,null,null,null,null,null,null,null,null,null,null,null,null,null,null,null,null,null,null,null,null,null,null,null,null,null,null,null,null,null,null,null,null,null,null,null,null,null,null,null,null,null,null,null,null,null,null,null,null,null,null,null,null,null,null,null,null,null,null,null,null,null,null,null,null,null,null,null,null,null,null,null,null,null,null,null,null,null,null,null,null,null,null,null,null,null,null,null,null,null,null,null,null,null,null,null,null,null,null,null,null,null,null,null,null,null,null,null,null,null,null,null,null,null,null,null,null,null,null,null,null,null,null,null,null,null,null,null,null,null,null,null,null,null,null,null,null,null,null,null,null,null,null,null,null,null,null,null,null,null,null,null,null,null,null,null,null,null,null,null,null,null,null,null,null,null,null,null,null,null,null,null,null,null,null,null,null,null,null,null,null,null,null,null,null,null,null,null,null,null,null,null,null,null,null,null,null,null,null,null,null,null,null,null,null,null,null,null,null,null,null,null,null,null,null,null,null,null,null,null,null,null,null,null,null,null,null,null,null,null,null,null,null,null,null,null,null,null,null,null,null,null,null,null,null,null,null,null,null,null,null,null,null,null,null,null,null,null,null,null,null,null,null,null,null,null,null,null,null,null,null,null,null,null,null,null,null,null,null,null,null,null,null,null,null,null,null,null,null,null,null,null,null,null,null,null,null,null,null,null,null,null,null,null,null,null,null,null,null,null,null,null,null,null,null,null,null,null,null,null,null,null,null,null,null,null,null,null,null,null,null,null,null,null,null,null,null,null,null,null,null,null,null,null,null,null,null,null,null,null,null,null,null,null,null,null,null,null,null,null,null,null,null,null,null,null,null,null,null,null,null,null,null,null,null,null,null,null,null,null,null,null,null,null,null,null,null,null,null,null,null,null,null,null,null,null,null,null,null,null,null,null,null,null,null,null,null,null,null,null,null,null,null,null,null,null,null,null,null,null,null,null,null,null,null,null,null,null,null,null,null,null,null,null,null,null,null,null,null,null,null,null,null,null,null,null,null,null,null,null,null,null,null,null,null,null,null,null,null,null,null,null,null,null,null,null,null,null,null,null,{"$f":"#REF!","v":{"$error":"#REF!"}}]
[44,0,43,null,0,0,"No",1,0,0,0,0,0,0,0,0,0,0,0,0,0,{"$f":"#REF!","v":{"$error":"#REF!"}},null,null,null,null,null,null,null,null,null,null,null,null,null,null,null,null,null,null,null,null,null,null,null,null,null,null,null,null,null,null,null,null,null,null,null,null,null,null,null,null,null,null,null,null,null,null,null,null,null,null,null,null,null,null,null,null,null,null,null,null,null,null,null,null,null,null,null,null,null,null,null,null,null,null,null,null,null,null,null,null,null,null,null,null,null,null,null,null,null,null,null,null,null,null,null,null,null,null,null,null,null,null,null,null,null,null,null,null,null,null,null,null,null,null,null,null,null,null,null,null,null,null,null,null,null,null,null,null,null,null,null,null,null,null,null,null,null,null,null,null,null,null,null,null,null,null,null,null,null,null,null,null,null,null,null,null,null,null,null,null,null,null,null,null,null,null,null,null,null,null,null,null,null,null,null,null,null,null,null,null,null,null,null,null,null,null,null,null,null,null,null,null,null,null,null,null,null,null,null,null,null,null,null,null,null,null,null,null,null,null,null,null,null,null,null,null,null,null,null,null,null,null,null,null,null,null,null,null,null,null,null,null,null,null,null,null,null,null,null,null,null,null,null,null,null,null,null,null,null,null,null,null,null,null,null,null,null,null,null,null,null,null,null,null,null,null,null,null,null,null,null,null,null,null,null,null,null,null,null,null,null,null,null,null,null,null,null,null,null,null,null,null,null,null,null,null,null,null,null,null,null,null,null,null,null,null,null,null,null,null,null,null,null,null,null,null,null,null,null,null,null,null,null,null,null,null,null,null,null,null,null,null,null,null,null,null,null,null,null,null,null,null,null,null,null,null,null,null,null,null,null,null,null,null,null,null,null,null,null,null,null,null,null,null,null,null,null,null,null,null,null,null,null,null,null,null,null,null,null,null,null,null,null,null,null,null,null,null,null,null,null,null,null,null,null,null,null,null,null,null,null,null,null,null,null,null,null,null,null,null,null,null,null,null,null,null,null,null,null,null,null,null,null,null,null,null,null,null,null,null,null,null,null,null,null,null,null,null,null,null,null,null,null,null,null,null,null,null,null,null,null,null,null,null,null,null,null,null,null,null,null,null,null,null,null,null,null,null,null,null,null,null,null,null,null,null,null,null,null,null,null,null,null,null,null,null,null,null,null,null,null,null,null,null,null,null,null,null,null,null,null,null,null,null,null,null,null,null,null,null,null,null,null,null,null,null,{"$f":"#REF!","v":{"$error":"#REF!"}}]
[45,0,44,null,0,0,"No",1,0,0,0,0,0,0,0,0,0,0,0,0,0,{"$f":"#REF!","v":{"$error":"#REF!"}},null,null,null,null,null,null,null,null,null,null,null,null,null,null,null,null,null,null,null,null,null,null,null,null,null,null,null,null,null,null,null,null,null,null,null,null,null,null,null,null,null,null,null,null,null,null,null,null,null,null,null,null,null,null,null,null,null,null,null,null,null,null,null,null,null,null,null,null,null,null,null,null,null,null,null,null,null,null,null,null,null,null,null,null,null,null,null,null,null,null,null,null,null,null,null,null,null,null,null,null,null,null,null,null,null,null,null,null,null,null,null,null,null,null,null,null,null,null,null,null,null,null,null,null,null,null,null,null,null,null,null,null,null,null,null,null,null,null,null,null,null,null,null,null,null,null,null,null,null,null,null,null,null,null,null,null,null,null,null,null,null,null,null,null,null,null,null,null,null,null,null,null,null,null,null,null,null,null,null,null,null,null,null,null,null,null,null,null,null,null,null,null,null,null,null,null,null,null,null,null,null,null,null,null,null,null,null,null,null,null,null,null,null,null,null,null,null,null,null,null,null,null,null,null,null,null,null,null,null,null,null,null,null,null,null,null,null,null,null,null,null,null,null,null,null,null,null,null,null,null,null,null,null,null,null,null,null,null,null,null,null,null,null,null,null,null,null,null,null,null,null,null,null,null,null,null,null,null,null,null,null,null,null,null,null,null,null,null,null,null,null,null,null,null,null,null,null,null,null,null,null,null,null,null,null,null,null,null,null,null,null,null,null,null,null,null,null,null,null,null,null,null,null,null,null,null,null,null,null,null,null,null,null,null,null,null,null,null,null,null,null,null,null,null,null,null,null,null,null,null,null,null,null,null,null,null,null,null,null,null,null,null,null,null,null,null,null,null,null,null,null,null,null,null,null,null,null,null,null,null,null,null,null,null,null,null,null,null,null,null,null,null,null,null,null,null,null,null,null,null,null,null,null,null,null,null,null,null,null,null,null,null,null,null,null,null,null,null,null,null,null,null,null,null,null,null,null,null,null,null,null,null,null,null,null,null,null,null,null,null,null,null,null,null,null,null,null,null,null,null,null,null,null,null,null,null,null,null,null,null,null,null,null,null,null,null,null,null,null,null,null,null,null,null,null,null,null,null,null,null,null,null,null,null,null,null,null,null,null,null,null,null,null,null,null,null,null,null,null,null,null,null,null,null,null,null,null,null,null,null,null,null,null,null,null,null,{"$f":"#REF!","v":{"$error":"#REF!"}}]
[46,0,45,null,0,0,"No",1,0,0,0,0,0,0,0,0,0,0,0,0,0,{"$f":"#REF!","v":{"$error":"#REF!"}},null,null,null,null,null,null,null,null,null,null,null,null,null,null,null,null,null,null,null,null,null,null,null,null,null,null,null,null,null,null,null,null,null,null,null,null,null,null,null,null,null,null,null,null,null,null,null,null,null,null,null,null,null,null,null,null,null,null,null,null,null,null,null,null,null,null,null,null,null,null,null,null,null,null,null,null,null,null,null,null,null,null,null,null,null,null,null,null,null,null,null,null,null,null,null,null,null,null,null,null,null,null,null,null,null,null,null,null,null,null,null,null,null,null,null,null,null,null,null,null,null,null,null,null,null,null,null,null,null,null,null,null,null,null,null,null,null,null,null,null,null,null,null,null,null,null,null,null,null,null,null,null,null,null,null,null,null,null,null,null,null,null,null,null,null,null,null,null,null,null,null,null,null,null,null,null,null,null,null,null,null,null,null,null,null,null,null,null,null,null,null,null,null,null,null,null,null,null,null,null,null,null,null,null,null,null,null,null,null,null,null,null,null,null,null,null,null,null,null,null,null,null,null,null,null,null,null,null,null,null,null,null,null,null,null,null,null,null,null,null,null,null,null,null,null,null,null,null,null,null,null,null,null,null,null,null,null,null,null,null,null,null,null,null,null,null,null,null,null,null,null,null,null,null,null,null,null,null,null,null,null,null,null,null,null,null,null,null,null,null,null,null,null,null,null,null,null,null,null,null,null,null,null,null,null,null,null,null,null,null,null,null,null,null,null,null,null,null,null,null,null,null,null,null,null,null,null,null,null,null,null,null,null,null,null,null,null,null,null,null,null,null,null,null,null,null,null,null,null,null,null,null,null,null,null,null,null,null,null,null,null,null,null,null,null,null,null,null,null,null,null,null,null,null,null,null,null,null,null,null,null,null,null,null,null,null,null,null,null,null,null,null,null,null,null,null,null,null,null,null,null,null,null,null,null,null,null,null,null,null,null,null,null,null,null,null,null,null,null,null,null,null,null,null,null,null,null,null,null,null,null,null,null,null,null,null,null,null,null,null,null,null,null,null,null,null,null,null,null,null,null,null,null,null,null,null,null,null,null,null,null,null,null,null,null,null,null,null,null,null,null,null,null,null,null,null,null,null,null,null,null,null,null,null,null,null,null,null,null,null,null,null,null,null,null,null,null,null,null,null,null,null,null,null,null,null,null,null,null,null,null,null,null,null,null,null,{"$f":"#REF!","v":{"$error":"#REF!"}}]
[47,0,46,null,0,0,"No",1,0,0,0,0,0,0,0,0,0,0,0,0,0,{"$f":"#REF!","v":{"$error":"#REF!"}},null,null,null,null,null,null,null,null,null,null,null,null,null,null,null,null,null,null,null,null,null,null,null,null,null,null,null,null,null,null,null,null,null,null,null,null,null,null,null,null,null,null,null,null,null,null,null,null,null,null,null,null,null,null,null,null,null,null,null,null,null,null,null,null,null,null,null,null,null,null,null,null,null,null,null,null,null,null,null,null,null,null,null,null,null,null,null,null,null,null,null,null,null,null,null,null,null,null,null,null,null,null,null,null,null,null,null,null,null,null,null,null,null,null,null,null,null,null,null,null,null,null,null,null,null,null,null,null,null,null,null,null,null,null,null,null,null,null,null,null,null,null,null,null,null,null,null,null,null,null,null,null,null,null,null,null,null,null,null,null,null,null,null,null,null,null,null,null,null,null,null,null,null,null,null,null,null,null,null,null,null,null,null,null,null,null,null,null,null,null,null,null,null,null,null,null,null,null,null,null,null,null,null,null,null,null,null,null,null,null,null,null,null,null,null,null,null,null,null,null,null,null,null,null,null,null,null,null,null,null,null,null,null,null,null,null,null,null,null,null,null,null,null,null,null,null,null,null,null,null,null,null,null,null,null,null,null,null,null,null,null,null,null,null,null,null,null,null,null,null,null,null,null,null,null,null,null,null,null,null,null,null,null,null,null,null,null,null,null,null,null,null,null,null,null,null,null,null,null,null,null,null,null,null,null,null,null,null,null,null,null,null,null,null,null,null,null,null,null,null,null,null,null,null,null,null,null,null,null,null,null,null,null,null,null,null,null,null,null,null,null,null,null,null,null,null,null,null,null,null,null,null,null,null,null,null,null,null,null,null,null,null,null,null,null,null,null,null,null,null,null,null,null,null,null,null,null,null,null,null,null,null,null,null,null,null,null,null,null,null,null,null,null,null,null,null,null,null,null,null,null,null,null,null,null,null,null,null,null,null,null,null,null,null,null,null,null,null,null,null,null,null,null,null,null,null,null,null,null,null,null,null,null,null,null,null,null,null,null,null,null,null,null,null,null,null,null,null,null,null,null,null,null,null,null,null,null,null,null,null,null,null,null,null,null,null,null,null,null,null,null,null,null,null,null,null,null,null,null,null,null,null,null,null,null,null,null,null,null,null,null,null,null,null,null,null,null,null,null,null,null,null,null,null,null,null,null,null,null,null,null,null,null,null,null,null,{"$f":"#REF!","v":{"$error":"#REF!"}}]
[48,0,47,null,0,0,"No",1,0,0,0,0,0,0,0,0,0,0,0,0,0,{"$f":"#REF!","v":{"$error":"#REF!"}},null,null,null,null,null,null,null,null,null,null,null,null,null,null,null,null,null,null,null,null,null,null,null,null,null,null,null,null,null,null,null,null,null,null,null,null,null,null,null,null,null,null,null,null,null,null,null,null,null,null,null,null,null,null,null,null,null,null,null,null,null,null,null,null,null,null,null,null,null,null,null,null,null,null,null,null,null,null,null,null,null,null,null,null,null,null,null,null,null,null,null,null,null,null,null,null,null,null,null,null,null,null,null,null,null,null,null,null,null,null,null,null,null,null,null,null,null,null,null,null,null,null,null,null,null,null,null,null,null,null,null,null,null,null,null,null,null,null,null,null,null,null,null,null,null,null,null,null,null,null,null,null,null,null,null,null,null,null,null,null,null,null,null,null,null,null,null,null,null,null,null,null,null,null,null,null,null,null,null,null,null,null,null,null,null,null,null,null,null,null,null,null,null,null,null,null,null,null,null,null,null,null,null,null,null,null,null,null,null,null,null,null,null,null,null,null,null,null,null,null,null,null,null,null,null,null,null,null,null,null,null,null,null,null,null,null,null,null,null,null,null,null,null,null,null,null,null,null,null,null,null,null,null,null,null,null,null,null,null,null,null,null,null,null,null,null,null,null,null,null,null,null,null,null,null,null,null,null,null,null,null,null,null,null,null,null,null,null,null,null,null,null,null,null,null,null,null,null,null,null,null,null,null,null,null,null,null,null,null,null,null,null,null,null,null,null,null,null,null,null,null,null,null,null,null,null,null,null,null,null,null,null,null,null,null,null,null,null,null,null,null,null,null,null,null,null,null,null,null,null,null,null,null,null,null,null,null,null,null,null,null,null,null,null,null,null,null,null,null,null,null,null,null,null,null,null,null,null,null,null,null,null,null,null,null,null,null,null,null,null,null,null,null,null,null,null,null,null,null,null,null,null,null,null,null,null,null,null,null,null,null,null,null,null,null,null,null,null,null,null,null,null,null,null,null,null,null,null,null,null,null,null,null,null,null,null,null,null,null,null,null,null,null,null,null,null,null,null,null,null,null,null,null,null,null,null,null,null,null,null,null,null,null,null,null,null,null,null,null,null,null,null,null,null,null,null,null,null,null,null,null,null,null,null,null,null,null,null,null,null,null,null,null,null,null,null,null,null,null,null,null,null,null,null,null,null,null,null,null,null,null,null,null,null,null,null,{"$f":"#REF!","v":{"$error":"#REF!"}}]
[49,0,48,null,0,0,"No",1,0,0,0,0,0,0,0,0,0,0,0,0,0,{"$f":"#REF!","v":{"$error":"#REF!"}},null,null,null,null,null,null,null,null,null,null,null,null,null,null,null,null,null,null,null,null,null,null,null,null,null,null,null,null,null,null,null,null,null,null,null,null,null,null,null,null,null,null,null,null,null,null,null,null,null,null,null,null,null,null,null,null,null,null,null,null,null,null,null,null,null,null,null,null,null,null,null,null,null,null,null,null,null,null,null,null,null,null,null,null,null,null,null,null,null,null,null,null,null,null,null,null,null,null,null,null,null,null,null,null,null,null,null,null,null,null,null,null,null,null,null,null,null,null,null,null,null,null,null,null,null,null,null,null,null,null,null,null,null,null,null,null,null,null,null,null,null,null,null,null,null,null,null,null,null,null,null,null,null,null,null,null,null,null,null,null,null,null,null,null,null,null,null,null,null,null,null,null,null,null,null,null,null,null,null,null,null,null,null,null,null,null,null,null,null,null,null,null,null,null,null,null,null,null,null,null,null,null,null,null,null,null,null,null,null,null,null,null,null,null,null,null,null,null,null,null,null,null,null,null,null,null,null,null,null,null,null,null,null,null,null,null,null,null,null,null,null,null,null,null,null,null,null,null,null,null,null,null,null,null,null,null,null,null,null,null,null,null,null,null,null,null,null,null,null,null,null,null,null,null,null,null,null,null,null,null,null,null,null,null,null,null,null,null,null,null,null,null,null,null,null,null,null,null,null,null,null,null,null,null,null,null,null,null,null,null,null,null,null,null,null,null,null,null,null,null,null,null,null,null,null,null,null,null,null,null,null,null,null,null,null,null,null,null,null,null,null,null,null,null,null,null,null,null,null,null,null,null,null,null,null,null,null,null,null,null,null,null,null,null,null,null,null,null,null,null,null,null,null,null,null,null,null,null,null,null,null,null,null,null,null,null,null,null,null,null,null,null,null,null,null,null,null,null,null,null,null,null,null,null,null,null,null,null,null,null,null,null,null,null,null,null,null,null,null,null,null,null,null,null,null,null,null,null,null,null,null,null,null,null,null,null,null,null,null,null,null,null,null,null,null,null,null,null,null,null,null,null,null,null,null,null,null,null,null,null,null,null,null,null,null,null,null,null,null,null,null,null,null,null,null,null,null,null,null,null,null,null,null,null,null,null,null,null,null,null,null,null,null,null,null,null,null,null,null,null,null,null,null,null,null,null,null,null,null,null,null,null,null,null,null,null,{"$f":"#REF!","v":{"$error":"#REF!"}}]
[50,0,49,null,0,0,"No",1,0,0,0,0,0,0,0,0,0,0,0,0,0,{"$f":"#REF!","v":{"$error":"#REF!"}},null,null,null,null,null,null,null,null,null,null,null,null,null,null,null,null,null,null,null,null,null,null,null,null,null,null,null,null,null,null,null,null,null,null,null,null,null,null,null,null,null,null,null,null,null,null,null,null,null,null,null,null,null,null,null,null,null,null,null,null,null,null,null,null,null,null,null,null,null,null,null,null,null,null,null,null,null,null,null,null,null,null,null,null,null,null,null,null,null,null,null,null,null,null,null,null,null,null,null,null,null,null,null,null,null,null,null,null,null,null,null,null,null,null,null,null,null,null,null,null,null,null,null,null,null,null,null,null,null,null,null,null,null,null,null,null,null,null,null,null,null,null,null,null,null,null,null,null,null,null,null,null,null,null,null,null,null,null,null,null,null,null,null,null,null,null,null,null,null,null,null,null,null,null,null,null,null,null,null,null,null,null,null,null,null,null,null,null,null,null,null,null,null,null,null,null,null,null,null,null,null,null,null,null,null,null,null,null,null,null,null,null,null,null,null,null,null,null,null,null,null,null,null,null,null,null,null,null,null,null,null,null,null,null,null,null,null,null,null,null,null,null,null,null,null,null,null,null,null,null,null,null,null,null,null,null,null,null,null,null,null,null,null,null,null,null,null,null,null,null,null,null,null,null,null,null,null,null,null,null,null,null,null,null,null,null,null,null,null,null,null,null,null,null,null,null,null,null,null,null,null,null,null,null,null,null,null,null,null,null,null,null,null,null,null,null,null,null,null,null,null,null,null,null,null,null,null,null,null,null,null,null,null,null,null,null,null,null,null,null,null,null,null,null,null,null,null,null,null,null,null,null,null,null,null,null,null,null,null,null,null,null,null,null,null,null,null,null,null,null,null,null,null,null,null,null,null,null,null,null,null,null,null,null,null,null,null,null,null,null,null,null,null,null,null,null,null,null,null,null,null,null,null,null,null,null,null,null,null,null,null,null,null,null,null,null,null,null,null,null,null,null,null,null,null,null,null,null,null,null,null,null,null,null,null,null,null,null,null,null,null,null,null,null,null,null,null,null,null,null,null,null,null,null,null,null,null,null,null,null,null,null,null,null,null,null,null,null,null,null,null,null,null,null,null,null,null,null,null,null,null,null,null,null,null,null,null,null,null,null,null,null,null,null,null,null,null,null,null,null,null,null,null,null,null,null,null,null,null,null,null,null,null,null,null,null,{"$f":"#REF!","v":{"$error":"#REF!"}}]
[" ","EV Charger",50,null,0,0.3,"No",1,{"$f":"VLOOKUP(H149,$AB$153:$AC$172,2,FALSE)","v":0},0,0,{"$f":"(K149*J149)+J149","v":0},0,0,null,0,0,0,{"$f":"J149+M149+Q149","v":0},{"$f":"(J149*K149)+(M149*N149)+(Q149*R149)","v":0},{"$f":"(S149+T149)*F149","v":0},{"$f":"#REF!","v":{"$error":"#REF!"}},null,null,null,null,null,null,null,null,null,null,null,null,null,null,null,null,null,null,null,null,null,null,null,null,null,null,null,null,null,null,null,null,null,null,null,null,null,null,null,null,null,null,null,null,null,null,null,null,null,null,null,null,null,null,null,null,null,null,null,null,null,null,null,null,null,null,null,null,null,null,null,null,null,null,null,null,null,null,null,null,null,null,null,null,null,null,null,null,null,null,null,null,null,null,null,null,null,null,null,null,null,null,null,null,null,null,null,null,null,null,null,null,null,null,null,null,null,null,null,null,null,null,null,null,null,null,null,null,null,null,null,null,null,null,null,null,null,null,null,null,null,null,null,null,null,null,null,null,null,null,null,null,null,null,null,null,null,null,null,null,null,null,null,null,null,null,null,null,null,null,null,null,null,null,null,null,null,null,null,null,null,null,null,null,null,null,null,null,null,null,null,null,null,null,null,null,null,null,null,null,null,null,null,null,null,null,null,null,null,null,null,null,null,null,null,null,null,null,null,null,null,null,null,null,null,null,null,null,null,null,null,null,null,null,null,null,null,null,null,null,null,null,null,null,null,null,null,null,null,null,null,null,null,null,null,null,null,null,null,null,null,null,null,null,null,null,null,null,null,null,null,null,null,null,null,null,null,null,null,null,null,null,null,null,null,null,null,null,null,null,null,null,null,null,null,null,null,null,null,null,null,null,null,null,null,null,null,null,null,null,null,null,null,null,null,null,null,null,null,null,null,null,null,null,null,null,null,null,null,null,null,null,null,null,null,null,null,null,null,null,null,null,null,null,null,null,null,null,null,null,null,null,null,null,null,null,null,null,null,null,null,null,null,null,null,null,null,null,null,null,null,null,null,null,null,null,null,null,null,null,null,null,null,null,null,null,null,null,null,null,null,null,null,null,null,null,null,null,null,null,null,null,null,null,null,null,null,null,null,null,null,null,null,null,null,null,null,null,null,null,null,null,null,null,null,null,null,null,null,null,null,null,null,null,null,null,null,null,null,null,null,null,null,null,null,null,null,null,null,null,null,null,null,null,null,null,null,null,null,null,null,null,null,null,null,null,null,null,null,null,null,null,null,null,null,null,null,null,null,null,null,null,null,null,null,null,null,null,null,null,null,null,null,null,null,null,null,null,null,null,null,null,null,null,null,null,null,null,null,null,null,null,null,null,null,null,{"$f":"#REF!","v":{"$error":"#REF!"}}]
[null,"Add additional rows as required",null,null," ",null,null,null,null,null,null,null,0,null,null,null,null,null,null,null,null,null,null,null,null,null,null,null,null,null,null,null,null,null,null,null,null,null,null,null,null,null,null,"M& V retention",null,null,null,null,null,null,null,null,null,null,null,null,null,null,null,null,null,null,null,null,null,null,null,null,null,null,null,null,null,null,null,null,null,null,null,null,null,null,null,null,null,null,null,null,null,null,null,null,null,null,null,null,null,null,null,null,null,null,null,null,null,null,null,null,null,null,null,null,null,null,null,null,null,null,null,null,null,null,null,null,null,null,null,null,null,null,null,null,null,null,null,null,null,null,null,null,null,null,null,null,null,null,null,null,null,null,null,null,null,null,null,null,null,null,null,null,null,null,null,null,null,null,null,null,null,null,null,null,null,null,null,null,null,null,null,null,null,null,null,null,null,null,null,null,null,null,null,null,null,null,null,null,null,null,null,null,null,null,null,null,null,null,null,null,null,null,null,null,null,null,null,null,null,null,null,null,null,null,null,null,null,null,null,null,null,null,null,null,null,null,null,null,null,null,null,null,null,null,null,null,null,null,null,null,null,null,null,null,null,null,null,null,null,null,null,null,null,null,null,null,null,null,null,null,null,null,null,null,null,null,null,null,null,null,null,null,null,null,null,null,null,null,null,null,null,null,null,null,null,null,null,null,null,null,null,null,null,null,null,null,null,null,null,null,null,null,null,null,null,null,null,null,null,null,null,null,null,null,null,null,null,null,null,null,null,null,null,null,null,null,null,null,null,null,null,null,null,null,null,null,null,null,null,null,null,null,null,null,null,null,null,null,null,null,null,null,null,null,null,null,null,null,null,null,null,null,null,null,null,null,null,null,null,null,null,null,null,null,null,null,null,null,null,null,null,null,null,null,null,null,null,null,null,null,null,null,null,null,null,null,null,null,null,null,null,null,null,null,null,null,null,null,null,null,null,null,null,null,null,null,null,null,null,null,null,null,null,null,null,null,null,null,null,null,null,null,null,null,null,null,null,null,null,null,null,null,null,null,null,null,null,null,null,null,null,null,null,null,null,null,null,null,null,null,null,null,null,null,null,null,null,null,null,null,null,null,null,null,null,null,null,null,null,null,null,null,null,null,null,null,null,null,null,null,null,null,null,null,null,null,null,null,null,null,null,null,null,null,null,null,null,null,null,null,null,null,null,null,null,null,null,null,null,null,null,null,null,null,null,null,null,null,null,null,null,"M&V"]
[null,null,null,null,null,null,null,null,null,{"$f":"SUM(J99:J150)","v":0},null,{"$f":"SUM(L99:L150)","v":0},{"$f":"SUM(M99:M150)","v":0},null,{"$f":"SUM(O99:O150)","v":0},null,{"$f":"SUM(Q99:Q150)","v":0},null,{"$f":"SUM(S99:S150)","v":0},{"$f":"SUM(T99:T150)","v":0},{"$f":"SUM(U99:U150)","v":0},null,null,null,null,null,null,null,null,null,null,null,null,null,null,null,null,null,null,null,null,null,null,{"$f":"SUM(U151*0.1)","v":0},null,null,null,null,null,null,null,null,null,null,null,null,null,null,null,null,null,null,null,null,null,null,null,null,null,null,null,null,null,null,null,null,null,null,null,null,null,null,null,null,null,null,null,null,null,null,null,null,null,null,null,null,null,null,null,null,null,null,null,null,null,null,null,null,null,null,null,null,null,null,null,null,null,null,null,null,null,null,null,null,null,null,null,null,null,null,null,null,null,null,null,null,null,null,null,null,null,null,null,null,null,null,null,null,null,null,null,null,null,null,null,null,null,null,null,null,null,null,null,null,null,null,null,null,null,null,null,null,null,null,null,null,null,null,null,null,null,null,null,null,null,null,null,null,null,null,null,null,null,null,null,null,null,null,null,null,null,null,null,null,null,null,null,null,null,null,null,null,null,null,null,null,null,null,null,null,null,null,null,null,null,null,null,null,null,null,null,null,null,null,null,null,null,null,null,null,null,null,null,null,null,null,null,null,null,null,null,null,null,null,null,null,null,null,null,null,null,null,null,null,null,null,null,null,null,null,null,null,null,null,null,null,null,null,null,null,null,null,null,null,null,null,null,null,null,null,null,null,null,null,null,null,null,null,null,null,null,null,null,null,null,null,null,null,null,null,null,null,null,null,null,null,null,null,null,null,null,null,null,null,null,null,null,null,null,null,null,null,null,null,null,null,null,null,null,null,null,null,null,null,null,null,null,null,null,null,null,null,null,null,null,null,null,null,null,null,null,null,null,null,null,null,null,null,null,null,null,null,null,null,null,null,null,null,null,null,null,null,null,null,null,null,null,null,null,null,null,null,null,null,null,null,null,null,null,null,null,null,null,null,null,null,null,null,null,null,null,null,null,null,null,null,null,null,null,null,null,null,null,null,null,null,null,null,null,null,null,null,null,null,null,null,null,null,null,null,null,null,null,null,null,null,null,null,null,null,null,null,null,null,null,null,null,null,null,null,null,null,null,null,null,null,null,null,null,null,null,null,null,null,null,null,null,null,null,null,null,null,null,null,null,null,null,null,null,null,null,null,null,null,null,null,null,null,null,null,null,null,null,null,null,null,null,null,null,null,null,null,null,null,null,null,null,null,null,null,null,null,null,null,null,null,null,null,null,null,null,null,null,null,null,null,null,null,null,{"$f":"U151*0.1","v":0}]
[null,null,null,null,null,null,null,null,null,null,null,null,null,null,null,null,null,null,null,null,null,null,"-",null,null,null," ","Beneficiary"," ","Grant Dom","Grant non dom"," "," "," ","Cost Dom","Cost Non Dom","VAT Non Dom","VAT Dom"]
["Communities Programme - Domestic Costs\n",null,null,null,null,"No of Homes",null," ","Beneficiary","Total Project Cost","SEAI Grant Funding",null,null,null,null,null,null,null,null,null,null,null,null,null,"-",0,null,1,{"$f":"D8","v":0},{"$f":"IF(H$156=AB153,K$156,0)+IF(H$157=AB153,K$157,0)+IF(H$158=AB153,K$158,0)+IF(H$159=AB153,K$159,0)+IF(H$160=AB153,K$160,0)+IF(H$161=AB153,K$161,0)+IF(H$162=AB153,K$162,0)+IF(H$163=AB153,K$163,0)+IF(H$164=AB153,K$164,0)+IF(H$165=AB153,K$165,0)+IF(H$166=AB153,K$166,0)+IF(H$167=AB153,K$167,0)+IF(H$168=AB153,K$168,0)+IF(H$169=AB153,K$169,0)","v":0},{"$f":"IF(H$99=AB153,U$100,0)+IF(H$100=AB153,U$99,0)+IF(H$101=AB153,U$101,0)+IF(H$102=AB153,U$102,0)+IF(H$103=AB153,U$103,0)+IF(H$104=AB153,U$104,0)+IF(H$105=AB153,U$105,0)+IF(H$106=AB153,U$106,0)+IF(H$107=AB153,U$107,0)+IF(H$108=AB153,U$108,0)+IF(H$109=AB153,U$109,0)+IF(H$110=AB153,U$110,0)+IF(H$111=AB153,U$111,0)+IF(H$112=AB153,U$112,0)+IF(H$113=AB153,U$113,0)+IF(H$114=AB153,U$114,0)+IF(H$115=AB153,U$115,0)+IF(H$116=AB153,U$116,0)+IF(H$117=AB153,U$117,0)+IF(H$118=AB153,U$118,0)+IF(H$119=AB153,U$119,0)+IF(H$120=AB153,U$120,0)+IF(H$121=AB153,U$121,0)+IF(H$122=AB153,U$122,0)+IF(H$123=AB153,U$123,0)+IF(H$124=AB153,U$124,0)+IF(H$125=AB153,U$125,0)+IF(H$126=AB153,U$126,0)+IF(H$127=AB153,U$127,0)+IF(H$128=AB153,U$128,0)+IF(H$129=AB153,U$129,0)+IF(H$130=AB153,U$130,0)+IF(H$131=AB153,U$131,0)+IF(H$132=AB153,U$132,0)+IF(H$133=AB153,U$133,0)+IF(H$134=AB153,U$134,0)+IF(H$135=AB153,U$135,0)+IF(H$136=AB153,U$136,0)+IF(H$137=AB153,U$137,0)+IF(H$138=AB153,U$138,0) +IF(H$139= AB153,U$139,0) +IF(H$140= AB153,U$140,0) +IF(H$141= AB153,U$141,0) +IF(H$142= AB153,U$142,0) +IF(H$143= AB153,U$143,0) +IF(H$144= AB153,U$144,0) +IF(H$145= AB153,U$145,0) +IF(H$146= AB153,U$146,0) +IF(H$147= AB153,U$147,0) +IF(H$148= AB153,U$148,0)+IF(H$149=AB153,U$149,0)","v":0},{"$f":"SUM(AD153:AE153)","v":0},{"$f":"AF153/AF$173","v":{"$error":"#DIV/0!"}},null,{"$f":"IF(H$156=AB153,SUM(J$156),0)+IF(H$157=AB153,SUM(J$157),0)+IF(H$158=AB153,SUM(J$158),0)+IF(H$159=AB153,SUM(J$159),0)+IF(H$160=AB153,SUM(J$160),0)+IF(H$161=AB153,SUM(J$161),0)+IF(H$162=AB153,SUM(J$162),0)+IF(H$163=AB153,SUM(J$163),0)+IF(H$164=AB153,SUM(J$164),0)+IF(H$165=AB153,SUM(J$165),0)+IF(H$166=AB153,SUM(J$166),0)+IF(H$167=AB153,SUM(J$167),0)+IF(H$168=AB153,SUM(J$168),0)+IF(H$169=AB153,SUM(J$169),0)","v":0},{"$f":"IF(H$99=AB153,SUM(S$99:T$99),0)+IF(H$100=AB153,SUM(S$100:T$100),0)+IF(H$101=AB153,SUM(S$101:T$101),0)+IF(H$102=AB153,SUM(S$102:T$102),0)+IF(H$103=AB153,SUM(S$103:T$103),0)+IF(H$104=AB153,SUM(S$104:T$104),0)+IF(H$105=AB153,SUM(S$105:T$105),0)+IF(H$106=AB153,SUM(S$106:T$106),0)+IF(H$107=AB153,SUM(S$107:T$107),0)+IF(H$108=AB153,SUM(S$108:T$108),0)+IF(H$109=AB153,SUM(S$109:T$109),0)+IF(H$110=AB153,SUM(S$110:T$110),0)+IF(H$111=AB153,SUM(S$111:T$111),0)+IF(H$112=AB153,SUM(S$112:T$112),0)+IF(H$113=AB153,SUM(S$113:T$113),0)+IF(H$114=AB153,SUM(S$114:T$114),0)+IF(H$115=AB153,SUM(S$115:T$115),0)+IF(H$116=AB153,SUM(S$116:T$116),0)+IF(H$117=AB153,SUM(S$117:T$117),0)+IF(H$118=AB153,SUM(S$118:T$118),0)+IF(H$119=AB153,SUM(S$119:T$119),0)+IF(H$120=AB153,SUM(S$120:T$120),0)+IF(H$121=AB153,SUM(S$121:T$121),0)+IF(H$122=AB153,SUM(S$122:T$122),0)+IF(H$123=AB153,SUM(S$123:T$123),0)+IF(H$124=AB153,SUM(S$124:T$124),0)+IF(H$125=AB153,SUM(S$125:T$125),0)+IF(H$126=AB153,SUM(S$126:T$126),0)+IF(H$127=AB153,SUM(S$127:T$127),0)+IF(H$128=AB153,SUM(S$128:T$128),0)+IF(H$129=AB153,SUM(S$129:T$129),0)+IF(H$130=AB153,SUM(S$130:T$130),0)+IF(H$131=AB153,SUM(S$131:T$131),0)+IF(H$132=AB153,SUM(S$132:T$132),0)+IF(H$133=AB153,SUM(S$133:T$133),0)+IF(H$134=AB153,SUM(S$134:T$134),0)+IF(H$135=AB153,SUM(S$135:T$135),0)+IF(H$136=AB153,SUM(S$136:T$136),0)+IF(H$137=AB153,SUM(S$137:T$137),0)+IF(H$138=AB153,SUM(S$138:T$138),0)+IF(H$139=AB153,SUM(S$139:T$139),0) +IF(H$140=AB153,SUM(S$140:T$140),0) +IF(H$141=AB153,SUM(S$141:T$141),0) +IF(H$142=AB153,SUM(S$142:T$142),0) +IF(H$143=AB153,SUM(S$143:T$143),0) +IF(H$144=AB153,SUM(S$144:T$144),0) +IF(H$145=AB153,SUM(S$145:T$145),0) +IF(H$146=AB153,SUM(S$146:T$146),0) +IF(H$147=AB153,SUM(S$147:T$147),0) +IF(H$148=AB153,SUM(S$148:T$148),0)+IF(H$149=AB153,SUM(S$149:T$149),0)","v":0},{"$f":"IF(H$99=AB153,SUM(T$99),0)+IF(H$100=AB153,SUM(T$100),0)+IF(H$101=AB153,SUM(T$101),0)+IF(H$102=AB153,SUM(T$102),0)+IF(H$103=AB153,SUM(T$103),0)+IF(H$104=AB153,SUM(T$104),0)+IF(H$105=AB153,SUM(T$105),0)+IF(H$106=AB153,SUM(T$106),0)+IF(H$107=AB153,SUM(T$107),0)+IF(H$108=AB153,SUM(T$108),0)+IF(H$109=AB153,SUM(T$109),0)+IF(H$110=AB153,SUM(T$110),0)+IF(H$111=AB153,SUM(T$111),0)+IF(H$112=AB153,SUM(T$112),0)+IF(H$113=AB153,SUM(T$113),0)+IF(H$114=AB153,SUM(T$114),0)+IF(H$115=AB153,SUM(T$115),0)+IF(H$116=AB153,SUM(T$116),0)+IF(H$117=AB153,SUM(T$117),0)+IF(H$118=AB153,SUM(T$118),0)+IF(H$119=AB153,SUM(T$119),0)+IF(H$120=AB153,SUM(T$120),0)+IF(H$121=AB153,SUM(T$121),0)+IF(H$122=AB153,SUM(T$122),0)+IF(H$123=AB153,SUM(T$123),0)+IF(H$124=AB153,SUM(T$124),0)+IF(H$125=AB153,SUM(T$125),0)+IF(H$126=AB153,SUM(T$126),0)+IF(H$127=AB153,SUM(T$127),0)+IF(H$128=AB153,SUM(T$128),0)+IF(H$129=AB153,SUM(T$129),0)+IF(H$130=AB153,SUM(T$130),0)+IF(H$131=AB153,SUM(T$131),0)+IF(H$132=AB153,SUM(T$132),0)+IF(H$133=AB153,SUM(T$133),0)+IF(H$134=AB153,SUM(T$134),0)+IF(H$135=AB153,SUM(T$135),0)+IF(H$136=AB153,SUM(T$136),0)+IF(H$137=AB153,SUM(T$137),0)+IF(H$138=AB153,SUM(T$138),0) +IF(H$139=AB153,SUM(T$139),0) +IF(H$140=AB153,SUM(T$140),0) +IF(H$141=AB153,SUM(T$141),0) +IF(H$142=AB153,SUM(T$142),0) +IF(H$143=AB153,SUM(T$143),0) +IF(H$144=AB153,SUM(T$144),0) +IF(H$145=AB153,SUM(T$145),0) +IF(H$146=AB153,SUM(T$146),0) +IF(H$147=AB153,SUM(T$147),0) +IF(H$148=AB153,SUM(T$148),0)+IF(H$149=AB153,SUM(T$149),0)","v":0},0]
[null," ",null,null,null,null,null,null,null,null,null,null,null,null,null,null,null,null,null,null,null,null,null,null,"-",0,null,2,{"$f":"D9","v":"Enter Name of Beneficiary"},0,{"$f":"IF(H$99=AB154,#REF!,0)+IF(H$100=AB154,U$99,0)+IF(H$101=AB154,#REF!,0)+IF(H$102=AB154,U$102,0)+IF(H$103=AB154,U$103,0)+IF(H$104=AB154,U$104,0)+IF(H$105=AB154,U$105,0)+IF(H$106=AB154,U$106,0)+IF(H$107=AB154,U$107,0)+IF(H$108=AB154,U$108,0)+IF(H$109=AB154,U$109,0)+IF(H$110=AB154,U$110,0)+IF(H$111=AB154,U$111,0)+IF(H$112=AB154,U$112,0)+IF(H$113=AB154,U$113,0)+IF(H$114=AB154,U$114,0)+IF(H$115=AB154,U$115,0)+IF(H$116=AB154,U$116,0)+IF(H$117=AB154,U$117,0)+IF(H$118=AB154,U$118,0)+IF(H$119=AB154,U$119,0)+IF(H$120=AB154,U$120,0)+IF(H$121=AB154,U$121,0)+IF(H$122=AB154,U$122,0)+IF(H$123=AB154,U$123,0)+IF(H$124=AB154,U$124,0)+IF(H$125=AB154,U$125,0)+IF(H$126=AB154,U$126,0)+IF(H$127=AB154,U$127,0)+IF(H$128=AB154,U$128,0)+IF(H$129=AB154,U$129,0)+IF(H$130=AB154,U$130,0)+IF(H$131=AB154,U$131,0)+IF(H$132=AB154,U$132,0)+IF(H$133=AB154,U$133,0)+IF(H$134=AB154,U$134,0)+IF(H$135=AB154,U$135,0)+IF(H$136=AB154,U$136,0)+IF(H$137=AB154,U$137,0)+IF(H$138=AB154,U$138,0) +IF(H$139= AB154,U$139,0) +IF(H$140= AB154,U$140,0) +IF(H$141= AB154,U$141,0) +IF(H$142= AB154,U$142,0) +IF(H$143= AB154,U$143,0) +IF(H$144= AB154,U$144,0) +IF(H$145= AB154,U$145,0) +IF(H$146= AB154,U$146,0) +IF(H$147= AB154,U$147,0) +IF(H$148= AB154,U$148,0)+IF(H$149=AB154,U$149,0)","v":0},{"$f":"SUM(AD154:AE154)","v":0},{"$f":"AF154/AF$173","v":{"$error":"#DIV/0!"}},null,0,0,0,0]
[null,"Address","Project Category","No of Additional HEA's ","No of Units - Total","No of Units - Energy Poor","No of Units - Total","Name of Beneficiary","Name of Beneficiary",null,null,null,null,null,null,null,null,null,null,null,null,null,"Type","Costs","Energy Poor Homes : Housing Association",1,null,3,{"$f":"D10","v":"Enter Name of Beneficiary"},0,{"$f":"IF(H$99=AB155,#REF!,0)+IF(H$100=AB155,U$99,0)+IF(H$101=AB155,#REF!,0)+IF(H$102=AB155,U$102,0)+IF(H$103=AB155,U$103,0)+IF(H$104=AB155,U$104,0)+IF(H$105=AB155,U$105,0)+IF(H$106=AB155,U$106,0)+IF(H$107=AB155,U$107,0)+IF(H$108=AB155,U$108,0)+IF(H$109=AB155,U$109,0)+IF(H$110=AB155,U$110,0)+IF(H$111=AB155,U$111,0)+IF(H$112=AB155,U$112,0)+IF(H$113=AB155,U$113,0)+IF(H$114=AB155,U$114,0)+IF(H$115=AB155,U$115,0)+IF(H$116=AB155,U$116,0)+IF(H$117=AB155,U$117,0)+IF(H$118=AB155,U$118,0)+IF(H$119=AB155,U$119,0)+IF(H$120=AB155,U$120,0)+IF(H$121=AB155,U$121,0)+IF(H$122=AB155,U$122,0)+IF(H$123=AB155,U$123,0)+IF(H$124=AB155,U$124,0)+IF(H$125=AB155,U$125,0)+IF(H$126=AB155,U$126,0)+IF(H$127=AB155,U$127,0)+IF(H$128=AB155,U$128,0)+IF(H$129=AB155,U$129,0)+IF(H$130=AB155,U$130,0)+IF(H$131=AB155,U$131,0)+IF(H$132=AB155,U$132,0)+IF(H$133=AB155,U$133,0)+IF(H$134=AB155,U$134,0)+IF(H$135=AB155,U$135,0)+IF(H$136=AB155,U$136,0)+IF(H$137=AB155,U$137,0)+IF(H$138=AB155,U$138,0) +IF(H$139= AB155,U$139,0) +IF(H$140= AB155,U$140,0) +IF(H$141= AB155,U$141,0) +IF(H$142= AB155,U$142,0) +IF(H$143= AB155,U$143,0) +IF(H$144= AB155,U$144,0) +IF(H$145= AB155,U$145,0) +IF(H$146= AB155,U$146,0) +IF(H$147= AB155,U$147,0) +IF(H$148= AB155,U$148,0)+IF(H$149=AB155,U$149,0)","v":0},0,{"$error":"#DIV/0!"},null,0,0,0,0]
[1,null,"Non-Energy Poor Homes : Private",{"$f":"VLOOKUP(C156,$Y$153:$Z$159,2,FALSE)","v":1},1,{"$f":"IF(W156=1,G156,0)","v":0},0,1,{"$f":"VLOOKUP(H156,$AB$153:$AC$172,2,FALSE)","v":0},0,{"$f":"(J156)","v":0},null,null,null,null,null,null,null,null,null,null,null,{"$f":"IF(OR(C156=$Y$154,C156=$Y$155,C156=$Y$156),1,2)","v":2},{"$f":"IF(D156=\"Yes\",L156,0)","v":0},"Energy Poor Homes : Private",1,null,4,{"$f":"D11","v":"Enter Name of Beneficiary"},0,{"$f":"IF(H$99=AB156,#REF!,0)+IF(H$100=AB156,U$99,0)+IF(H$101=AB156,#REF!,0)+IF(H$102=AB156,U$102,0)+IF(H$103=AB156,U$103,0)+IF(H$104=AB156,U$104,0)+IF(H$105=AB156,U$105,0)+IF(H$106=AB156,U$106,0)+IF(H$107=AB156,U$107,0)+IF(H$108=AB156,U$108,0)+IF(H$109=AB156,U$109,0)+IF(H$110=AB156,U$110,0)+IF(H$111=AB156,U$111,0)+IF(H$112=AB156,U$112,0)+IF(H$113=AB156,U$113,0)+IF(H$114=AB156,U$114,0)+IF(H$115=AB156,U$115,0)+IF(H$116=AB156,U$116,0)+IF(H$117=AB156,U$117,0)+IF(H$118=AB156,U$118,0)+IF(H$119=AB156,U$119,0)+IF(H$120=AB156,U$120,0)+IF(H$121=AB156,U$121,0)+IF(H$122=AB156,U$122,0)+IF(H$123=AB156,U$123,0)+IF(H$124=AB156,U$124,0)+IF(H$125=AB156,U$125,0)+IF(H$126=AB156,U$126,0)+IF(H$127=AB156,U$127,0)+IF(H$128=AB156,U$128,0)+IF(H$129=AB156,U$129,0)+IF(H$130=AB156,U$130,0)+IF(H$131=AB156,U$131,0)+IF(H$132=AB156,U$132,0)+IF(H$133=AB156,U$133,0)+IF(H$134=AB156,U$134,0)+IF(H$135=AB156,U$135,0)+IF(H$136=AB156,U$136,0)+IF(H$137=AB156,U$137,0)+IF(H$138=AB156,U$138,0) +IF(H$139= AB156,U$139,0) +IF(H$140= AB156,U$140,0) +IF(H$141= AB156,U$141,0) +IF(H$142= AB156,U$142,0) +IF(H$143= AB156,U$143,0) +IF(H$144= AB156,U$144,0) +IF(H$145= AB156,U$145,0) +IF(H$146= AB156,U$146,0) +IF(H$147= AB156,U$147,0) +IF(H$148= AB156,U$148,0)+IF(H$149=AB156,U$149,0)","v":0},0,{"$error":"#DIV/0!"},null,0,0,0,0]
[{"$f":"A156+1","v":2},null,"Non-Energy Poor Homes : Local Authority",{"$f":"VLOOKUP(C157,$Y$153:$Z$159,2,FALSE)","v":1},1,{"$f":"IF(W157=1,G157,0)","v":0},0,1,{"$f":"VLOOKUP(H157,$AB$153:$AC$172,2,FALSE)","v":0},0,{"$f":"(J157)","v":0},null,null,null,null,null,null,null,null,null,null,null,{"$f":"IF(OR(C157=$Y$154,C157=$Y$155,C157=$Y$156),1,2)","v":2},{"$f":"IF(D157=\"Yes\",L157,0)","v":0},"Non-Energy Poor Homes : Local Authority",1,null,5,{"$f":"D12","v":"Enter Name of Beneficiary"},0,{"$f":"IF(H$99=AB157,#REF!,0)+IF(H$100=AB157,U$99,0)+IF(H$101=AB157,#REF!,0)+IF(H$102=AB157,U$102,0)+IF(H$103=AB157,U$103,0)+IF(H$104=AB157,U$104,0)+IF(H$105=AB157,U$105,0)+IF(H$106=AB157,U$106,0)+IF(H$107=AB157,U$107,0)+IF(H$108=AB157,U$108,0)+IF(H$109=AB157,U$109,0)+IF(H$110=AB157,U$110,0)+IF(H$111=AB157,U$111,0)+IF(H$112=AB157,U$112,0)+IF(H$113=AB157,U$113,0)+IF(H$114=AB157,U$114,0)+IF(H$115=AB157,U$115,0)+IF(H$116=AB157,U$116,0)+IF(H$117=AB157,U$117,0)+IF(H$118=AB157,U$118,0)+IF(H$119=AB157,U$119,0)+IF(H$120=AB157,U$120,0)+IF(H$121=AB157,U$121,0)+IF(H$122=AB157,U$122,0)+IF(H$123=AB157,U$123,0)+IF(H$124=AB157,U$124,0)+IF(H$125=AB157,U$125,0)+IF(H$126=AB157,U$126,0)+IF(H$127=AB157,U$127,0)+IF(H$128=AB157,U$128,0)+IF(H$129=AB157,U$129,0)+IF(H$130=AB157,U$130,0)+IF(H$131=AB157,U$131,0)+IF(H$132=AB157,U$132,0)+IF(H$133=AB157,U$133,0)+IF(H$134=AB157,U$134,0)+IF(H$135=AB157,U$135,0)+IF(H$136=AB157,U$136,0)+IF(H$137=AB157,U$137,0)+IF(H$138=AB157,U$138,0) +IF(H$139= AB157,U$139,0) +IF(H$140= AB157,U$140,0) +IF(H$141= AB157,U$141,0) +IF(H$142= AB157,U$142,0) +IF(H$143= AB157,U$143,0) +IF(H$144= AB157,U$144,0) +IF(H$145= AB157,U$145,0) +IF(H$146= AB157,U$146,0) +IF(H$147= AB157,U$147,0) +IF(H$148= AB157,U$148,0)+IF(H$149=AB157,U$149,0)","v":0},0,{"$error":"#DIV/0!"},null,0,0,0,0]
[{"$f":"A157+1","v":3},null,"Non-Energy Poor Homes : Local Authority",1,1,0,0,1,0,0,0,null,null,null,null,null,null,null,null,null,null,null,2,0,"Non-Energy Poor Homes : Housing Association",1,null,6,{"$f":"G8","v":"Enter Name of Beneficiary"},0,{"$f":"IF(H$99=AB158,#REF!,0)+IF(H$100=AB158,U$99,0)+IF(H$101=AB158,#REF!,0)+IF(H$102=AB158,U$102,0)+IF(H$103=AB158,U$103,0)+IF(H$104=AB158,U$104,0)+IF(H$105=AB158,U$105,0)+IF(H$106=AB158,U$106,0)+IF(H$107=AB158,U$107,0)+IF(H$108=AB158,U$108,0)+IF(H$109=AB158,U$109,0)+IF(H$110=AB158,U$110,0)+IF(H$111=AB158,U$111,0)+IF(H$112=AB158,U$112,0)+IF(H$113=AB158,U$113,0)+IF(H$114=AB158,U$114,0)+IF(H$115=AB158,U$115,0)+IF(H$116=AB158,U$116,0)+IF(H$117=AB158,U$117,0)+IF(H$118=AB158,U$118,0)+IF(H$119=AB158,U$119,0)+IF(H$120=AB158,U$120,0)+IF(H$121=AB158,U$121,0)+IF(H$122=AB158,U$122,0)+IF(H$123=AB158,U$123,0)+IF(H$124=AB158,U$124,0)+IF(H$125=AB158,U$125,0)+IF(H$126=AB158,U$126,0)+IF(H$127=AB158,U$127,0)+IF(H$128=AB158,U$128,0)+IF(H$129=AB158,U$129,0)+IF(H$130=AB158,U$130,0)+IF(H$131=AB158,U$131,0)+IF(H$132=AB158,U$132,0)+IF(H$133=AB158,U$133,0)+IF(H$134=AB158,U$134,0)+IF(H$135=AB158,U$135,0)+IF(H$136=AB158,U$136,0)+IF(H$137=AB158,U$137,0)+IF(H$138=AB158,U$138,0) +IF(H$139= AB158,U$139,0) +IF(H$140= AB158,U$140,0) +IF(H$141= AB158,U$141,0) +IF(H$142= AB158,U$142,0) +IF(H$143= AB158,U$143,0) +IF(H$144= AB158,U$144,0) +IF(H$145= AB158,U$145,0) +IF(H$146= AB158,U$146,0) +IF(H$147= AB158,U$147,0) +IF(H$148= AB158,U$148,0)+IF(H$149=AB158,U$149,0)","v":0},0,{"$error":"#DIV/0!"},null,0,0,0,0]
[4,null,"Energy Poor Homes : Housing Association",1,1,0,0,1,0,0,0,null,null,null,null,null,null,null,null,null,null,null,1,{"$f":"IF(D159=\"Yes\",L159,0)","v":0},"Non-Energy Poor Homes : Private",1,null,7,{"$f":"G9","v":"Enter Name of Beneficiary"},0,{"$f":"IF(H$99=AB159,#REF!,0)+IF(H$100=AB159,U$99,0)+IF(H$101=AB159,#REF!,0)+IF(H$102=AB159,U$102,0)+IF(H$103=AB159,U$103,0)+IF(H$104=AB159,U$104,0)+IF(H$105=AB159,U$105,0)+IF(H$106=AB159,U$106,0)+IF(H$107=AB159,U$107,0)+IF(H$108=AB159,U$108,0)+IF(H$109=AB159,U$109,0)+IF(H$110=AB159,U$110,0)+IF(H$111=AB159,U$111,0)+IF(H$112=AB159,U$112,0)+IF(H$113=AB159,U$113,0)+IF(H$114=AB159,U$114,0)+IF(H$115=AB159,U$115,0)+IF(H$116=AB159,U$116,0)+IF(H$117=AB159,U$117,0)+IF(H$118=AB159,U$118,0)+IF(H$119=AB159,U$119,0)+IF(H$120=AB159,U$120,0)+IF(H$121=AB159,U$121,0)+IF(H$122=AB159,U$122,0)+IF(H$123=AB159,U$123,0)+IF(H$124=AB159,U$124,0)+IF(H$125=AB159,U$125,0)+IF(H$126=AB159,U$126,0)+IF(H$127=AB159,U$127,0)+IF(H$128=AB159,U$128,0)+IF(H$129=AB159,U$129,0)+IF(H$130=AB159,U$130,0)+IF(H$131=AB159,U$131,0)+IF(H$132=AB159,U$132,0)+IF(H$133=AB159,U$133,0)+IF(H$134=AB159,U$134,0)+IF(H$135=AB159,U$135,0)+IF(H$136=AB159,U$136,0)+IF(H$137=AB159,U$137,0)+IF(H$138=AB159,U$138,0) +IF(H$139= AB159,U$139,0) +IF(H$140= AB159,U$140,0) +IF(H$141= AB159,U$141,0) +IF(H$142= AB159,U$142,0) +IF(H$143= AB159,U$143,0) +IF(H$144= AB159,U$144,0) +IF(H$145= AB159,U$145,0) +IF(H$146= AB159,U$146,0) +IF(H$147= AB159,U$147,0) +IF(H$148= AB159,U$148,0)+IF(H$149=AB159,U$149,0)","v":0},0,{"$error":"#DIV/0!"},null,0,0,0,0]
[5,null,"Non-Energy Poor Homes : Private",1,1,0,0,1,0,0,0,null,null,null,null,null,null,null,null,null,null,null,2,0,null,null,null,8,{"$f":"G10","v":"Enter Name of Beneficiary"},0,{"$f":"IF(H$99=AB160,#REF!,0)+IF(H$100=AB160,U$99,0)+IF(H$101=AB160,#REF!,0)+IF(H$102=AB160,U$102,0)+IF(H$103=AB160,U$103,0)+IF(H$104=AB160,U$104,0)+IF(H$105=AB160,U$105,0)+IF(H$106=AB160,U$106,0)+IF(H$107=AB160,U$107,0)+IF(H$108=AB160,U$108,0)+IF(H$109=AB160,U$109,0)+IF(H$110=AB160,U$110,0)+IF(H$111=AB160,U$111,0)+IF(H$112=AB160,U$112,0)+IF(H$113=AB160,U$113,0)+IF(H$114=AB160,U$114,0)+IF(H$115=AB160,U$115,0)+IF(H$116=AB160,U$116,0)+IF(H$117=AB160,U$117,0)+IF(H$118=AB160,U$118,0)+IF(H$119=AB160,U$119,0)+IF(H$120=AB160,U$120,0)+IF(H$121=AB160,U$121,0)+IF(H$122=AB160,U$122,0)+IF(H$123=AB160,U$123,0)+IF(H$124=AB160,U$124,0)+IF(H$125=AB160,U$125,0)+IF(H$126=AB160,U$126,0)+IF(H$127=AB160,U$127,0)+IF(H$128=AB160,U$128,0)+IF(H$129=AB160,U$129,0)+IF(H$130=AB160,U$130,0)+IF(H$131=AB160,U$131,0)+IF(H$132=AB160,U$132,0)+IF(H$133=AB160,U$133,0)+IF(H$134=AB160,U$134,0)+IF(H$135=AB160,U$135,0)+IF(H$136=AB160,U$136,0)+IF(H$137=AB160,U$137,0)+IF(H$138=AB160,U$138,0) +IF(H$139= AB160,U$139,0) +IF(H$140= AB160,U$140,0) +IF(H$141= AB160,U$141,0) +IF(H$142= AB160,U$142,0) +IF(H$143= AB160,U$143,0) +IF(H$144= AB160,U$144,0) +IF(H$145= AB160,U$145,0) +IF(H$146= AB160,U$146,0) +IF(H$147= AB160,U$147,0) +IF(H$148= AB160,U$148,0)+IF(H$149=AB160,U$149,0)","v":0},0,{"$error":"#DIV/0!"},null,0,0,0,0]
[6,null,"-",0,1,0,0,1,0,0,0,null,null,null,null,null,null,null,null,null,null,null,1,0,"-",0,null,9,{"$f":"G11","v":"Enter Name of Beneficiary"},0,{"$f":"IF(H$99=AB161,#REF!,0)+IF(H$100=AB161,U$99,0)+IF(H$101=AB161,#REF!,0)+IF(H$102=AB161,U$102,0)+IF(H$103=AB161,U$103,0)+IF(H$104=AB161,U$104,0)+IF(H$105=AB161,U$105,0)+IF(H$106=AB161,U$106,0)+IF(H$107=AB161,U$107,0)+IF(H$108=AB161,U$108,0)+IF(H$109=AB161,U$109,0)+IF(H$110=AB161,U$110,0)+IF(H$111=AB161,U$111,0)+IF(H$112=AB161,U$112,0)+IF(H$113=AB161,U$113,0)+IF(H$114=AB161,U$114,0)+IF(H$115=AB161,U$115,0)+IF(H$116=AB161,U$116,0)+IF(H$117=AB161,U$117,0)+IF(H$118=AB161,U$118,0)+IF(H$119=AB161,U$119,0)+IF(H$120=AB161,U$120,0)+IF(H$121=AB161,U$121,0)+IF(H$122=AB161,U$122,0)+IF(H$123=AB161,U$123,0)+IF(H$124=AB161,U$124,0)+IF(H$125=AB161,U$125,0)+IF(H$126=AB161,U$126,0)+IF(H$127=AB161,U$127,0)+IF(H$128=AB161,U$128,0)+IF(H$129=AB161,U$129,0)+IF(H$130=AB161,U$130,0)+IF(H$131=AB161,U$131,0)+IF(H$132=AB161,U$132,0)+IF(H$133=AB161,U$133,0)+IF(H$134=AB161,U$134,0)+IF(H$135=AB161,U$135,0)+IF(H$136=AB161,U$136,0)+IF(H$137=AB161,U$137,0)+IF(H$138=AB161,U$138,0) +IF(H$139= AB161,U$139,0) +IF(H$140= AB161,U$140,0) +IF(H$141= AB161,U$141,0) +IF(H$142= AB161,U$142,0) +IF(H$143= AB161,U$143,0) +IF(H$144= AB161,U$144,0) +IF(H$145= AB161,U$145,0) +IF(H$146= AB161,U$146,0) +IF(H$147= AB161,U$147,0) +IF(H$148= AB161,U$148,0)+IF(H$149=AB161,U$149,0)","v":0},0,{"$error":"#DIV/0!"},null,0,0,0,0]
[7,null,"Energy Poor Homes : Housing Association",1,1,0,0,1,{"$f":"VLOOKUP(H162,$AB$153:$AC$172,2,FALSE)","v":0},0,0,null,null,null,null,null,null,null,null,null,null,null,1,0,"Other Community buildings & services",0.3,null,10,{"$f":"G12","v":"Enter Name of Beneficiary"},0,{"$f":"IF(H$99=AB162,#REF!,0)+IF(H$100=AB162,U$99,0)+IF(H$101=AB162,#REF!,0)+IF(H$102=AB162,U$102,0)+IF(H$103=AB162,U$103,0)+IF(H$104=AB162,U$104,0)+IF(H$105=AB162,U$105,0)+IF(H$106=AB162,U$106,0)+IF(H$107=AB162,U$107,0)+IF(H$108=AB162,U$108,0)+IF(H$109=AB162,U$109,0)+IF(H$110=AB162,U$110,0)+IF(H$111=AB162,U$111,0)+IF(H$112=AB162,U$112,0)+IF(H$113=AB162,U$113,0)+IF(H$114=AB162,U$114,0)+IF(H$115=AB162,U$115,0)+IF(H$116=AB162,U$116,0)+IF(H$117=AB162,U$117,0)+IF(H$118=AB162,U$118,0)+IF(H$119=AB162,U$119,0)+IF(H$120=AB162,U$120,0)+IF(H$121=AB162,U$121,0)+IF(H$122=AB162,U$122,0)+IF(H$123=AB162,U$123,0)+IF(H$124=AB162,U$124,0)+IF(H$125=AB162,U$125,0)+IF(H$126=AB162,U$126,0)+IF(H$127=AB162,U$127,0)+IF(H$128=AB162,U$128,0)+IF(H$129=AB162,U$129,0)+IF(H$130=AB162,U$130,0)+IF(H$131=AB162,U$131,0)+IF(H$132=AB162,U$132,0)+IF(H$133=AB162,U$133,0)+IF(H$134=AB162,U$134,0)+IF(H$135=AB162,U$135,0)+IF(H$136=AB162,U$136,0)+IF(H$137=AB162,U$137,0)+IF(H$138=AB162,U$138,0) +IF(H$139= AB162,U$139,0) +IF(H$140= AB162,U$140,0) +IF(H$141= AB162,U$141,0) +IF(H$142= AB162,U$142,0) +IF(H$143= AB162,U$143,0) +IF(H$144= AB162,U$144,0) +IF(H$145= AB162,U$145,0) +IF(H$146= AB162,U$146,0) +IF(H$147= AB162,U$147,0) +IF(H$148= AB162,U$148,0)+IF(H$149=AB162,U$149,0)","v":0},0,{"$error":"#DIV/0!"},null,0,0,0,0]
[8,null,"Energy Poor Homes : Private",1,1,0,0,1,{"$f":"VLOOKUP(H163,$AB$153:$AC$172,2,FALSE)","v":0},0,0,null,null,null,null,null,null,null,null,null,null,null,1,0,"Educational / Library / Cultural",0.3,null,11,{"$f":"J8","v":"Enter Name of Beneficiary"},0,{"$f":"IF(H$99=AB163,#REF!,0)+IF(H$100=AB163,U$99,0)+IF(H$101=AB163,#REF!,0)+IF(H$102=AB163,U$102,0)+IF(H$103=AB163,U$103,0)+IF(H$104=AB163,U$104,0)+IF(H$105=AB163,U$105,0)+IF(H$106=AB163,U$106,0)+IF(H$107=AB163,U$107,0)+IF(H$108=AB163,U$108,0)+IF(H$109=AB163,U$109,0)+IF(H$110=AB163,U$110,0)+IF(H$111=AB163,U$111,0)+IF(H$112=AB163,U$112,0)+IF(H$113=AB163,U$113,0)+IF(H$114=AB163,U$114,0)+IF(H$115=AB163,U$115,0)+IF(H$116=AB163,U$116,0)+IF(H$117=AB163,U$117,0)+IF(H$118=AB163,U$118,0)+IF(H$119=AB163,U$119,0)+IF(H$120=AB163,U$120,0)+IF(H$121=AB163,U$121,0)+IF(H$122=AB163,U$122,0)+IF(H$123=AB163,U$123,0)+IF(H$124=AB163,U$124,0)+IF(H$125=AB163,U$125,0)+IF(H$126=AB163,U$126,0)+IF(H$127=AB163,U$127,0)+IF(H$128=AB163,U$128,0)+IF(H$129=AB163,U$129,0)+IF(H$130=AB163,U$130,0)+IF(H$131=AB163,U$131,0)+IF(H$132=AB163,U$132,0)+IF(H$133=AB163,U$133,0)+IF(H$134=AB163,U$134,0)+IF(H$135=AB163,U$135,0)+IF(H$136=AB163,U$136,0)+IF(H$137=AB163,U$137,0)+IF(H$138=AB163,U$138,0) +IF(H$139= AB163,U$139,0) +IF(H$140= AB163,U$140,0) +IF(H$141= AB163,U$141,0) +IF(H$142= AB163,U$142,0) +IF(H$143= AB163,U$143,0) +IF(H$144= AB163,U$144,0) +IF(H$145= AB163,U$145,0) +IF(H$146= AB163,U$146,0) +IF(H$147= AB163,U$147,0) +IF(H$148= AB163,U$148,0)+IF(H$149=AB163,U$149,0)","v":0},{"$f":"SUM(AD163:AE163)","v":0},{"$error":"#DIV/0!"},null,0,0,0,0]
[9," ","Non-Energy Poor Homes : Local Authority",1,1,0,0,1,0,0,0,null,null,null,null,null,null,null,null,null,null,null,2,0,"Public Sector Buildings & Services",0.3,null,12,{"$f":"J9","v":"Enter Name of Beneficiary"},0,{"$f":"IF(H$99=AB164,#REF!,0)+IF(H$100=AB164,U$99,0)+IF(H$101=AB164,#REF!,0)+IF(H$102=AB164,U$102,0)+IF(H$103=AB164,U$103,0)+IF(H$104=AB164,U$104,0)+IF(H$105=AB164,U$105,0)+IF(H$106=AB164,U$106,0)+IF(H$107=AB164,U$107,0)+IF(H$108=AB164,U$108,0)+IF(H$109=AB164,U$109,0)+IF(H$110=AB164,U$110,0)+IF(H$111=AB164,U$111,0)+IF(H$112=AB164,U$112,0)+IF(H$113=AB164,U$113,0)+IF(H$114=AB164,U$114,0)+IF(H$115=AB164,U$115,0)+IF(H$116=AB164,U$116,0)+IF(H$117=AB164,U$117,0)+IF(H$118=AB164,U$118,0)+IF(H$119=AB164,U$119,0)+IF(H$120=AB164,U$120,0)+IF(H$121=AB164,U$121,0)+IF(H$122=AB164,U$122,0)+IF(H$123=AB164,U$123,0)+IF(H$124=AB164,U$124,0)+IF(H$125=AB164,U$125,0)+IF(H$126=AB164,U$126,0)+IF(H$127=AB164,U$127,0)+IF(H$128=AB164,U$128,0)+IF(H$129=AB164,U$129,0)+IF(H$130=AB164,U$130,0)+IF(H$131=AB164,U$131,0)+IF(H$132=AB164,U$132,0)+IF(H$133=AB164,U$133,0)+IF(H$134=AB164,U$134,0)+IF(H$135=AB164,U$135,0)+IF(H$136=AB164,U$136,0)+IF(H$137=AB164,U$137,0)+IF(H$138=AB164,U$138,0) +IF(H$139= AB164,U$139,0) +IF(H$140= AB164,U$140,0) +IF(H$141= AB164,U$141,0) +IF(H$142= AB164,U$142,0) +IF(H$143= AB164,U$143,0) +IF(H$144= AB164,U$144,0) +IF(H$145= AB164,U$145,0) +IF(H$146= AB164,U$146,0) +IF(H$147= AB164,U$147,0) +IF(H$148= AB164,U$148,0)+IF(H$149=AB164,U$149,0)","v":0},0,{"$error":"#DIV/0!"},null,0,0,0,0]
[10,null,"Non-Energy Poor Homes : Housing Association",1,1,0,0,1,{"$f":"VLOOKUP(H165,$AB$153:$AC$172,2,FALSE)","v":0},0,0,null,null,null,null,null,null,null,null,null,null,null,2,0,"Sports & Leisure Centres",0.3,null,13,{"$f":"J10","v":"Enter Name of Beneficiary"},0,{"$f":"IF(H$99=AB165,#REF!,0)+IF(H$100=AB165,U$99,0)+IF(H$101=AB165,#REF!,0)+IF(H$102=AB165,U$102,0)+IF(H$103=AB165,U$103,0)+IF(H$104=AB165,U$104,0)+IF(H$105=AB165,U$105,0)+IF(H$106=AB165,U$106,0)+IF(H$107=AB165,U$107,0)+IF(H$108=AB165,U$108,0)+IF(H$109=AB165,U$109,0)+IF(H$110=AB165,U$110,0)+IF(H$111=AB165,U$111,0)+IF(H$112=AB165,U$112,0)+IF(H$113=AB165,U$113,0)+IF(H$114=AB165,U$114,0)+IF(H$115=AB165,U$115,0)+IF(H$116=AB165,U$116,0)+IF(H$117=AB165,U$117,0)+IF(H$118=AB165,U$118,0)+IF(H$119=AB165,U$119,0)+IF(H$120=AB165,U$120,0)+IF(H$121=AB165,U$121,0)+IF(H$122=AB165,U$122,0)+IF(H$123=AB165,U$123,0)+IF(H$124=AB165,U$124,0)+IF(H$125=AB165,U$125,0)+IF(H$126=AB165,U$126,0)+IF(H$127=AB165,U$127,0)+IF(H$128=AB165,U$128,0)+IF(H$129=AB165,U$129,0)+IF(H$130=AB165,U$130,0)+IF(H$131=AB165,U$131,0)+IF(H$132=AB165,U$132,0)+IF(H$133=AB165,U$133,0)+IF(H$134=AB165,U$134,0)+IF(H$135=AB165,U$135,0)+IF(H$136=AB165,U$136,0)+IF(H$137=AB165,U$137,0)+IF(H$138=AB165,U$138,0) +IF(H$139= AB165,U$139,0) +IF(H$140= AB165,U$140,0) +IF(H$141= AB165,U$141,0) +IF(H$142= AB165,U$142,0) +IF(H$143= AB165,U$143,0) +IF(H$144= AB165,U$144,0) +IF(H$145= AB165,U$145,0) +IF(H$146= AB165,U$146,0) +IF(H$147= AB165,U$147,0) +IF(H$148= AB165,U$148,0)+IF(H$149=AB165,U$149,0)","v":0},0,{"$error":"#DIV/0!"},null,0,0,0,0]
[11,null,"Non-Energy Poor Homes : Private",1,1,0,0,1,{"$f":"VLOOKUP(H166,$AB$153:$AC$172,2,FALSE)","v":0},0,0,null,null,null,null,null,null,null,null,null,null,null,2,0,"Private Sector Buildings",0.3,null,14,{"$f":"J11","v":"Enter Name of Beneficiary"},0,{"$f":"IF(H$99=AB166,#REF!,0)+IF(H$100=AB166,U$99,0)+IF(H$101=AB166,#REF!,0)+IF(H$102=AB166,U$102,0)+IF(H$103=AB166,U$103,0)+IF(H$104=AB166,U$104,0)+IF(H$105=AB166,U$105,0)+IF(H$106=AB166,U$106,0)+IF(H$107=AB166,U$107,0)+IF(H$108=AB166,U$108,0)+IF(H$109=AB166,U$109,0)+IF(H$110=AB166,U$110,0)+IF(H$111=AB166,U$111,0)+IF(H$112=AB166,U$112,0)+IF(H$113=AB166,U$113,0)+IF(H$114=AB166,U$114,0)+IF(H$115=AB166,U$115,0)+IF(H$116=AB166,U$116,0)+IF(H$117=AB166,U$117,0)+IF(H$118=AB166,U$118,0)+IF(H$119=AB166,U$119,0)+IF(H$120=AB166,U$120,0)+IF(H$121=AB166,U$121,0)+IF(H$122=AB166,U$122,0)+IF(H$123=AB166,U$123,0)+IF(H$124=AB166,U$124,0)+IF(H$125=AB166,U$125,0)+IF(H$126=AB166,U$126,0)+IF(H$127=AB166,U$127,0)+IF(H$128=AB166,U$128,0)+IF(H$129=AB166,U$129,0)+IF(H$130=AB166,U$130,0)+IF(H$131=AB166,U$131,0)+IF(H$132=AB166,U$132,0)+IF(H$133=AB166,U$133,0)+IF(H$134=AB166,U$134,0)+IF(H$135=AB166,U$135,0)+IF(H$136=AB166,U$136,0)+IF(H$137=AB166,U$137,0)+IF(H$138=AB166,U$138,0) +IF(H$139= AB166,U$139,0) +IF(H$140= AB166,U$140,0) +IF(H$141= AB166,U$141,0) +IF(H$142= AB166,U$142,0) +IF(H$143= AB166,U$143,0) +IF(H$144= AB166,U$144,0) +IF(H$145= AB166,U$145,0) +IF(H$146= AB166,U$146,0) +IF(H$147= AB166,U$147,0) +IF(H$148= AB166,U$148,0)+IF(H$149=AB166,U$149,0)","v":0},0,{"$error":"#DIV/0!"},null,0,0,0,0]
[12,null,"-",0,1,0,0,1,0,0,0,null,null,null,null,null,null,null,null,null,null,null,1,0,"Not for Profit/ Community Buildings & Services ",0.5,null,15,{"$f":"J12","v":"Enter Name of Beneficiary"},0,{"$f":"IF(H$99=AB167,#REF!,0)+IF(H$100=AB167,U$99,0)+IF(H$101=AB167,#REF!,0)+IF(H$102=AB167,U$102,0)+IF(H$103=AB167,U$103,0)+IF(H$104=AB167,U$104,0)+IF(H$105=AB167,U$105,0)+IF(H$106=AB167,U$106,0)+IF(H$107=AB167,U$107,0)+IF(H$108=AB167,U$108,0)+IF(H$109=AB167,U$109,0)+IF(H$110=AB167,U$110,0)+IF(H$111=AB167,U$111,0)+IF(H$112=AB167,U$112,0)+IF(H$113=AB167,U$113,0)+IF(H$114=AB167,U$114,0)+IF(H$115=AB167,U$115,0)+IF(H$116=AB167,U$116,0)+IF(H$117=AB167,U$117,0)+IF(H$118=AB167,U$118,0)+IF(H$119=AB167,U$119,0)+IF(H$120=AB167,U$120,0)+IF(H$121=AB167,U$121,0)+IF(H$122=AB167,U$122,0)+IF(H$123=AB167,U$123,0)+IF(H$124=AB167,U$124,0)+IF(H$125=AB167,U$125,0)+IF(H$126=AB167,U$126,0)+IF(H$127=AB167,U$127,0)+IF(H$128=AB167,U$128,0)+IF(H$129=AB167,U$129,0)+IF(H$130=AB167,U$130,0)+IF(H$131=AB167,U$131,0)+IF(H$132=AB167,U$132,0)+IF(H$133=AB167,U$133,0)+IF(H$134=AB167,U$134,0)+IF(H$135=AB167,U$135,0)+IF(H$136=AB167,U$136,0)+IF(H$137=AB167,U$137,0)+IF(H$138=AB167,U$138,0) +IF(H$139= AB167,U$139,0) +IF(H$140= AB167,U$140,0) +IF(H$141= AB167,U$141,0) +IF(H$142= AB167,U$142,0) +IF(H$143= AB167,U$143,0) +IF(H$144= AB167,U$144,0) +IF(H$145= AB167,U$145,0) +IF(H$146= AB167,U$146,0) +IF(H$147= AB167,U$147,0) +IF(H$148= AB167,U$148,0)+IF(H$149=AB167,U$149,0)","v":0},0,{"$error":"#DIV/0!"},null,{"$f":"IF(H$156=AB167,SUM(J$156),0)+IF(H$157=AB167,SUM(J$157),0)+IF(H$158=AB167,SUM(J$158),0)+IF(H$159=AB167,SUM(J$159),0)+IF(H$160=AB167,SUM(J$160),0)+IF(H$161=AB167,SUM(J$161),0)+IF(H$162=AB167,SUM(J$162),0)+IF(H$163=AB167,SUM(J$163),0)+IF(H$164=AB167,SUM(J$164),0)+IF(H$165=AB167,SUM(J$165),0)+IF(H$166=AB167,SUM(J$166),0)+IF(H$167=AB167,SUM(J$167),0)+IF(H$168=AB167,SUM(J$168),0)+IF(H$169=AB167,SUM(J$169),0)","v":0},{"$f":"IF(H$99=AB167,SUM(S$99:T$99),0)+IF(H$100=AB167,SUM(S$100:T$100),0)+IF(H$101=AB167,SUM(S$101:T$101),0)+IF(H$102=AB167,SUM(S$102:T$102),0)+IF(H$103=AB167,SUM(S$103:T$103),0)+IF(H$104=AB167,SUM(S$104:T$104),0)+IF(H$105=AB167,SUM(S$105:T$105),0)+IF(H$106=AB167,SUM(S$106:T$106),0)+IF(H$107=AB167,SUM(S$107:T$107),0)+IF(H$108=AB167,SUM(S$108:T$108),0)+IF(H$109=AB167,SUM(S$109:T$109),0)+IF(H$110=AB167,SUM(S$110:T$110),0)+IF(H$111=AB167,SUM(S$111:T$111),0)+IF(H$112=AB167,SUM(S$112:T$112),0)+IF(H$113=AB167,SUM(S$113:T$113),0)+IF(H$114=AB167,SUM(S$114:T$114),0)+IF(H$115=AB167,SUM(S$115:T$115),0)+IF(H$116=AB167,SUM(S$116:T$116),0)+IF(H$117=AB167,SUM(S$117:T$117),0)+IF(H$118=AB167,SUM(S$118:T$118),0)+IF(H$119=AB167,SUM(S$119:T$119),0)+IF(H$120=AB167,SUM(S$120:T$120),0)+IF(H$121=AB167,SUM(S$121:T$121),0)+IF(H$122=AB167,SUM(S$122:T$122),0)+IF(H$123=AB167,SUM(S$123:T$123),0)+IF(H$124=AB167,SUM(S$124:T$124),0)+IF(H$125=AB167,SUM(S$125:T$125),0)+IF(H$126=AB167,SUM(S$126:T$126),0)+IF(H$127=AB167,SUM(S$127:T$127),0)+IF(H$128=AB167,SUM(S$128:T$128),0)+IF(H$129=AB167,SUM(S$129:T$129),0)+IF(H$130=AB167,SUM(S$130:T$130),0)+IF(H$131=AB167,SUM(S$131:T$131),0)+IF(H$132=AB167,SUM(S$132:T$132),0)+IF(H$133=AB167,SUM(S$133:T$133),0)+IF(H$134=AB167,SUM(S$134:T$134),0)+IF(H$135=AB167,SUM(S$135:T$135),0)+IF(H$136=AB167,SUM(S$136:T$136),0)+IF(H$137=AB167,SUM(S$137:T$137),0)+IF(H$138=AB167,SUM(S$138:T$138),0)+IF(H$139=AB167,SUM(S$139:T$139),0) +IF(H$140=AB167,SUM(S$140:T$140),0) +IF(H$141=AB167,SUM(S$141:T$141),0) +IF(H$142=AB167,SUM(S$142:T$142),0) +IF(H$143=AB167,SUM(S$143:T$143),0) +IF(H$144=AB167,SUM(S$144:T$144),0) +IF(H$145=AB167,SUM(S$145:T$145),0) +IF(H$146=AB167,SUM(S$146:T$146),0) +IF(H$147=AB167,SUM(S$147:T$147),0) +IF(H$148=AB167,SUM(S$148:T$148),0)+IF(H$149=AB167,SUM(S$149:T$149),0)","v":0},0,0]
[13,null,"Energy Poor Homes : Housing Association",1,1,0,0,1,0,0,0,null,null,null,null,null,null,null,null,null,null,null,1,0,"Exemplar - Public Sector Buildings & Services",0.3,null,16,{"$f":"M8","v":"Enter Name of Beneficiary"},{"$f":"IF(H$156=AB168,K$156,0)+IF(H$157=AB168,K$157,0)+IF(H$158=AB168,K$158,0)+IF(H$159=AB168,K$159,0)+IF(H$160=AB168,K$160,0)+IF(H$161=AB168,K$161,0)+IF(H$162=AB168,K$162,0)+IF(H$163=AB168,K$163,0)+IF(H$164=AB168,K$164,0)+IF(H$165=AB168,K$165,0)+IF(H$166=AB168,K$166,0)+IF(H$167=AB168,K$167,0)+IF(H$168=AB168,K$168,0)+IF(H$169=AB168,K$169,0)","v":0},{"$f":"IF(H$99=AB168,#REF!,0)+IF(H$100=AB168,U$99,0)+IF(H$101=AB168,#REF!,0)+IF(H$102=AB168,U$102,0)+IF(H$103=AB168,U$103,0)+IF(H$104=AB168,U$104,0)+IF(H$105=AB168,U$105,0)+IF(H$106=AB168,U$106,0)+IF(H$107=AB168,U$107,0)+IF(H$108=AB168,U$108,0)+IF(H$109=AB168,U$109,0)+IF(H$110=AB168,U$110,0)+IF(H$111=AB168,U$111,0)+IF(H$112=AB168,U$112,0)+IF(H$113=AB168,U$113,0)+IF(H$114=AB168,U$114,0)+IF(H$115=AB168,U$115,0)+IF(H$116=AB168,U$116,0)+IF(H$117=AB168,U$117,0)+IF(H$118=AB168,U$118,0)+IF(H$119=AB168,U$119,0)+IF(H$120=AB168,U$120,0)+IF(H$121=AB168,U$121,0)+IF(H$122=AB168,U$122,0)+IF(H$123=AB168,U$123,0)+IF(H$124=AB168,U$124,0)+IF(H$125=AB168,U$125,0)+IF(H$126=AB168,U$126,0)+IF(H$127=AB168,U$127,0)+IF(H$128=AB168,U$128,0)+IF(H$129=AB168,U$129,0)+IF(H$130=AB168,U$130,0)+IF(H$131=AB168,U$131,0)+IF(H$132=AB168,U$132,0)+IF(H$133=AB168,U$133,0)+IF(H$134=AB168,U$134,0)+IF(H$135=AB168,U$135,0)+IF(H$136=AB168,U$136,0)+IF(H$137=AB168,U$137,0)+IF(H$138=AB168,U$138,0) +IF(H$139= AB168,U$139,0) +IF(H$140= AB168,U$140,0) +IF(H$141= AB168,U$141,0) +IF(H$142= AB168,U$142,0) +IF(H$143= AB168,U$143,0) +IF(H$144= AB168,U$144,0) +IF(H$145= AB168,U$145,0) +IF(H$146= AB168,U$146,0) +IF(H$147= AB168,U$147,0) +IF(H$148= AB168,U$148,0)+IF(H$149=AB168,U$149,0)","v":0},0,{"$error":"#DIV/0!"},null,0,0,0,0]
[null,null,"Additional HEA's",{"$f":"'NFP Domestic Measures & costs'!N11","v":0},1,0,0,1,0,0,0,null,null,null,null,null,null,null,null,null,null,null,{"$f":"IF(OR(C169=$Y$154,C169=$Y$155,C169=$Y$156),1,2)","v":2},{"$f":"IF(D169=\"Yes\",L169,0)","v":0},null,null,null,17,{"$f":"M9","v":"Enter Name of Beneficiary"},{"$f":"IF(H$156=AB169,J$156,0)+IF(H$157=AB169,J$157,0)+IF(H$158=AB169,J$158,0)+IF(H$159=AB169,J$159,0)+IF(H$160=AB169,J$160,0)+IF(H$161=AB169,J$161,0)+IF(H$162=AB169,J$162,0)+IF(H$163=AB169,J$163,0)+IF(H$164=AB169,J$164,0)+IF(H$165=AB169,J$165,0)+IF(H$166=AB169,J$166,0)+IF(H$167=AB169,J$167,0)+IF(H$168=AB169,J$168,0)+IF(H$169=AB169,J$169,0)","v":0},{"$f":"IF(H$99=AB169,#REF!,0)+IF(H$100=AB169,U$99,0)+IF(H$101=AB169,#REF!,0)+IF(H$102=AB169,U$102,0)+IF(H$103=AB169,U$103,0)+IF(H$104=AB169,U$104,0)+IF(H$105=AB169,U$105,0)+IF(H$106=AB169,U$106,0)+IF(H$107=AB169,U$107,0)+IF(H$108=AB169,U$108,0)+IF(H$109=AB169,U$109,0)+IF(H$110=AB169,U$110,0)+IF(H$111=AB169,U$111,0)+IF(H$112=AB169,U$112,0)+IF(H$113=AB169,U$113,0)+IF(H$114=AB169,U$114,0)+IF(H$115=AB169,U$115,0)+IF(H$116=AB169,U$116,0)+IF(H$117=AB169,U$117,0)+IF(H$118=AB169,U$118,0)+IF(H$119=AB169,U$119,0)+IF(H$120=AB169,U$120,0)+IF(H$121=AB169,U$121,0)+IF(H$122=AB169,U$122,0)+IF(H$123=AB169,U$123,0)+IF(H$124=AB169,U$124,0)+IF(H$125=AB169,U$125,0)+IF(H$126=AB169,U$126,0)+IF(H$127=AB169,U$127,0)+IF(H$128=AB169,U$128,0)+IF(H$129=AB169,U$129,0)+IF(H$130=AB169,U$130,0)+IF(H$131=AB169,U$131,0)+IF(H$132=AB169,U$132,0)+IF(H$133=AB169,U$133,0)+IF(H$134=AB169,U$134,0)+IF(H$135=AB169,U$135,0)+IF(H$136=AB169,U$136,0)+IF(H$137=AB169,U$137,0)+IF(H$138=AB169,U$138,0) +IF(H$139= AB169,U$139,0) +IF(H$140= AB169,U$140,0) +IF(H$141= AB169,U$141,0) +IF(H$142= AB169,U$142,0) +IF(H$143= AB169,U$143,0) +IF(H$144= AB169,U$144,0) +IF(H$145= AB169,U$145,0) +IF(H$146= AB169,U$146,0) +IF(H$147= AB169,U$147,0) +IF(H$148= AB169,U$148,0)+IF(H$149=AB169,U$149,0)","v":0},0,{"$error":"#DIV/0!"},null,0,0,0,0]
[null,null,null,null,null,{"$f":"SUM(F156:F169)","v":0},{"$f":"SUM(G156:G169)","v":0},null,null,{"$f":"SUM(J156:J169)","v":0},0,null,null,null,null,null,null,null,null,null,null,null,null,{"$f":"SUM(X156:X169)","v":0},null,null,null,18,{"$f":"M10","v":"Enter Name of Beneficiary"},{"$f":"IF(H$156=AB170,J$156,0)+IF(H$157=AB170,J$157,0)+IF(H$158=AB170,J$158,0)+IF(H$159=AB170,J$159,0)+IF(H$160=AB170,J$160,0)+IF(H$161=AB170,J$161,0)+IF(H$162=AB170,J$162,0)+IF(H$163=AB170,J$163,0)+IF(H$164=AB170,J$164,0)+IF(H$165=AB170,J$165,0)+IF(H$166=AB170,J$166,0)+IF(H$167=AB170,J$167,0)+IF(H$168=AB170,J$168,0)+IF(H$169=AB170,J$169,0)","v":0},{"$f":"IF(H$99=AB170,#REF!,0)+IF(H$100=AB170,U$99,0)+IF(H$101=AB170,#REF!,0)+IF(H$102=AB170,U$102,0)+IF(H$103=AB170,U$103,0)+IF(H$104=AB170,U$104,0)+IF(H$105=AB170,U$105,0)+IF(H$106=AB170,U$106,0)+IF(H$107=AB170,U$107,0)+IF(H$108=AB170,U$108,0)+IF(H$109=AB170,U$109,0)+IF(H$110=AB170,U$110,0)+IF(H$111=AB170,U$111,0)+IF(H$112=AB170,U$112,0)+IF(H$113=AB170,U$113,0)+IF(H$114=AB170,U$114,0)+IF(H$115=AB170,U$115,0)+IF(H$116=AB170,U$116,0)+IF(H$117=AB170,U$117,0)+IF(H$118=AB170,U$118,0)+IF(H$119=AB170,U$119,0)+IF(H$120=AB170,U$120,0)+IF(H$121=AB170,U$121,0)+IF(H$122=AB170,U$122,0)+IF(H$123=AB170,U$123,0)+IF(H$124=AB170,U$124,0)+IF(H$125=AB170,U$125,0)+IF(H$126=AB170,U$126,0)+IF(H$127=AB170,U$127,0)+IF(H$128=AB170,U$128,0)+IF(H$129=AB170,U$129,0)+IF(H$130=AB170,U$130,0)+IF(H$131=AB170,U$131,0)+IF(H$132=AB170,U$132,0)+IF(H$133=AB170,U$133,0)+IF(H$134=AB170,U$134,0)+IF(H$135=AB170,U$135,0)+IF(H$136=AB170,U$136,0)+IF(H$137=AB170,U$137,0)+IF(H$138=AB170,U$138,0) +IF(H$139= AB170,U$139,0) +IF(H$140= AB170,U$140,0) +IF(H$141= AB170,U$141,0) +IF(H$142= AB170,U$142,0) +IF(H$143= AB170,U$143,0) +IF(H$144= AB170,U$144,0) +IF(H$145= AB170,U$145,0) +IF(H$146= AB170,U$146,0) +IF(H$147= AB170,U$147,0) +IF(H$148= AB170,U$148,0)+IF(H$149=AB170,U$149,0)","v":0},0,{"$f":"AF170/AF$173","v":{"$error":"#DIV/0!"}},null,0,0,0,0]
["Data from Domestic Energy Credits Tab for Comparison",null,null,null,null,{"$f":"'FP Domestic Measures & costs'!N8+C94","v":0},{"$f":"'NFP Domestic Measures & costs'!N8+'FP Domestic Measures & costs'!N8+A94","v":0},null,null,null,null,null,null,null,null,null,null,null,null,null,null,null,null,null,null,null,null,19,{"$f":"M11","v":"Enter Name of Beneficiary"},{"$f":"IF(H$156=AB171,J$156,0)+IF(H$157=AB171,J$157,0)+IF(H$158=AB171,J$158,0)+IF(H$159=AB171,J$159,0)+IF(H$160=AB171,J$160,0)+IF(H$161=AB171,J$161,0)+IF(H$162=AB171,J$162,0)+IF(H$163=AB171,J$163,0)+IF(H$164=AB171,J$164,0)+IF(H$165=AB171,J$165,0)+IF(H$166=AB171,J$166,0)+IF(H$167=AB171,J$167,0)+IF(H$168=AB171,J$168,0)+IF(H$169=AB171,J$169,0)","v":0},{"$f":"IF(H$99=AB171,#REF!,0)+IF(H$100=AB171,U$99,0)+IF(H$101=AB171,#REF!,0)+IF(H$102=AB171,U$102,0)+IF(H$103=AB171,U$103,0)+IF(H$104=AB171,U$104,0)+IF(H$105=AB171,U$105,0)+IF(H$106=AB171,U$106,0)+IF(H$107=AB171,U$107,0)+IF(H$108=AB171,U$108,0)+IF(H$109=AB171,U$109,0)+IF(H$110=AB171,U$110,0)+IF(H$111=AB171,U$111,0)+IF(H$112=AB171,U$112,0)+IF(H$113=AB171,U$113,0)+IF(H$114=AB171,U$114,0)+IF(H$115=AB171,U$115,0)+IF(H$116=AB171,U$116,0)+IF(H$117=AB171,U$117,0)+IF(H$118=AB171,U$118,0)+IF(H$119=AB171,U$119,0)+IF(H$120=AB171,U$120,0)+IF(H$121=AB171,U$121,0)+IF(H$122=AB171,U$122,0)+IF(H$123=AB171,U$123,0)+IF(H$124=AB171,U$124,0)+IF(H$125=AB171,U$125,0)+IF(H$126=AB171,U$126,0)+IF(H$127=AB171,U$127,0)+IF(H$128=AB171,U$128,0)+IF(H$129=AB171,U$129,0)+IF(H$130=AB171,U$130,0)+IF(H$131=AB171,U$131,0)+IF(H$132=AB171,U$132,0)+IF(H$133=AB171,U$133,0)+IF(H$134=AB171,U$134,0)+IF(H$135=AB171,U$135,0)+IF(H$136=AB171,U$136,0)+IF(H$137=AB171,U$137,0)+IF(H$138=AB171,U$138,0) +IF(H$139= AB171,U$139,0) +IF(H$140= AB171,U$140,0) +IF(H$141= AB171,U$141,0) +IF(H$142= AB171,U$142,0) +IF(H$143= AB171,U$143,0) +IF(H$144= AB171,U$144,0) +IF(H$145= AB171,U$145,0) +IF(H$146= AB171,U$146,0) +IF(H$147= AB171,U$147,0) +IF(H$148= AB171,U$148,0)+IF(H$149=AB171,U$149,0)","v":0},0,{"$f":"AF171/AF$173","v":{"$error":"#DIV/0!"}}," ",0,0,0,0]
[null,null,null,null,null,null,null,null,null,null,null,null,null,null,null,null,null,null,null,null,null,null,null,null,null,null,null,20,{"$f":"M12","v":"Enter Name of Beneficiary"},{"$f":"IF(H$156=AB172,J$156,0)+IF(H$157=AB172,J$157,0)+IF(H$158=AB172,J$158,0)+IF(H$159=AB172,J$159,0)+IF(H$160=AB172,J$160,0)+IF(H$161=AB172,J$161,0)+IF(H$162=AB172,J$162,0)+IF(H$163=AB172,J$163,0)+IF(H$164=AB172,J$164,0)+IF(H$165=AB172,J$165,0)+IF(H$166=AB172,J$166,0)+IF(H$167=AB172,J$167,0)+IF(H$168=AB172,J$168,0)+IF(H$169=AB172,J$169,0)","v":0},{"$f":"IF(H$99=AB172,#REF!,0)+IF(H$100=AB172,U$99,0)+IF(H$101=AB172,#REF!,0)+IF(H$102=AB172,U$102,0)+IF(H$103=AB172,U$103,0)+IF(H$104=AB172,U$104,0)+IF(H$105=AB172,U$105,0)+IF(H$106=AB172,U$106,0)+IF(H$107=AB172,U$107,0)+IF(H$108=AB172,U$108,0)+IF(H$109=AB172,U$109,0)+IF(H$110=AB172,U$110,0)+IF(H$111=AB172,U$111,0)+IF(H$112=AB172,U$112,0)+IF(H$113=AB172,U$113,0)+IF(H$114=AB172,U$114,0)+IF(H$115=AB172,U$115,0)+IF(H$116=AB172,U$116,0)+IF(H$117=AB172,U$117,0)+IF(H$118=AB172,U$118,0)+IF(H$119=AB172,U$119,0)+IF(H$120=AB172,U$120,0)+IF(H$121=AB172,U$121,0)+IF(H$122=AB172,U$122,0)+IF(H$123=AB172,U$123,0)+IF(H$124=AB172,U$124,0)+IF(H$125=AB172,U$125,0)+IF(H$126=AB172,U$126,0)+IF(H$127=AB172,U$127,0)+IF(H$128=AB172,U$128,0)+IF(H$129=AB172,U$129,0)+IF(H$130=AB172,U$130,0)+IF(H$131=AB172,U$131,0)+IF(H$132=AB172,U$132,0)+IF(H$133=AB172,U$133,0)+IF(H$134=AB172,U$134,0)+IF(H$135=AB172,U$135,0)+IF(H$136=AB172,U$136,0)+IF(H$137=AB172,U$137,0)+IF(H$138=AB172,U$138,0) +IF(H$139= AB172,U$139,0) +IF(H$140= AB172,U$140,0) +IF(H$141= AB172,U$141,0) +IF(H$142= AB172,U$142,0) +IF(H$143= AB172,U$143,0) +IF(H$144= AB172,U$144,0) +IF(H$145= AB172,U$145,0) +IF(H$146= AB172,U$146,0) +IF(H$147= AB172,U$147,0) +IF(H$148= AB172,U$148,0)+IF(H$149=AB172,U$149,0)","v":0},0,{"$f":"AF172/AF$173","v":{"$error":"#DIV/0!"}},null,0,{"$f":"IF(H$99=AB172,SUM(S$99:T$99),0)+IF(H$100=AB172,SUM(S$100:T$100),0)+IF(H$101=AB172,SUM(S$101:T$101),0)+IF(H$102=AB172,SUM(S$102:T$102),0)+IF(H$103=AB172,SUM(S$103:T$103),0)+IF(H$104=AB172,SUM(S$104:T$104),0)+IF(H$105=AB172,SUM(S$105:T$105),0)+IF(H$106=AB172,SUM(S$106:T$106),0)+IF(H$107=AB172,SUM(S$107:T$107),0)+IF(H$108=AB172,SUM(S$108:T$108),0)+IF(H$109=AB172,SUM(S$109:T$109),0)+IF(H$110=AB172,SUM(S$110:T$110),0)+IF(H$111=AB172,SUM(S$111:T$111),0)+IF(H$112=AB172,SUM(S$112:T$112),0)+IF(H$113=AB172,SUM(S$113:T$113),0)+IF(H$114=AB172,SUM(S$114:T$114),0)+IF(H$115=AB172,SUM(S$115:T$115),0)+IF(H$116=AB172,SUM(S$116:T$116),0)+IF(H$117=AB172,SUM(S$117:T$117),0)+IF(H$118=AB172,SUM(S$118:T$118),0)+IF(H$119=AB172,SUM(S$119:T$119),0)+IF(H$120=AB172,SUM(S$120:T$120),0)+IF(H$121=AB172,SUM(S$121:T$121),0)+IF(H$122=AB172,SUM(S$122:T$122),0)+IF(H$123=AB172,SUM(S$123:T$123),0)+IF(H$124=AB172,SUM(S$124:T$124),0)+IF(H$125=AB172,SUM(S$125:T$125),0)+IF(H$126=AB172,SUM(S$126:T$126),0)+IF(H$127=AB172,SUM(S$127:T$127),0)+IF(H$128=AB172,SUM(S$128:T$128),0)+IF(H$129=AB172,SUM(S$129:T$129),0)+IF(H$130=AB172,SUM(S$130:T$130),0)+IF(H$131=AB172,SUM(S$131:T$131),0)+IF(H$132=AB172,SUM(S$132:T$132),0)+IF(H$133=AB172,SUM(S$133:T$133),0)+IF(H$134=AB172,SUM(S$134:T$134),0)+IF(H$135=AB172,SUM(S$135:T$135),0)+IF(H$136=AB172,SUM(S$136:T$136),0)+IF(H$137=AB172,SUM(S$137:T$137),0)+IF(H$138=AB172,SUM(S$138:T$138),0)+IF(H$139=AB172,SUM(S$139:T$139),0) +IF(H$140=AB172,SUM(S$140:T$140),0) +IF(H$141=AB172,SUM(S$141:T$141),0) +IF(H$142=AB172,SUM(S$142:T$142),0) +IF(H$143=AB172,SUM(S$143:T$143),0) +IF(H$144=AB172,SUM(S$144:T$144),0) +IF(H$145=AB172,SUM(S$145:T$145),0) +IF(H$146=AB172,SUM(S$146:T$146),0) +IF(H$147=AB172,SUM(S$147:T$147),0) +IF(H$148=AB172,SUM(S$148:T$148),0)+IF(H$149=AB172,SUM(S$149:T$149),0)","v":0},0,0]
[null,"Values automatically brought in from \"Non Domestic \" and \"Domestic\" sheets",null,"Electrical Savings kWh","Thermal Savings kWh","Fleet Savings kWh","Renewables Savings kWh ","Carbon Savings KgCo2 ","Payback on investment","Electrical savings €","Thermal Savings €","Fleet Savings €","Renewable Savings €","Energy Credits","Cost per kWh",null,null,null,null,null,null,null,null,null,null,null,null,null,null," ",null,{"$f":"SUM(AF153:AF172)","v":0}]
[null,"Facility Name","Project Category"]
[1,{"$f":"#REF!","v":{"$error":"#REF!"}},{"$f":"#REF!","v":{"$error":"#REF!"}},{"$f":"#REF!","v":{"$error":"#REF!"}},{"$f":"#REF!","v":{"$error":"#REF!"}},{"$f":"#REF!","v":{"$error":"#REF!"}},{"$f":"#REF!","v":{"$error":"#REF!"}},{"$f":"SUM(#REF!)","v":{"$error":"#REF!"}},{"$f":"IF(ISERROR((S99+T99)/SUM(J175:M175)),0,((S99+T99)/SUM(J175:M175)))","v":0},{"$f":"#REF!","v":{"$error":"#REF!"}},{"$f":"#REF!","v":{"$error":"#REF!"}},{"$f":"#REF!","v":{"$error":"#REF!"}},{"$f":"#REF!","v":{"$error":"#REF!"}},{"$f":"#REF!","v":{"$error":"#REF!"}},{"$f":"IF(ISERROR((S99+T99)/N175),0,((S99+T99)/N175))","v":0},null,{"$f":"SUM(D24:F24)/N175","v":{"$error":"#REF!"}}]
[{"$f":"A175+1","v":2},{"$f":"#REF!","v":{"$error":"#REF!"}},{"$f":"#REF!","v":{"$error":"#REF!"}},{"$f":"#REF!","v":{"$error":"#REF!"}},{"$f":"#REF!","v":{"$error":"#REF!"}},{"$f":"#REF!","v":{"$error":"#REF!"}},{"$f":"#REF!","v":{"$error":"#REF!"}},{"$f":"SUM(#REF!)","v":{"$error":"#REF!"}},0,{"$f":"#REF!","v":{"$error":"#REF!"}},{"$f":"#REF!","v":{"$error":"#REF!"}},{"$f":"#REF!","v":{"$error":"#REF!"}},{"$f":"#REF!","v":{"$error":"#REF!"}},{"$f":"#REF!","v":{"$error":"#REF!"}},0,null,{"$error":"#REF!"}]
[{"$f":"A176+1","v":3},{"$f":"#REF!","v":{"$error":"#REF!"}},{"$f":"#REF!","v":{"$error":"#REF!"}},{"$f":"#REF!","v":{"$error":"#REF!"}},{"$f":"#REF!","v":{"$error":"#REF!"}},{"$f":"#REF!","v":{"$error":"#REF!"}},{"$f":"#REF!","v":{"$error":"#REF!"}},{"$f":"SUM(#REF!)","v":{"$error":"#REF!"}},0,{"$f":"#REF!","v":{"$error":"#REF!"}},{"$f":"#REF!","v":{"$error":"#REF!"}},{"$f":"#REF!","v":{"$error":"#REF!"}},{"$f":"#REF!","v":{"$error":"#REF!"}},{"$f":"#REF!","v":{"$error":"#REF!"}},0,null,{"$error":"#REF!"}]
[4,{"$f":"#REF!","v":{"$error":"#REF!"}},{"$f":"#REF!","v":{"$error":"#REF!"}},{"$f":"#REF!","v":{"$error":"#REF!"}},{"$f":"#REF!","v":{"$error":"#REF!"}},{"$f":"#REF!","v":{"$error":"#REF!"}},{"$f":"#REF!","v":{"$error":"#REF!"}},{"$f":"SUM(#REF!)","v":{"$error":"#REF!"}},0,{"$f":"#REF!","v":{"$error":"#REF!"}},{"$f":"#REF!","v":{"$error":"#REF!"}},{"$f":"#REF!","v":{"$error":"#REF!"}},{"$f":"#REF!","v":{"$error":"#REF!"}},{"$f":"#REF!","v":{"$error":"#REF!"}},0,null,{"$error":"#REF!"}]
[5,{"$f":"#REF!","v":{"$error":"#REF!"}},{"$f":"#REF!","v":{"$error":"#REF!"}},{"$f":"#REF!","v":{"$error":"#REF!"}},{"$f":"#REF!","v":{"$error":"#REF!"}},{"$f":"#REF!","v":{"$error":"#REF!"}},{"$f":"#REF!","v":{"$error":"#REF!"}},{"$f":"SUM(#REF!)","v":{"$error":"#REF!"}},0,{"$f":"#REF!","v":{"$error":"#REF!"}},{"$f":"#REF!","v":{"$error":"#REF!"}},{"$f":"#REF!","v":{"$error":"#REF!"}},{"$f":"#REF!","v":{"$error":"#REF!"}},{"$f":"#REF!","v":{"$error":"#REF!"}},0,null,{"$error":"#REF!"}]
[6,{"$f":"#REF!","v":{"$error":"#REF!"}},{"$f":"#REF!","v":{"$error":"#REF!"}},{"$f":"#REF!","v":{"$error":"#REF!"}},{"$f":"#REF!","v":{"$error":"#REF!"}},{"$f":"#REF!","v":{"$error":"#REF!"}},{"$f":"#REF!","v":{"$error":"#REF!"}},{"$f":"SUM(#REF!)","v":{"$error":"#REF!"}},0,{"$f":"#REF!","v":{"$error":"#REF!"}},{"$f":"#REF!","v":{"$error":"#REF!"}},{"$f":"#REF!","v":{"$error":"#REF!"}},{"$f":"#REF!","v":{"$error":"#REF!"}},{"$f":"#REF!","v":{"$error":"#REF!"}},0,null,{"$error":"#REF!"}]
[7,{"$f":"#REF!","v":{"$error":"#REF!"}},{"$f":"#REF!","v":{"$error":"#REF!"}},{"$f":"#REF!","v":{"$error":"#REF!"}},{"$f":"#REF!","v":{"$error":"#REF!"}},{"$f":"#REF!","v":{"$error":"#REF!"}},{"$f":"#REF!","v":{"$error":"#REF!"}},{"$f":"SUM(#REF!)","v":{"$error":"#REF!"}},0,{"$f":"#REF!","v":{"$error":"#REF!"}},{"$f":"#REF!","v":{"$error":"#REF!"}},{"$f":"#REF!","v":{"$error":"#REF!"}},{"$f":"#REF!","v":{"$error":"#REF!"}},{"$f":"#REF!","v":{"$error":"#REF!"}},0,null,{"$error":"#REF!"}]
[8,{"$f":"#REF!","v":{"$error":"#REF!"}},{"$f":"#REF!","v":{"$error":"#REF!"}},{"$f":"#REF!","v":{"$error":"#REF!"}},{"$f":"#REF!","v":{"$error":"#REF!"}},{"$f":"#REF!","v":{"$error":"#REF!"}},{"$f":"#REF!","v":{"$error":"#REF!"}},{"$f":"SUM(#REF!)","v":{"$error":"#REF!"}},0,{"$f":"#REF!","v":{"$error":"#REF!"}},{"$f":"#REF!","v":{"$error":"#REF!"}},{"$f":"#REF!","v":{"$error":"#REF!"}},{"$f":"#REF!","v":{"$error":"#REF!"}},{"$f":"#REF!","v":{"$error":"#REF!"}},0,null,{"$error":"#REF!"}]
[9,{"$f":"#REF!","v":{"$error":"#REF!"}},{"$f":"#REF!","v":{"$error":"#REF!"}},{"$f":"#REF!","v":{"$error":"#REF!"}},{"$f":"#REF!","v":{"$error":"#REF!"}},{"$f":"#REF!","v":{"$error":"#REF!"}},{"$f":"#REF!","v":{"$error":"#REF!"}},{"$f":"SUM(#REF!)","v":{"$error":"#REF!"}},0,{"$f":"#REF!","v":{"$error":"#REF!"}},{"$f":"#REF!","v":{"$error":"#REF!"}},{"$f":"#REF!","v":{"$error":"#REF!"}},{"$f":"#REF!","v":{"$error":"#REF!"}},{"$f":"#REF!","v":{"$error":"#REF!"}},0,null,{"$error":"#REF!"}]
[10,{"$f":"#REF!","v":{"$error":"#REF!"}},{"$f":"#REF!","v":{"$error":"#REF!"}},{"$f":"#REF!","v":{"$error":"#REF!"}},{"$f":"#REF!","v":{"$error":"#REF!"}},{"$f":"#REF!","v":{"$error":"#REF!"}},{"$f":"#REF!","v":{"$error":"#REF!"}},{"$f":"SUM(#REF!)","v":{"$error":"#REF!"}},0,{"$f":"#REF!","v":{"$error":"#REF!"}},{"$f":"#REF!","v":{"$error":"#REF!"}},{"$f":"#REF!","v":{"$error":"#REF!"}},{"$f":"#REF!","v":{"$error":"#REF!"}},{"$f":"#REF!","v":{"$error":"#REF!"}},0,null,{"$error":"#REF!"}]
[11,{"$f":"#REF!","v":{"$error":"#REF!"}},{"$f":"#REF!","v":{"$error":"#REF!"}},{"$f":"#REF!","v":{"$error":"#REF!"}},{"$f":"#REF!","v":{"$error":"#REF!"}},{"$f":"#REF!","v":{"$error":"#REF!"}},{"$f":"#REF!","v":{"$error":"#REF!"}},{"$f":"SUM(#REF!)","v":{"$error":"#REF!"}},0,{"$f":"#REF!","v":{"$error":"#REF!"}},{"$f":"#REF!","v":{"$error":"#REF!"}},{"$f":"#REF!","v":{"$error":"#REF!"}},{"$f":"#REF!","v":{"$error":"#REF!"}},{"$f":"#REF!","v":{"$error":"#REF!"}},0,null,{"$error":"#REF!"}]
[{"$f":"A185+1","v":12},{"$f":"#REF!","v":{"$error":"#REF!"}},{"$f":"#REF!","v":{"$error":"#REF!"}},{"$f":"#REF!","v":{"$error":"#REF!"}},{"$f":"#REF!","v":{"$error":"#REF!"}},{"$f":"#REF!","v":{"$error":"#REF!"}},{"$f":"#REF!","v":{"$error":"#REF!"}},{"$f":"SUM(#REF!)","v":{"$error":"#REF!"}},0,{"$f":"#REF!","v":{"$error":"#REF!"}},{"$f":"#REF!","v":{"$error":"#REF!"}},{"$f":"#REF!","v":{"$error":"#REF!"}},{"$f":"#REF!","v":{"$error":"#REF!"}},{"$f":"#REF!","v":{"$error":"#REF!"}},0,null,{"$error":"#REF!"}]
[{"$f":"A186+1","v":13},{"$f":"#REF!","v":{"$error":"#REF!"}},{"$f":"#REF!","v":{"$error":"#REF!"}},{"$f":"#REF!","v":{"$error":"#REF!"}},{"$f":"#REF!","v":{"$error":"#REF!"}},{"$f":"#REF!","v":{"$error":"#REF!"}},{"$f":"#REF!","v":{"$error":"#REF!"}},{"$f":"SUM(#REF!)","v":{"$error":"#REF!"}},0,{"$f":"#REF!","v":{"$error":"#REF!"}},{"$f":"#REF!","v":{"$error":"#REF!"}},{"$f":"#REF!","v":{"$error":"#REF!"}},{"$f":"#REF!","v":{"$error":"#REF!"}},{"$f":"#REF!","v":{"$error":"#REF!"}},0,null,{"$error":"#REF!"}]
[14,{"$f":"#REF!","v":{"$error":"#REF!"}},{"$f":"#REF!","v":{"$error":"#REF!"}},{"$f":"#REF!","v":{"$error":"#REF!"}},{"$f":"#REF!","v":{"$error":"#REF!"}},{"$f":"#REF!","v":{"$error":"#REF!"}},{"$f":"#REF!","v":{"$error":"#REF!"}},{"$f":"SUM(#REF!)","v":{"$error":"#REF!"}},0,{"$f":"#REF!","v":{"$error":"#REF!"}},{"$f":"#REF!","v":{"$error":"#REF!"}},{"$f":"#REF!","v":{"$error":"#REF!"}},{"$f":"#REF!","v":{"$error":"#REF!"}},{"$f":"#REF!","v":{"$error":"#REF!"}},0,null,{"$error":"#REF!"}]
[15,{"$f":"#REF!","v":{"$error":"#REF!"}},{"$f":"#REF!","v":{"$error":"#REF!"}},{"$f":"#REF!","v":{"$error":"#REF!"}},{"$f":"#REF!","v":{"$error":"#REF!"}},{"$f":"#REF!","v":{"$error":"#REF!"}},{"$f":"#REF!","v":{"$error":"#REF!"}},{"$f":"SUM(#REF!)","v":{"$error":"#REF!"}},0,{"$f":"#REF!","v":{"$error":"#REF!"}},{"$f":"#REF!","v":{"$error":"#REF!"}},{"$f":"#REF!","v":{"$error":"#REF!"}},{"$f":"#REF!","v":{"$error":"#REF!"}},{"$f":"#REF!","v":{"$error":"#REF!"}},0,null,{"$error":"#REF!"}]
[16,{"$f":"#REF!","v":{"$error":"#REF!"}},{"$f":"#REF!","v":{"$error":"#REF!"}},{"$f":"#REF!","v":{"$error":"#REF!"}},{"$f":"#REF!","v":{"$error":"#REF!"}},{"$f":"#REF!","v":{"$error":"#REF!"}},{"$f":"#REF!","v":{"$error":"#REF!"}},{"$f":"SUM(#REF!)","v":{"$error":"#REF!"}},0,{"$f":"#REF!","v":{"$error":"#REF!"}},{"$f":"#REF!","v":{"$error":"#REF!"}},{"$f":"#REF!","v":{"$error":"#REF!"}},{"$f":"#REF!","v":{"$error":"#REF!"}},{"$f":"#REF!","v":{"$error":"#REF!"}},0,null,{"$error":"#REF!"}]
[17,{"$f":"#REF!","v":{"$error":"#REF!"}},{"$f":"#REF!","v":{"$error":"#REF!"}},{"$f":"#REF!","v":{"$error":"#REF!"}},{"$f":"#REF!","v":{"$error":"#REF!"}},{"$f":"#REF!","v":{"$error":"#REF!"}},{"$f":"#REF!","v":{"$error":"#REF!"}},{"$f":"SUM(#REF!)","v":{"$error":"#REF!"}},0,{"$f":"#REF!","v":{"$error":"#REF!"}},{"$f":"#REF!","v":{"$error":"#REF!"}},{"$f":"#REF!","v":{"$error":"#REF!"}},{"$f":"#REF!","v":{"$error":"#REF!"}},{"$f":"#REF!","v":{"$error":"#REF!"}},0,null,{"$error":"#REF!"}]
[18,{"$f":"#REF!","v":{"$error":"#REF!"}},{"$f":"#REF!","v":{"$error":"#REF!"}},{"$f":"#REF!","v":{"$error":"#REF!"}},{"$f":"#REF!","v":{"$error":"#REF!"}},{"$f":"#REF!","v":{"$error":"#REF!"}},{"$f":"#REF!","v":{"$error":"#REF!"}},{"$f":"SUM(#REF!)","v":{"$error":"#REF!"}},0,{"$f":"#REF!","v":{"$error":"#REF!"}},{"$f":"#REF!","v":{"$error":"#REF!"}},{"$f":"#REF!","v":{"$error":"#REF!"}},{"$f":"#REF!","v":{"$error":"#REF!"}},{"$f":"#REF!","v":{"$error":"#REF!"}},0,null,{"$error":"#REF!"}]
[19,{"$f":"#REF!","v":{"$error":"#REF!"}},{"$f":"#REF!","v":{"$error":"#REF!"}},{"$f":"#REF!","v":{"$error":"#REF!"}},{"$f":"#REF!","v":{"$error":"#REF!"}},{"$f":"#REF!","v":{"$error":"#REF!"}},{"$f":"#REF!","v":{"$error":"#REF!"}},{"$f":"SUM(#REF!)","v":{"$error":"#REF!"}},0,{"$f":"#REF!","v":{"$error":"#REF!"}},{"$f":"#REF!","v":{"$error":"#REF!"}},{"$f":"#REF!","v":{"$error":"#REF!"}},{"$f":"#REF!","v":{"$error":"#REF!"}},{"$f":"#REF!","v":{"$error":"#REF!"}},0,null,{"$error":"#REF!"}]
[20,{"$f":"#REF!","v":{"$error":"#REF!"}},{"$f":"#REF!","v":{"$error":"#REF!"}},{"$f":"#REF!","v":{"$error":"#REF!"}},{"$f":"#REF!","v":{"$error":"#REF!"}},{"$f":"#REF!","v":{"$error":"#REF!"}},{"$f":"#REF!","v":{"$error":"#REF!"}},{"$f":"SUM(#REF!)","v":{"$error":"#REF!"}},0,{"$f":"#REF!","v":{"$error":"#REF!"}},{"$f":"#REF!","v":{"$error":"#REF!"}},{"$f":"#REF!","v":{"$error":"#REF!"}},{"$f":"#REF!","v":{"$error":"#REF!"}},{"$f":"#REF!","v":{"$error":"#REF!"}},0,null,{"$error":"#REF!"}]
[21,{"$f":"#REF!","v":{"$error":"#REF!"}},{"$f":"#REF!","v":{"$error":"#REF!"}},{"$f":"#REF!","v":{"$error":"#REF!"}},{"$f":"#REF!","v":{"$error":"#REF!"}},{"$f":"#REF!","v":{"$error":"#REF!"}},{"$f":"#REF!","v":{"$error":"#REF!"}},{"$f":"SUM(#REF!)","v":{"$error":"#REF!"}},0,{"$f":"#REF!","v":{"$error":"#REF!"}},{"$f":"#REF!","v":{"$error":"#REF!"}},{"$f":"#REF!","v":{"$error":"#REF!"}},{"$f":"#REF!","v":{"$error":"#REF!"}},{"$f":"#REF!","v":{"$error":"#REF!"}},0,null,{"$error":"#REF!"}]
[22,{"$f":"#REF!","v":{"$error":"#REF!"}},{"$f":"#REF!","v":{"$error":"#REF!"}},{"$f":"#REF!","v":{"$error":"#REF!"}},{"$f":"#REF!","v":{"$error":"#REF!"}},{"$f":"#REF!","v":{"$error":"#REF!"}},{"$f":"#REF!","v":{"$error":"#REF!"}},{"$f":"SUM(#REF!)","v":{"$error":"#REF!"}},0,{"$f":"#REF!","v":{"$error":"#REF!"}},{"$f":"#REF!","v":{"$error":"#REF!"}},{"$f":"#REF!","v":{"$error":"#REF!"}},{"$f":"#REF!","v":{"$error":"#REF!"}},{"$f":"#REF!","v":{"$error":"#REF!"}},0,null,{"$error":"#REF!"}]
[23,{"$f":"#REF!","v":{"$error":"#REF!"}},{"$f":"#REF!","v":{"$error":"#REF!"}},{"$f":"#REF!","v":{"$error":"#REF!"}},{"$f":"#REF!","v":{"$error":"#REF!"}},{"$f":"#REF!","v":{"$error":"#REF!"}},{"$f":"#REF!","v":{"$error":"#REF!"}},{"$f":"SUM(#REF!)","v":{"$error":"#REF!"}},0,{"$f":"#REF!","v":{"$error":"#REF!"}},{"$f":"#REF!","v":{"$error":"#REF!"}},{"$f":"#REF!","v":{"$error":"#REF!"}},{"$f":"#REF!","v":{"$error":"#REF!"}},{"$f":"#REF!","v":{"$error":"#REF!"}},0,null,{"$error":"#REF!"}]
[24,{"$f":"#REF!","v":{"$error":"#REF!"}},{"$f":"#REF!","v":{"$error":"#REF!"}},{"$f":"#REF!","v":{"$error":"#REF!"}},{"$f":"#REF!","v":{"$error":"#REF!"}},{"$f":"#REF!","v":{"$error":"#REF!"}},{"$f":"#REF!","v":{"$error":"#REF!"}},{"$f":"SUM(#REF!)","v":{"$error":"#REF!"}},0,{"$f":"#REF!","v":{"$error":"#REF!"}},{"$f":"#REF!","v":{"$error":"#REF!"}},{"$f":"#REF!","v":{"$error":"#REF!"}},{"$f":"#REF!","v":{"$error":"#REF!"}},{"$f":"#REF!","v":{"$error":"#REF!"}},0,null,{"$error":"#REF!"}]
[25,{"$f":"#REF!","v":{"$error":"#REF!"}},{"$f":"#REF!","v":{"$error":"#REF!"}},{"$f":"#REF!","v":{"$error":"#REF!"}},{"$f":"#REF!","v":{"$error":"#REF!"}},{"$f":"#REF!","v":{"$error":"#REF!"}},{"$f":"#REF!","v":{"$error":"#REF!"}},{"$f":"SUM(#REF!)","v":{"$error":"#REF!"}},0,{"$f":"#REF!","v":{"$error":"#REF!"}},{"$f":"#REF!","v":{"$error":"#REF!"}},{"$f":"#REF!","v":{"$error":"#REF!"}},{"$f":"#REF!","v":{"$error":"#REF!"}},{"$f":"#REF!","v":{"$error":"#REF!"}},0,null,{"$error":"#REF!"}]
[26,{"$f":"#REF!","v":{"$error":"#REF!"}},{"$f":"#REF!","v":{"$error":"#REF!"}},{"$f":"#REF!","v":{"$error":"#REF!"}},{"$f":"#REF!","v":{"$error":"#REF!"}},{"$f":"#REF!","v":{"$error":"#REF!"}},{"$f":"#REF!","v":{"$error":"#REF!"}},{"$f":"SUM(#REF!)","v":{"$error":"#REF!"}},0,{"$f":"#REF!","v":{"$error":"#REF!"}},{"$f":"#REF!","v":{"$error":"#REF!"}},{"$f":"#REF!","v":{"$error":"#REF!"}},{"$f":"#REF!","v":{"$error":"#REF!"}},{"$f":"#REF!","v":{"$error":"#REF!"}},0,null,{"$error":"#REF!"}]
[27,{"$f":"#REF!","v":{"$error":"#REF!"}},{"$f":"#REF!","v":{"$error":"#REF!"}},{"$f":"#REF!","v":{"$error":"#REF!"}},{"$f":"#REF!","v":{"$error":"#REF!"}},{"$f":"#REF!","v":{"$error":"#REF!"}},{"$f":"#REF!","v":{"$error":"#REF!"}},{"$f":"SUM(#REF!)","v":{"$error":"#REF!"}},0,{"$f":"#REF!","v":{"$error":"#REF!"}},{"$f":"#REF!","v":{"$error":"#REF!"}},{"$f":"#REF!","v":{"$error":"#REF!"}},{"$f":"#REF!","v":{"$error":"#REF!"}},{"$f":"#REF!","v":{"$error":"#REF!"}},0,null,{"$error":"#REF!"}]
[28,{"$f":"#REF!","v":{"$error":"#REF!"}},{"$f":"#REF!","v":{"$error":"#REF!"}},{"$f":"#REF!","v":{"$error":"#REF!"}},{"$f":"#REF!","v":{"$error":"#REF!"}},{"$f":"#REF!","v":{"$error":"#REF!"}},{"$f":"#REF!","v":{"$error":"#REF!"}},{"$f":"SUM(#REF!)","v":{"$error":"#REF!"}},0,{"$f":"#REF!","v":{"$error":"#REF!"}},{"$f":"#REF!","v":{"$error":"#REF!"}},{"$f":"#REF!","v":{"$error":"#REF!"}},{"$f":"#REF!","v":{"$error":"#REF!"}},{"$f":"#REF!","v":{"$error":"#REF!"}},0,null,{"$error":"#REF!"}]
[29,{"$f":"#REF!","v":{"$error":"#REF!"}},{"$f":"#REF!","v":{"$error":"#REF!"}},{"$f":"#REF!","v":{"$error":"#REF!"}},{"$f":"#REF!","v":{"$error":"#REF!"}},{"$f":"#REF!","v":{"$error":"#REF!"}},{"$f":"#REF!","v":{"$error":"#REF!"}},{"$f":"SUM(#REF!)","v":{"$error":"#REF!"}},0,{"$f":"#REF!","v":{"$error":"#REF!"}},{"$f":"#REF!","v":{"$error":"#REF!"}},{"$f":"#REF!","v":{"$error":"#REF!"}},{"$f":"#REF!","v":{"$error":"#REF!"}},{"$f":"#REF!","v":{"$error":"#REF!"}},0,null,{"$error":"#REF!"}]
[30,{"$f":"#REF!","v":{"$error":"#REF!"}},{"$f":"#REF!","v":{"$error":"#REF!"}},{"$f":"#REF!","v":{"$error":"#REF!"}},{"$f":"#REF!","v":{"$error":"#REF!"}},{"$f":"#REF!","v":{"$error":"#REF!"}},{"$f":"#REF!","v":{"$error":"#REF!"}},{"$f":"SUM(#REF!)","v":{"$error":"#REF!"}},0,{"$f":"#REF!","v":{"$error":"#REF!"}},{"$f":"#REF!","v":{"$error":"#REF!"}},{"$f":"#REF!","v":{"$error":"#REF!"}},{"$f":"#REF!","v":{"$error":"#REF!"}},{"$f":"#REF!","v":{"$error":"#REF!"}},0,null,{"$error":"#REF!"}]
[{"$f":"A204+1","v":31},{"$f":"#REF!","v":{"$error":"#REF!"}},{"$f":"#REF!","v":{"$error":"#REF!"}},{"$f":"#REF!","v":{"$error":"#REF!"}},{"$f":"#REF!","v":{"$error":"#REF!"}},{"$f":"#REF!","v":{"$error":"#REF!"}},{"$f":"#REF!","v":{"$error":"#REF!"}},{"$f":"SUM(#REF!)","v":{"$error":"#REF!"}},0,{"$f":"#REF!","v":{"$error":"#REF!"}},{"$f":"#REF!","v":{"$error":"#REF!"}},{"$f":"#REF!","v":{"$error":"#REF!"}},{"$f":"#REF!","v":{"$error":"#REF!"}},{"$f":"#REF!","v":{"$error":"#REF!"}},0,null,{"$error":"#REF!"}]
[32,{"$f":"#REF!","v":{"$error":"#REF!"}},{"$f":"#REF!","v":{"$error":"#REF!"}},{"$f":"#REF!","v":{"$error":"#REF!"}},{"$f":"#REF!","v":{"$error":"#REF!"}},{"$f":"#REF!","v":{"$error":"#REF!"}},{"$f":"#REF!","v":{"$error":"#REF!"}},{"$f":"SUM(#REF!)","v":{"$error":"#REF!"}},0,{"$f":"#REF!","v":{"$error":"#REF!"}},{"$f":"#REF!","v":{"$error":"#REF!"}},{"$f":"#REF!","v":{"$error":"#REF!"}},{"$f":"#REF!","v":{"$error":"#REF!"}},{"$f":"#REF!","v":{"$error":"#REF!"}},0,null,{"$error":"#REF!"}]
[33,{"$f":"#REF!","v":{"$error":"#REF!"}},{"$f":"#REF!","v":{"$error":"#REF!"}},{"$f":"#REF!","v":{"$error":"#REF!"}},{"$f":"#REF!","v":{"$error":"#REF!"}},{"$f":"#REF!","v":{"$error":"#REF!"}},{"$f":"#REF!","v":{"$error":"#REF!"}},{"$f":"SUM(#REF!)","v":{"$error":"#REF!"}},0,{"$f":"#REF!","v":{"$error":"#REF!"}},{"$f":"#REF!","v":{"$error":"#REF!"}},{"$f":"#REF!","v":{"$error":"#REF!"}},{"$f":"#REF!","v":{"$error":"#REF!"}},{"$f":"#REF!","v":{"$error":"#REF!"}},0,null,{"$f":"SUM(D56:F56)/N207","v":{"$error":"#REF!"}}]
[34,{"$f":"#REF!","v":{"$error":"#REF!"}},{"$f":"#REF!","v":{"$error":"#REF!"}},{"$f":"#REF!","v":{"$error":"#REF!"}},{"$f":"#REF!","v":{"$error":"#REF!"}},{"$f":"#REF!","v":{"$error":"#REF!"}},{"$f":"#REF!","v":{"$error":"#REF!"}},{"$f":"SUM(#REF!)","v":{"$error":"#REF!"}},0,{"$f":"#REF!","v":{"$error":"#REF!"}},{"$f":"#REF!","v":{"$error":"#REF!"}},{"$f":"#REF!","v":{"$error":"#REF!"}},{"$f":"#REF!","v":{"$error":"#REF!"}},{"$f":"#REF!","v":{"$error":"#REF!"}},0,null,{"$error":"#REF!"}]
[35,{"$f":"#REF!","v":{"$error":"#REF!"}},{"$f":"#REF!","v":{"$error":"#REF!"}},{"$f":"#REF!","v":{"$error":"#REF!"}},{"$f":"#REF!","v":{"$error":"#REF!"}},{"$f":"#REF!","v":{"$error":"#REF!"}},{"$f":"#REF!","v":{"$error":"#REF!"}},{"$f":"SUM(#REF!)","v":{"$error":"#REF!"}},0,{"$f":"#REF!","v":{"$error":"#REF!"}},{"$f":"#REF!","v":{"$error":"#REF!"}},{"$f":"#REF!","v":{"$error":"#REF!"}},{"$f":"#REF!","v":{"$error":"#REF!"}},{"$f":"#REF!","v":{"$error":"#REF!"}},0,null,{"$error":"#REF!"}]
[36,{"$f":"#REF!","v":{"$error":"#REF!"}},{"$f":"#REF!","v":{"$error":"#REF!"}},{"$f":"#REF!","v":{"$error":"#REF!"}},{"$f":"#REF!","v":{"$error":"#REF!"}},{"$f":"#REF!","v":{"$error":"#REF!"}},{"$f":"#REF!","v":{"$error":"#REF!"}},{"$f":"SUM(#REF!)","v":{"$error":"#REF!"}},0,{"$f":"#REF!","v":{"$error":"#REF!"}},{"$f":"#REF!","v":{"$error":"#REF!"}},{"$f":"#REF!","v":{"$error":"#REF!"}},{"$f":"#REF!","v":{"$error":"#REF!"}},{"$f":"#REF!","v":{"$error":"#REF!"}},0,null,{"$error":"#REF!"}]
[37,{"$f":"#REF!","v":{"$error":"#REF!"}},{"$f":"#REF!","v":{"$error":"#REF!"}},{"$f":"#REF!","v":{"$error":"#REF!"}},{"$f":"#REF!","v":{"$error":"#REF!"}},{"$f":"#REF!","v":{"$error":"#REF!"}},{"$f":"#REF!","v":{"$error":"#REF!"}},{"$f":"SUM(#REF!)","v":{"$error":"#REF!"}},0,{"$f":"#REF!","v":{"$error":"#REF!"}},{"$f":"#REF!","v":{"$error":"#REF!"}},{"$f":"#REF!","v":{"$error":"#REF!"}},{"$f":"#REF!","v":{"$error":"#REF!"}},{"$f":"#REF!","v":{"$error":"#REF!"}},0,null,{"$error":"#REF!"}]
[38,{"$f":"#REF!","v":{"$error":"#REF!"}},{"$f":"#REF!","v":{"$error":"#REF!"}},{"$f":"#REF!","v":{"$error":"#REF!"}},{"$f":"#REF!","v":{"$error":"#REF!"}},{"$f":"#REF!","v":{"$error":"#REF!"}},{"$f":"#REF!","v":{"$error":"#REF!"}},{"$f":"SUM(#REF!)","v":{"$error":"#REF!"}},0,{"$f":"#REF!","v":{"$error":"#REF!"}},{"$f":"#REF!","v":{"$error":"#REF!"}},{"$f":"#REF!","v":{"$error":"#REF!"}},{"$f":"#REF!","v":{"$error":"#REF!"}},{"$f":"#REF!","v":{"$error":"#REF!"}},0,null,{"$error":"#REF!"}]
[39,{"$f":"#REF!","v":{"$error":"#REF!"}},{"$f":"#REF!","v":{"$error":"#REF!"}},{"$f":"#REF!","v":{"$error":"#REF!"}},{"$f":"#REF!","v":{"$error":"#REF!"}},{"$f":"#REF!","v":{"$error":"#REF!"}},{"$f":"#REF!","v":{"$error":"#REF!"}},{"$f":"SUM(#REF!)","v":{"$error":"#REF!"}},{"$f":"IF(ISERROR((S137+T137)/SUM(J213:M213)),0,((S137+T137)/SUM(J213:M213)))","v":0},{"$f":"#REF!","v":{"$error":"#REF!"}},{"$f":"#REF!","v":{"$error":"#REF!"}},{"$f":"#REF!","v":{"$error":"#REF!"}},{"$f":"#REF!","v":{"$error":"#REF!"}},{"$f":"#REF!","v":{"$error":"#REF!"}},{"$f":"IF(ISERROR((S137+T137)/N213),0,((S137+T137)/N213))","v":0},null,{"$error":"#REF!"}]
[40,{"$f":"#REF!","v":{"$error":"#REF!"}},{"$f":"#REF!","v":{"$error":"#REF!"}},{"$f":"#REF!","v":{"$error":"#REF!"}},{"$f":"#REF!","v":{"$error":"#REF!"}},{"$f":"#REF!","v":{"$error":"#REF!"}},{"$f":"#REF!","v":{"$error":"#REF!"}},{"$f":"SUM(#REF!)","v":{"$error":"#REF!"}},0,{"$f":"#REF!","v":{"$error":"#REF!"}},{"$f":"#REF!","v":{"$error":"#REF!"}},{"$f":"#REF!","v":{"$error":"#REF!"}},{"$f":"#REF!","v":{"$error":"#REF!"}},{"$f":"#REF!","v":{"$error":"#REF!"}},0,null,{"$error":"#REF!"}]
[41,{"$f":"#REF!","v":{"$error":"#REF!"}},{"$f":"#REF!","v":{"$error":"#REF!"}},{"$f":"#REF!","v":{"$error":"#REF!"}},{"$f":"#REF!","v":{"$error":"#REF!"}},{"$f":"#REF!","v":{"$error":"#REF!"}},{"$f":"#REF!","v":{"$error":"#REF!"}},{"$f":"SUM(#REF!)","v":{"$error":"#REF!"}},0,{"$f":"#REF!","v":{"$error":"#REF!"}},{"$f":"#REF!","v":{"$error":"#REF!"}},{"$f":"#REF!","v":{"$error":"#REF!"}},{"$f":"#REF!","v":{"$error":"#REF!"}},{"$f":"#REF!","v":{"$error":"#REF!"}},0,null,{"$error":"#REF!"}]
[42,{"$f":"#REF!","v":{"$error":"#REF!"}},{"$f":"#REF!","v":{"$error":"#REF!"}},{"$f":"#REF!","v":{"$error":"#REF!"}},{"$f":"#REF!","v":{"$error":"#REF!"}},{"$f":"#REF!","v":{"$error":"#REF!"}},{"$f":"#REF!","v":{"$error":"#REF!"}},{"$f":"SUM(#REF!)","v":{"$error":"#REF!"}},0,{"$f":"#REF!","v":{"$error":"#REF!"}},{"$f":"#REF!","v":{"$error":"#REF!"}},{"$f":"#REF!","v":{"$error":"#REF!"}},{"$f":"#REF!","v":{"$error":"#REF!"}},{"$f":"#REF!","v":{"$error":"#REF!"}},0,null,{"$error":"#REF!"}]
[43,{"$f":"#REF!","v":{"$error":"#REF!"}},{"$f":"#REF!","v":{"$error":"#REF!"}},{"$f":"#REF!","v":{"$error":"#REF!"}},{"$f":"#REF!","v":{"$error":"#REF!"}},{"$f":"#REF!","v":{"$error":"#REF!"}},{"$f":"#REF!","v":{"$error":"#REF!"}},{"$f":"SUM(#REF!)","v":{"$error":"#REF!"}},0,{"$f":"#REF!","v":{"$error":"#REF!"}},{"$f":"#REF!","v":{"$error":"#REF!"}},{"$f":"#REF!","v":{"$error":"#REF!"}},{"$f":"#REF!","v":{"$error":"#REF!"}},{"$f":"#REF!","v":{"$error":"#REF!"}},0,null,{"$error":"#REF!"}]
[44,{"$f":"#REF!","v":{"$error":"#REF!"}},{"$f":"#REF!","v":{"$error":"#REF!"}},{"$f":"#REF!","v":{"$error":"#REF!"}},{"$f":"#REF!","v":{"$error":"#REF!"}},{"$f":"#REF!","v":{"$error":"#REF!"}},{"$f":"#REF!","v":{"$error":"#REF!"}},{"$f":"SUM(#REF!)","v":{"$error":"#REF!"}},0,{"$f":"#REF!","v":{"$error":"#REF!"}},{"$f":"#REF!","v":{"$error":"#REF!"}},{"$f":"#REF!","v":{"$error":"#REF!"}},{"$f":"#REF!","v":{"$error":"#REF!"}},{"$f":"#REF!","v":{"$error":"#REF!"}},0,null,{"$error":"#REF!"}]
[45,{"$f":"#REF!","v":{"$error":"#REF!"}},{"$f":"#REF!","v":{"$error":"#REF!"}},{"$f":"#REF!","v":{"$error":"#REF!"}},{"$f":"#REF!","v":{"$error":"#REF!"}},{"$f":"#REF!","v":{"$error":"#REF!"}},{"$f":"#REF!","v":{"$error":"#REF!"}},{"$f":"SUM(#REF!)","v":{"$error":"#REF!"}},0,{"$f":"#REF!","v":{"$error":"#REF!"}},{"$f":"#REF!","v":{"$error":"#REF!"}},{"$f":"#REF!","v":{"$error":"#REF!"}},{"$f":"#REF!","v":{"$error":"#REF!"}},{"$f":"#REF!","v":{"$error":"#REF!"}},0,null,{"$error":"#REF!"}]
[46,{"$f":"#REF!","v":{"$error":"#REF!"}},{"$f":"#REF!","v":{"$error":"#REF!"}},{"$f":"#REF!","v":{"$error":"#REF!"}},{"$f":"#REF!","v":{"$error":"#REF!"}},{"$f":"#REF!","v":{"$error":"#REF!"}},{"$f":"#REF!","v":{"$error":"#REF!"}},{"$f":"SUM(#REF!)","v":{"$error":"#REF!"}},0,{"$f":"#REF!","v":{"$error":"#REF!"}},{"$f":"#REF!","v":{"$error":"#REF!"}},{"$f":"#REF!","v":{"$error":"#REF!"}},{"$f":"#REF!","v":{"$error":"#REF!"}},{"$f":"#REF!","v":{"$error":"#REF!"}},0,null,{"$error":"#REF!"}]
[47,{"$f":"#REF!","v":{"$error":"#REF!"}},{"$f":"#REF!","v":{"$error":"#REF!"}},{"$f":"#REF!","v":{"$error":"#REF!"}},{"$f":"#REF!","v":{"$error":"#REF!"}},{"$f":"#REF!","v":{"$error":"#REF!"}},{"$f":"#REF!","v":{"$error":"#REF!"}},{"$f":"SUM(#REF!)","v":{"$error":"#REF!"}},0,{"$f":"#REF!","v":{"$error":"#REF!"}},{"$f":"#REF!","v":{"$error":"#REF!"}},{"$f":"#REF!","v":{"$error":"#REF!"}},{"$f":"#REF!","v":{"$error":"#REF!"}},{"$f":"#REF!","v":{"$error":"#REF!"}},0,null,{"$error":"#REF!"}]
[48,{"$f":"#REF!","v":{"$error":"#REF!"}},{"$f":"#REF!","v":{"$error":"#REF!"}},{"$f":"#REF!","v":{"$error":"#REF!"}},{"$f":"#REF!","v":{"$error":"#REF!"}},{"$f":"#REF!","v":{"$error":"#REF!"}},{"$f":"#REF!","v":{"$error":"#REF!"}},{"$f":"SUM(#REF!)","v":{"$error":"#REF!"}},0,{"$f":"#REF!","v":{"$error":"#REF!"}},{"$f":"#REF!","v":{"$error":"#REF!"}},{"$f":"#REF!","v":{"$error":"#REF!"}},{"$f":"#REF!","v":{"$error":"#REF!"}},{"$f":"#REF!","v":{"$error":"#REF!"}},0,null,{"$error":"#REF!"}]
[49,{"$f":"#REF!","v":{"$error":"#REF!"}},{"$f":"#REF!","v":{"$error":"#REF!"}},{"$f":"#REF!","v":{"$error":"#REF!"}},{"$f":"#REF!","v":{"$error":"#REF!"}},{"$f":"#REF!","v":{"$error":"#REF!"}},{"$f":"#REF!","v":{"$error":"#REF!"}},{"$f":"SUM(#REF!)","v":{"$error":"#REF!"}},0,{"$f":"#REF!","v":{"$error":"#REF!"}},{"$f":"#REF!","v":{"$error":"#REF!"}},{"$f":"#REF!","v":{"$error":"#REF!"}},{"$f":"#REF!","v":{"$error":"#REF!"}},{"$f":"#REF!","v":{"$error":"#REF!"}},0,null,{"$error":"#REF!"}]
[50,{"$f":"#REF!","v":{"$error":"#REF!"}},{"$f":"#REF!","v":{"$error":"#REF!"}},{"$f":"#REF!","v":{"$error":"#REF!"}},{"$f":"#REF!","v":{"$error":"#REF!"}},{"$f":"#REF!","v":{"$error":"#REF!"}},{"$f":"#REF!","v":{"$error":"#REF!"}},{"$f":"SUM(#REF!)","v":{"$error":"#REF!"}},{"$f":"IF(ISERROR((S148+T148)/SUM(J224:M224)),0,((S148+T148)/SUM(J224:M224)))","v":0},{"$f":"#REF!","v":{"$error":"#REF!"}},{"$f":"#REF!","v":{"$error":"#REF!"}},{"$f":"#REF!","v":{"$error":"#REF!"}},{"$f":"#REF!","v":{"$error":"#REF!"}},{"$f":"#REF!","v":{"$error":"#REF!"}},{"$f":"IF(ISERROR((S148+T148)/N224),0,((S148+T148)/N224))","v":0},null,{"$error":"#REF!"}]
[" ","EV Charger",{"$f":"#REF!","v":{"$error":"#REF!"}},{"$f":"#REF!","v":{"$error":"#REF!"}},{"$f":"#REF!","v":{"$error":"#REF!"}},{"$f":"#REF!","v":{"$error":"#REF!"}},{"$f":"#REF!","v":{"$error":"#REF!"}},{"$f":"SUM(#REF!)","v":{"$error":"#REF!"}},{"$f":"IF(ISERROR((S149+T149)/SUM(J225:M225)),0,((S149+T149)/SUM(J225:M225)))","v":0},{"$f":"#REF!","v":{"$error":"#REF!"}},{"$f":"#REF!","v":{"$error":"#REF!"}},{"$f":"#REF!","v":{"$error":"#REF!"}},{"$f":"#REF!","v":{"$error":"#REF!"}},{"$f":"#REF!","v":{"$error":"#REF!"}},{"$f":"IF(ISERROR((S149+T149)/N225),0,((S149+T149)/N225))","v":0},null,{"$error":"#REF!"}]
[null,"Residential","Non Energy Poor ",null,null,null,null,null,{"$f":"IF(ISERROR((AL113)/SUM(J226:M226)),0,((AL113)/SUM(J226:M226)))","v":0},null,{"$f":"'NFP Domestic Measures & costs'!N10","v":0},null,null,{"$f":"'NFP Domestic Measures & costs'!N9","v":0},{"$f":"IF(ISERROR((AL113)/N226),0,((AL113)/N226))","v":0}]
[null,"Residential","Energy Poor",null,null,null,null,null,{"$f":"IF(ISERROR((AL110)/SUM(J227:M227)),0,((AL110)/SUM(J227:M227)))","v":0},null,{"$f":"'FP Domestic Measures & costs'!N10","v":0},null,null,{"$f":"'FP Domestic Measures & costs'!N9","v":0},{"$f":"IF(ISERROR((AL110)/N227),0,((AL110)/N227))","v":0}]
[null,"TOTALS",null,{"$f":"D226+D227","v":0},{"$f":"E226+E227","v":0},0,0,0,0,0,0,0,0,0,0,0,0,0]
[]
[]
[]
[]
[null,"% Savings","Non Domestic Energy Credits",{"$f":"SUM(N175:N225)","v":{"$error":"#REF!"}},null,"Non Domestic Costs",{"$f":"SUM(S99:T149)","v":0}]
[null,null,"Domestic Energy Credits",{"$f":"N226+N227","v":0},null,"Domestic Costs",{"$f":"SUM(J170)","v":0},null,null,null,null,null,null,null,null,"House Check"]
[null,null,"Total Energy Credits",{"$f":"SUM(D233:D234)","v":{"$error":"#REF!"}},null,"Total",{"$f":"SUM(S151:T151,J170)","v":0}]
[]
[null,null,"% Savings Non Residential",{"$f":"D233/SUM(D76:F76)","v":{"$error":"#REF!"}}]
[null,null,"% Savings Residential",{"$f":"D234/(D83+Z94)","v":{"$error":"#DIV/0!"}}]
[null,null,"% Savings Total",{"$f":"D235/(SUM(D76:F76,D83,Z94))","v":{"$error":"#REF!"}}]
[]
[]
[]
[]
[]
[null,null,null,null,null,null,null,null,null,null,"Overview - Costs",null,null,"House Check"]
[null,"Project Costs (Exclusive of VAT)",null,null,null,null,null,null,null,null,{"$f":"C247","v":"Project Costs"},{"$f":"C261","v":0},null,{"$f":"IF(AND(F170=F170,G171=G170),\"Ok\",\"Domestic Energy Credit Tab no. of houses does not match fund costs no. of house, please correct\")","v":"Ok"}]
[null,"Project Name","Project Costs","Project Managment",null,"Non Domestic Design Fees","Non Domestic M&V Fees",null,null,null,{"$f":"D247","v":"Project Managment"},{"$f":"D261","v":0}]
[null,null,"Euro (€) ex VAT","Euro (€) ex VAT",null,"Euro (€) ex VAT","Euro (€) ex VAT"]
[null,"Additonal HEA's ",{"$f":"K169","v":0},null,null," "," "]
[null,"Energy Poor Homes : Housing Association",{"$f":"'Project Summary'!Z109","v":0},null,null," "," "]
[null,"Energy Poor Homes : Private",{"$f":"'Project Summary'!Z110","v":0},null,null," "," "]
[null,"Non-Energy Poor Homes : Local Authority",{"$f":"'Project Summary'!Z111","v":0},null,null," "," ",null,null,null,"Eligible VAT Expenditure",{"$f":"T151","v":0}]
[null,"Non-Energy Poor Homes : Housing Association",{"$f":"'Project Summary'!Z112","v":0},null,null," "," ",null,null,null,"Total Eligible Costs (includes Non D 8% rate)",{"$f":"SUM(L246:L252)","v":0}]
[null,"Non-Energy Poor Homes : Private",{"$f":"'Project Summary'!Z113","v":0},null,null," "," ",null,null,null,"Overview - Funding"]
[null,"Other Community buildings & services",{"$f":"'Project Summary'!Z99","v":0},{"$f":"'Project Summary'!AC99","v":0},null," "," ",null,null,null,"Grant",{"$f":"L253*L256","v":{"$error":"#DIV/0!"}}]
[null,"Educational / Library / Cultural",{"$f":"'Project Summary'!Z100","v":0},{"$f":"'Project Summary'!AC100","v":0},null," "," ",null,null,null,"%",{"$f":"'Application Form'!E83","v":{"$error":"#DIV/0!"}}]
[null,"Public Sector Buildings & Services",{"$f":"'Project Summary'!Z101","v":0},{"$f":"'Project Summary'!AC101","v":0},null," "," ",null,null,null,"KWh",{"$f":"D235","v":{"$error":"#REF!"}}]
[null,"Sports & Leisure Centres",{"$f":"'Project Summary'!Z102","v":0},{"$f":"'Project Summary'!AC102","v":0},null," "," ",null,null,null,"Funding Breakdown (incl PM,BER,Other,VAT)"]
[null,"Private Sector Buildings",{"$f":"'Project Summary'!Z103","v":0},{"$f":"'Project Summary'!AC103","v":0},null," "," ",null,null,null,"Non Domestic",{"$f":"SUM(U151)","v":0}]
[null,"Not for Profit/ Community Buildings & Services",{"$f":"'Project Summary'!Z104","v":0},{"$f":"'Project Summary'!AC104","v":0},null," "," ",null,null,null,"Residential - Non Fuel Poor",{"$f":"AM113-AP113","v":0}]
[null,"TOTAL",{"$f":"SUM(C249:C254)","v":0},{"$f":"SUM(D249:D254)","v":0},{"$f":"SUM(E249:E260)","v":0},{"$f":"SUM(F249:F260)","v":0},{"$f":"SUM(G249:G260)","v":0},null,null,null,"Residential - Fuel Poor",{"$f":"AM110-AP110","v":0}]
[null,null,null,null,null,null,null,null,null,null,"Additional HEA's ",{"$f":"K169","v":0}]

{"sheet":"Beneficiary","index":11,"n_rows":31,"n_cols":17,"rows_kept":31,"cut":false,"hidden":false,"merged":[[30,2,36,7],[0,2,0,7],[6,6,6,7],[1,6,1,7],[2,6,2,7],[3,6,3,7],[4,6,4,7],[5,6,5,7],[6,2,6,4],[1,2,1,4],[2,2,2,4],[3,2,3,4],[4,2,4,4],[5,2,5,4]]}
[null,null,"Notes:"]
[null,null,"Declaration of Finance",null,null,"DOF","ALL"]
[null,null,"Proof of Finance",null,null,"POF","Other over 50k"]
[null,null,"Declaration of Solvency",null,null,"DOS","Other over 200k"]
[null,null,"Lead Applicant Bank Statement (for payments)",null,null,"LABS","Lead Applicant only"]
[null,null,"Beneficiary Letter",null,null,"BL","ALL BENEFICIARIES ",null,null," "]
[null,null,"Grant Agreement Signed",null,null,"GAS","Lead Applicant only"]
[]
[null,"Beneficiary Name","Total Eligible Costs","Is this Beneficary the Lead Applicant?","Public Sector Organisation or Other","DOF <€50,000","POF >€50,000 <€200,000","DOS >€200,000","VAT Letter","TCC Number","Access Number","BL"]
[null,{"$f":"'Project Summary'!AC153","v":0},{"$f":"'Project Summary'!AI153+'Project Summary'!AJ153","v":0},"No","Other",{"$f":"IF(C10>1, \"Required\",\"N/A\")","v":"N/A"},{"$f":"IF(AND(E10=\"Other\",C10>50000),\"Required\",\"N/A\")","v":"N/A"},{"$f":"IF(AND(E10=\"Other\",C10>200000),\"Required\",\"N/A\")","v":"N/A"},{"$f":"IF(('Project Summary'!AK153+'Project Summary'!AL153)>0,\"Required\",\"N/A\")","v":"N/A"},{"$f":"IF(C10>1, \"Required\",\"N/A\")","v":"N/A"},{"$f":"IF(C10>1, \"Required\",\"N/A\")","v":"N/A"},{"$f":"IF(D10=\"No\", \"Required\", \"LABS Required\")","v":"Required"}]
[null,{"$f":"'Project Summary'!AC154","v":"Enter Name of Beneficiary"},{"$f":"'Project Summary'!AI154+'Project Summary'!AJ154","v":0},"No","Public",{"$f":"IF(C11>1, \"Required\",\"N/A\")","v":"N/A"},"N/A","N/A",{"$f":"IF(('Project Summary'!AK154+'Project Summary'!AL154)>0,\"Required\",\"N/A\")","v":"N/A"},{"$f":"IF(C11>1, \"Required\",\"N/A\")","v":"N/A"},{"$f":"IF(C11>1, \"Required\",\"N/A\")","v":"N/A"},{"$f":"IF(D11=\"No\", \"Required\", \"LABS Required\")","v":"Required"}]
[null,{"$f":"'Project Summary'!AC155","v":"Enter Name of Beneficiary"},{"$f":"'Project Summary'!AI155+'Project Summary'!AJ155","v":0},"No","Other",{"$f":"IF(C12>1, \"Required\",\"N/A\")","v":"N/A"},{"$f":"IF(AND(E12=\"Other\",C12>50000),\"Required\",\"N/A\")","v":"N/A"},"N/A",{"$f":"IF(('Project Summary'!AK155+'Project Summary'!AL155)>0,\"Required\",\"N/A\")","v":"N/A"},"N/A","N/A","Required",null,null,null,null,"Other"]
[null,{"$f":"'Project Summary'!AC156","v":"Enter Name of Beneficiary"},{"$f":"'Project Summary'!AI156+'Project Summary'!AJ156","v":0},"No","Other","N/A","N/A","N/A",{"$f":"IF(('Project Summary'!AK156+'Project Summary'!AL156)>0,\"Required\",\"N/A\")","v":"N/A"},"N/A","N/A","Required",null,null,null,null,"Public"]
[null,{"$f":"'Project Summary'!AC157","v":"Enter Name of Beneficiary"},{"$f":"'Project Summary'!AI157+'Project Summary'!AJ157","v":0},"No","Other","N/A","N/A","N/A",{"$f":"IF(('Project Summary'!AK157+'Project Summary'!AL157)>0,\"Required\",\"N/A\")","v":"N/A"},"N/A","N/A","Required"]
[null,{"$f":"'Project Summary'!AC158","v":"Enter Name of Beneficiary"},{"$f":"'Project Summary'!AI158+'Project Summary'!AJ158","v":0},"No","Other","N/A","N/A","N/A",{"$f":"IF(('Project Summary'!AK158+'Project Summary'!AL158)>0,\"Required\",\"N/A\")","v":"N/A"},"N/A","N/A","Required",null,null,null,null,"Yes"]
[null,{"$f":"'Project Summary'!AC159","v":"Enter Name of Beneficiary"},{"$f":"'Project Summary'!AI159+'Project Summary'!AJ159","v":0},"No","Other","N/A","N/A","N/A",{"$f":"IF(('Project Summary'!AK159+'Project Summary'!AL159)>0,\"Required\",\"N/A\")","v":"N/A"},"N/A","N/A","Required",null,null,null,null,"No"]
[null,{"$f":"'Project Summary'!AC160","v":"Enter Name of Beneficiary"},{"$f":"'Project Summary'!AI160+'Project Summary'!AJ160","v":0},"No","Other","N/A","N/A","N/A",{"$f":"IF(('Project Summary'!AK160+'Project Summary'!AL160)>0,\"Required\",\"N/A\")","v":"N/A"},"N/A","N/A","Required"]
[null,{"$f":"'Project Summary'!AC161","v":"Enter Name of Beneficiary"},{"$f":"'Project Summary'!AI161+'Project Summary'!AJ161","v":0},"No","Other","N/A","N/A","N/A",{"$f":"IF(('Project Summary'!AK161+'Project Summary'!AL161)>0,\"Required\",\"N/A\")","v":"N/A"},"N/A","N/A","Required"]
[null,{"$f":"'Project Summary'!AC162","v":"Enter Name of Beneficiary"},{"$f":"'Project Summary'!AI162+'Project Summary'!AJ162","v":0},"No","Other","N/A","N/A","N/A",{"$f":"IF(('Project Summary'!AK162+'Project Summary'!AL162)>0,\"Required\",\"N/A\")","v":"N/A"},"N/A","N/A","Required"]
[null,{"$f":"'Project Summary'!AC163","v":"Enter Name of Beneficiary"},{"$f":"'Project Summary'!AI163+'Project Summary'!AJ163","v":0},"No","Other",{"$f":"IF(C20>1, \"Required\",\"N/A\")","v":"N/A"},{"$f":"IF(AND(E20=\"Other\",C20>50000),\"Required\",\"N/A\")","v":"N/A"},{"$f":"IF(AND(E20=\"Other\",C20>200000),\"Required\",\"N/A\")","v":"N/A"},{"$f":"IF(('Project Summary'!AK163+'Project Summary'!AL163)>0,\"Required\",\"N/A\")","v":"N/A"},{"$f":"IF(C20>1, \"Required\",\"N/A\")","v":"N/A"},{"$f":"IF(C20>1, \"Required\",\"N/A\")","v":"N/A"},{"$f":"IF(D20=\"No\", \"Required\", \"LABS Required\")","v":"Required"}]
[null,{"$f":"'Project Summary'!AC164","v":"Enter Name of Beneficiary"},{"$f":"'Project Summary'!AI164+'Project Summary'!AJ164","v":0},"No","Other",{"$f":"IF(C21>1, \"Required\",\"N/A\")","v":"N/A"},"N/A","N/A",{"$f":"IF(('Project Summary'!AK164+'Project Summary'!AL164)>0,\"Required\",\"N/A\")","v":"N/A"},"N/A","N/A","Required"]
[null,{"$f":"'Project Summary'!AC165","v":"Enter Name of Beneficiary"},{"$f":"'Project Summary'!AI165+'Project Summary'!AJ165","v":0},"No","Other",{"$f":"IF(C22>1, \"Required\",\"N/A\")","v":"N/A"},"N/A","N/A",{"$f":"IF(('Project Summary'!AK165+'Project Summary'!AL165)>0,\"Required\",\"N/A\")","v":"N/A"},"N/A","N/A","Required"]
[null,{"$f":"'Project Summary'!AC166","v":"Enter Name of Beneficiary"},{"$f":"'Project Summary'!AI166+'Project Summary'!AJ166","v":0},"No","Other",{"$f":"IF(C23>1, \"Required\",\"N/A\")","v":"N/A"},{"$f":"IF(AND(E23=\"Other\",C23>50000),\"Required\",\"N/A\")","v":"N/A"},"N/A",{"$f":"IF(('Project Summary'!AK166+'Project Summary'!AL166)>0,\"Required\",\"N/A\")","v":"N/A"},"N/A","N/A","Required"]
[null,{"$f":"'Project Summary'!AC167","v":"Enter Name of Beneficiary"},{"$f":"'Project Summary'!AI167+'Project Summary'!AJ167","v":0},"No","Other",{"$f":"IF(C24>1, \"Required\",\"N/A\")","v":"N/A"},"N/A",{"$f":"IF(AND(E24=\"Other\",C24>200000),\"Required\",\"N/A\")","v":"N/A"},{"$f":"IF(('Project Summary'!AK167+'Project Summary'!AL167)>0,\"Required\",\"N/A\")","v":"N/A"},"N/A","N/A","Required"]
[null,{"$f":"'Project Summary'!AC168","v":"Enter Name of Beneficiary"},{"$f":"'Project Summary'!AI168+'Project Summary'!AJ168","v":0},"No","Other","N/A","N/A","N/A",{"$f":"IF(('Project Summary'!AK168+'Project Summary'!AL168)>0,\"Required\",\"N/A\")","v":"N/A"},"N/A","N/A","Required"]
[null,{"$f":"'Project Summary'!AC169","v":"Enter Name of Beneficiary"},{"$f":"'Project Summary'!AI169+'Project Summary'!AJ169","v":0},"No","Other","N/A","N/A","N/A",{"$f":"IF(('Project Summary'!AK169+'Project Summary'!AL169)>0,\"Required\",\"N/A\")","v":"N/A"},"N/A","N/A","Required"]
[null,{"$f":"'Project Summary'!AC170","v":"Enter Name of Beneficiary"},{"$f":"'Project Summary'!AI170+'Project Summary'!AJ170","v":0},"No","Other","N/A","N/A","N/A",{"$f":"IF(('Project Summary'!AK170+'Project Summary'!AL170)>0,\"Required\",\"N/A\")","v":"N/A"},"N/A","N/A","Required"]
[null,{"$f":"'Project Summary'!AC171","v":"Enter Name of Beneficiary"},{"$f":"'Project Summary'!AI171+'Project Summary'!AJ171","v":0},"No","Other","N/A","N/A","N/A",{"$f":"IF(('Project Summary'!AK171+'Project Summary'!AL171)>0,\"Required\",\"N/A\")","v":"N/A"},"N/A","N/A","Required"]
[null,{"$f":"'Project Summary'!AC172","v":"Enter Name of Beneficiary"},{"$f":"'Project Summary'!AI172+'Project Summary'!AJ172","v":0},"No","Other","N/A","N/A","N/A",{"$f":"IF(('Project Summary'!AK172+'Project Summary'!AL172)>0,\"Required\",\"N/A\")","v":"N/A"},"N/A","N/A","Required"]
[null,"Total Project Cost",{"$f":"SUM(C10:C24)","v":0}]
[null,null,"Please be aware that this section is auto-completed from your Technical Workbook answers.                                                                 The only section to be edited is the \"Public Body or Other\" and \"the Lead Applicant\" column.                                                                                                                Please ensure to complete both these using the drop down selection"]

{"sheet":"NFP Domestic Measures & costs","index":12,"n_rows":163,"n_cols":32,"rows_kept":163,"cut":false,"hidden":false,"merged":[[0,0,0,8],[1,2,1,6],[1,7,1,8],[2,12,2,13],[3,12,3,13]]}
["Communities Programme - NFP Measures & Costs Calculator"]
[null,null,"Home Information",null,null,null,null,"Upgrade Information",null,null,null,null,null,null,null,null,null,null,null,null,null,null,null,null,null,null,null,null,null,null,null,"No of Energy Poor Homes"]
["Project","Energy Supplier","Home Type","No of units","Site Address Line 1","Site County","Existing Energy Use kWh/yr","Measure","Grant Support Per measure","No of Units Upgrade Implemented","NEP Grant Support",null,"Result of the table is calculation of residential NFP",null,null,null,null,null,null,"Energy Saving Credits","Apartment","House - Detached ","House - Semi-Detached/ End - Terrace","House - Mid  - Terrace","Insulation",null,null,"cost for dwellings",7.1499999999999994E-2,null,null,{"$f":"SUM(AF5:AF163)","v":{"$error":"#REF!"}}]
[" "," "," ",null,"eg. Riverview Estate",null," ","Published Measures",null,null,null,null,"Non Energy Poor Home",null,null,null,null,"House - Detached ","Less than 3","Roof - Ceiling Level ",0,0,0,0,1]
[1,"Electric Ireland","House - Semi-Detached/ End - Terrace Housing Association -NFP",0,null,null,{"$f":"IF(C5=\"House\",D5*$AC$7,D5*$AC$8)","v":0},"Roof - Ceiling Level ",{"$f":"INDEX('Rate Card '!$A$3:$X$14,MATCH(C5,HouseType,0),MATCH(H5,MeasuresLU,0)+1)","v":1300},0,{"$f":"IFERROR(I5*(J5),0)","v":0},null,"Existing Energy Use",{"$f":"G5*(1-IFERROR(#REF!/D5,0))+G25*(1-IFERROR(#REF!/D25,0))+G45*(1-IFERROR(#REF!/D45,0))+G65*(1-IFERROR(#REF!/D65,0))+G85*(1-IFERROR(#REF!/D85,0))+G105*(1-IFERROR(#REF!/D105,0))+G125*(1-IFERROR(#REF!/D125,0))+G145*(1-IFERROR(#REF!/D145,0))","v":0},"kWh",null,{"$f":"VLOOKUP(H5,$T$1:$Y$22,6,)","v":1},"House - Semi-Detached/ End - Terrace",3,"Roof - Rafter Level ",0,0,0,0,1,null,"Energy Costs from Table C3",null,null,null,null,{"$f":"IF(#REF!>J5,1,0)","v":{"$error":"#REF!"}}]
[null,null," ",null,null,null,null,"Roof - Ceiling Level ",{"$f":"INDEX('Rate Card '!$A$3:$X$14,MATCH(C5,HouseType,0),MATCH(H6,MeasuresLU,0)+1)","v":1300},0,{"$f":"IFERROR(I6*(J6),0)","v":0},null,"Existing Energy Costs",{"$f":"N5*$AC$3","v":0},"€",null,1,"House - Mid  - Terrace","Four or more","Cavity ",0,0,0,0,1,null,null,"No","Kwh",null,null,{"$f":"IF(#REF!>J6,1,0)","v":{"$error":"#REF!"}}]
[null,null,null,null,null,null,null,"Cavity ",{"$f":"INDEX('Rate Card '!$A$3:$X$14,MATCH(C5,HouseType,0),MATCH(H7,MeasuresLU,0)+1)","v":1200},0,0,null,"Grant Support",{"$f":"K23+K43+K63+K83+K103+K123+K143+K163+(N11*HEA_Additonal)","v":0},"€",null,1,"Apartment",null,"Internal Wall ",0,0,0,0,1,null,"No of Houses Upgraded",null,36375," ",null,{"$f":"IF(#REF!>J7,1,0)","v":{"$error":"#REF!"}}]
[null,null,null,null,null,null,null,"Internal Wall ",{"$f":"INDEX('Rate Card '!$A$3:$X$14,MATCH(C5,HouseType,0),MATCH(H8,MeasuresLU,0)+1)","v":4250},0,0,null,"No of Homes",{"$f":"SUM(D5+D25+D45+D65+D85+D105+D125+D145)","v":0},null,null,1,null,null,"External Wall",0,0,0,0,1,null,"No of Apartments Upgraded",null,18187.5," ",null,{"$f":"IF(#REF!>J8,1,0)","v":{"$error":"#REF!"}}]
[null,null,null,null,null,null,null,"External Wall",{"$f":"INDEX('Rate Card '!$A$3:$X$14,MATCH(C5,HouseType,0),MATCH(H9,MeasuresLU,0)+1)","v":8000},0,0,null,null,{"$f":"SUM(P9)","v":0},"kWh",{"$f":"9000 *(N8)","v":0},1,null,null,"Windows",0,0,0,0,1,null,null,null,null,null,null,{"$f":"IF(#REF!>J9,1,0)","v":{"$error":"#REF!"}}]
[null,null,null,null,null,null,null,"Windows",{"$f":"INDEX('Rate Card '!$A$3:$X$14,MATCH(C5,HouseType,0),MATCH(H10,MeasuresLU,0)+1)","v":3700},0,0,null,"Energy Savings",{"$f":"N9*AC3","v":0},"€",null,1,null,null,"Doors test",0,0,0,0,1,null,"Please Select",null,null,null,null,{"$f":"IF(#REF!>J10,1,0)","v":{"$error":"#REF!"}}]
[null,null,null,null,null,null,null,"Doors* (for 2 Doors per property Select Door Measure Twice)",{"$f":"INDEX('Rate Card '!$A$3:$X$14,MATCH(C5,HouseType,0),MATCH(H11,MeasuresLU,0)+1)","v":1000},0,0,null,"No of Additional HEA's ",0,null,null,{"$error":"#N/A"},null,null,"Air Tightness",0,0,0,0,1,null,"Bord Gais Energy",null,null,null,null,{"$f":"IF(#REF!>J11,1,0)","v":{"$error":"#REF!"}}]
[null,null,null,null,null,null,null,"Air Tightness",{"$f":"INDEX('Rate Card '!$A$3:$X$14,MATCH(C5,HouseType,0),MATCH(H12,MeasuresLU,0)+1)","v":1000},0,0,null,null,null,null,null,1,null,null,"DCV",0,0,0,0,2,null,"Bord Na Mona",null,null,null,null,{"$f":"IF(#REF!>J12,1,0)","v":{"$error":"#REF!"}}]
[null,null,null,null,null,null,null,"Heat Pump - Air/Water",{"$f":"INDEX('Rate Card '!$A$3:$X$14,MATCH(C5,HouseType,0),MATCH(H13,MeasuresLU,0)+1)","v":6500},0,0,null,null,null,null,null,2,null,null,"MVHR",0,0,0,0,2,null,"Calor",null,null,null,null,{"$f":"IF(#REF!>J13,1,0)","v":{"$error":"#REF!"}}]
[null,null,null,null,null,null,null,"Solar PV 4 kWp",{"$f":"INDEX('Rate Card '!$A$3:$X$14,MATCH(C5,HouseType,0),MATCH(H14,MeasuresLU,0)+1)","v":2100},0,0,null,null,null,null,null,{"$error":"#N/A"},{"$f":"SUM(G5:G163)","v":0},null,"Heat Pump - Air/Water",0,0,0,0,2,null,"Electric Ireland",null,null,null,null,{"$f":"IF(#REF!>J14,1,0)","v":{"$error":"#REF!"}}]
[null,null,null,null,null,null,null,"Heat Pump - Air/Water",{"$f":"INDEX('Rate Card '!$A$3:$X$14,MATCH(C5,HouseType,0),MATCH(H15,MeasuresLU,0)+1)","v":6500},0,0,null,null,null,null,null,2,{"$f":"SUM(#REF!,#REF!,#REF!,#REF!)","v":{"$error":"#REF!"}},null,"Heat Pump - Air/Air",0,0,0,0,2,null,"Energia",null,null,null,null,{"$f":"IF(#REF!>J15,1,0)","v":{"$error":"#REF!"}}]
[null,null,null,null,null,null,null,"Heat Pump - Air/Air",{"$f":"INDEX('Rate Card '!$A$3:$X$14,MATCH(C5,HouseType,0),MATCH(H16,MeasuresLU,0)+1)","v":4000},0,0,null,null,null,null,null,2,null,null,"Solar PV",0,0,0,0,2,null,"Enprova",null,null,null,null,{"$f":"IF(#REF!>J16,1,0)","v":{"$error":"#REF!"}}]
[null,null,null,null,null,null,null,"HP w/ CH System",{"$f":"INDEX('Rate Card '!$A$3:$X$14,MATCH(C5,HouseType,0),MATCH(H17,MeasuresLU,0)+1)","v":2000},0,0,null,null,null,null,null,{"$error":"#N/A"},null,null,"Solar HW",0,0,0,0,2,null,"Flogas",null,null,null,null,{"$f":"IF(#REF!>J17,1,0)","v":{"$error":"#REF!"}}]
[null,null,null,null,null,null,null,"Bonus",{"$f":"INDEX('Rate Card '!$A$3:$X$14,MATCH(C5,HouseType,0),MATCH(H18,MeasuresLU,0)+1)","v":2000},0,0,null,null,null,null,null,{"$error":"#N/A"},null,null,"Technical Design",0,0,0,0,2,null,"Gazprom",null,null,null,null,{"$f":"IF(#REF!>J18,1,0)","v":{"$error":"#REF!"}}]
[null,null,null,null,null,null,null,"MVHR",{"$f":"INDEX('Rate Card '!$A$3:$X$14,MATCH(C5,HouseType,0),MATCH(H19,MeasuresLU,0)+1)","v":2000},0,0,null,null,null,null,null,2,null,null,"BER ",0,0,0,0,2,null,"Lissan",null,null,null,null,{"$f":"IF(#REF!>J19,1,0)","v":{"$error":"#REF!"}}]
[null,null,null,null,null,null,null,"Home Energy Assessment (HEA)",{"$f":"INDEX('Rate Card '!$A$3:$X$14,MATCH(C5,HouseType,0),MATCH(H20,MeasuresLU,0)+1)","v":350},0,0,null,null,null,null,null,{"$error":"#N/A"},null,null,"Project Management ",0,0,0,0,2,null,"SSE Airtricity",null,null,null,null,{"$f":"IF(#REF!>J20,1,0)","v":{"$error":"#REF!"}}]
[null,null,null,null,null,null,null,"Project Management ",{"$f":"INDEX('Rate Card '!$A$3:$X$14,MATCH(C5,HouseType,0),MATCH(H21,MeasuresLU,0)+1)","v":1600},0,0,null,null,null,null,null,2,null,null,"Heating Controls",0,0,0,0,2,null,"Vayu",null,null,null,null,{"$f":"IF(#REF!>J21,1,0)","v":{"$error":"#REF!"}}]
[null,null,null,null,null,null,null,"Heating Controls",{"$f":"INDEX('Rate Card '!$A$3:$X$14,MATCH(C5,HouseType,0),MATCH(H22,MeasuresLU,0)+1)","v":700},0,0,null,null,null,null,null,2,"Local Authority -FP /NFP",null,"Solid Fuel Room Heater (without back boiler)",0,0,0,0,2,null,"PrePayPower",null,null,null,null,{"$f":"IF(#REF!>J22,1,0)","v":{"$error":"#REF!"}}]
[null,null,null,null,null,null,null,"Total Cost",null,null,{"$f":"SUM(K5:K22)","v":0},null,null,null,null,null," ","Housing Association -FP/NFP"]
[null,null,null,null,null,null,null,null,null,null,null,null,null,null,null,null," ","Private -  FP"]
[2,"Please Select","Apartment Local Authority -NFP",0,"Enter Site Address",null,{"$f":"IF(C25=\"House\",D25*$AC$7,D25*$AC$8)","v":0},"Roof - Rafter Level ",{"$f":"INDEX('Rate Card '!$A$3:$X$14,MATCH(C25,HouseType,0),MATCH(H25,MeasuresLU,0)+1)","v":1500},0,{"$f":"IFERROR(I25*(J25),0)","v":0},null,null,null," ",null,{"$f":"VLOOKUP(H25,$T$4:$Y$24,6,)","v":1},"Private - NFP",null,null,null,null,null,null,null,null,null,null,null,null,null,{"$f":"IF(#REF!>J26,1,0)","v":{"$error":"#REF!"}}]
[null,null," "," ",null,null,null,"Roof - Ceiling Level ",{"$f":"INDEX('Rate Card '!$A$3:$X$14,MATCH(C25,HouseType,0),MATCH(H26,MeasuresLU,0)+1)","v":800},0,{"$f":"IFERROR(I26*(J26),0)","v":0},null,null,null,null,null,1,null,null,null,null,null,null,null,null,null,null,null,null,null,null,{"$f":"IF(#REF!>#REF!,1,0)","v":{"$error":"#REF!"}}]
[null,null,null,null,null,null,null,"Cavity ",{"$f":"INDEX('Rate Card '!$A$3:$X$14,MATCH(C25,HouseType,0),MATCH(H27,MeasuresLU,0)+1)","v":700},0,0,null,null,null,null,null,1,null,null,null,null,null,null,null,null,null,null,null,null,null,null,{"$f":"IF(#REF!>J27,1,0)","v":{"$error":"#REF!"}}]
[null,null,null,null,null,null,null,"Internal Wall ",{"$f":"INDEX('Rate Card '!$A$3:$X$14,MATCH(C25,HouseType,0),MATCH(H28,MeasuresLU,0)+1)","v":1500},0,0,null,null,null,null,null,1,null,null,null,null,null,null,null,null,null,null,null,null,null,null,{"$f":"IF(#REF!>J28,1,0)","v":{"$error":"#REF!"}}]
[null,null,null,null,null,null,null,"External Wall",{"$f":"INDEX('Rate Card '!$A$3:$X$14,MATCH(C25,HouseType,0),MATCH(H29,MeasuresLU,0)+1)","v":3500},0,0,null,null,null,null,null,1,null,null,null,null,null,null,null,null,null,null,null,null,null,null,{"$f":"IF(#REF!>J29,1,0)","v":{"$error":"#REF!"}}]
[null,null,null,null,null,null,null,"Windows",{"$f":"INDEX('Rate Card '!$A$3:$X$14,MATCH(C25,HouseType,0),MATCH(H30,MeasuresLU,0)+1)","v":1500},0,0,null,null,null,null,null,1,null,null,null,null,null,null,null,null,null,null,null,null,null,null,{"$f":"IF(#REF!>J30,1,0)","v":{"$error":"#REF!"}}]
[null,null,null,null,null,null,null,"Doors* (for 2 Doors per property Select Door Measure Twice)",{"$f":"INDEX('Rate Card '!$A$3:$X$14,MATCH(C25,HouseType,0),MATCH(H31,MeasuresLU,0)+1)","v":800},0,0,null,null,null,null,null,{"$error":"#N/A"},null,null,null,null,null,null,null,null,null,null,null,null,null,null,{"$f":"IF(#REF!>J31,1,0)","v":{"$error":"#REF!"}}]
[null,null,null,null,null,null,null,"Air Tightness",{"$f":"INDEX('Rate Card '!$A$3:$X$14,MATCH(C25,HouseType,0),MATCH(H32,MeasuresLU,0)+1)","v":1000},0,0,null,null,null,null,null,1,null,null,null,null,null,null,null,null,null,null,null,null,null,null,{"$f":"IF(#REF!>J32,1,0)","v":{"$error":"#REF!"}}]
[null,null,null,null,null,null,null,"Solar PV 1 kWp",{"$f":"INDEX('Rate Card '!$A$3:$X$14,MATCH(C25,HouseType,0),MATCH(H33,MeasuresLU,0)+1)","v":800},0,0,null,null,null,null,null,{"$error":"#N/A"},null,null,null,null,null,null,null,null,null,null,null,null,null,null,{"$f":"IF(#REF!>J33,1,0)","v":{"$error":"#REF!"}}]
[null,null,null,null,null,null,null,"Solar PV 4 kWp",{"$f":"INDEX('Rate Card '!$A$3:$X$14,MATCH(C25,HouseType,0),MATCH(H34,MeasuresLU,0)+1)","v":2100},0,0,null,null,null,null,null,{"$error":"#N/A"},null,null,null,null,null,null,null,null,null,null,null,null,null,null,{"$f":"IF(#REF!>J34,1,0)","v":{"$error":"#REF!"}}]
[null,null,null,null,null,null,null,"Heat Pump - Air/Water",{"$f":"INDEX('Rate Card '!$A$3:$X$14,MATCH(C25,HouseType,0),MATCH(H35,MeasuresLU,0)+1)","v":4500},0,0,null,null,null,null,null,2,null,null,null,null,null,null,null,null,null,null,null,null,null,null,{"$f":"IF(#REF!>J35,1,0)","v":{"$error":"#REF!"}}]
[null,null,null,null,null,null,null,"Heat Pump - Air/Air",{"$f":"INDEX('Rate Card '!$A$3:$X$14,MATCH(C25,HouseType,0),MATCH(H36,MeasuresLU,0)+1)","v":3500},0,0,null,null,null,null,null,2,null,null,null,null,null,null,null,null,null,null,null,null,null,null,{"$f":"IF(#REF!>J36,1,0)","v":{"$error":"#REF!"}}]
[null,null,null,null,null,null,null,"HP w/ CH System",{"$f":"INDEX('Rate Card '!$A$3:$X$14,MATCH(C25,HouseType,0),MATCH(H37,MeasuresLU,0)+1)","v":1000},0,0,null,null,null,null,null,{"$error":"#N/A"},null,null,null,null,null,null,null,null,null,null,null,null,null,null,{"$f":"IF(#REF!>J37,1,0)","v":{"$error":"#REF!"}}]
[null,null,null,null,null,null,null,"Bonus",{"$f":"INDEX('Rate Card '!$A$3:$X$14,MATCH(C25,HouseType,0),MATCH(H38,MeasuresLU,0)+1)","v":2000},0,0,null,null,null,null,null,{"$error":"#N/A"},null,null,null,null,null,null,null,null,null,null,null,null,null,null,{"$f":"IF(#REF!>J38,1,0)","v":{"$error":"#REF!"}}]
[null,null,null,null,null,null,null,"MVHR",{"$f":"INDEX('Rate Card '!$A$3:$X$14,MATCH(C25,HouseType,0),MATCH(H39,MeasuresLU,0)+1)","v":1500},0,0,null,null,null,null,null,2,null,null,null,null,null,null,null,null,null,null,null,null,null,null,{"$f":"IF(#REF!>J39,1,0)","v":{"$error":"#REF!"}}]
[null,null,null,null,null,null,null,"Home Energy Assessment (HEA)",{"$f":"INDEX('Rate Card '!$A$3:$X$14,MATCH(C25,HouseType,0),MATCH(H40,MeasuresLU,0)+1)","v":0},0,0,null,null,null,null,null,{"$error":"#N/A"},null,null,null,null,null,null,null,null,null,null,null,null,null,null,{"$f":"IF(#REF!>J40,1,0)","v":{"$error":"#REF!"}}]
[null,null,null,null,null,null,null,"Project Management ",{"$f":"INDEX('Rate Card '!$A$3:$X$14,MATCH(C25,HouseType,0),MATCH(H41,MeasuresLU,0)+1)","v":800},0,0,null,null,null,null,null,2,null,null,null,null,null,null,null,null,null,null,null,null,null,null,{"$f":"IF(#REF!>J41,1,0)","v":{"$error":"#REF!"}}]
[null,null,null,null,null,null,null,"Heating Controls",{"$f":"INDEX('Rate Card '!$A$3:$X$14,MATCH(C25,HouseType,0),MATCH(H42,MeasuresLU,0)+1)","v":700},0,0,null,null,null,null,null,2,null,null,null,null,null,null,null,null,null,null,null,null,null,null,{"$f":"IF(#REF!>J42,1,0)","v":{"$error":"#REF!"}}]
[null,null,null,null,null,null,null,"Total Cost",null,null,{"$f":"SUM(K25:K42)","v":0},null,null,null,null,null," "]
[null,null,null,null,null,null,null,null,null,null,null,null,null,null,null,null," "]
[3,"Please Select","Apartment Local Authority -NFP",0,"Enter Site Address",null,{"$f":"IF(C45=\"House\",D45*$AC$7,D45*$AC$8)","v":0},"Roof - Rafter Level ",{"$f":"INDEX('Rate Card '!$A$3:$X$14,MATCH(C45,HouseType,0),MATCH(H45,MeasuresLU,0)+1)","v":1500},0,{"$f":"IFERROR(I45*(J45),0)","v":0},null,null,null,null,null,{"$f":"VLOOKUP(H45,$T$4:$Y$24,6,)","v":1},null,null,null,null,null,null,null,null,null,null,null,null,null,null,{"$f":"IF(#REF!>J45,1,0)","v":{"$error":"#REF!"}}]
[null,null," ",null,null,null,null,"Roof - Ceiling Level ",{"$f":"INDEX('Rate Card '!$A$3:$X$14,MATCH(C45,HouseType,0),MATCH(H46,MeasuresLU,0)+1)","v":800},0,{"$f":"IFERROR(I46*(J46),0)","v":0},null,null,null,null,null,1,null,null,null,null,null,null,null,null,null,null,null,null,null,null,{"$f":"IF(#REF!>J46,1,0)","v":{"$error":"#REF!"}}]
[null,null,null,null,null,null,null,"Cavity ",{"$f":"INDEX('Rate Card '!$A$3:$X$14,MATCH(C45,HouseType,0),MATCH(H47,MeasuresLU,0)+1)","v":700},0,0,null,null,null,null,null,1,null,null,null,null,null,null,null,null,null,null,null,null,null,null,{"$f":"IF(#REF!>J47,1,0)","v":{"$error":"#REF!"}}]
[null,null,null,null,null,null,null,"Internal Wall ",{"$f":"INDEX('Rate Card '!$A$3:$X$14,MATCH(C45,HouseType,0),MATCH(H48,MeasuresLU,0)+1)","v":1500},0,0,null,null,null,null,null,1,null,null,null,null,null,null,null,null,null,null,null,null,null,null,{"$f":"IF(#REF!>J48,1,0)","v":{"$error":"#REF!"}}]
[null,null,null,null,null,null,null,"External Wall",{"$f":"INDEX('Rate Card '!$A$3:$X$14,MATCH(C45,HouseType,0),MATCH(H49,MeasuresLU,0)+1)","v":3500},0,0,null,null,null,null,null,1,null,null,null,null,null,null,null,null,null,null,null,null,null,null,{"$f":"IF(#REF!>J49,1,0)","v":{"$error":"#REF!"}}]
[null,null,null,null,null,null,null,"Windows",{"$f":"INDEX('Rate Card '!$A$3:$X$14,MATCH(C45,HouseType,0),MATCH(H50,MeasuresLU,0)+1)","v":1500},0,0,null,null,null,null,null,1,null,null,null,null,null,null,null,null,null,null,null,null,null,null,{"$f":"IF(#REF!>J50,1,0)","v":{"$error":"#REF!"}}]
[null,null,null,null,null,null,null,"Doors* (for 2 Doors per property Select Door Measure Twice)",{"$f":"INDEX('Rate Card '!$A$3:$X$14,MATCH(C45,HouseType,0),MATCH(H51,MeasuresLU,0)+1)","v":800},0,0,null,null,null,null,null,{"$error":"#N/A"},null,null,null,null,null,null,null,null,null,null,null,null,null,null,{"$f":"IF(#REF!>J51,1,0)","v":{"$error":"#REF!"}}]
[null,null,null,null,null,null,null,"Air Tightness",{"$f":"INDEX('Rate Card '!$A$3:$X$14,MATCH(C45,HouseType,0),MATCH(H52,MeasuresLU,0)+1)","v":1000},0,0,null,null,null,null,null,1,null,null,null,null,null,null,null,null,null,null,null,null,null,null,{"$f":"IF(#REF!>J52,1,0)","v":{"$error":"#REF!"}}]
[null,null,null,null,null,null,null,"Solar PV 1 kWp",{"$f":"INDEX('Rate Card '!$A$3:$X$14,MATCH(C45,HouseType,0),MATCH(H53,MeasuresLU,0)+1)","v":800},0,0,null,null,null,null,null,{"$error":"#N/A"},null,null,null,null,null,null,null,null,null,null,null,null,null,null,{"$f":"IF(#REF!>J53,1,0)","v":{"$error":"#REF!"}}]
[null,null,null,null,null,null,null,"Solar PV 4 kWp",{"$f":"INDEX('Rate Card '!$A$3:$X$14,MATCH(C45,HouseType,0),MATCH(H54,MeasuresLU,0)+1)","v":2100},0,0,null,null,null,null,null,{"$error":"#N/A"},null,null,null,null,null,null,null,null,null,null,null,null,null,null,{"$f":"IF(#REF!>J54,1,0)","v":{"$error":"#REF!"}}]
[null,null,null,null,null,null,null,"Heat Pump - Air/Water",{"$f":"INDEX('Rate Card '!$A$3:$X$14,MATCH(C45,HouseType,0),MATCH(H55,MeasuresLU,0)+1)","v":4500},0,0,null,null,null,null,null,2,null,null,null,null,null,null,null,null,null,null,null,null,null,null,{"$f":"IF(#REF!>J55,1,0)","v":{"$error":"#REF!"}}]
[null,null,null,null,null,null,null,"Heat Pump - Air/Air",{"$f":"INDEX('Rate Card '!$A$3:$X$14,MATCH(C45,HouseType,0),MATCH(H56,MeasuresLU,0)+1)","v":3500},0,0,null,null,null,null,null,2,null,null,null,null,null,null,null,null,null,null,null,null,null,null,{"$f":"IF(#REF!>J56,1,0)","v":{"$error":"#REF!"}}]
[null,null,null,null,null,null,null,"HP w/ CH System",{"$f":"INDEX('Rate Card '!$A$3:$X$14,MATCH(C45,HouseType,0),MATCH(H57,MeasuresLU,0)+1)","v":1000},0,0,null,null,null,null,null,{"$error":"#N/A"},null,null,null,null,null,null,null,null,null,null,null,null,null,null,{"$f":"IF(#REF!>J57,1,0)","v":{"$error":"#REF!"}}]
[null,null,null,null,null,null,null,"Bonus",{"$f":"INDEX('Rate Card '!$A$3:$X$14,MATCH(C45,HouseType,0),MATCH(H58,MeasuresLU,0)+1)","v":2000},0,0,null,null,null,null,null,{"$error":"#N/A"},null,null,null,null,null,null,null,null,null,null,null,null,null,null,{"$f":"IF(#REF!>J58,1,0)","v":{"$error":"#REF!"}}]
[null,null,null,null,null,null,null,"MVHR",{"$f":"INDEX('Rate Card '!$A$3:$X$14,MATCH(C45,HouseType,0),MATCH(H59,MeasuresLU,0)+1)","v":1500},0,0,null,null,null,null,null,2,null,null,null,null,null,null,null,null,null,null,null,null,null,null,{"$f":"IF(#REF!>J59,1,0)","v":{"$error":"#REF!"}}]
[null,null,null,null,null,null,null,"Home Energy Assessment (HEA)",{"$f":"INDEX('Rate Card '!$A$3:$X$14,MATCH(C45,HouseType,0),MATCH(H60,MeasuresLU,0)+1)","v":0},0,0,null,null,null,null,null,{"$error":"#N/A"},null,null,null,null,null,null,null,null,null,null,null,null,null,null,{"$f":"IF(#REF!>J60,1,0)","v":{"$error":"#REF!"}}]
[null,null,null,null,null,null,null,"Project Management ",{"$f":"INDEX('Rate Card '!$A$3:$X$14,MATCH(C45,HouseType,0),MATCH(H61,MeasuresLU,0)+1)","v":800},0,0,null,null,null,null,null,2,null,null,null,null,null,null,null,null,null,null,null,null,null,null,{"$f":"IF(#REF!>J61,1,0)","v":{"$error":"#REF!"}}]
[null,null,null,null,null,null,null,"Heating Controls",{"$f":"INDEX('Rate Card '!$A$3:$X$14,MATCH(C45,HouseType,0),MATCH(H62,MeasuresLU,0)+1)","v":700},0,0,null,null,null,null,null,2,null,null,null,null,null,null,null,null,null,null,null,null,null,null,{"$f":"IF(#REF!>J62,1,0)","v":{"$error":"#REF!"}}]
[null,null,null,null,null,null,null,"Total Cost",null,null,{"$f":"SUM(K45:K62)","v":0},null,null,null,null,null," "]
[null,null,null,null,null,null,null,null,null,null,null,null,null,null,null,null," "]
[4,"Please Select","Apartment Local Authority -NFP",0,"Enter Site Address",null,{"$f":"IF(C65=\"House\",D65*$AC$7,D65*$AC$8)","v":0},"Roof - Rafter Level ",{"$f":"INDEX('Rate Card '!$A$3:$X$14,MATCH(C65,HouseType,0),MATCH(H65,MeasuresLU,0)+1)","v":1500},0,{"$f":"IFERROR(I65*(J65),0)","v":0},null,null,null,null,null,{"$f":"VLOOKUP(H65,$T$4:$Y$24,6,)","v":1},null,null,null,null,null,null,null,null,null,null,null,null,null,null,{"$f":"IF(#REF!>J65,1,0)","v":{"$error":"#REF!"}}]
[null,null," ",null,null,null,null,"Roof - Ceiling Level ",{"$f":"INDEX('Rate Card '!$A$3:$X$14,MATCH(C65,HouseType,0),MATCH(H66,MeasuresLU,0)+1)","v":800},0,{"$f":"IFERROR(I66*(J66),0)","v":0},null,null,null,null,null,1,null,null,null,null,null,null,null,null,null,null,null,null,null,null,{"$f":"IF(#REF!>J66,1,0)","v":{"$error":"#REF!"}}]
[null,null,null,null,null,null,null,"Cavity ",{"$f":"INDEX('Rate Card '!$A$3:$X$14,MATCH(C65,HouseType,0),MATCH(H67,MeasuresLU,0)+1)","v":700},0,0,null,null,null,null,null,1,null,null,null,null,null,null,null,null,null,null,null,null,null,null,{"$f":"IF(#REF!>J67,1,0)","v":{"$error":"#REF!"}}]
[null,null,null,null,null,null,null,"Internal Wall ",{"$f":"INDEX('Rate Card '!$A$3:$X$14,MATCH(C65,HouseType,0),MATCH(H68,MeasuresLU,0)+1)","v":1500},0,0,null,null,null,null,null,1,null,null,null,null,null,null,null,null,null,null,null,null,null,null,{"$f":"IF(#REF!>J68,1,0)","v":{"$error":"#REF!"}}]
[null,null,null,null,null,null,null,"External Wall",{"$f":"INDEX('Rate Card '!$A$3:$X$14,MATCH(C65,HouseType,0),MATCH(H69,MeasuresLU,0)+1)","v":3500},0,0,null,null,null,null,null,1,null,null,null,null,null,null,null,null,null,null,null,null,null,null,{"$f":"IF(#REF!>J69,1,0)","v":{"$error":"#REF!"}}]
[null,null,null,null,null,null,null,"Windows",{"$f":"INDEX('Rate Card '!$A$3:$X$14,MATCH(C65,HouseType,0),MATCH(H70,MeasuresLU,0)+1)","v":1500},0,0,null,null,null,null,null,1,null,null,null,null,null,null,null,null,null,null,null,null,null,null,{"$f":"IF(#REF!>J70,1,0)","v":{"$error":"#REF!"}}]
[null,null,null,null,null,null,null,"Doors* (for 2 Doors per property Select Door Measure Twice)",{"$f":"INDEX('Rate Card '!$A$3:$X$14,MATCH(C65,HouseType,0),MATCH(H71,MeasuresLU,0)+1)","v":800},0,0,null,null,null,null,null,{"$error":"#N/A"},null,null,null,null,null,null,null,null,null,null,null,null,null,null,{"$f":"IF(#REF!>J71,1,0)","v":{"$error":"#REF!"}}]
[null,null,null,null,null,null,null,"Air Tightness",{"$f":"INDEX('Rate Card '!$A$3:$X$14,MATCH(C65,HouseType,0),MATCH(H72,MeasuresLU,0)+1)","v":1000},0,0,null,null,null,null,null,1,null,null,null,null,null,null,null,null,null,null,null,null,null,null,{"$f":"IF(#REF!>J72,1,0)","v":{"$error":"#REF!"}}]
[null,null,null,null,null,null,null,"Solar PV 1 kWp",{"$f":"INDEX('Rate Card '!$A$3:$X$14,MATCH(C65,HouseType,0),MATCH(H73,MeasuresLU,0)+1)","v":800},0,0,null,null,null,null,null,{"$error":"#N/A"},null,null,null,null,null,null,null,null,null,null,null,null,null,null,{"$f":"IF(#REF!>J73,1,0)","v":{"$error":"#REF!"}}]
[null,null,null,null,null,null,null,"Solar PV 4 kWp",{"$f":"INDEX('Rate Card '!$A$3:$X$14,MATCH(C65,HouseType,0),MATCH(H74,MeasuresLU,0)+1)","v":2100},0,0,null,null,null,null,null,{"$error":"#N/A"},null,null,null,null,null,null,null,null,null,null,null,null,null,null,{"$f":"IF(#REF!>J74,1,0)","v":{"$error":"#REF!"}}]
[null,null,null,null,null,null,null,"Heat Pump - Air/Water",{"$f":"INDEX('Rate Card '!$A$3:$X$14,MATCH(C65,HouseType,0),MATCH(H75,MeasuresLU,0)+1)","v":4500},0,0,null,null,null,null,null,2,null,null,null,null,null,null,null,null,null,null,null,null,null,null,{"$f":"IF(#REF!>J75,1,0)","v":{"$error":"#REF!"}}]
[null,null,null,null,null,null,null,"Heat Pump - Air/Air",{"$f":"INDEX('Rate Card '!$A$3:$X$14,MATCH(C65,HouseType,0),MATCH(H76,MeasuresLU,0)+1)","v":3500},0,0,null,null,null,null,null,2,null,null,null,null,null,null,null,null,null,null,null,null,null,null,{"$f":"IF(#REF!>J76,1,0)","v":{"$error":"#REF!"}}]
[null,null,null,null,null,null,null,"HP w/ CH System",{"$f":"INDEX('Rate Card '!$A$3:$X$14,MATCH(C65,HouseType,0),MATCH(H77,MeasuresLU,0)+1)","v":1000},0,0,null,null,null,null,null,{"$error":"#N/A"},null,null,null,null,null,null,null,null,null,null,null,null,null,null,{"$f":"IF(#REF!>J77,1,0)","v":{"$error":"#REF!"}}]
[null,null,null,null,null,null,null,"Bonus",{"$f":"INDEX('Rate Card '!$A$3:$X$14,MATCH(C65,HouseType,0),MATCH(H78,MeasuresLU,0)+1)","v":2000},0,0,null,null,null,null,null,{"$error":"#N/A"},null,null,null,null,null,null,null,null,null,null,null,null,null,null,{"$f":"IF(#REF!>J78,1,0)","v":{"$error":"#REF!"}}]
[null,null,null,null,null,null,null,"MVHR",{"$f":"INDEX('Rate Card '!$A$3:$X$14,MATCH(C65,HouseType,0),MATCH(H79,MeasuresLU,0)+1)","v":1500},0,0,null,null,null,null,null,2,null,null,null,null,null,null,null,null,null,null,null,null,null,null,{"$f":"IF(#REF!>J79,1,0)","v":{"$error":"#REF!"}}]
[null,null,null,null,null,null,null,"Home Energy Assessment (HEA)",{"$f":"INDEX('Rate Card '!$A$3:$X$14,MATCH(C65,HouseType,0),MATCH(H80,MeasuresLU,0)+1)","v":0},0,0,null,null,null,null,null,{"$error":"#N/A"},null,null,null,null,null,null,null,null,null,null,null,null,null,null,{"$f":"IF(#REF!>J80,1,0)","v":{"$error":"#REF!"}}]
[null,null,null,null,null,null,null,"Project Management ",{"$f":"INDEX('Rate Card '!$A$3:$X$14,MATCH(C65,HouseType,0),MATCH(H81,MeasuresLU,0)+1)","v":800},0,0,null,null,null,null,null,2,null,null,null,null,null,null,null,null,null,null,null,null,null,null,{"$f":"IF(#REF!>J81,1,0)","v":{"$error":"#REF!"}}]
[null,null,null,null,null,null,null,"Heating Controls",{"$f":"INDEX('Rate Card '!$A$3:$X$14,MATCH(C65,HouseType,0),MATCH(H82,MeasuresLU,0)+1)","v":700},0,0,null,null,null,null,null,2,null,null,null,null,null,null,null,null,null,null,null,null,null,null,{"$f":"IF(#REF!>J82,1,0)","v":{"$error":"#REF!"}}]
[null,null,null,null,null,null,null,"Total Cost",null,null,{"$f":"SUM(K65:K82)","v":0},null,null,null,null,null," "]
[null,null,null,null,null,null,null,null,null,null,null,null,null,null,null,null," "]
[5,"Please Select","Apartment Local Authority -NFP",0,"Enter Site Address",null,{"$f":"IF(C85=\"House\",D85*$AC$7,D85*$AC$8)","v":0},"Roof - Rafter Level ",{"$f":"INDEX('Rate Card '!$A$3:$X$14,MATCH(C85,HouseType,0),MATCH(H85,MeasuresLU,0)+1)","v":1500},0,{"$f":"IFERROR(I85*(J85),0)","v":0},null,null,null,null,null,{"$f":"VLOOKUP(H85,$T$4:$Y$24,6,)","v":1},null,null,null,null,null,null,null,null,null,null,null,null,null,null,{"$f":"IF(#REF!>J85,1,0)","v":{"$error":"#REF!"}}]
[null,null," ",null,null,null,null,"Roof - Ceiling Level ",{"$f":"INDEX('Rate Card '!$A$3:$X$14,MATCH(C85,HouseType,0),MATCH(H86,MeasuresLU,0)+1)","v":800},0,{"$f":"IFERROR(I86*(J86),0)","v":0},null,null,null,null,null,1,null,null,null,null,null,null,null,null,null,null,null,null,null,null,{"$f":"IF(#REF!>J86,1,0)","v":{"$error":"#REF!"}}]
[null,null,null,null,null,null,null,"Cavity ",{"$f":"INDEX('Rate Card '!$A$3:$X$14,MATCH(C85,HouseType,0),MATCH(H87,MeasuresLU,0)+1)","v":700},0,0,null,null,null,null,null,1,null,null,null,null,null,null,null,null,null,null,null,null,null,null,{"$f":"IF(#REF!>J87,1,0)","v":{"$error":"#REF!"}}]
[null,null,null,null,null,null,null,"Internal Wall ",{"$f":"INDEX('Rate Card '!$A$3:$X$14,MATCH(C85,HouseType,0),MATCH(H88,MeasuresLU,0)+1)","v":1500},0,0,null,null,null,null,null,1,null,null,null,null,null,null,null,null,null,null,null,null,null,null,{"$f":"IF(#REF!>J88,1,0)","v":{"$error":"#REF!"}}]
[null,null,null,null,null,null,null,"External Wall",{"$f":"INDEX('Rate Card '!$A$3:$X$14,MATCH(C85,HouseType,0),MATCH(H89,MeasuresLU,0)+1)","v":3500},0,0,null,null,null,null,null,1,null,null,null,null,null,null,null,null,null,null,null,null,null,null,{"$f":"IF(#REF!>J89,1,0)","v":{"$error":"#REF!"}}]
[null,null,null,null,null,null,null,"Windows",{"$f":"INDEX('Rate Card '!$A$3:$X$14,MATCH(C85,HouseType,0),MATCH(H90,MeasuresLU,0)+1)","v":1500},0,0,null,null,null,null,null,1,null,null,null,null,null,null,null,null,null,null,null,null,null,null,{"$f":"IF(#REF!>J90,1,0)","v":{"$error":"#REF!"}}]
[null,null,null,null,null,null,null,"Doors* (for 2 Doors per property Select Door Measure Twice)",{"$f":"INDEX('Rate Card '!$A$3:$X$14,MATCH(C85,HouseType,0),MATCH(H91,MeasuresLU,0)+1)","v":800},0,0,null,null,null,null,null,{"$error":"#N/A"},null,null,null,null,null,null,null,null,null,null,null,null,null,null,{"$f":"IF(#REF!>J91,1,0)","v":{"$error":"#REF!"}}]
[null,null,null,null,null,null,null,"Air Tightness",{"$f":"INDEX('Rate Card '!$A$3:$X$14,MATCH(C85,HouseType,0),MATCH(H92,MeasuresLU,0)+1)","v":1000},0,0,null,null,null,null,null,1,null,null,null,null,null,null,null,null,null,null,null,null,null,null,{"$f":"IF(#REF!>J92,1,0)","v":{"$error":"#REF!"}}]
[null,null,null,null,null,null,null,"Solar PV 1 kWp",{"$f":"INDEX('Rate Card '!$A$3:$X$14,MATCH(C85,HouseType,0),MATCH(H93,MeasuresLU,0)+1)","v":800},0,0,null,null,null,null,null,{"$error":"#N/A"},null,null,null,null,null,null,null,null,null,null,null,null,null,null,{"$f":"IF(#REF!>J93,1,0)","v":{"$error":"#REF!"}}]
[null,null,null,null,null,null,null,"Solar PV 4 kWp",{"$f":"INDEX('Rate Card '!$A$3:$X$14,MATCH(C85,HouseType,0),MATCH(H94,MeasuresLU,0)+1)","v":2100},0,0,null,null,null,null,null,{"$error":"#N/A"},null,null,null,null,null,null,null,null,null,null,null,null,null,null,{"$f":"IF(#REF!>J94,1,0)","v":{"$error":"#REF!"}}]
[null,null,null,null,null,null,null,"Heat Pump - Air/Water",{"$f":"INDEX('Rate Card '!$A$3:$X$14,MATCH(C85,HouseType,0),MATCH(H95,MeasuresLU,0)+1)","v":4500},0,0,null,null,null,null,null,2,null,null,null,null,null,null,null,null,null,null,null,null,null,null,{"$f":"IF(#REF!>J95,1,0)","v":{"$error":"#REF!"}}]
[null,null,null,null,null,null,null,"Heat Pump - Air/Air",{"$f":"INDEX('Rate Card '!$A$3:$X$14,MATCH(C85,HouseType,0),MATCH(H96,MeasuresLU,0)+1)","v":3500},0,0,null,null,null,null,null,2,null,null,null,null,null,null,null,null,null,null,null,null,null,null,{"$f":"IF(#REF!>J96,1,0)","v":{"$error":"#REF!"}}]
[null,null,null,null,null,null,null,"HP w/ CH System",{"$f":"INDEX('Rate Card '!$A$3:$X$14,MATCH(C85,HouseType,0),MATCH(H97,MeasuresLU,0)+1)","v":1000},0,0,null,null,null,null,null,{"$error":"#N/A"},null,null,null,null,null,null,null,null,null,null,null,null,null,null,{"$f":"IF(#REF!>J97,1,0)","v":{"$error":"#REF!"}}]
[null,null,null,null,null,null,null,"Bonus",{"$f":"INDEX('Rate Card '!$A$3:$X$14,MATCH(C85,HouseType,0),MATCH(H98,MeasuresLU,0)+1)","v":2000},0,0,null,null,null,null,null,{"$error":"#N/A"},null,null,null,null,null,null,null,null,null,null,null,null,null,null,{"$f":"IF(#REF!>J98,1,0)","v":{"$error":"#REF!"}}]
[null,null,null,null,null,null,null,"MVHR",{"$f":"INDEX('Rate Card '!$A$3:$X$14,MATCH(C85,HouseType,0),MATCH(H99,MeasuresLU,0)+1)","v":1500},0,0,null,null,null,null,null,2,null,null,null,null,null,null,null,null,null,null,null,null,null,null,{"$f":"IF(#REF!>J99,1,0)","v":{"$error":"#REF!"}}]
[null,null,null,null,null,null,null,"Home Energy Assessment (HEA)",{"$f":"INDEX('Rate Card '!$A$3:$X$14,MATCH(C85,HouseType,0),MATCH(H100,MeasuresLU,0)+1)","v":0},0,0,null,null,null,null,null,{"$error":"#N/A"},null,null,null,null,null,null,null,null,null,null,null,null,null,null,{"$f":"IF(#REF!>J100,1,0)","v":{"$error":"#REF!"}}]
[null,null,null,null,null,null,null,"Project Management ",{"$f":"INDEX('Rate Card '!$A$3:$X$14,MATCH(C85,HouseType,0),MATCH(H101,MeasuresLU,0)+1)","v":800},0,0,null,null,null,null,null,2,null,null,null,null,null,null,null,null,null,null,null,null,null,null,{"$f":"IF(#REF!>J101,1,0)","v":{"$error":"#REF!"}}]
[null,null,null,null,null,null,null,"Heating Controls",{"$f":"INDEX('Rate Card '!$A$3:$X$14,MATCH(C85,HouseType,0),MATCH(H102,MeasuresLU,0)+1)","v":700},0,0,null,null,null,null,null,2,null,null,null,null,null,null,null,null,null,null,null,null,null,null,{"$f":"IF(#REF!>J102,1,0)","v":{"$error":"#REF!"}}]
[null,null,null,null,null,null,null,"Total Cost",null,null,{"$f":"SUM(K85:K102)","v":0},null,null,null,null,null," "]
[null,null,null,null,null,null,null,null,null,null,null,null,null,null,null,null," "]
[6,"Please Select","Apartment Local Authority -NFP",0,"Enter Site Address",null,{"$f":"IF(C105=\"House\",D105*$AC$7,D105*$AC$8)","v":0},"Roof - Rafter Level ",{"$f":"INDEX('Rate Card '!$A$3:$X$14,MATCH(C105,HouseType,0),MATCH(H105,MeasuresLU,0)+1)","v":1500},0,{"$f":"IFERROR(I105*(J105),0)","v":0},null,null,null,null,null,{"$f":"VLOOKUP(H105,$T$4:$Y$24,6,)","v":1},null,null,null,null,null,null,null,null,null,null,null,null,null,null,{"$f":"IF(#REF!>J105,1,0)","v":{"$error":"#REF!"}}]
[null,null," ",null,null,null,null,"Roof - Rafter Level ",{"$f":"INDEX('Rate Card '!$A$3:$X$14,MATCH(C105,HouseType,0),MATCH(H106,MeasuresLU,0)+1)","v":1500},0,{"$f":"IFERROR(I106*(J106),0)","v":0},null,null,null,null,null,1,null,null,null,null,null,null,null,null,null,null,null,null,null,null,{"$f":"IF(#REF!>J106,1,0)","v":{"$error":"#REF!"}}]
[null,null,null,null,null,null,null,"Cavity ",{"$f":"INDEX('Rate Card '!$A$3:$X$14,MATCH(C105,HouseType,0),MATCH(H107,MeasuresLU,0)+1)","v":700},0,0,null,null,null,null,null,1,null,null,null,null,null,null,null,null,null,null,null,null,null,null,{"$f":"IF(#REF!>J107,1,0)","v":{"$error":"#REF!"}}]
[null,null,null,null,null,null,null,"Internal Wall ",{"$f":"INDEX('Rate Card '!$A$3:$X$14,MATCH(C105,HouseType,0),MATCH(H108,MeasuresLU,0)+1)","v":1500},0,0,null,null,null,null,null,1,null,null,null,null,null,null,null,null,null,null,null,null,null,null,{"$f":"IF(#REF!>J108,1,0)","v":{"$error":"#REF!"}}]
[null,null,null,null,null,null,null,"External Wall",{"$f":"INDEX('Rate Card '!$A$3:$X$14,MATCH(C105,HouseType,0),MATCH(H109,MeasuresLU,0)+1)","v":3500},0,0,null,null,null,null,null,1,null,null,null,null,null,null,null,null,null,null,null,null,null,null,{"$f":"IF(#REF!>J109,1,0)","v":{"$error":"#REF!"}}]
[null,null,null,null,null,null,null,"Windows",{"$f":"INDEX('Rate Card '!$A$3:$X$14,MATCH(C105,HouseType,0),MATCH(H110,MeasuresLU,0)+1)","v":1500},0,0,null,null,null,null,null,1,null,null,null,null,null,null,null,null,null,null,null,null,null,null,{"$f":"IF(#REF!>J110,1,0)","v":{"$error":"#REF!"}}]
[null,null,null,null,null,null,null,"Doors* (for 2 Doors per property Select Door Measure Twice)",{"$f":"INDEX('Rate Card '!$A$3:$X$14,MATCH(C105,HouseType,0),MATCH(H111,MeasuresLU,0)+1)","v":800},0,0,null,null,null,null,null,{"$error":"#N/A"},null,null,null,null,null,null,null,null,null,null,null,null,null,null,{"$f":"IF(#REF!>J111,1,0)","v":{"$error":"#REF!"}}]
[null,null,null,null,null,null,null,"Air Tightness",{"$f":"INDEX('Rate Card '!$A$3:$X$14,MATCH(C105,HouseType,0),MATCH(H112,MeasuresLU,0)+1)","v":1000},0,0,null,null,null,null,null,1,null,null,null,null,null,null,null,null,null,null,null,null,null,null,{"$f":"IF(#REF!>J112,1,0)","v":{"$error":"#REF!"}}]
[null,null,null,null,null,null,null,"Solar PV 1 kWp",{"$f":"INDEX('Rate Card '!$A$3:$X$14,MATCH(C105,HouseType,0),MATCH(H113,MeasuresLU,0)+1)","v":800},0,0,null,null,null,null,null,{"$error":"#N/A"},null,null,null,null,null,null,null,null,null,null,null,null,null,null,{"$f":"IF(#REF!>J113,1,0)","v":{"$error":"#REF!"}}]
[null,null,null,null,null,null,null,"Solar PV 4 kWp",{"$f":"INDEX('Rate Card '!$A$3:$X$14,MATCH(C105,HouseType,0),MATCH(H114,MeasuresLU,0)+1)","v":2100},0,0,null,null,null,null,null,{"$error":"#N/A"},null,null,null,null,null,null,null,null,null,null,null,null,null,null,{"$f":"IF(#REF!>J114,1,0)","v":{"$error":"#REF!"}}]
[null,null,null,null,null,null,null,"Heat Pump - Air/Water",{"$f":"INDEX('Rate Card '!$A$3:$X$14,MATCH(C105,HouseType,0),MATCH(H115,MeasuresLU,0)+1)","v":4500},0,0,null,null,null,null,null,2,null,null,null,null,null,null,null,null,null,null,null,null,null,null,{"$f":"IF(#REF!>J115,1,0)","v":{"$error":"#REF!"}}]
[null,null,null,null,null,null,null,"Heat Pump - Air/Air",{"$f":"INDEX('Rate Card '!$A$3:$X$14,MATCH(C105,HouseType,0),MATCH(H116,MeasuresLU,0)+1)","v":3500},0,0,null,null,null,null,null,2,null,null,null,null,null,null,null,null,null,null,null,null,null,null,{"$f":"IF(#REF!>J116,1,0)","v":{"$error":"#REF!"}}]
[null,null,null,null,null,null,null,"HP w/ CH System",{"$f":"INDEX('Rate Card '!$A$3:$X$14,MATCH(C105,HouseType,0),MATCH(H117,MeasuresLU,0)+1)","v":1000},0,0,null,null,null,null,null,{"$error":"#N/A"},null,null,null,null,null,null,null,null,null,null,null,null,null,null,{"$f":"IF(#REF!>J117,1,0)","v":{"$error":"#REF!"}}]
[null,null,null,null,null,null,null,"Bonus",{"$f":"INDEX('Rate Card '!$A$3:$X$14,MATCH(C105,HouseType,0),MATCH(H118,MeasuresLU,0)+1)","v":2000},0,0,null,null,null,null,null,{"$error":"#N/A"},null,null,null,null,null,null,null,null,null,null,null,null,null,null,{"$f":"IF(#REF!>J118,1,0)","v":{"$error":"#REF!"}}]
[null,null,null,null,null,null,null,"MVHR",{"$f":"INDEX('Rate Card '!$A$3:$X$14,MATCH(C105,HouseType,0),MATCH(H119,MeasuresLU,0)+1)","v":1500},0,0,null,null,null,null,null,2,null,null,null,null,null,null,null,null,null,null,null,null,null,null,{"$f":"IF(#REF!>J119,1,0)","v":{"$error":"#REF!"}}]
[null,null,null,null,null,null,null,"Home Energy Assessment (HEA)",{"$f":"INDEX('Rate Card '!$A$3:$X$14,MATCH(C105,HouseType,0),MATCH(H120,MeasuresLU,0)+1)","v":0},0,0,null,null,null,null,null,{"$error":"#N/A"},null,null,null,null,null,null,null,null,null,null,null,null,null,null,{"$f":"IF(#REF!>J120,1,0)","v":{"$error":"#REF!"}}]
[null,null,null,null,null,null,null,"Project Management ",{"$f":"INDEX('Rate Card '!$A$3:$X$14,MATCH(C105,HouseType,0),MATCH(H121,MeasuresLU,0)+1)","v":800},0,0,null,null,null,null,null,2,null,null,null,null,null,null,null,null,null,null,null,null,null,null,{"$f":"IF(#REF!>J121,1,0)","v":{"$error":"#REF!"}}]
[null,null,null,null,null,null,null,"Heating Controls",{"$f":"INDEX('Rate Card '!$A$3:$X$14,MATCH(C105,HouseType,0),MATCH(H122,MeasuresLU,0)+1)","v":700},0,0,null,null,null,null,null,2,null,null,null,null,null,null,null,null,null,null,null,null,null,null,{"$f":"IF(#REF!>J122,1,0)","v":{"$error":"#REF!"}}]
[null,null,null,null,null,null,null,"Total Cost",null,null,{"$f":"SUM(K105:K122)","v":0},null,null,null,null,null," "]
[null,null,null,null,null,null,null,null,null,null,null,null,null,null,null,null," "]
[7,"Please Select","Apartment Local Authority -NFP",0,"Enter Site Address",null,{"$f":"IF(C125=\"House\",D125*$AC$7,D125*$AC$8)","v":0},"Roof - Rafter Level ",{"$f":"INDEX('Rate Card '!$A$3:$X$14,MATCH(C125,HouseType,0),MATCH(H125,MeasuresLU,0)+1)","v":1500},0,{"$f":"IFERROR(I125*(J125),0)","v":0},null,null,null,null,null,{"$f":"VLOOKUP(H125,$T$4:$Y$24,6,)","v":1},null,null,null,null,null,null,null,null,null,null,null,null,null,null,{"$f":"IF(#REF!>J125,1,0)","v":{"$error":"#REF!"}}]
[null,null," ",null,null,null,null,"Roof - Ceiling Level ",{"$f":"INDEX('Rate Card '!$A$3:$X$14,MATCH(C125,HouseType,0),MATCH(H126,MeasuresLU,0)+1)","v":800},0,{"$f":"IFERROR(I126*(J126),0)","v":0},null,null,null,null,null,1,null,null,null,null,null,null,null,null,null,null,null,null,null,null,{"$f":"IF(#REF!>J126,1,0)","v":{"$error":"#REF!"}}]
[null,null,null,null,null,null,null,"Cavity ",{"$f":"INDEX('Rate Card '!$A$3:$X$14,MATCH(C125,HouseType,0),MATCH(H127,MeasuresLU,0)+1)","v":700},0,0,null,null,null,null,null,1,null,null,null,null,null,null,null,null,null,null,null,null,null,null,{"$f":"IF(#REF!>J127,1,0)","v":{"$error":"#REF!"}}]
[null,null,null,null,null,null,null,"Internal Wall ",{"$f":"INDEX('Rate Card '!$A$3:$X$14,MATCH(C125,HouseType,0),MATCH(H128,MeasuresLU,0)+1)","v":1500},0,0,null,null,null,null,null,1,null,null,null,null,null,null,null,null,null,null,null,null,null,null,{"$f":"IF(#REF!>J128,1,0)","v":{"$error":"#REF!"}}]
[null,null,null,null,null,null,null,"External Wall",{"$f":"INDEX('Rate Card '!$A$3:$X$14,MATCH(C125,HouseType,0),MATCH(H129,MeasuresLU,0)+1)","v":3500},0,0,null,null,null,null,null,1,null,null,null,null,null,null,null,null,null,null,null,null,null,null,{"$f":"IF(#REF!>J129,1,0)","v":{"$error":"#REF!"}}]
[null,null,null,null,null,null,null,"Windows",{"$f":"INDEX('Rate Card '!$A$3:$X$14,MATCH(C125,HouseType,0),MATCH(H130,MeasuresLU,0)+1)","v":1500},0,0,null,null,null,null,null,1,null,null,null,null,null,null,null,null,null,null,null,null,null,null,{"$f":"IF(#REF!>J130,1,0)","v":{"$error":"#REF!"}}]
[null,null,null,null,null,null,null,"Doors* (for 2 Doors per property Select Door Measure Twice)",{"$f":"INDEX('Rate Card '!$A$3:$X$14,MATCH(C125,HouseType,0),MATCH(H131,MeasuresLU,0)+1)","v":800},0,0,null,null,null,null,null,{"$error":"#N/A"},null,null,null,null,null,null,null,null,null,null,null,null,null,null,{"$f":"IF(#REF!>J131,1,0)","v":{"$error":"#REF!"}}]
[null,null,null,null,null,null,null,"Air Tightness",{"$f":"INDEX('Rate Card '!$A$3:$X$14,MATCH(C125,HouseType,0),MATCH(H132,MeasuresLU,0)+1)","v":1000},0,0,null,null,null,null,null,1,null,null,null,null,null,null,null,null,null,null,null,null,null,null,{"$f":"IF(#REF!>J132,1,0)","v":{"$error":"#REF!"}}]
[null,null,null,null,null,null,null,"Solar PV 1 kWp",{"$f":"INDEX('Rate Card '!$A$3:$X$14,MATCH(C125,HouseType,0),MATCH(H133,MeasuresLU,0)+1)","v":800},0,0,null,null,null,null,null,{"$error":"#N/A"},null,null,null,null,null,null,null,null,null,null,null,null,null,null,{"$f":"IF(#REF!>J133,1,0)","v":{"$error":"#REF!"}}]
[null,null,null,null,null,null,null,"Solar PV 4 kWp",{"$f":"INDEX('Rate Card '!$A$3:$X$14,MATCH(C125,HouseType,0),MATCH(H134,MeasuresLU,0)+1)","v":2100},0,0,null,null,null,null,null,{"$error":"#N/A"},null,null,null,null,null,null,null,null,null,null,null,null,null,null,{"$f":"IF(#REF!>J134,1,0)","v":{"$error":"#REF!"}}]
[null,null,null,null,null,null,null,"Heat Pump - Air/Water",{"$f":"INDEX('Rate Card '!$A$3:$X$14,MATCH(C125,HouseType,0),MATCH(H135,MeasuresLU,0)+1)","v":4500},0,0,null,null,null,null,null,2,null,null,null,null,null,null,null,null,null,null,null,null,null,null,{"$f":"IF(#REF!>J135,1,0)","v":{"$error":"#REF!"}}]
[null,null,null,null,null,null,null,"Heat Pump - Air/Air",{"$f":"INDEX('Rate Card '!$A$3:$X$14,MATCH(C125,HouseType,0),MATCH(H136,MeasuresLU,0)+1)","v":3500},0,0,null,null,null,null,null,2,null,null,null,null,null,null,null,null,null,null,null,null,null,null,{"$f":"IF(#REF!>J136,1,0)","v":{"$error":"#REF!"}}]
[null,null,null,null,null,null,null,"HP w/ CH System",{"$f":"INDEX('Rate Card '!$A$3:$X$14,MATCH(C125,HouseType,0),MATCH(H137,MeasuresLU,0)+1)","v":1000},0,0,null,null,null,null,null,{"$error":"#N/A"},null,null,null,null,null,null,null,null,null,null,null,null,null,null,{"$f":"IF(#REF!>J137,1,0)","v":{"$error":"#REF!"}}]
[null,null,null,null,null,null,null,"Bonus",{"$f":"INDEX('Rate Card '!$A$3:$X$14,MATCH(C125,HouseType,0),MATCH(H138,MeasuresLU,0)+1)","v":2000},0,0,null,null,null,null,null,{"$error":"#N/A"},null,null,null,null,null,null,null,null,null,null,null,null,null,null,{"$f":"IF(#REF!>J138,1,0)","v":{"$error":"#REF!"}}]
[null,null,null,null,null,null,null,"MVHR",{"$f":"INDEX('Rate Card '!$A$3:$X$14,MATCH(C125,HouseType,0),MATCH(H139,MeasuresLU,0)+1)","v":1500},0,0,null,null,null,null,null,2,null,null,null,null,null,null,null,null,null,null,null,null,null,null,{"$f":"IF(#REF!>J139,1,0)","v":{"$error":"#REF!"}}]
[null,null,null,null,null,null,null,"Home Energy Assessment (HEA)",{"$f":"INDEX('Rate Card '!$A$3:$X$14,MATCH(C125,HouseType,0),MATCH(H140,MeasuresLU,0)+1)","v":0},0,0,null,null,null,null,null,{"$error":"#N/A"},null,null,null,null,null,null,null,null,null,null,null,null,null,null,{"$f":"IF(#REF!>J140,1,0)","v":{"$error":"#REF!"}}]
[null,null,null,null,null,null,null,"Project Management ",{"$f":"INDEX('Rate Card '!$A$3:$X$14,MATCH(C125,HouseType,0),MATCH(H141,MeasuresLU,0)+1)","v":800},0,0,null,null,null,null,null,2,null,null,null,null,null,null,null,null,null,null,null,null,null,null,{"$f":"IF(#REF!>J141,1,0)","v":{"$error":"#REF!"}}]
[null,null,null,null,null,null,null,"Heating Controls",{"$f":"INDEX('Rate Card '!$A$3:$X$14,MATCH(C125,HouseType,0),MATCH(H142,MeasuresLU,0)+1)","v":700},0,0,null,null,null,null,null,2,null,null,null,null,null,null,null,null,null,null,null,null,null,null,{"$f":"IF(#REF!>J142,1,0)","v":{"$error":"#REF!"}}]
[null,null,null,null,null,null,null,"Total Cost",null,null,{"$f":"SUM(K125:K142)","v":0}]
[]
[8,"Please Select","Apartment Local Authority -NFP",0,"Enter Site Address",null,{"$f":"IF(C145=\"House\",D145*$AC$7,D145*$AC$8)","v":0},"Roof - Rafter Level ",{"$f":"INDEX('Rate Card '!$A$3:$X$14,MATCH(C145,HouseType,0),MATCH(H145,MeasuresLU,0)+1)","v":1500},0,{"$f":"IFERROR(I145*(J145),0)","v":0},null,null,null,null,null,{"$f":"VLOOKUP(H145,$T$4:$Y$24,6,)","v":1},null,null,null,null,null,null,null,null,null,null,null,null,null,null,{"$f":"IF(#REF!>J145,1,0)","v":{"$error":"#REF!"}}]
[null,null," ",null,null,null,null,"Roof - Rafter Level ",{"$f":"INDEX('Rate Card '!$A$3:$X$14,MATCH(C145,HouseType,0),MATCH(H146,MeasuresLU,0)+1)","v":1500},0,{"$f":"IFERROR(I146*(J146),0)","v":0},null,null,null,null,null,1,null,null,null,null,null,null,null,null,null,null,null,null,null,null,{"$f":"IF(#REF!>J146,1,0)","v":{"$error":"#REF!"}}]
[null,null,null,null,null,null,null,"Cavity ",{"$f":"INDEX('Rate Card '!$A$3:$X$14,MATCH(C145,HouseType,0),MATCH(H147,MeasuresLU,0)+1)","v":700},0,0,null,null,null,null,null,1,null,null,null,null,null,null,null,null,null,null,null,null,null,null,{"$f":"IF(#REF!>J147,1,0)","v":{"$error":"#REF!"}}]
[null,null,null,null,null,null,null,"Internal Wall ",{"$f":"INDEX('Rate Card '!$A$3:$X$14,MATCH(C145,HouseType,0),MATCH(H148,MeasuresLU,0)+1)","v":1500},0,0,null,null,null,null,null,1,null,null,null,null,null,null,null,null,null,null,null,null,null,null,{"$f":"IF(#REF!>J148,1,0)","v":{"$error":"#REF!"}}]
[null,null,null,null,null,null,null,"External Wall",{"$f":"INDEX('Rate Card '!$A$3:$X$14,MATCH(C145,HouseType,0),MATCH(H149,MeasuresLU,0)+1)","v":3500},0,0,null,null,null,null,null,1,null,null,null,null,null,null,null,null,null,null,null,null,null,null,{"$f":"IF(#REF!>J149,1,0)","v":{"$error":"#REF!"}}]
[null,null,null,null,null,null,null,"Windows",{"$f":"INDEX('Rate Card '!$A$3:$X$14,MATCH(C145,HouseType,0),MATCH(H150,MeasuresLU,0)+1)","v":1500},0,0,null,null,null,null,null,1,null,null,null,null,null,null,null,null,null,null,null,null,null,null,{"$f":"IF(#REF!>J150,1,0)","v":{"$error":"#REF!"}}]
[null,null,null,null,null,null,null,"Doors* (for 2 Doors per property Select Door Measure Twice)",{"$f":"INDEX('Rate Card '!$A$3:$X$14,MATCH(C145,HouseType,0),MATCH(H151,MeasuresLU,0)+1)","v":800},0,0,null,null,null,null,null,{"$error":"#N/A"},null,null,null,null,null,null,null,null,null,null,null,null,null,null,{"$f":"IF(#REF!>J151,1,0)","v":{"$error":"#REF!"}}]
[null,null,null,null,null,null,null,"Air Tightness",{"$f":"INDEX('Rate Card '!$A$3:$X$14,MATCH(C145,HouseType,0),MATCH(H152,MeasuresLU,0)+1)","v":1000},0,0,null,null,null,null,null,1,null,null,null,null,null,null,null,null,null,null,null,null,null,null,{"$f":"IF(#REF!>J152,1,0)","v":{"$error":"#REF!"}}]
[null,null,null,null,null,null,null,"Solar PV 1 kWp",{"$f":"INDEX('Rate Card '!$A$3:$X$14,MATCH(C145,HouseType,0),MATCH(H153,MeasuresLU,0)+1)","v":800},0,0,null,null,null,null,null,{"$error":"#N/A"},null,null,null,null,null,null,null,null,null,null,null,null,null,null,{"$f":"IF(#REF!>J153,1,0)","v":{"$error":"#REF!"}}]
[null,null,null,null,null,null,null,"Solar PV 4 kWp",{"$f":"INDEX('Rate Card '!$A$3:$X$14,MATCH(C145,HouseType,0),MATCH(H154,MeasuresLU,0)+1)","v":2100},0,0,null,null,null,null,null,{"$error":"#N/A"},null,null,null,null,null,null,null,null,null,null,null,null,null,null,{"$f":"IF(#REF!>J154,1,0)","v":{"$error":"#REF!"}}]
[null,null,null,null,null,null,null,"Heat Pump - Air/Water",{"$f":"INDEX('Rate Card '!$A$3:$X$14,MATCH(C145,HouseType,0),MATCH(H155,MeasuresLU,0)+1)","v":4500},0,0,null,null,null,null,null,2,null,null,null,null,null,null,null,null,null,null,null,null,null,null,{"$f":"IF(#REF!>J155,1,0)","v":{"$error":"#REF!"}}]
[null,null,null,null,null,null,null,"Heat Pump - Air/Air",{"$f":"INDEX('Rate Card '!$A$3:$X$14,MATCH(C145,HouseType,0),MATCH(H156,MeasuresLU,0)+1)","v":3500},0,0,null,null,null,null,null,2,null,null,null,null,null,null,null,null,null,null,null,null,null,null,{"$f":"IF(#REF!>J156,1,0)","v":{"$error":"#REF!"}}]
[null,null,null,null,null,null,null,"HP w/ CH System",{"$f":"INDEX('Rate Card '!$A$3:$X$14,MATCH(C145,HouseType,0),MATCH(H157,MeasuresLU,0)+1)","v":1000},0,0,null,null,null,null,null,{"$error":"#N/A"},null,null,null,null,null,null,null,null,null,null,null,null,null,null,{"$f":"IF(#REF!>J157,1,0)","v":{"$error":"#REF!"}}]
[null,null,null,null,null,null,null,"Bonus",{"$f":"INDEX('Rate Card '!$A$3:$X$14,MATCH(C145,HouseType,0),MATCH(H158,MeasuresLU,0)+1)","v":2000},0,0,null,null,null,null,null,{"$error":"#N/A"},null,null,null,null,null,null,null,null,null,null,null,null,null,null,{"$f":"IF(#REF!>J158,1,0)","v":{"$error":"#REF!"}}]
[null,null,null,null,null,null,null,"MVHR",{"$f":"INDEX('Rate Card '!$A$3:$X$14,MATCH(C145,HouseType,0),MATCH(H159,MeasuresLU,0)+1)","v":1500},0,0,null,null,null,null,null,2,null,null,null,null,null,null,null,null,null,null,null,null,null,null,{"$f":"IF(#REF!>J159,1,0)","v":{"$error":"#REF!"}}]
[null,null,null,null,null,null,null,"Home Energy Assessment (HEA)",{"$f":"INDEX('Rate Card '!$A$3:$X$14,MATCH(C145,HouseType,0),MATCH(H160,MeasuresLU,0)+1)","v":0},0,0,null,null,null,null,null,{"$error":"#N/A"},null,null,null,null,null,null,null,null,null,null,null,null,null,null,{"$f":"IF(#REF!>J160,1,0)","v":{"$error":"#REF!"}}]
[null,null,null,null,null,null,null,"Project Management ",{"$f":"INDEX('Rate Card '!$A$3:$X$14,MATCH(C145,HouseType,0),MATCH(H161,MeasuresLU,0)+1)","v":800},0,0,null,null,null,null,null,2,null,null,null,null,null,null,null,null,null,null,null,null,null,null,{"$f":"IF(#REF!>J161,1,0)","v":{"$error":"#REF!"}}]
[null,null,null,null,null,null,null,"Heating Controls",{"$f":"INDEX('Rate Card '!$A$3:$X$14,MATCH(C145,HouseType,0),MATCH(H162,MeasuresLU,0)+1)","v":700},0,0,null,null,null,null,null,2,null,null,null,null,null,null,null,null,null,null,null,null,null,null,{"$f":"IF(#REF!>J162,1,0)","v":{"$error":"#REF!"}}]
[null,null,null,null,null,null,null,"Total Cost",null,null,{"$f":"SUM(K145:K162)","v":0}]

{"sheet":"FP Domestic Measures & costs","index":13,"n_rows":163,"n_cols":32,"rows_kept":163,"cut":false,"hidden":false,"merged":[[0,0,0,8],[1,2,1,6],[1,7,1,8],[2,12,2,13],[3,12,3,13]]}
["Communities Programme - FP Measures & Costs Calculator"]
[null,null,"Home Information",null,null,null,null,"Upgrade Information",null,null,null,null,null,null,null,null,null,null,null,null,null,null,null,null,null,null,null,null,null,null,null,"No of Energy Poor Homes"]
["Project","Energy Supplier","Home Type","No of Energy Poor Homes","Site Address Line 1","Site County","Existing Energy Use kWh/yr","Measure","Grant Support Per measure","No of Energy Poor Homes Upgrade Implemented","EP Grant Support",null,"Result of the table is calculation of residential EP",null,null,null,null,null,null,"Energy Saving Credits","Apartment","House - Detached ","House - Semi-Detached/ End - Terrace","House - Mid  - Terrace","Insulation",null,null,"cost for dwellings",7.1499999999999994E-2,null,null,{"$f":"SUM(AF5:AF163)","v":{"$error":"#REF!"}}]
[" "," "," ",null,"eg. Riverview Estate",null," ","Published Measures",null,null,null,null,"Energy Poor Home",null,null,null,null,"House - Detached ","Less than 3","Roof - Ceiling Level ",0,0,0,0,1]
[1,"Please Select","House - Detached  Housing Association -FP",0,null,null,{"$f":"IF(C5=\"House\",D5*$AC$7,D5*$AC$8)","v":0},"Roof - Rafter Level ",{"$f":"INDEX('Rate Card '!$A$23:$X$30,MATCH($C$5,HouseTypeFP,0),MATCH(H5,MeasureLUFP,0)+1)","v":3500},0,{"$f":"IFERROR(I5*(J5),0)","v":0},null,"Existing Energy Use",{"$f":"G5*(1-IFERROR(#REF!/D5,0))+G25*(1-IFERROR(#REF!/D25,0))+G45*(1-IFERROR(#REF!/D45,0))+G65*(1-IFERROR(#REF!/D65,0))+G85*(1-IFERROR(#REF!/D85,0))+G105*(1-IFERROR(#REF!/D105,0))+G125*(1-IFERROR(#REF!/D125,0))+G145*(1-IFERROR(#REF!/D145,0))","v":0},"kWh",null,{"$f":"VLOOKUP(H5,$T$1:$Y$22,6,)","v":1},"House - Semi-Detached/ End - Terrace",3,"Roof - Rafter Level ",0,0,0,0,1,null,"Energy Costs from Table C3",null,null,null,null,{"$f":"IF(#REF!>J5,1,0)","v":{"$error":"#REF!"}}]
[null,null," ",null,null,null,null,"Roof - Ceiling Level ",{"$f":"INDEX('Rate Card '!$A$23:$X$30,MATCH($C$5,HouseTypeFP,0),MATCH(H6,MeasureLUFP,0)+1)","v":1500},0,{"$f":"IFERROR(I6*(J6),0)","v":0},null,"Existing Energy Costs",{"$f":"N5*$AC$3","v":0},"€",null,1,"House - Mid  - Terrace","Four or more","Cavity ",0,0,0,0,1,null,null,"No","Kwh",null,null,{"$f":"IF(#REF!>J6,1,0)","v":{"$error":"#REF!"}}]
[null,null,null,null,null,null,null,"Cavity ",{"$f":"INDEX('Rate Card '!$A$23:$X$30,MATCH($C$5,HouseTypeFP,0),MATCH(H7,MeasureLUFP,0)+1)","v":1700},0,0,null,"Grant Support",{"$f":"K23+K43+K63+K83+K103+K123+K143+K163","v":0},"€",null,1,"Apartment",null,"Internal Wall ",0,0,0,0,1,null,"No of Houses Upgraded",null,36375," ",null,{"$f":"IF(#REF!>J7,1,0)","v":{"$error":"#REF!"}}]
[null,null,null,null,null,null,null,"Internal Wall ",{"$f":"INDEX('Rate Card '!$A$23:$X$30,MATCH($C$5,HouseTypeFP,0),MATCH(H8,MeasureLUFP,0)+1)","v":5500},0,0,null,"No of Energy Poor Homes",{"$f":"SUM(D5+D25+D45+D65+D85+D105+D125+D145)","v":0},null,null,1,null,null,"External Wall",0,0,0,0,1,null,"No of Apartments Upgraded",null,18187.5," ",null,{"$f":"IF(#REF!>J8,1,0)","v":{"$error":"#REF!"}}]
[null,null,null,null,null,null,null,"External Wall",{"$f":"INDEX('Rate Card '!$A$23:$X$30,MATCH($C$5,HouseTypeFP,0),MATCH(H9,MeasureLUFP,0)+1)","v":10000},0,0,null,null,{"$f":"SUM(P9)","v":0},"kWh",{"$f":"9000 *(N8)","v":0},1,null,null,"Windows",0,0,0,0,1,null,null,null,null,null,null,{"$f":"IF(#REF!>J9,1,0)","v":{"$error":"#REF!"}}]
[null,null,null,null,null,null,null,"Windows",{"$f":"INDEX('Rate Card '!$A$23:$X$30,MATCH($C$5,HouseTypeFP,0),MATCH(H10,MeasureLUFP,0)+1)","v":5000},0,0,null,"Energy Savings",{"$f":"N9*AC3","v":0},"€",null,1,null,null,"Doors test",0,0,0,0,1,null,"Please Select",null,null,null,null,{"$f":"IF(#REF!>J10,1,0)","v":{"$error":"#REF!"}}]
[null,null,null,null,null,null,null,"Doors* (for 2 Doors per property Select Door Measure Twice)",{"$f":"INDEX('Rate Card '!$A$23:$X$30,MATCH($C$5,HouseTypeFP,0),MATCH(H11,MeasureLUFP,0)+1)","v":1000},0,0,null,null,null,null,null,{"$error":"#N/A"},null,null,"Air Tightness",0,0,0,0,1,null,"Bord Gais Energy",null,null,null,null,{"$f":"IF(#REF!>J11,1,0)","v":{"$error":"#REF!"}}]
[null,null,null,null,null,null,null,"Air Tightness",{"$f":"INDEX('Rate Card '!$A$23:$X$30,MATCH($C$5,HouseTypeFP,0),MATCH(H12,MeasureLUFP,0)+1)","v":1000},0,0,null,null,null,null,null,1,null,null,"DCV",0,0,0,0,2,null,"Bord Na Mona",null,null,null,null,{"$f":"IF(#REF!>J12,1,0)","v":{"$error":"#REF!"}}]
[null,null,null,null,null,null,null,"Solar PV 1 kWp",{"$f":"INDEX('Rate Card '!$A$23:$X$30,MATCH($C$5,HouseTypeFP,0),MATCH(H13,MeasureLUFP,0)+1)","v":800},0,0,null,null,null,null,null,{"$error":"#N/A"},null,null,"MVHR",0,0,0,0,2,null,"Calor",null,null,null,null,{"$f":"IF(#REF!>J13,1,0)","v":{"$error":"#REF!"}}]
[null,null,null,null,null,null,null,"Solar PV 2 kWp",{"$f":"INDEX('Rate Card '!$A$23:$X$30,MATCH($C$5,HouseTypeFP,0),MATCH(H14,MeasureLUFP,0)+1)","v":1600},0,0,null,null,null,null,null,{"$error":"#N/A"},{"$f":"SUM(G5:G163)","v":0},null,"Heat Pump - Air/Water",0,0,0,0,2,null,"Electric Ireland",null,null,null,null,{"$f":"IF(#REF!>J14,1,0)","v":{"$error":"#REF!"}}]
[null,null,null,null,null,null,null,"Heat Pump - Air/Water",{"$f":"INDEX('Rate Card '!$A$23:$X$30,MATCH($C$5,HouseTypeFP,0),MATCH(H15,MeasureLUFP,0)+1)","v":6500},0,0,null,null,null,null,null,2,{"$f":"SUM(#REF!,#REF!,#REF!,#REF!)","v":{"$error":"#REF!"}},null,"Heat Pump - Air/Air",0,0,0,0,2,null,"Energia",null,null,null,null,{"$f":"IF(#REF!>J15,1,0)","v":{"$error":"#REF!"}}]
[null,null,null,null,null,null,null,"Heat Pump - Air/Air",{"$f":"INDEX('Rate Card '!$A$23:$X$30,MATCH($C$5,HouseTypeFP,0),MATCH(H16,MeasureLUFP,0)+1)","v":4000},0,0,null,null,null,null,null,2,null,null,"Solar PV",0,0,0,0,2,null,"Enprova",null,null,null,null,{"$f":"IF(#REF!>J16,1,0)","v":{"$error":"#REF!"}}]
[null,null,null,null,null,null,null,"HP w/ CH System",{"$f":"INDEX('Rate Card '!$A$23:$X$30,MATCH($C$5,HouseTypeFP,0),MATCH(H17,MeasureLUFP,0)+1)","v":2000},0,0,null,null,null,null,null,{"$error":"#N/A"},null,null,"Solar HW",0,0,0,0,2,null,"Flogas",null,null,null,null,{"$f":"IF(#REF!>J17,1,0)","v":{"$error":"#REF!"}}]
[null,null,null,null,null,null,null,"Windows",{"$f":"INDEX('Rate Card '!$A$23:$X$30,MATCH($C$5,HouseTypeFP,0),MATCH(H18,MeasureLUFP,0)+1)","v":5000},0,0,null,null,null,null,null,1,null,null,"Technical Design",0,0,0,0,2,null,"Gazprom",null,null,null,null,{"$f":"IF(#REF!>J18,1,0)","v":{"$error":"#REF!"}}]
[null,null,null,null,null,null,null,"MVHR",{"$f":"INDEX('Rate Card '!$A$23:$X$30,MATCH($C$5,HouseTypeFP,0),MATCH(H19,MeasureLUFP,0)+1)","v":2000},0,0,null,null,null,null,null,2,null,null,"BER ",0,0,0,0,2,null,"Lissan",null,null,null,null,{"$f":"IF(#REF!>J19,1,0)","v":{"$error":"#REF!"}}]
[null,null,null,null,null,null,null,"Home Energy Assessment (HEA)",{"$f":"INDEX('Rate Card '!$A$23:$X$30,MATCH($C$5,HouseTypeFP,0),MATCH(H20,MeasureLUFP,0)+1)","v":350},0,0,null,null,null,null,null,{"$error":"#N/A"},null,null,"Project Management ",0,0,0,0,2,null,"SSE Airtricity",null,null,null,null,{"$f":"IF(#REF!>J20,1,0)","v":{"$error":"#REF!"}}]
[null,null,null,null,null,null,null,"Project Management ",{"$f":"INDEX('Rate Card '!$A$23:$X$30,MATCH($C$5,HouseTypeFP,0),MATCH(H21,MeasureLUFP,0)+1)","v":2000},0,0,null,null,null,null,null,2,null,null,"Heating Controls",0,0,0,0,2,null,"Vayu",null,null,null,null,{"$f":"IF(#REF!>J21,1,0)","v":{"$error":"#REF!"}}]
[null,null,null,null,null,null,null,"Heating Controls",{"$f":"INDEX('Rate Card '!$A$23:$X$30,MATCH($C$5,HouseTypeFP,0),MATCH(H22,MeasureLUFP,0)+1)","v":700},0,0,null,null,null,null,null,2,"Local Authority -FP /NFP",null,"Solid Fuel Room Heater (without back boiler)",0,0,0,0,2,null,"PrePayPower",null,null,null,null,{"$f":"IF(#REF!>J22,1,0)","v":{"$error":"#REF!"}}]
[null,null,null,null,null,null,null,"Total Cost",null,null,{"$f":"SUM(K5:K22)","v":0},null,null,null,null,null," ","Housing Association -FP/NFP"]
[null,null,null,null,null,null,null,null,null,null,null,null,null,null,null,null," ","Private -  FP"]
[2,"Please Select","Apartment Housing Association -FP",0,"Enter Site Address",null,{"$f":"IF(C25=\"House\",D25*$AC$7,D25*$AC$8)","v":0},"Roof - Rafter Level ",{"$f":"INDEX('Rate Card '!$A$23:$X$30,MATCH($C$25,HouseTypeFP,0),MATCH(H25,MeasureLUFP,0)+1)","v":2000},0,{"$f":"IFERROR(I25*(J25),0)","v":0},null,null,null," ",null,{"$f":"VLOOKUP(H25,$T$4:$Y$24,6,)","v":1},"Private - NFP",null,null,null,null,null,null,null,null,null,null,null,null,null,{"$f":"IF(#REF!>J25,1,0)","v":{"$error":"#REF!"}}]
[null,null," "," ",null,null,null,"Roof - Ceiling Level ",{"$f":"INDEX('Rate Card '!$A$23:$X$30,MATCH($C$25,HouseTypeFP,0),MATCH(H26,MeasureLUFP,0)+1)","v":800},0,{"$f":"IFERROR(I26*(J26),0)","v":0},null,null,null,null,null,1,null,null,null,null,null,null,null,null,null,null,null,null,null,null,{"$f":"IF(#REF!>J26,1,0)","v":{"$error":"#REF!"}}]
[null,null,null,null,null,null,null,"Cavity ",{"$f":"INDEX('Rate Card '!$A$23:$X$30,MATCH($C$25,HouseTypeFP,0),MATCH(H27,MeasureLUFP,0)+1)","v":700},0,0,null,null,null,null,null,1,null,null,null,null,null,null,null,null,null,null,null,null,null,null,{"$f":"IF(#REF!>J27,1,0)","v":{"$error":"#REF!"}}]
[null,null,null,null,null,null,null,"Internal Wall ",{"$f":"INDEX('Rate Card '!$A$23:$X$30,MATCH($C$25,HouseTypeFP,0),MATCH(H28,MeasureLUFP,0)+1)","v":2000},0,0,null,null,null,null,null,1,null,null,null,null,null,null,null,null,null,null,null,null,null,null,{"$f":"IF(#REF!>J28,1,0)","v":{"$error":"#REF!"}}]
[null,null,null,null,null,null,null,"External Wall",{"$f":"INDEX('Rate Card '!$A$23:$X$30,MATCH($C$25,HouseTypeFP,0),MATCH(H29,MeasureLUFP,0)+1)","v":3500},0,0,null,null,null,null,null,1,null,null,null,null,null,null,null,null,null,null,null,null,null,null,{"$f":"IF(#REF!>J29,1,0)","v":{"$error":"#REF!"}}]
[null,null,null,null,null,null,null,"Windows",{"$f":"INDEX('Rate Card '!$A$23:$X$30,MATCH($C$25,HouseTypeFP,0),MATCH(H30,MeasureLUFP,0)+1)","v":1900},0,0,null,null,null,null,null,1,null,null,null,null,null,null,null,null,null,null,null,null,null,null,{"$f":"IF(#REF!>J30,1,0)","v":{"$error":"#REF!"}}]
[null,null,null,null,null,null,null,"Doors* (for 2 Doors per property Select Door Measure Twice)",{"$f":"INDEX('Rate Card '!$A$23:$X$30,MATCH($C$25,HouseTypeFP,0),MATCH(H31,MeasureLUFP,0)+1)","v":1000},0,0,null,null,null,null,null,{"$error":"#N/A"},null,null,null,null,null,null,null,null,null,null,null,null,null,null,{"$f":"IF(#REF!>J31,1,0)","v":{"$error":"#REF!"}}]
[null,null,null,null,null,null,null,"Air Tightness",{"$f":"INDEX('Rate Card '!$A$23:$X$30,MATCH($C$25,HouseTypeFP,0),MATCH(H32,MeasureLUFP,0)+1)","v":1000},0,0,null,null,null,null,null,1,null,null,null,null,null,null,null,null,null,null,null,null,null,null,{"$f":"IF(#REF!>J32,1,0)","v":{"$error":"#REF!"}}]
[null,null,null,null,null,null,null,"Solar PV 1 kWp",{"$f":"INDEX('Rate Card '!$A$23:$X$30,MATCH($C$25,HouseTypeFP,0),MATCH(H33,MeasureLUFP,0)+1)","v":800},0,0,null,null,null,null,null,{"$error":"#N/A"},null,null,null,null,null,null,null,null,null,null,null,null,null,null,{"$f":"IF(#REF!>J33,1,0)","v":{"$error":"#REF!"}}]
[null,null,null,null,null,null,null,"Solar PV 4 kWp",{"$f":"INDEX('Rate Card '!$A$23:$X$30,MATCH($C$25,HouseTypeFP,0),MATCH(H34,MeasureLUFP,0)+1)","v":2100},0,0,null,null,null,null,null,{"$error":"#N/A"},null,null,null,null,null,null,null,null,null,null,null,null,null,null,{"$f":"IF(#REF!>J34,1,0)","v":{"$error":"#REF!"}}]
[null,null,null,null,null,null,null,"Heat Pump - Air/Water",{"$f":"INDEX('Rate Card '!$A$23:$X$30,MATCH($C$25,HouseTypeFP,0),MATCH(H35,MeasureLUFP,0)+1)","v":5500},0,0,null,null,null,null,null,2,null,null,null,null,null,null,null,null,null,null,null,null,null,null,{"$f":"IF(#REF!>J35,1,0)","v":{"$error":"#REF!"}}]
[null,null,null,null,null,null,null,"Heat Pump - Air/Air",{"$f":"INDEX('Rate Card '!$A$23:$X$30,MATCH($C$25,HouseTypeFP,0),MATCH(H36,MeasureLUFP,0)+1)","v":4000},0,0,null,null,null,null,null,2,null,null,null,null,null,null,null,null,null,null,null,null,null,null,{"$f":"IF(#REF!>J36,1,0)","v":{"$error":"#REF!"}}]
[null,null,null,null,null,null,null,"HP w/ CH System",{"$f":"INDEX('Rate Card '!$A$23:$X$30,MATCH($C$25,HouseTypeFP,0),MATCH(H37,MeasureLUFP,0)+1)","v":1000},0,0,null,null,null,null,null,{"$error":"#N/A"},null,null,null,null,null,null,null,null,null,null,null,null,null,null,{"$f":"IF(#REF!>J37,1,0)","v":{"$error":"#REF!"}}]
[null,null,null,null,null,null,null,"Bonus",{"$f":"INDEX('Rate Card '!$A$23:$X$30,MATCH($C$25,HouseTypeFP,0),MATCH(H38,MeasureLUFP,0)+1)","v":2000},0,0,null,null,null,null,null,{"$error":"#N/A"},null,null,null,null,null,null,null,null,null,null,null,null,null,null,{"$f":"IF(#REF!>J38,1,0)","v":{"$error":"#REF!"}}]
[null,null,null,null,null,null,null,"MVHR",{"$f":"INDEX('Rate Card '!$A$23:$X$30,MATCH($C$25,HouseTypeFP,0),MATCH(H39,MeasureLUFP,0)+1)","v":2000},0,0,null,null,null,null,null,2,null,null,null,null,null,null,null,null,null,null,null,null,null,null,{"$f":"IF(#REF!>J39,1,0)","v":{"$error":"#REF!"}}]
[null,null,null,null,null,null,null,"Home Energy Assessment (HEA)",{"$f":"INDEX('Rate Card '!$A$23:$X$30,MATCH($C$25,HouseTypeFP,0),MATCH(H40,MeasureLUFP,0)+1)","v":350},0,0,null,null,null,null,null,{"$error":"#N/A"},null,null,null,null,null,null,null,null,null,null,null,null,null,null,{"$f":"IF(#REF!>J40,1,0)","v":{"$error":"#REF!"}}]
[null,null,null,null,null,null,null,"Project Management ",{"$f":"INDEX('Rate Card '!$A$23:$X$30,MATCH($C$25,HouseTypeFP,0),MATCH(H41,MeasureLUFP,0)+1)","v":800},0,0,null,null,null,null,null,2,null,null,null,null,null,null,null,null,null,null,null,null,null,null,{"$f":"IF(#REF!>J41,1,0)","v":{"$error":"#REF!"}}]
[null,null,null,null,null,null,null,"Heating Controls",{"$f":"INDEX('Rate Card '!$A$23:$X$30,MATCH($C$25,HouseTypeFP,0),MATCH(H42,MeasureLUFP,0)+1)","v":700},0,0,null,null,null,null,null,2,null,null,null,null,null,null,null,null,null,null,null,null,null,null,{"$f":"IF(#REF!>J42,1,0)","v":{"$error":"#REF!"}}]
[null,null,null,null,null,null,null,"Total Cost",null,null,{"$f":"SUM(K25:K42)","v":0},null,null,null,null,null," "]
[null,null,null,null,null,null,null,null,null,null,null,null,null,null,null,null," "]
[3,"Electric Ireland","House - Detached  Housing Association -FP",0,"Dublin",null,{"$f":"IF(C45=\"House\",D45*$AC$7,D45*$AC$8)","v":0},"Roof - Rafter Level ",{"$f":"INDEX('Rate Card '!$A$23:$X$30,MATCH($C$45,HouseTypeFP,0),MATCH(H45,MeasureLUFP,0)+1)","v":3500},0,{"$f":"IFERROR(I45*(J45),0)","v":0},null,null,null,null,null,{"$f":"VLOOKUP(H45,$T$4:$Y$24,6,)","v":1},null,null,null,null,null,null,null,null,null,null,null,null,null,null,{"$f":"IF(#REF!>J45,1,0)","v":{"$error":"#REF!"}}]
[null,null," ",null,null,null,null,"Roof - Ceiling Level ",{"$f":"INDEX('Rate Card '!$A$23:$X$30,MATCH($C$45,HouseTypeFP,0),MATCH(H46,MeasureLUFP,0)+1)","v":1500},0,{"$f":"IFERROR(I46*(J46),0)","v":0},null,null,null,null,null,1,null,null,null,null,null,null,null,null,null,null,null,null,null,null,{"$f":"IF(#REF!>J46,1,0)","v":{"$error":"#REF!"}}]
[null,null,null,null,null,null,null,"Cavity ",{"$f":"INDEX('Rate Card '!$A$23:$X$30,MATCH($C$45,HouseTypeFP,0),MATCH(H47,MeasureLUFP,0)+1)","v":1700},0,0,null,null,null,null,null,1,null,null,null,null,null,null,null,null,null,null,null,null,null,null,{"$f":"IF(#REF!>J47,1,0)","v":{"$error":"#REF!"}}]
[null,null,null,null,null,null,null,"Internal Wall ",{"$f":"INDEX('Rate Card '!$A$23:$X$30,MATCH($C$45,HouseTypeFP,0),MATCH(H48,MeasureLUFP,0)+1)","v":5500},0,0,null,null,null,null,null,1,null,null,null,null,null,null,null,null,null,null,null,null,null,null,{"$f":"IF(#REF!>J48,1,0)","v":{"$error":"#REF!"}}]
[null,null,null,null,null,null,null,"External Wall",{"$f":"INDEX('Rate Card '!$A$23:$X$30,MATCH($C$45,HouseTypeFP,0),MATCH(H49,MeasureLUFP,0)+1)","v":10000},0,0,null,null,null,null,null,1,null,null,null,null,null,null,null,null,null,null,null,null,null,null,{"$f":"IF(#REF!>J49,1,0)","v":{"$error":"#REF!"}}]
[null,null,null,null,null,null,null,"Windows",{"$f":"INDEX('Rate Card '!$A$23:$X$30,MATCH($C$45,HouseTypeFP,0),MATCH(H50,MeasureLUFP,0)+1)","v":5000},0,0,null,null,null,null,null,1,null,null,null,null,null,null,null,null,null,null,null,null,null,null,{"$f":"IF(#REF!>J50,1,0)","v":{"$error":"#REF!"}}]
[null,null,null,null,null,null,null,"Doors* (for 2 Doors per property Select Door Measure Twice)",{"$f":"INDEX('Rate Card '!$A$23:$X$30,MATCH($C$45,HouseTypeFP,0),MATCH(H51,MeasureLUFP,0)+1)","v":1000},0,0,null,null,null,null,null,{"$error":"#N/A"},null,null,null,null,null,null,null,null,null,null,null,null,null,null,{"$f":"IF(#REF!>J51,1,0)","v":{"$error":"#REF!"}}]
[null,null,null,null,null,null,null,"Air Tightness",{"$f":"INDEX('Rate Card '!$A$23:$X$30,MATCH($C$45,HouseTypeFP,0),MATCH(H52,MeasureLUFP,0)+1)","v":1000},0,0,null,null,null,null,null,1,null,null,null,null,null,null,null,null,null,null,null,null,null,null,{"$f":"IF(#REF!>J52,1,0)","v":{"$error":"#REF!"}}]
[null,null,null,null,null,null,null,"Solar PV 1 kWp",{"$f":"INDEX('Rate Card '!$A$23:$X$30,MATCH($C$45,HouseTypeFP,0),MATCH(H53,MeasureLUFP,0)+1)","v":800},0,0,null,null,null,null,null,{"$error":"#N/A"},null,null,null,null,null,null,null,null,null,null,null,null,null,null,{"$f":"IF(#REF!>J53,1,0)","v":{"$error":"#REF!"}}]
[null,null,null,null,null,null,null,"Solar PV 4 kWp",{"$f":"INDEX('Rate Card '!$A$23:$X$30,MATCH($C$45,HouseTypeFP,0),MATCH(H54,MeasureLUFP,0)+1)","v":2100},0,0,null,null,null,null,null,{"$error":"#N/A"},null,null,null,null,null,null,null,null,null,null,null,null,null,null,{"$f":"IF(#REF!>J54,1,0)","v":{"$error":"#REF!"}}]
[null,null,null,null,null,null,null,"Heat Pump - Air/Water",{"$f":"INDEX('Rate Card '!$A$23:$X$30,MATCH($C$45,HouseTypeFP,0),MATCH(H55,MeasureLUFP,0)+1)","v":6500},0,0,null,null,null,null,null,2,null,null,null,null,null,null,null,null,null,null,null,null,null,null,{"$f":"IF(#REF!>J55,1,0)","v":{"$error":"#REF!"}}]
[null,null,null,null,null,null,null,"Heat Pump - Air/Air",{"$f":"INDEX('Rate Card '!$A$23:$X$30,MATCH($C$45,HouseTypeFP,0),MATCH(H56,MeasureLUFP,0)+1)","v":4000},0,0,null,null,null,null,null,2,null,null,null,null,null,null,null,null,null,null,null,null,null,null,{"$f":"IF(#REF!>J56,1,0)","v":{"$error":"#REF!"}}]
[null,null,null,null,null,null,null,"HP w/ CH System",{"$f":"INDEX('Rate Card '!$A$23:$X$30,MATCH($C$45,HouseTypeFP,0),MATCH(H57,MeasureLUFP,0)+1)","v":2000},0,0,null,null,null,null,null,{"$error":"#N/A"},null,null,null,null,null,null,null,null,null,null,null,null,null,null,{"$f":"IF(#REF!>J57,1,0)","v":{"$error":"#REF!"}}]
[null,null,null,null,null,null,null,"Bonus",{"$f":"INDEX('Rate Card '!$A$23:$X$30,MATCH($C$45,HouseTypeFP,0),MATCH(H58,MeasureLUFP,0)+1)","v":2000},0,0,null,null,null,null,null,{"$error":"#N/A"},null,null,null,null,null,null,null,null,null,null,null,null,null,null,{"$f":"IF(#REF!>J58,1,0)","v":{"$error":"#REF!"}}]
[null,null,null,null,null,null,null,"MVHR",{"$f":"INDEX('Rate Card '!$A$23:$X$30,MATCH($C$45,HouseTypeFP,0),MATCH(H59,MeasureLUFP,0)+1)","v":2000},0,0,null,null,null,null,null,2,null,null,null,null,null,null,null,null,null,null,null,null,null,null,{"$f":"IF(#REF!>J59,1,0)","v":{"$error":"#REF!"}}]
[null,null,null,null,null,null,null,"Home Energy Assessment (HEA)",{"$f":"INDEX('Rate Card '!$A$23:$X$30,MATCH($C$45,HouseTypeFP,0),MATCH(H60,MeasureLUFP,0)+1)","v":350},0,0,null,null,null,null,null,{"$error":"#N/A"},null,null,null,null,null,null,null,null,null,null,null,null,null,null,{"$f":"IF(#REF!>J60,1,0)","v":{"$error":"#REF!"}}]
[null,null,null,null,null,null,null,"Project Management ",{"$f":"INDEX('Rate Card '!$A$23:$X$30,MATCH($C$45,HouseTypeFP,0),MATCH(H61,MeasureLUFP,0)+1)","v":2000},0,0,null,null,null,null,null,2,null,null,null,null,null,null,null,null,null,null,null,null,null,null,{"$f":"IF(#REF!>J61,1,0)","v":{"$error":"#REF!"}}]
[null,null,null,null,null,null,null,"Heating Controls",{"$f":"INDEX('Rate Card '!$A$23:$X$30,MATCH($C$45,HouseTypeFP,0),MATCH(H62,MeasureLUFP,0)+1)","v":700},0,0,null,null,null,null,null,2,null,null,null,null,null,null,null,null,null,null,null,null,null,null,{"$f":"IF(#REF!>J62,1,0)","v":{"$error":"#REF!"}}]
[null,null,null,null,null,null,null,"Total Cost",null,null,{"$f":"SUM(K45:K62)","v":0},null,null,null,null,null," "]
[null,null,null,null,null,null,null,null,null,null,null,null,null,null,null,null," "]
[4,"Please Select","House - Mid  - Terrace Housing Association -FP",0,"Enter Site Address",null,{"$f":"IF(C65=\"House\",D65*$AC$7,D65*$AC$8)","v":0},"Roof - Rafter Level ",{"$f":"INDEX('Rate Card '!$A$23:$X$30,MATCH($C$65,HouseTypeFP,0),MATCH(H65,MeasureLUFP,0)+1)","v":3000},0,{"$f":"IFERROR(I65*(J65),0)","v":0},null,null,null,null,null,{"$f":"VLOOKUP(H65,$T$4:$Y$24,6,)","v":1},null,null,null,null,null,null,null,null,null,null,null,null,null,null,{"$f":"IF(#REF!>J65,1,0)","v":{"$error":"#REF!"}}]
[null,null," ",null,null,null,null,"Roof - Ceiling Level ",{"$f":"INDEX('Rate Card '!$A$23:$X$30,MATCH($C$65,HouseTypeFP,0),MATCH(H66,MeasureLUFP,0)+1)","v":1200},0,{"$f":"IFERROR(I66*(J66),0)","v":0},null,null,null,null,null,1,null,null,null,null,null,null,null,null,null,null,null,null,null,null,{"$f":"IF(#REF!>J66,1,0)","v":{"$error":"#REF!"}}]
[null,null,null,null,null,null,null,"Cavity ",{"$f":"INDEX('Rate Card '!$A$23:$X$30,MATCH($C$65,HouseTypeFP,0),MATCH(H67,MeasureLUFP,0)+1)","v":800},0,0,null,null,null,null,null,1,null,null,null,null,null,null,null,null,null,null,null,null,null,null,{"$f":"IF(#REF!>J67,1,0)","v":{"$error":"#REF!"}}]
[null,null,null,null,null,null,null,"Internal Wall ",{"$f":"INDEX('Rate Card '!$A$23:$X$30,MATCH($C$65,HouseTypeFP,0),MATCH(H68,MeasureLUFP,0)+1)","v":2500},0,0,null,null,null,null,null,1,null,null,null,null,null,null,null,null,null,null,null,null,null,null,{"$f":"IF(#REF!>J68,1,0)","v":{"$error":"#REF!"}}]
[null,null,null,null,null,null,null,"External Wall",{"$f":"INDEX('Rate Card '!$A$23:$X$30,MATCH($C$65,HouseTypeFP,0),MATCH(H69,MeasureLUFP,0)+1)","v":4500},0,0,null,null,null,null,null,1,null,null,null,null,null,null,null,null,null,null,null,null,null,null,{"$f":"IF(#REF!>J69,1,0)","v":{"$error":"#REF!"}}]
[null,null,null,null,null,null,null,"Windows",{"$f":"INDEX('Rate Card '!$A$23:$X$30,MATCH($C$65,HouseTypeFP,0),MATCH(H70,MeasureLUFP,0)+1)","v":2200},0,0,null,null,null,null,null,1,null,null,null,null,null,null,null,null,null,null,null,null,null,null,{"$f":"IF(#REF!>J70,1,0)","v":{"$error":"#REF!"}}]
[null,null,null,null,null,null,null,"Doors* (for 2 Doors per property Select Door Measure Twice)",{"$f":"INDEX('Rate Card '!$A$23:$X$30,MATCH($C$65,HouseTypeFP,0),MATCH(H71,MeasureLUFP,0)+1)","v":1000},0,0,null,null,null,null,null,{"$error":"#N/A"},null,null,null,null,null,null,null,null,null,null,null,null,null,null,{"$f":"IF(#REF!>J71,1,0)","v":{"$error":"#REF!"}}]
[null,null,null,null,null,null,null,"Air Tightness",{"$f":"INDEX('Rate Card '!$A$23:$X$30,MATCH($C$65,HouseTypeFP,0),MATCH(H72,MeasureLUFP,0)+1)","v":1000},0,0,null,null,null,null,null,1,null,null,null,null,null,null,null,null,null,null,null,null,null,null,{"$f":"IF(#REF!>J72,1,0)","v":{"$error":"#REF!"}}]
[null,null,null,null,null,null,null,"Solar PV 1 kWp",{"$f":"INDEX('Rate Card '!$A$23:$X$30,MATCH($C$65,HouseTypeFP,0),MATCH(H73,MeasureLUFP,0)+1)","v":800},0,0,null,null,null,null,null,{"$error":"#N/A"},null,null,null,null,null,null,null,null,null,null,null,null,null,null,{"$f":"IF(#REF!>J73,1,0)","v":{"$error":"#REF!"}}]
[null,null,null,null,null,null,null,"Solar PV 4 kWp",{"$f":"INDEX('Rate Card '!$A$23:$X$30,MATCH($C$65,HouseTypeFP,0),MATCH(H74,MeasureLUFP,0)+1)","v":2100},0,0,null,null,null,null,null,{"$error":"#N/A"},null,null,null,null,null,null,null,null,null,null,null,null,null,null,{"$f":"IF(#REF!>J74,1,0)","v":{"$error":"#REF!"}}]
[null,null,null,null,null,null,null,"Solar HW",{"$f":"INDEX('Rate Card '!$A$23:$X$30,MATCH($C$65,HouseTypeFP,0),MATCH(H75,MeasureLUFP,0)+1)","v":1200},0,0,null,null,null,null,null,2,null,null,null,null,null,null,null,null,null,null,null,null,null,null,{"$f":"IF(#REF!>J75,1,0)","v":{"$error":"#REF!"}}]
[null,null,null,null,null,null,null,"Heat Pump - Air/Air",{"$f":"INDEX('Rate Card '!$A$23:$X$30,MATCH($C$65,HouseTypeFP,0),MATCH(H76,MeasureLUFP,0)+1)","v":4000},0,0,null,null,null,null,null,2,null,null,null,null,null,null,null,null,null,null,null,null,null,null,{"$f":"IF(#REF!>J76,1,0)","v":{"$error":"#REF!"}}]
[null,null,null,null,null,null,null,"HP w/ CH System",{"$f":"INDEX('Rate Card '!$A$23:$X$30,MATCH($C$65,HouseTypeFP,0),MATCH(H77,MeasureLUFP,0)+1)","v":2000},0,0,null,null,null,null,null,{"$error":"#N/A"},null,null,null,null,null,null,null,null,null,null,null,null,null,null,{"$f":"IF(#REF!>J77,1,0)","v":{"$error":"#REF!"}}]
[null,null,null,null,null,null,null,"Bonus",{"$f":"INDEX('Rate Card '!$A$23:$X$30,MATCH($C$65,HouseTypeFP,0),MATCH(H78,MeasureLUFP,0)+1)","v":2000},0,0,null,null,null,null,null,{"$error":"#N/A"},null,null,null,null,null,null,null,null,null,null,null,null,null,null,{"$f":"IF(#REF!>J78,1,0)","v":{"$error":"#REF!"}}]
[null,null,null,null,null,null,null,"MVHR",{"$f":"INDEX('Rate Card '!$A$23:$X$30,MATCH($C$65,HouseTypeFP,0),MATCH(H79,MeasureLUFP,0)+1)","v":2000},0,0,null,null,null,null,null,2,null,null,null,null,null,null,null,null,null,null,null,null,null,null,{"$f":"IF(#REF!>J79,1,0)","v":{"$error":"#REF!"}}]
[null,null,null,null,null,null,null,"Home Energy Assessment (HEA)",{"$f":"INDEX('Rate Card '!$A$23:$X$30,MATCH($C$65,HouseTypeFP,0),MATCH(H80,MeasureLUFP,0)+1)","v":350},0,0,null,null,null,null,null,{"$error":"#N/A"},null,null,null,null,null,null,null,null,null,null,null,null,null,null,{"$f":"IF(#REF!>J80,1,0)","v":{"$error":"#REF!"}}]
[null,null,null,null,null,null,null,"Project Management ",{"$f":"INDEX('Rate Card '!$A$23:$X$30,MATCH($C$65,HouseTypeFP,0),MATCH(H81,MeasureLUFP,0)+1)","v":1200},0,0,null,null,null,null,null,2,null,null,null,null,null,null,null,null,null,null,null,null,null,null,{"$f":"IF(#REF!>J81,1,0)","v":{"$error":"#REF!"}}]
[null,null,null,null,null,null,null,"Heating Controls",{"$f":"INDEX('Rate Card '!$A$23:$X$30,MATCH($C$65,HouseTypeFP,0),MATCH(H82,MeasureLUFP,0)+1)","v":700},0,0,null,null,null,null,null,2,null,null,null,null,null,null,null,null,null,null,null,null,null,null,{"$f":"IF(#REF!>J82,1,0)","v":{"$error":"#REF!"}}]
[null,null,null,null,null,null,null,"Total Cost",null,null,{"$f":"SUM(K65:K82)","v":0},null,null,null,null,null," "]
[null,null,null,null,null,null,null,null,null,null,null,null,null,null,null,null," "]
[5,"Please Select","Apartment Private - FP",0,"Enter Site Address",null,{"$f":"IF(C85=\"House\",D85*$AC$7,D85*$AC$8)","v":0},"Roof - Rafter Level ",{"$f":"INDEX('Rate Card '!$A$23:$X$30,MATCH($C$85,HouseTypeFP,0),MATCH(H85,MeasureLUFP,0)+1)","v":2000},0,{"$f":"IFERROR(I85*(J85),0)","v":0},null,null,null,null,null,{"$f":"VLOOKUP(H85,$T$4:$Y$24,6,)","v":1},null,null,null,null,null,null,null,null,null,null,null,null,null,null,{"$f":"IF(#REF!>J85,1,0)","v":{"$error":"#REF!"}}]
[null,null," ",null,null,null,null,"Roof - Ceiling Level ",{"$f":"INDEX('Rate Card '!$A$23:$X$30,MATCH($C$85,HouseTypeFP,0),MATCH(H86,MeasureLUFP,0)+1)","v":800},0,{"$f":"IFERROR(I86*(J86),0)","v":0},null,null,null,null,null,1,null,null,null,null,null,null,null,null,null,null,null,null,null,null,{"$f":"IF(#REF!>J86,1,0)","v":{"$error":"#REF!"}}]
[null,null,null,null,null,null,null,"Cavity ",{"$f":"INDEX('Rate Card '!$A$23:$X$30,MATCH($C$85,HouseTypeFP,0),MATCH(H87,MeasureLUFP,0)+1)","v":700},0,0,null,null,null,null,null,1,null,null,null,null,null,null,null,null,null,null,null,null,null,null,{"$f":"IF(#REF!>J87,1,0)","v":{"$error":"#REF!"}}]
[null,null,null,null,null,null,null,"Internal Wall ",{"$f":"INDEX('Rate Card '!$A$23:$X$30,MATCH($C$85,HouseTypeFP,0),MATCH(H88,MeasureLUFP,0)+1)","v":3000},0,0,null,null,null,null,null,1,null,null,null,null,null,null,null,null,null,null,null,null,null,null,{"$f":"IF(#REF!>J88,1,0)","v":{"$error":"#REF!"}}]
[null,null,null,null,null,null,null,"External Wall",{"$f":"INDEX('Rate Card '!$A$23:$X$30,MATCH($C$85,HouseTypeFP,0),MATCH(H89,MeasureLUFP,0)+1)","v":4500},0,0,null,null,null,null,null,1,null,null,null,null,null,null,null,null,null,null,null,null,null,null,{"$f":"IF(#REF!>J89,1,0)","v":{"$error":"#REF!"}}]
[null,null,null,null,null,null,null,"Windows",{"$f":"INDEX('Rate Card '!$A$23:$X$30,MATCH($C$85,HouseTypeFP,0),MATCH(H90,MeasureLUFP,0)+1)","v":1900},0,0,null,null,null,null,null,1,null,null,null,null,null,null,null,null,null,null,null,null,null,null,{"$f":"IF(#REF!>J90,1,0)","v":{"$error":"#REF!"}}]
[null,null,null,null,null,null,null,"Doors* (for 2 Doors per property Select Door Measure Twice)",{"$f":"INDEX('Rate Card '!$A$23:$X$30,MATCH($C$85,HouseTypeFP,0),MATCH(H91,MeasureLUFP,0)+1)","v":1000},0,0,null,null,null,null,null,{"$error":"#N/A"},null,null,null,null,null,null,null,null,null,null,null,null,null,null,{"$f":"IF(#REF!>J91,1,0)","v":{"$error":"#REF!"}}]
[null,null,null,null,null,null,null,"Air Tightness",{"$f":"INDEX('Rate Card '!$A$23:$X$30,MATCH($C$85,HouseTypeFP,0),MATCH(H92,MeasureLUFP,0)+1)","v":1000},0,0,null,null,null,null,null,1,null,null,null,null,null,null,null,null,null,null,null,null,null,null,{"$f":"IF(#REF!>J92,1,0)","v":{"$error":"#REF!"}}]
[null,null,null,null,null,null,null,"Solar PV 1 kWp",{"$f":"INDEX('Rate Card '!$A$23:$X$30,MATCH($C$85,HouseTypeFP,0),MATCH(H93,MeasureLUFP,0)+1)","v":800},0,0,null,null,null,null,null,{"$error":"#N/A"},null,null,null,null,null,null,null,null,null,null,null,null,null,null,{"$f":"IF(#REF!>J93,1,0)","v":{"$error":"#REF!"}}]
[null,null,null,null,null,null,null,"Solar PV 4 kWp",{"$f":"INDEX('Rate Card '!$A$23:$X$30,MATCH($C$85,HouseTypeFP,0),MATCH(H94,MeasureLUFP,0)+1)","v":2100},0,0,null,null,null,null,null,{"$error":"#N/A"},null,null,null,null,null,null,null,null,null,null,null,null,null,null,{"$f":"IF(#REF!>J94,1,0)","v":{"$error":"#REF!"}}]
[null,null,null,null,null,null,null,"Heat Pump - Air/Water",{"$f":"INDEX('Rate Card '!$A$23:$X$30,MATCH($C$85,HouseTypeFP,0),MATCH(H95,MeasureLUFP,0)+1)","v":5500},0,0,null,null,null,null,null,2,null,null,null,null,null,null,null,null,null,null,null,null,null,null,{"$f":"IF(#REF!>J95,1,0)","v":{"$error":"#REF!"}}]
[null,null,null,null,null,null,null,"Heat Pump - Air/Air",{"$f":"INDEX('Rate Card '!$A$23:$X$30,MATCH($C$85,HouseTypeFP,0),MATCH(H96,MeasureLUFP,0)+1)","v":4000},0,0,null,null,null,null,null,2,null,null,null,null,null,null,null,null,null,null,null,null,null,null,{"$f":"IF(#REF!>J96,1,0)","v":{"$error":"#REF!"}}]
[null,null,null,null,null,null,null,"HP w/ CH System",{"$f":"INDEX('Rate Card '!$A$23:$X$30,MATCH($C$85,HouseTypeFP,0),MATCH(H97,MeasureLUFP,0)+1)","v":1000},0,0,null,null,null,null,null,{"$error":"#N/A"},null,null,null,null,null,null,null,null,null,null,null,null,null,null,{"$f":"IF(#REF!>J97,1,0)","v":{"$error":"#REF!"}}]
[null,null,null,null,null,null,null,"Bonus",{"$f":"INDEX('Rate Card '!$A$23:$X$30,MATCH($C$85,HouseTypeFP,0),MATCH(H98,MeasureLUFP,0)+1)","v":2000},0,0,null,null,null,null,null,{"$error":"#N/A"},null,null,null,null,null,null,null,null,null,null,null,null,null,null,{"$f":"IF(#REF!>J98,1,0)","v":{"$error":"#REF!"}}]
[null,null,null,null,null,null,null,"MVHR",{"$f":"INDEX('Rate Card '!$A$23:$X$30,MATCH($C$85,HouseTypeFP,0),MATCH(H99,MeasureLUFP,0)+1)","v":2000},0,0,null,null,null,null,null,2,null,null,null,null,null,null,null,null,null,null,null,null,null,null,{"$f":"IF(#REF!>J99,1,0)","v":{"$error":"#REF!"}}]
[null,null,null,null,null,null,null,"Home Energy Assessment (HEA)",{"$f":"INDEX('Rate Card '!$A$23:$X$30,MATCH($C$85,HouseTypeFP,0),MATCH(H100,MeasureLUFP,0)+1)","v":350},0,0,null,null,null,null,null,{"$error":"#N/A"},null,null,null,null,null,null,null,null,null,null,null,null,null,null,{"$f":"IF(#REF!>J100,1,0)","v":{"$error":"#REF!"}}]
[null,null,null,null,null,null,null,"Project Management ",{"$f":"INDEX('Rate Card '!$A$23:$X$30,MATCH($C$85,HouseTypeFP,0),MATCH(H101,MeasureLUFP,0)+1)","v":800},0,0,null,null,null,null,null,2,null,null,null,null,null,null,null,null,null,null,null,null,null,null,{"$f":"IF(#REF!>J101,1,0)","v":{"$error":"#REF!"}}]
[null,null,null,null,null,null,null,"Heating Controls",{"$f":"INDEX('Rate Card '!$A$23:$X$30,MATCH($C$85,HouseTypeFP,0),MATCH(H102,MeasureLUFP,0)+1)","v":700},0,0,null,null,null,null,null,2,null,null,null,null,null,null,null,null,null,null,null,null,null,null,{"$f":"IF(#REF!>J102,1,0)","v":{"$error":"#REF!"}}]
[null,null,null,null,null,null,null,"Total Cost",null,null,{"$f":"SUM(K85:K102)","v":0},null,null,null,null,null," "]
[null,null,null,null,null,null,null,null,null,null,null,null,null,null,null,null," "]
[6,"Please Select","House - Mid  - Terrace Private - FP",0,"Enter Site Address",null,{"$f":"IF(C105=\"House\",D105*$AC$7,D105*$AC$8)","v":0},"Roof - Rafter Level ",{"$f":"INDEX('Rate Card '!$A$23:$X$30,MATCH($C$105,HouseTypeFP,0),MATCH(H105,MeasureLUFP,0)+1)","v":3000},0,{"$f":"IFERROR(I105*(J105),0)","v":0},null,null,null,null,null,{"$f":"VLOOKUP(H105,$T$4:$Y$24,6,)","v":1},null,null,null,null,null,null,null,null,null,null,null,null,null,null,{"$f":"IF(#REF!>J105,1,0)","v":{"$error":"#REF!"}}]
[null,null," ",null,null,null,null,"Roof - Rafter Level ",{"$f":"INDEX('Rate Card '!$A$23:$X$30,MATCH($C$105,HouseTypeFP,0),MATCH(H106,MeasureLUFP,0)+1)","v":3000},0,{"$f":"IFERROR(I106*(J106),0)","v":0},null,null,null,null,null,1,null,null,null,null,null,null,null,null,null,null,null,null,null,null,{"$f":"IF(#REF!>J106,1,0)","v":{"$error":"#REF!"}}]
[null,null,null,null,null,null,null,"Cavity ",{"$f":"INDEX('Rate Card '!$A$23:$X$30,MATCH($C$105,HouseTypeFP,0),MATCH(H107,MeasureLUFP,0)+1)","v":800},0,0,null,null,null,null,null,1,null,null,null,null,null,null,null,null,null,null,null,null,null,null,{"$f":"IF(#REF!>J107,1,0)","v":{"$error":"#REF!"}}]
[null,null,null,null,null,null,null,"Internal Wall ",{"$f":"INDEX('Rate Card '!$A$23:$X$30,MATCH($C$105,HouseTypeFP,0),MATCH(H108,MeasureLUFP,0)+1)","v":4500},0,0,null,null,null,null,null,1,null,null,null,null,null,null,null,null,null,null,null,null,null,null,{"$f":"IF(#REF!>J108,1,0)","v":{"$error":"#REF!"}}]
[null,null,null,null,null,null,null,"External Wall",{"$f":"INDEX('Rate Card '!$A$23:$X$30,MATCH($C$105,HouseTypeFP,0),MATCH(H109,MeasureLUFP,0)+1)","v":6500},0,0,null,null,null,null,null,1,null,null,null,null,null,null,null,null,null,null,null,null,null,null,{"$f":"IF(#REF!>J109,1,0)","v":{"$error":"#REF!"}}]
[null,null,null,null,null,null,null,"Windows",{"$f":"INDEX('Rate Card '!$A$23:$X$30,MATCH($C$105,HouseTypeFP,0),MATCH(H110,MeasureLUFP,0)+1)","v":2200},0,0,null,null,null,null,null,1,null,null,null,null,null,null,null,null,null,null,null,null,null,null,{"$f":"IF(#REF!>J110,1,0)","v":{"$error":"#REF!"}}]
[null,null,null,null,null,null,null,"Doors* (for 2 Doors per property Select Door Measure Twice)",{"$f":"INDEX('Rate Card '!$A$23:$X$30,MATCH($C$105,HouseTypeFP,0),MATCH(H111,MeasureLUFP,0)+1)","v":1000},0,0,null,null,null,null,null,{"$error":"#N/A"},null,null,null,null,null,null,null,null,null,null,null,null,null,null,{"$f":"IF(#REF!>J111,1,0)","v":{"$error":"#REF!"}}]
[null,null,null,null,null,null,null,"Air Tightness",{"$f":"INDEX('Rate Card '!$A$23:$X$30,MATCH($C$105,HouseTypeFP,0),MATCH(H112,MeasureLUFP,0)+1)","v":1000},0,0,null,null,null,null,null,1,null,null,null,null,null,null,null,null,null,null,null,null,null,null,{"$f":"IF(#REF!>J112,1,0)","v":{"$error":"#REF!"}}]
[null,null,null,null,null,null,null,"Solar PV 1 kWp",{"$f":"INDEX('Rate Card '!$A$23:$X$30,MATCH($C$105,HouseTypeFP,0),MATCH(H113,MeasureLUFP,0)+1)","v":800},0,0,null,null,null,null,null,{"$error":"#N/A"},null,null,null,null,null,null,null,null,null,null,null,null,null,null,{"$f":"IF(#REF!>J113,1,0)","v":{"$error":"#REF!"}}]
[null,null,null,null,null,null,null,"Solar PV 4 kWp",{"$f":"INDEX('Rate Card '!$A$23:$X$30,MATCH($C$105,HouseTypeFP,0),MATCH(H114,MeasureLUFP,0)+1)","v":2100},0,0,null,null,null,null,null,{"$error":"#N/A"},null,null,null,null,null,null,null,null,null,null,null,null,null,null,{"$f":"IF(#REF!>J114,1,0)","v":{"$error":"#REF!"}}]
[null,null,null,null,null,null,null,"Heat Pump - Air/Water",{"$f":"INDEX('Rate Card '!$A$23:$X$30,MATCH($C$105,HouseTypeFP,0),MATCH(H115,MeasureLUFP,0)+1)","v":6500},0,0,null,null,null,null,null,2,null,null,null,null,null,null,null,null,null,null,null,null,null,null,{"$f":"IF(#REF!>J115,1,0)","v":{"$error":"#REF!"}}]
[null,null,null,null,null,null,null,"Heat Pump - Air/Air",{"$f":"INDEX('Rate Card '!$A$23:$X$30,MATCH($C$105,HouseTypeFP,0),MATCH(H116,MeasureLUFP,0)+1)","v":4000},0,0,null,null,null,null,null,2,null,null,null,null,null,null,null,null,null,null,null,null,null,null,{"$f":"IF(#REF!>J116,1,0)","v":{"$error":"#REF!"}}]
[null,null,null,null,null,null,null,"HP w/ CH System",{"$f":"INDEX('Rate Card '!$A$23:$X$30,MATCH($C$105,HouseTypeFP,0),MATCH(H117,MeasureLUFP,0)+1)","v":2000},0,0,null,null,null,null,null,{"$error":"#N/A"},null,null,null,null,null,null,null,null,null,null,null,null,null,null,{"$f":"IF(#REF!>J117,1,0)","v":{"$error":"#REF!"}}]
[null,null,null,null,null,null,null,"Bonus",{"$f":"INDEX('Rate Card '!$A$23:$X$30,MATCH($C$105,HouseTypeFP,0),MATCH(H118,MeasureLUFP,0)+1)","v":2000},0,0,null,null,null,null,null,{"$error":"#N/A"},null,null,null,null,null,null,null,null,null,null,null,null,null,null,{"$f":"IF(#REF!>J118,1,0)","v":{"$error":"#REF!"}}]
[null,null,null,null,null,null,null,"MVHR",{"$f":"INDEX('Rate Card '!$A$23:$X$30,MATCH($C$105,HouseTypeFP,0),MATCH(H119,MeasureLUFP,0)+1)","v":2000},0,0,null,null,null,null,null,2,null,null,null,null,null,null,null,null,null,null,null,null,null,null,{"$f":"IF(#REF!>J119,1,0)","v":{"$error":"#REF!"}}]
[null,null,null,null,null,null,null,"Home Energy Assessment (HEA)",{"$f":"INDEX('Rate Card '!$A$23:$X$30,MATCH($C$105,HouseTypeFP,0),MATCH(H120,MeasureLUFP,0)+1)","v":350},0,0,null,null,null,null,null,{"$error":"#N/A"},null,null,null,null,null,null,null,null,null,null,null,null,null,null,{"$f":"IF(#REF!>J120,1,0)","v":{"$error":"#REF!"}}]
[null,null,null,null,null,null,null,"Project Management ",{"$f":"INDEX('Rate Card '!$A$23:$X$30,MATCH($C$105,HouseTypeFP,0),MATCH(H121,MeasureLUFP,0)+1)","v":1200},0,0,null,null,null,null,null,2,null,null,null,null,null,null,null,null,null,null,null,null,null,null,{"$f":"IF(#REF!>J121,1,0)","v":{"$error":"#REF!"}}]
[null,null,null,null,null,null,null,"Heating Controls",{"$f":"INDEX('Rate Card '!$A$23:$X$30,MATCH($C$105,HouseTypeFP,0),MATCH(H122,MeasureLUFP,0)+1)","v":700},0,0,null,null,null,null,null,2,null,null,null,null,null,null,null,null,null,null,null,null,null,null,{"$f":"IF(#REF!>J122,1,0)","v":{"$error":"#REF!"}}]
[null,null,null,null,null,null,null,"Total Cost",null,null,{"$f":"SUM(K105:K122)","v":0},null,null,null,null,null," "]
[null,null,null,null,null,null,null,null,null,null,null,null,null,null,null,null," "]
[7,"Please Select","Apartment Private - FP",0,"Enter Site Address",null,{"$f":"IF(C125=\"House\",D125*$AC$7,D125*$AC$8)","v":0},"Roof - Rafter Level ",{"$f":"INDEX('Rate Card '!$A$23:$X$30,MATCH($C$125,HouseTypeFP,0),MATCH(H125,MeasureLUFP,0)+1)","v":2000},0,{"$f":"IFERROR(I125*(J125),0)","v":0},null,null,null,null,null,{"$f":"VLOOKUP(H125,$T$4:$Y$24,6,)","v":1},null,null,null,null,null,null,null,null,null,null,null,null,null,null,{"$f":"IF(#REF!>J125,1,0)","v":{"$error":"#REF!"}}]
[null,null," ",null,null,null,null,"Roof - Ceiling Level ",{"$f":"INDEX('Rate Card '!$A$23:$X$30,MATCH($C$125,HouseTypeFP,0),MATCH(H126,MeasureLUFP,0)+1)","v":800},0,{"$f":"IFERROR(I126*(J126),0)","v":0},null,null,null,null,null,1,null,null,null,null,null,null,null,null,null,null,null,null,null,null,{"$f":"IF(#REF!>J126,1,0)","v":{"$error":"#REF!"}}]
[null,null,null,null,null,null,null,"Cavity ",{"$f":"INDEX('Rate Card '!$A$23:$X$30,MATCH($C$125,HouseTypeFP,0),MATCH(H127,MeasureLUFP,0)+1)","v":700},0,0,null,null,null,null,null,1,null,null,null,null,null,null,null,null,null,null,null,null,null,null,{"$f":"IF(#REF!>J127,1,0)","v":{"$error":"#REF!"}}]
[null,null,null,null,null,null,null,"Internal Wall ",{"$f":"INDEX('Rate Card '!$A$23:$X$30,MATCH($C$125,HouseTypeFP,0),MATCH(H128,MeasureLUFP,0)+1)","v":3000},0,0,null,null,null,null,null,1,null,null,null,null,null,null,null,null,null,null,null,null,null,null,{"$f":"IF(#REF!>J128,1,0)","v":{"$error":"#REF!"}}]
[null,null,null,null,null,null,null,"External Wall",{"$f":"INDEX('Rate Card '!$A$23:$X$30,MATCH($C$125,HouseTypeFP,0),MATCH(H129,MeasureLUFP,0)+1)","v":4500},0,0,null,null,null,null,null,1,null,null,null,null,null,null,null,null,null,null,null,null,null,null,{"$f":"IF(#REF!>J129,1,0)","v":{"$error":"#REF!"}}]
[null,null,null,null,null,null,null,"Windows",{"$f":"INDEX('Rate Card '!$A$23:$X$30,MATCH($C$125,HouseTypeFP,0),MATCH(H130,MeasureLUFP,0)+1)","v":1900},0,0,null,null,null,null,null,1,null,null,null,null,null,null,null,null,null,null,null,null,null,null,{"$f":"IF(#REF!>J130,1,0)","v":{"$error":"#REF!"}}]
[null,null,null,null,null,null,null,"Doors* (for 2 Doors per property Select Door Measure Twice)",{"$f":"INDEX('Rate Card '!$A$23:$X$30,MATCH($C$125,HouseTypeFP,0),MATCH(H131,MeasureLUFP,0)+1)","v":1000},0,0,null,null,null,null,null,{"$error":"#N/A"},null,null,null,null,null,null,null,null,null,null,null,null,null,null,{"$f":"IF(#REF!>J131,1,0)","v":{"$error":"#REF!"}}]
[null,null,null,null,null,null,null,"Air Tightness",{"$f":"INDEX('Rate Card '!$A$23:$X$30,MATCH($C$125,HouseTypeFP,0),MATCH(H132,MeasureLUFP,0)+1)","v":1000},0,0,null,null,null,null,null,1,null,null,null,null,null,null,null,null,null,null,null,null,null,null,{"$f":"IF(#REF!>J132,1,0)","v":{"$error":"#REF!"}}]
[null,null,null,null,null,null,null,"Solar PV 1 kWp",{"$f":"INDEX('Rate Card '!$A$23:$X$30,MATCH($C$125,HouseTypeFP,0),MATCH(H133,MeasureLUFP,0)+1)","v":800},0,0,null,null,null,null,null,{"$error":"#N/A"},null,null,null,null,null,null,null,null,null,null,null,null,null,null,{"$f":"IF(#REF!>J133,1,0)","v":{"$error":"#REF!"}}]
[null,null,null,null,null,null,null,"Solar PV 4 kWp",{"$f":"INDEX('Rate Card '!$A$23:$X$30,MATCH($C$125,HouseTypeFP,0),MATCH(H134,MeasureLUFP,0)+1)","v":2100},0,0,null,null,null,null,null,{"$error":"#N/A"},null,null,null,null,null,null,null,null,null,null,null,null,null,null,{"$f":"IF(#REF!>J134,1,0)","v":{"$error":"#REF!"}}]
[null,null,null,null,null,null,null,"Heat Pump - Air/Water",{"$f":"INDEX('Rate Card '!$A$23:$X$30,MATCH($C$125,HouseTypeFP,0),MATCH(H135,MeasureLUFP,0)+1)","v":5500},0,0,null,null,null,null,null,2,null,null,null,null,null,null,null,null,null,null,null,null,null,null,{"$f":"IF(#REF!>J135,1,0)","v":{"$error":"#REF!"}}]
[null,null,null,null,null,null,null,"Heat Pump - Air/Air",{"$f":"INDEX('Rate Card '!$A$23:$X$30,MATCH($C$125,HouseTypeFP,0),MATCH(H136,MeasureLUFP,0)+1)","v":4000},0,0,null,null,null,null,null,2,null,null,null,null,null,null,null,null,null,null,null,null,null,null,{"$f":"IF(#REF!>J136,1,0)","v":{"$error":"#REF!"}}]
[null,null,null,null,null,null,null,"HP w/ CH System",{"$f":"INDEX('Rate Card '!$A$23:$X$30,MATCH($C$125,HouseTypeFP,0),MATCH(H137,MeasureLUFP,0)+1)","v":1000},0,0,null,null,null,null,null,{"$error":"#N/A"},null,null,null,null,null,null,null,null,null,null,null,null,null,null,{"$f":"IF(#REF!>J137,1,0)","v":{"$error":"#REF!"}}]
[null,null,null,null,null,null,null,"Bonus",{"$f":"INDEX('Rate Card '!$A$23:$X$30,MATCH($C$125,HouseTypeFP,0),MATCH(H138,MeasureLUFP,0)+1)","v":2000},0,0,null,null,null,null,null,{"$error":"#N/A"},null,null,null,null,null,null,null,null,null,null,null,null,null,null,{"$f":"IF(#REF!>J138,1,0)","v":{"$error":"#REF!"}}]
[null,null,null,null,null,null,null,"MVHR",{"$f":"INDEX('Rate Card '!$A$23:$X$30,MATCH($C$125,HouseTypeFP,0),MATCH(H139,MeasureLUFP,0)+1)","v":2000},0,0,null,null,null,null,null,2,null,null,null,null,null,null,null,null,null,null,null,null,null,null,{"$f":"IF(#REF!>J139,1,0)","v":{"$error":"#REF!"}}]
[null,null,null,null,null,null,null,"Home Energy Assessment (HEA)",{"$f":"INDEX('Rate Card '!$A$23:$X$30,MATCH($C$125,HouseTypeFP,0),MATCH(H140,MeasureLUFP,0)+1)","v":350},0,0,null,null,null,null,null,{"$error":"#N/A"},null,null,null,null,null,null,null,null,null,null,null,null,null,null,{"$f":"IF(#REF!>J140,1,0)","v":{"$error":"#REF!"}}]
[null,null,null,null,null,null,null,"Project Management ",{"$f":"INDEX('Rate Card '!$A$23:$X$30,MATCH($C$125,HouseTypeFP,0),MATCH(H141,MeasureLUFP,0)+1)","v":800},0,0,null,null,null,null,null,2,null,null,null,null,null,null,null,null,null,null,null,null,null,null,{"$f":"IF(#REF!>J141,1,0)","v":{"$error":"#REF!"}}]
[null,null,null,null,null,null,null,"Heating Controls",{"$f":"INDEX('Rate Card '!$A$23:$X$30,MATCH($C$125,HouseTypeFP,0),MATCH(H142,MeasureLUFP,0)+1)","v":700},0,0,null,null,null,null,null,2,null,null,null,null,null,null,null,null,null,null,null,null,null,null,{"$f":"IF(#REF!>J142,1,0)","v":{"$error":"#REF!"}}]
[null,null,null,null,null,null,null,"Total Cost",null,null,{"$f":"SUM(K125:K142)","v":0}]
[]
[8,"Please Select","House - Mid  - Terrace Private - FP",0,"Enter Site Address",null,{"$f":"IF(C145=\"House\",D145*$AC$7,D145*$AC$8)","v":0},"Roof - Rafter Level ",{"$f":"INDEX('Rate Card '!$A$23:$X$30,MATCH($C$145,HouseTypeFP,0),MATCH(H145,MeasureLUFP,0)+1)","v":3000},0,{"$f":"IFERROR(I145*(J145),0)","v":0},null,null,null,null,null,{"$f":"VLOOKUP(H145,$T$4:$Y$24,6,)","v":1},null,null,null,null,null,null,null,null,null,null,null,null,null,null,{"$f":"IF(#REF!>J145,1,0)","v":{"$error":"#REF!"}}]
[null,null," ",null,null,null,null,"Roof - Rafter Level ",{"$f":"INDEX('Rate Card '!$A$23:$X$30,MATCH($C$145,HouseTypeFP,0),MATCH(H146,MeasureLUFP,0)+1)","v":3000},0,{"$f":"IFERROR(I146*(J146),0)","v":0},null,null,null,null,null,1,null,null,null,null,null,null,null,null,null,null,null,null,null,null,{"$f":"IF(#REF!>J146,1,0)","v":{"$error":"#REF!"}}]
[null,null,null,null,null,null,null,"Cavity ",{"$f":"INDEX('Rate Card '!$A$23:$X$30,MATCH($C$145,HouseTypeFP,0),MATCH(H147,MeasureLUFP,0)+1)","v":800},0,0,null,null,null,null,null,1,null,null,null,null,null,null,null,null,null,null,null,null,null,null,{"$f":"IF(#REF!>J147,1,0)","v":{"$error":"#REF!"}}]
[null,null,null,null,null,null,null,"Internal Wall ",{"$f":"INDEX('Rate Card '!$A$23:$X$30,MATCH($C$145,HouseTypeFP,0),MATCH(H148,MeasureLUFP,0)+1)","v":4500},0,0,null,null,null,null,null,1,null,null,null,null,null,null,null,null,null,null,null,null,null,null,{"$f":"IF(#REF!>J148,1,0)","v":{"$error":"#REF!"}}]
[null,null,null,null,null,null,null,"External Wall",{"$f":"INDEX('Rate Card '!$A$23:$X$30,MATCH($C$145,HouseTypeFP,0),MATCH(H149,MeasureLUFP,0)+1)","v":6500},0,0,null,null,null,null,null,1,null,null,null,null,null,null,null,null,null,null,null,null,null,null,{"$f":"IF(#REF!>J149,1,0)","v":{"$error":"#REF!"}}]
[null,null,null,null,null,null,null,"Windows",{"$f":"INDEX('Rate Card '!$A$23:$X$30,MATCH($C$145,HouseTypeFP,0),MATCH(H150,MeasureLUFP,0)+1)","v":2200},0,0,null,null,null,null,null,1,null,null,null,null,null,null,null,null,null,null,null,null,null,null,{"$f":"IF(#REF!>J150,1,0)","v":{"$error":"#REF!"}}]
[null,null,null,null,null,null,null,"Doors* (for 2 Doors per property Select Door Measure Twice)",{"$f":"INDEX('Rate Card '!$A$23:$X$30,MATCH($C$145,HouseTypeFP,0),MATCH(H151,MeasureLUFP,0)+1)","v":1000},0,0,null,null,null,null,null,{"$error":"#N/A"},null,null,null,null,null,null,null,null,null,null,null,null,null,null,{"$f":"IF(#REF!>J151,1,0)","v":{"$error":"#REF!"}}]
[null,null,null,null,null,null,null,"Air Tightness",{"$f":"INDEX('Rate Card '!$A$23:$X$30,MATCH($C$145,HouseTypeFP,0),MATCH(H152,MeasureLUFP,0)+1)","v":1000},0,0,null,null,null,null,null,1,null,null,null,null,null,null,null,null,null,null,null,null,null,null,{"$f":"IF(#REF!>J152,1,0)","v":{"$error":"#REF!"}}]
[null,null,null,null,null,null,null,"Solar PV 1 kWp",{"$f":"INDEX('Rate Card '!$A$23:$X$30,MATCH($C$145,HouseTypeFP,0),MATCH(H153,MeasureLUFP,0)+1)","v":800},0,0,null,null,null,null,null,{"$error":"#N/A"},null,null,null,null,null,null,null,null,null,null,null,null,null,null,{"$f":"IF(#REF!>J153,1,0)","v":{"$error":"#REF!"}}]
[null,null,null,null,null,null,null,"Solar PV 4 kWp",{"$f":"INDEX('Rate Card '!$A$23:$X$30,MATCH($C$145,HouseTypeFP,0),MATCH(H154,MeasureLUFP,0)+1)","v":2100},0,0,null,null,null,null,null,{"$error":"#N/A"},null,null,null,null,null,null,null,null,null,null,null,null,null,null,{"$f":"IF(#REF!>J154,1,0)","v":{"$error":"#REF!"}}]
[null,null,null,null,null,null,null,"Heat Pump - Air/Water",{"$f":"INDEX('Rate Card '!$A$23:$X$30,MATCH($C$145,HouseTypeFP,0),MATCH(H155,MeasureLUFP,0)+1)","v":6500},0,0,null,null,null,null,null,2,null,null,null,null,null,null,null,null,null,null,null,null,null,null,{"$f":"IF(#REF!>J155,1,0)","v":{"$error":"#REF!"}}]
[null,null,null,null,null,null,null,"Heat Pump - Air/Air",{"$f":"INDEX('Rate Card '!$A$23:$X$30,MATCH($C$145,HouseTypeFP,0),MATCH(H156,MeasureLUFP,0)+1)","v":4000},0,0,null,null,null,null,null,2,null,null,null,null,null,null,null,null,null,null,null,null,null,null,{"$f":"IF(#REF!>J156,1,0)","v":{"$error":"#REF!"}}]
[null,null,null,null,null,null,null,"HP w/ CH System",{"$f":"INDEX('Rate Card '!$A$23:$X$30,MATCH($C$145,HouseTypeFP,0),MATCH(H157,MeasureLUFP,0)+1)","v":2000},0,0,null,null,null,null,null,{"$error":"#N/A"},null,null,null,null,null,null,null,null,null,null,null,null,null,null,{"$f":"IF(#REF!>J157,1,0)","v":{"$error":"#REF!"}}]
[null,null,null,null,null,null,null,"Bonus",{"$f":"INDEX('Rate Card '!$A$23:$X$30,MATCH($C$145,HouseTypeFP,0),MATCH(H158,MeasureLUFP,0)+1)","v":2000},0,0,null,null,null,null,null,{"$error":"#N/A"},null,null,null,null,null,null,null,null,null,null,null,null,null,null,{"$f":"IF(#REF!>J158,1,0)","v":{"$error":"#REF!"}}]
[null,null,null,null,null,null,null,"MVHR",{"$f":"INDEX('Rate Card '!$A$23:$X$30,MATCH($C$145,HouseTypeFP,0),MATCH(H159,MeasureLUFP,0)+1)","v":2000},0,0,null,null,null,null,null,2,null,null,null,null,null,null,null,null,null,null,null,null,null,null,{"$f":"IF(#REF!>J159,1,0)","v":{"$error":"#REF!"}}]
[null,null,null,null,null,null,null,"Home Energy Assessment (HEA)",{"$f":"INDEX('Rate Card '!$A$23:$X$30,MATCH($C$145,HouseTypeFP,0),MATCH(H160,MeasureLUFP,0)+1)","v":350},0,0,null,null,null,null,null,{"$error":"#N/A"},null,null,null,null,null,null,null,null,null,null,null,null,null,null,{"$f":"IF(#REF!>J160,1,0)","v":{"$error":"#REF!"}}]
[null,null,null,null,null,null,null,"Project Management ",{"$f":"INDEX('Rate Card '!$A$23:$X$30,MATCH($C$145,HouseTypeFP,0),MATCH(H161,MeasureLUFP,0)+1)","v":1200},0,0,null,null,null,null,null,2,null,null,null,null,null,null,null,null,null,null,null,null,null,null,{"$f":"IF(#REF!>J161,1,0)","v":{"$error":"#REF!"}}]
[null,null,null,null,null,null,null,"Heating Controls",{"$f":"INDEX('Rate Card '!$A$23:$X$30,MATCH($C$145,HouseTypeFP,0),MATCH(H162,MeasureLUFP,0)+1)","v":700},0,0,null,null,null,null,null,2,null,null,null,null,null,null,null,null,null,null,null,null,null,null,{"$f":"IF(#REF!>J162,1,0)","v":{"$error":"#REF!"}}]
[null,null,null,null,null,null,null,"Total Cost",null,null,{"$f":"SUM(K145:K162)","v":0}]